{"text_format":"1","workbook":"xlsx","n_sheets":23,"sheets":["Civics All Schools","USH All Schools","Macro","GraphData","Select School","Civics","US History","RT Matrix","2012 BL Civics Enrollment","2013 BL Civics Enrollment","2013 SIA Civics Enrollment","2012 BL USH Enrollment","2013 BL USH Enrollment","WIA USH Enrollment","SIA USH Enrollment","2012-13 BL Civics","2013-14 BL Civics","2012-13 BL USH","WIA USH","2013-14 BL USH","SchList","Sch-Region","Sch-Region (2)"],"not_rendered":{"charts":2,"images":0,"macros":1,"external_links":3,"defined_names":44,"comments":0,"pivot_tables":0},"unopened":[],"bounds":{"document_bytes":16777216,"sheet_cells":100000,"rows_first":2000,"rows_last":500,"rows_between":2000,"halvings":0,"cell_chars":16384,"cell_head_chars":4096},"cells_cut":0,"cells_raw":0,"read":"whole","date_system":"1900"}

{"sheet":"Civics All Schools","index":0,"n_rows":160,"n_cols":22,"rows_kept":160,"cut":false,"hidden":true,"merged":[[0,7,0,9],[0,10,0,12],[0,13,0,15],[0,16,0,18],[0,19,0,21],[0,0,1,0],[0,1,1,1],[0,2,1,2],[0,3,0,4],[0,5,0,6]]}
["Location",null,"School Name","Civics Course Enrollment",null,"% Tested",null,{"$f":"'RT Matrix'!C1","v":"Overall"},null,null,{"$f":"'RT Matrix'!D1","v":"Government Policies and Political Processes"},null,null,{"$f":"'RT Matrix'!E1","v":"Organization and Function of Government"},null,null,{"$f":"'RT Matrix'!F1","v":"Origins and Purposes of Law and Government"},null,null,{"$f":"'RT Matrix'!G1","v":"Roles, Rights, and Responsibilities"}]
[null,null,null,"2012 Baseline","2013 Baseline","2012 Baseline","2013 Baseline","2012 Baseline","2013 Baseline","Change","2012 Baseline","2013 Baseline","Change","2012 Baseline","2013 Baseline","Change","2012 Baseline","2013 Baseline","Change","2012 Baseline","2013 Baseline","Change"]
["9999",null,{"$f":"VLOOKUP(A3,'Sch-Region'!$A$2:$C$476,3,FALSE)","v":"District"},{"$f":"IFERROR(VLOOKUP($A3,'2012 BL Civics Enrollment'!$A$3:$C$500,3,FALSE),0)","v":26864},{"$f":"IFERROR(VLOOKUP($A3,'2013 BL Civics Enrollment'!$A$3:$C$500,3,FALSE),\"\")","v":26608},{"$f":"IFERROR(IF(VLOOKUP(VALUE(A3),'2012-13 BL Civics'!$A$14:$C$200,3,FALSE)<10,\"N<10\",IF(VLOOKUP(VALUE(A3),'2012-13 BL Civics'!$A$14:$C$200,3,FALSE)>D3,100,VLOOKUP(VALUE(A3),'2012-13 BL Civics'!$A$14:$C$200,3,FALSE)/D3%)),\"Not Tested\")","v":92.77843954734962},{"$f":"IFERROR(IF(VLOOKUP(VALUE(A3),'2013-14 BL Civics'!$A$14:$C$200,3,FALSE)<10,\"N<10\",IF(VLOOKUP(VALUE(A3),'2013-14 BL Civics'!$A$14:$C$200,3,FALSE)>E3,100,VLOOKUP(VALUE(A3),'2013-14 BL Civics'!$A$14:$C$200,3,FALSE)/E3%)),\"Not Tested\")","v":93.351623571858099},{"$f":"IFERROR(IF(F3=\"N<10\",\"N<10\",VLOOKUP(VALUE($A3),'2012-13 BL Civics'!$A$14:$AG$500,5,FALSE)*100),\"Not Tested\")","v":33.745907543367871},{"$f":"IFERROR(IF(G3=\"N<10\",\"N<10\",VLOOKUP(VALUE($A3),'2013-14 BL Civics'!$A$14:$AG$500,5,FALSE)*100),\"Not Tested\")","v":36.260604500642955},{"$f":"IFERROR(I3-H3,\"\")","v":2.5146969572750848},{"$f":"IFERROR(IF(H3=\"N<10\",\"N<10\",VLOOKUP(VALUE($A3),'2012-13 BL Civics'!$A$14:$AG$500,11,FALSE)*100),\"Not Tested\")","v":41.229538684087586},{"$f":"IFERROR(IF(I3=\"N<10\",\"N<10\",VLOOKUP(VALUE($A3),'2013-14 BL Civics'!$A$14:$AG$500,11,FALSE)*100),\"Not Tested\")","v":38.104089765695754},{"$f":"IFERROR(L3-K3,\"\")","v":-3.1254489183918324},{"$f":"IFERROR(IF(K3=\"N<10\",\"N<10\",VLOOKUP(VALUE($A3),'2012-13 BL Civics'!$A$14:$AG$500,17,FALSE)*100),\"Not Tested\")","v":27.692306958712066},{"$f":"IFERROR(IF(L3=\"N<10\",\"N<10\",VLOOKUP(VALUE($A3),'2013-14 BL Civics'!$A$14:$AG$500,17,FALSE)*100),\"Not Tested\")","v":31.666666269302368},{"$f":"IFERROR(O3-N3,\"\")","v":3.9743593105903017},{"$f":"IFERROR(IF(J3=\"N<10\",\"N<10\",VLOOKUP(VALUE($A3),'2012-13 BL Civics'!$A$14:$AG$500,23,FALSE)*100),\"Not Tested\")","v":33.636364069851957},{"$f":"IFERROR(IF(K3=\"N<10\",\"N<10\",VLOOKUP(VALUE($A3),'2013-14 BL Civics'!$A$14:$AG$500,23,FALSE)*100),\"Not Tested\")","v":35.893884332937198},{"$f":"IFERROR(R3-Q3,\"\")","v":2.2575202630852402},{"$f":"IFERROR(IF(N3=\"N<10\",\"N<10\",VLOOKUP(VALUE($A3),'2012-13 BL Civics'!$A$14:$AG$500,29,FALSE)*100),\"Not Tested\")","v":35.63523141521069},{"$f":"IFERROR(IF(O3=\"N<10\",\"N<10\",VLOOKUP(VALUE($A3),'2013-14 BL Civics'!$A$14:$AG$500,29,FALSE)*100),\"Not Tested\")","v":41.854090609912916},{"$f":"IFERROR(U3-T3,\"\")","v":6.218859194702226}]
["0070",null,{"$f":"VLOOKUP(TEXT(A4,\"0000\"),SchList!$A$2:$C$483,2,FALSE)","v":"CORAL REEF MONTESSORI ACAD CH "},{"$f":"IFERROR(VLOOKUP(TEXT($A4,\"0000\"),'2012 BL Civics Enrollment'!$A$3:$C$500,3,FALSE),0)","v":31},{"$f":"IFERROR(VLOOKUP(TEXT($A4,\"0000\"),'2013 BL Civics Enrollment'!$A$3:$C$500,3,FALSE),\"\")","v":21},{"$f":"IFERROR(IF(VLOOKUP(VALUE(A4),'2012-13 BL Civics'!$A$14:$C$200,3,FALSE)<10,\"N<10\",IF(VLOOKUP(VALUE(A4),'2012-13 BL Civics'!$A$14:$C$200,3,FALSE)>D4,100,VLOOKUP(VALUE(A4),'2012-13 BL Civics'!$A$14:$C$200,3,FALSE)/D4%)),\"Not Tested\")","v":100},{"$f":"IFERROR(IF(VLOOKUP(VALUE(A4),'2013-14 BL Civics'!$A$14:$C$200,3,FALSE)<10,\"N<10\",IF(VLOOKUP(VALUE(A4),'2013-14 BL Civics'!$A$14:$C$200,3,FALSE)>E4,100,VLOOKUP(VALUE(A4),'2013-14 BL Civics'!$A$14:$C$200,3,FALSE)/E4%)),\"Not Tested\")","v":95.238095238095241},{"$f":"IFERROR(IF(F4=\"N<10\",\"N<10\",VLOOKUP(VALUE($A4),'2012-13 BL Civics'!$A$14:$AG$500,5,FALSE)*100),\"Not Tested\")","v":36},{"$f":"IFERROR(IF(G4=\"N<10\",\"N<10\",VLOOKUP(VALUE($A4),'2013-14 BL Civics'!$A$14:$AG$500,5,FALSE)*100),\"Not Tested\")","v":42},{"$f":"IFERROR(I4-H4,\"\")","v":6},{"$f":"IFERROR(IF(H4=\"N<10\",\"N<10\",VLOOKUP(VALUE($A4),'2012-13 BL Civics'!$A$14:$AG$500,11,FALSE)*100),\"Not Tested\")","v":49},{"$f":"IFERROR(IF(I4=\"N<10\",\"N<10\",VLOOKUP(VALUE($A4),'2013-14 BL Civics'!$A$14:$AG$500,11,FALSE)*100),\"Not Tested\")","v":40},{"$f":"IFERROR(L4-K4,\"\")","v":-9},{"$f":"IFERROR(IF(K4=\"N<10\",\"N<10\",VLOOKUP(VALUE($A4),'2012-13 BL Civics'!$A$14:$AG$500,17,FALSE)*100),\"Not Tested\")","v":32},{"$f":"IFERROR(IF(L4=\"N<10\",\"N<10\",VLOOKUP(VALUE($A4),'2013-14 BL Civics'!$A$14:$AG$500,17,FALSE)*100),\"Not Tested\")","v":37},{"$f":"IFERROR(O4-N4,\"\")","v":5},{"$f":"IFERROR(IF(J4=\"N<10\",\"N<10\",VLOOKUP(VALUE($A4),'2012-13 BL Civics'!$A$14:$AG$500,23,FALSE)*100),\"Not Tested\")","v":30},{"$f":"IFERROR(IF(K4=\"N<10\",\"N<10\",VLOOKUP(VALUE($A4),'2013-14 BL Civics'!$A$14:$AG$500,23,FALSE)*100),\"Not Tested\")","v":40},{"$f":"IFERROR(R4-Q4,\"\")","v":10},{"$f":"IFERROR(IF(N4=\"N<10\",\"N<10\",VLOOKUP(VALUE($A4),'2012-13 BL Civics'!$A$14:$AG$500,29,FALSE)*100),\"Not Tested\")","v":39},{"$f":"IFERROR(IF(O4=\"N<10\",\"N<10\",VLOOKUP(VALUE($A4),'2013-14 BL Civics'!$A$14:$AG$500,29,FALSE)*100),\"Not Tested\")","v":53},{"$f":"IFERROR(U4-T4,\"\")","v":14}]
["0071",null,{"$f":"VLOOKUP(TEXT(A5,\"0000\"),SchList!$A$2:$C$483,2,FALSE)","v":"EUGENIA B. THOMAS K-8 CENTER  "},{"$f":"IFERROR(VLOOKUP(TEXT($A5,\"0000\"),'2012 BL Civics Enrollment'!$A$3:$C$500,3,FALSE),0)","v":165},{"$f":"IFERROR(VLOOKUP(TEXT($A5,\"0000\"),'2013 BL Civics Enrollment'!$A$3:$C$500,3,FALSE),\"\")","v":151},{"$f":"IFERROR(IF(VLOOKUP(VALUE(A5),'2012-13 BL Civics'!$A$14:$C$200,3,FALSE)<10,\"N<10\",IF(VLOOKUP(VALUE(A5),'2012-13 BL Civics'!$A$14:$C$200,3,FALSE)>D5,100,VLOOKUP(VALUE(A5),'2012-13 BL Civics'!$A$14:$C$200,3,FALSE)/D5%)),\"Not Tested\")","v":98.181818181818187},{"$f":"IFERROR(IF(VLOOKUP(VALUE(A5),'2013-14 BL Civics'!$A$14:$C$200,3,FALSE)<10,\"N<10\",IF(VLOOKUP(VALUE(A5),'2013-14 BL Civics'!$A$14:$C$200,3,FALSE)>E5,100,VLOOKUP(VALUE(A5),'2013-14 BL Civics'!$A$14:$C$200,3,FALSE)/E5%)),\"Not Tested\")","v":98.675496688741717},{"$f":"IFERROR(IF(F5=\"N<10\",\"N<10\",VLOOKUP(VALUE($A5),'2012-13 BL Civics'!$A$14:$AG$500,5,FALSE)*100),\"Not Tested\")","v":35},{"$f":"IFERROR(IF(G5=\"N<10\",\"N<10\",VLOOKUP(VALUE($A5),'2013-14 BL Civics'!$A$14:$AG$500,5,FALSE)*100),\"Not Tested\")","v":41},6,{"$f":"IFERROR(IF(H5=\"N<10\",\"N<10\",VLOOKUP(VALUE($A5),'2012-13 BL Civics'!$A$14:$AG$500,11,FALSE)*100),\"Not Tested\")","v":45},{"$f":"IFERROR(IF(I5=\"N<10\",\"N<10\",VLOOKUP(VALUE($A5),'2013-14 BL Civics'!$A$14:$AG$500,11,FALSE)*100),\"Not Tested\")","v":45},0,{"$f":"IFERROR(IF(K5=\"N<10\",\"N<10\",VLOOKUP(VALUE($A5),'2012-13 BL Civics'!$A$14:$AG$500,17,FALSE)*100),\"Not Tested\")","v":28.000000000000004},{"$f":"IFERROR(IF(L5=\"N<10\",\"N<10\",VLOOKUP(VALUE($A5),'2013-14 BL Civics'!$A$14:$AG$500,17,FALSE)*100),\"Not Tested\")","v":37},8.9999999999999964,{"$f":"IFERROR(IF(J5=\"N<10\",\"N<10\",VLOOKUP(VALUE($A5),'2012-13 BL Civics'!$A$14:$AG$500,23,FALSE)*100),\"Not Tested\")","v":36},{"$f":"IFERROR(IF(K5=\"N<10\",\"N<10\",VLOOKUP(VALUE($A5),'2013-14 BL Civics'!$A$14:$AG$500,23,FALSE)*100),\"Not Tested\")","v":38},2,{"$f":"IFERROR(IF(N5=\"N<10\",\"N<10\",VLOOKUP(VALUE($A5),'2012-13 BL Civics'!$A$14:$AG$500,29,FALSE)*100),\"Not Tested\")","v":37},{"$f":"IFERROR(IF(O5=\"N<10\",\"N<10\",VLOOKUP(VALUE($A5),'2013-14 BL Civics'!$A$14:$AG$500,29,FALSE)*100),\"Not Tested\")","v":45},8]
["0073",null,{"$f":"VLOOKUP(TEXT(A6,\"0000\"),SchList!$A$2:$C$483,2,FALSE)","v":"MANDARIN LAKES K-8 CENTER     "},{"$f":"IFERROR(VLOOKUP(TEXT($A6,\"0000\"),'2012 BL Civics Enrollment'!$A$3:$C$500,3,FALSE),0)","v":81},{"$f":"IFERROR(VLOOKUP(TEXT($A6,\"0000\"),'2013 BL Civics Enrollment'!$A$3:$C$500,3,FALSE),\"\")","v":115},{"$f":"IFERROR(IF(VLOOKUP(VALUE(A6),'2012-13 BL Civics'!$A$14:$C$200,3,FALSE)<10,\"N<10\",IF(VLOOKUP(VALUE(A6),'2012-13 BL Civics'!$A$14:$C$200,3,FALSE)>D6,100,VLOOKUP(VALUE(A6),'2012-13 BL Civics'!$A$14:$C$200,3,FALSE)/D6%)),\"Not Tested\")","v":96.296296296296291},{"$f":"IFERROR(IF(VLOOKUP(VALUE(A6),'2013-14 BL Civics'!$A$14:$C$200,3,FALSE)<10,\"N<10\",IF(VLOOKUP(VALUE(A6),'2013-14 BL Civics'!$A$14:$C$200,3,FALSE)>E6,100,VLOOKUP(VALUE(A6),'2013-14 BL Civics'!$A$14:$C$200,3,FALSE)/E6%)),\"Not Tested\")","v":92.173913043478265},{"$f":"IFERROR(IF(F6=\"N<10\",\"N<10\",VLOOKUP(VALUE($A6),'2012-13 BL Civics'!$A$14:$AG$500,5,FALSE)*100),\"Not Tested\")","v":33},{"$f":"IFERROR(IF(G6=\"N<10\",\"N<10\",VLOOKUP(VALUE($A6),'2013-14 BL Civics'!$A$14:$AG$500,5,FALSE)*100),\"Not Tested\")","v":33},0,{"$f":"IFERROR(IF(H6=\"N<10\",\"N<10\",VLOOKUP(VALUE($A6),'2012-13 BL Civics'!$A$14:$AG$500,11,FALSE)*100),\"Not Tested\")","v":39},{"$f":"IFERROR(IF(I6=\"N<10\",\"N<10\",VLOOKUP(VALUE($A6),'2013-14 BL Civics'!$A$14:$AG$500,11,FALSE)*100),\"Not Tested\")","v":35},-4,{"$f":"IFERROR(IF(K6=\"N<10\",\"N<10\",VLOOKUP(VALUE($A6),'2012-13 BL Civics'!$A$14:$AG$500,17,FALSE)*100),\"Not Tested\")","v":28.000000000000004},{"$f":"IFERROR(IF(L6=\"N<10\",\"N<10\",VLOOKUP(VALUE($A6),'2013-14 BL Civics'!$A$14:$AG$500,17,FALSE)*100),\"Not Tested\")","v":30},1.9999999999999964,{"$f":"IFERROR(IF(J6=\"N<10\",\"N<10\",VLOOKUP(VALUE($A6),'2012-13 BL Civics'!$A$14:$AG$500,23,FALSE)*100),\"Not Tested\")","v":33},{"$f":"IFERROR(IF(K6=\"N<10\",\"N<10\",VLOOKUP(VALUE($A6),'2013-14 BL Civics'!$A$14:$AG$500,23,FALSE)*100),\"Not Tested\")","v":31},-2,{"$f":"IFERROR(IF(N6=\"N<10\",\"N<10\",VLOOKUP(VALUE($A6),'2012-13 BL Civics'!$A$14:$AG$500,29,FALSE)*100),\"Not Tested\")","v":35},{"$f":"IFERROR(IF(O6=\"N<10\",\"N<10\",VLOOKUP(VALUE($A6),'2013-14 BL Civics'!$A$14:$AG$500,29,FALSE)*100),\"Not Tested\")","v":41},6]
["0091",null,{"$f":"VLOOKUP(TEXT(A7,\"0000\"),SchList!$A$2:$C$483,2,FALSE)","v":"BOB GRAHAM EDUCATION CTR      "},{"$f":"IFERROR(VLOOKUP(TEXT($A7,\"0000\"),'2012 BL Civics Enrollment'!$A$3:$C$500,3,FALSE),0)","v":231},{"$f":"IFERROR(VLOOKUP(TEXT($A7,\"0000\"),'2013 BL Civics Enrollment'!$A$3:$C$500,3,FALSE),\"\")","v":217},{"$f":"IFERROR(IF(VLOOKUP(VALUE(A7),'2012-13 BL Civics'!$A$14:$C$200,3,FALSE)<10,\"N<10\",IF(VLOOKUP(VALUE(A7),'2012-13 BL Civics'!$A$14:$C$200,3,FALSE)>D7,100,VLOOKUP(VALUE(A7),'2012-13 BL Civics'!$A$14:$C$200,3,FALSE)/D7%)),\"Not Tested\")","v":97.835497835497833},{"$f":"IFERROR(IF(VLOOKUP(VALUE(A7),'2013-14 BL Civics'!$A$14:$C$200,3,FALSE)<10,\"N<10\",IF(VLOOKUP(VALUE(A7),'2013-14 BL Civics'!$A$14:$C$200,3,FALSE)>E7,100,VLOOKUP(VALUE(A7),'2013-14 BL Civics'!$A$14:$C$200,3,FALSE)/E7%)),\"Not Tested\")","v":100},{"$f":"IFERROR(IF(F7=\"N<10\",\"N<10\",VLOOKUP(VALUE($A7),'2012-13 BL Civics'!$A$14:$AG$500,5,FALSE)*100),\"Not Tested\")","v":33},{"$f":"IFERROR(IF(G7=\"N<10\",\"N<10\",VLOOKUP(VALUE($A7),'2013-14 BL Civics'!$A$14:$AG$500,5,FALSE)*100),\"Not Tested\")","v":36},3,{"$f":"IFERROR(IF(H7=\"N<10\",\"N<10\",VLOOKUP(VALUE($A7),'2012-13 BL Civics'!$A$14:$AG$500,11,FALSE)*100),\"Not Tested\")","v":38},{"$f":"IFERROR(IF(I7=\"N<10\",\"N<10\",VLOOKUP(VALUE($A7),'2013-14 BL Civics'!$A$14:$AG$500,11,FALSE)*100),\"Not Tested\")","v":38},0,{"$f":"IFERROR(IF(K7=\"N<10\",\"N<10\",VLOOKUP(VALUE($A7),'2012-13 BL Civics'!$A$14:$AG$500,17,FALSE)*100),\"Not Tested\")","v":28.000000000000004},{"$f":"IFERROR(IF(L7=\"N<10\",\"N<10\",VLOOKUP(VALUE($A7),'2013-14 BL Civics'!$A$14:$AG$500,17,FALSE)*100),\"Not Tested\")","v":34},5.9999999999999964,{"$f":"IFERROR(IF(J7=\"N<10\",\"N<10\",VLOOKUP(VALUE($A7),'2012-13 BL Civics'!$A$14:$AG$500,23,FALSE)*100),\"Not Tested\")","v":32},{"$f":"IFERROR(IF(K7=\"N<10\",\"N<10\",VLOOKUP(VALUE($A7),'2013-14 BL Civics'!$A$14:$AG$500,23,FALSE)*100),\"Not Tested\")","v":33},1,{"$f":"IFERROR(IF(N7=\"N<10\",\"N<10\",VLOOKUP(VALUE($A7),'2012-13 BL Civics'!$A$14:$AG$500,29,FALSE)*100),\"Not Tested\")","v":36},{"$f":"IFERROR(IF(O7=\"N<10\",\"N<10\",VLOOKUP(VALUE($A7),'2013-14 BL Civics'!$A$14:$AG$500,29,FALSE)*100),\"Not Tested\")","v":42},6]
["0092",null,{"$f":"VLOOKUP(TEXT(A8,\"0000\"),SchList!$A$2:$C$483,2,FALSE)","v":"NORMAN S. EDELCUP/SUNNY ISLES "},{"$f":"IFERROR(VLOOKUP(TEXT($A8,\"0000\"),'2012 BL Civics Enrollment'!$A$3:$C$500,3,FALSE),0)","v":197},{"$f":"IFERROR(VLOOKUP(TEXT($A8,\"0000\"),'2013 BL Civics Enrollment'!$A$3:$C$500,3,FALSE),\"\")","v":181},{"$f":"IFERROR(IF(VLOOKUP(VALUE(A8),'2012-13 BL Civics'!$A$14:$C$200,3,FALSE)<10,\"N<10\",IF(VLOOKUP(VALUE(A8),'2012-13 BL Civics'!$A$14:$C$200,3,FALSE)>D8,100,VLOOKUP(VALUE(A8),'2012-13 BL Civics'!$A$14:$C$200,3,FALSE)/D8%)),\"Not Tested\")","v":96.44670050761421},{"$f":"IFERROR(IF(VLOOKUP(VALUE(A8),'2013-14 BL Civics'!$A$14:$C$200,3,FALSE)<10,\"N<10\",IF(VLOOKUP(VALUE(A8),'2013-14 BL Civics'!$A$14:$C$200,3,FALSE)>E8,100,VLOOKUP(VALUE(A8),'2013-14 BL Civics'!$A$14:$C$200,3,FALSE)/E8%)),\"Not Tested\")","v":97.237569060773481},{"$f":"IFERROR(IF(F8=\"N<10\",\"N<10\",VLOOKUP(VALUE($A8),'2012-13 BL Civics'!$A$14:$AG$500,5,FALSE)*100),\"Not Tested\")","v":36},{"$f":"IFERROR(IF(G8=\"N<10\",\"N<10\",VLOOKUP(VALUE($A8),'2013-14 BL Civics'!$A$14:$AG$500,5,FALSE)*100),\"Not Tested\")","v":38},2,{"$f":"IFERROR(IF(H8=\"N<10\",\"N<10\",VLOOKUP(VALUE($A8),'2012-13 BL Civics'!$A$14:$AG$500,11,FALSE)*100),\"Not Tested\")","v":44},{"$f":"IFERROR(IF(I8=\"N<10\",\"N<10\",VLOOKUP(VALUE($A8),'2013-14 BL Civics'!$A$14:$AG$500,11,FALSE)*100),\"Not Tested\")","v":43},-1,{"$f":"IFERROR(IF(K8=\"N<10\",\"N<10\",VLOOKUP(VALUE($A8),'2012-13 BL Civics'!$A$14:$AG$500,17,FALSE)*100),\"Not Tested\")","v":28.999999999999996},{"$f":"IFERROR(IF(L8=\"N<10\",\"N<10\",VLOOKUP(VALUE($A8),'2013-14 BL Civics'!$A$14:$AG$500,17,FALSE)*100),\"Not Tested\")","v":33},4.0000000000000036,{"$f":"IFERROR(IF(J8=\"N<10\",\"N<10\",VLOOKUP(VALUE($A8),'2012-13 BL Civics'!$A$14:$AG$500,23,FALSE)*100),\"Not Tested\")","v":36},{"$f":"IFERROR(IF(K8=\"N<10\",\"N<10\",VLOOKUP(VALUE($A8),'2013-14 BL Civics'!$A$14:$AG$500,23,FALSE)*100),\"Not Tested\")","v":36},0,{"$f":"IFERROR(IF(N8=\"N<10\",\"N<10\",VLOOKUP(VALUE($A8),'2012-13 BL Civics'!$A$14:$AG$500,29,FALSE)*100),\"Not Tested\")","v":37},{"$f":"IFERROR(IF(O8=\"N<10\",\"N<10\",VLOOKUP(VALUE($A8),'2013-14 BL Civics'!$A$14:$AG$500,29,FALSE)*100),\"Not Tested\")","v":44},7]
["0122",null,{"$f":"VLOOKUP(TEXT(A9,\"0000\"),SchList!$A$2:$C$483,2,FALSE)","v":"DR ROLANDO ESPINOSA K-8       "},{"$f":"IFERROR(VLOOKUP(TEXT($A9,\"0000\"),'2012 BL Civics Enrollment'!$A$3:$C$500,3,FALSE),0)","v":195},{"$f":"IFERROR(VLOOKUP(TEXT($A9,\"0000\"),'2013 BL Civics Enrollment'!$A$3:$C$500,3,FALSE),\"\")","v":178},{"$f":"IFERROR(IF(VLOOKUP(VALUE(A9),'2012-13 BL Civics'!$A$14:$C$200,3,FALSE)<10,\"N<10\",IF(VLOOKUP(VALUE(A9),'2012-13 BL Civics'!$A$14:$C$200,3,FALSE)>D9,100,VLOOKUP(VALUE(A9),'2012-13 BL Civics'!$A$14:$C$200,3,FALSE)/D9%)),\"Not Tested\")","v":93.333333333333329},{"$f":"IFERROR(IF(VLOOKUP(VALUE(A9),'2013-14 BL Civics'!$A$14:$C$200,3,FALSE)<10,\"N<10\",IF(VLOOKUP(VALUE(A9),'2013-14 BL Civics'!$A$14:$C$200,3,FALSE)>E9,100,VLOOKUP(VALUE(A9),'2013-14 BL Civics'!$A$14:$C$200,3,FALSE)/E9%)),\"Not Tested\")","v":96.067415730337075},{"$f":"IFERROR(IF(F9=\"N<10\",\"N<10\",VLOOKUP(VALUE($A9),'2012-13 BL Civics'!$A$14:$AG$500,5,FALSE)*100),\"Not Tested\")","v":37},{"$f":"IFERROR(IF(G9=\"N<10\",\"N<10\",VLOOKUP(VALUE($A9),'2013-14 BL Civics'!$A$14:$AG$500,5,FALSE)*100),\"Not Tested\")","v":40},3,{"$f":"IFERROR(IF(H9=\"N<10\",\"N<10\",VLOOKUP(VALUE($A9),'2012-13 BL Civics'!$A$14:$AG$500,11,FALSE)*100),\"Not Tested\")","v":44},{"$f":"IFERROR(IF(I9=\"N<10\",\"N<10\",VLOOKUP(VALUE($A9),'2013-14 BL Civics'!$A$14:$AG$500,11,FALSE)*100),\"Not Tested\")","v":41},-3,{"$f":"IFERROR(IF(K9=\"N<10\",\"N<10\",VLOOKUP(VALUE($A9),'2012-13 BL Civics'!$A$14:$AG$500,17,FALSE)*100),\"Not Tested\")","v":30},{"$f":"IFERROR(IF(L9=\"N<10\",\"N<10\",VLOOKUP(VALUE($A9),'2013-14 BL Civics'!$A$14:$AG$500,17,FALSE)*100),\"Not Tested\")","v":37},7,{"$f":"IFERROR(IF(J9=\"N<10\",\"N<10\",VLOOKUP(VALUE($A9),'2012-13 BL Civics'!$A$14:$AG$500,23,FALSE)*100),\"Not Tested\")","v":37},{"$f":"IFERROR(IF(K9=\"N<10\",\"N<10\",VLOOKUP(VALUE($A9),'2013-14 BL Civics'!$A$14:$AG$500,23,FALSE)*100),\"Not Tested\")","v":39},2,{"$f":"IFERROR(IF(N9=\"N<10\",\"N<10\",VLOOKUP(VALUE($A9),'2012-13 BL Civics'!$A$14:$AG$500,29,FALSE)*100),\"Not Tested\")","v":37},{"$f":"IFERROR(IF(O9=\"N<10\",\"N<10\",VLOOKUP(VALUE($A9),'2013-14 BL Civics'!$A$14:$AG$500,29,FALSE)*100),\"Not Tested\")","v":46},9]
["0231",null,{"$f":"VLOOKUP(TEXT(A10,\"0000\"),SchList!$A$2:$C$483,2,FALSE)","v":"AVENTURA WATERWAYS K-8 CENTER "},{"$f":"IFERROR(VLOOKUP(TEXT($A10,\"0000\"),'2012 BL Civics Enrollment'!$A$3:$C$500,3,FALSE),0)","v":187},{"$f":"IFERROR(VLOOKUP(TEXT($A10,\"0000\"),'2013 BL Civics Enrollment'!$A$3:$C$500,3,FALSE),\"\")","v":190},{"$f":"IFERROR(IF(VLOOKUP(VALUE(A10),'2012-13 BL Civics'!$A$14:$C$200,3,FALSE)<10,\"N<10\",IF(VLOOKUP(VALUE(A10),'2012-13 BL Civics'!$A$14:$C$200,3,FALSE)>D10,100,VLOOKUP(VALUE(A10),'2012-13 BL Civics'!$A$14:$C$200,3,FALSE)/D10%)),\"Not Tested\")","v":89.839572192513359},{"$f":"IFERROR(IF(VLOOKUP(VALUE(A10),'2013-14 BL Civics'!$A$14:$C$200,3,FALSE)<10,\"N<10\",IF(VLOOKUP(VALUE(A10),'2013-14 BL Civics'!$A$14:$C$200,3,FALSE)>E10,100,VLOOKUP(VALUE(A10),'2013-14 BL Civics'!$A$14:$C$200,3,FALSE)/E10%)),\"Not Tested\")","v":84.736842105263165},{"$f":"IFERROR(IF(F10=\"N<10\",\"N<10\",VLOOKUP(VALUE($A10),'2012-13 BL Civics'!$A$14:$AG$500,5,FALSE)*100),\"Not Tested\")","v":34},{"$f":"IFERROR(IF(G10=\"N<10\",\"N<10\",VLOOKUP(VALUE($A10),'2013-14 BL Civics'!$A$14:$AG$500,5,FALSE)*100),\"Not Tested\")","v":35},1,{"$f":"IFERROR(IF(H10=\"N<10\",\"N<10\",VLOOKUP(VALUE($A10),'2012-13 BL Civics'!$A$14:$AG$500,11,FALSE)*100),\"Not Tested\")","v":43},{"$f":"IFERROR(IF(I10=\"N<10\",\"N<10\",VLOOKUP(VALUE($A10),'2013-14 BL Civics'!$A$14:$AG$500,11,FALSE)*100),\"Not Tested\")","v":38},-5,{"$f":"IFERROR(IF(K10=\"N<10\",\"N<10\",VLOOKUP(VALUE($A10),'2012-13 BL Civics'!$A$14:$AG$500,17,FALSE)*100),\"Not Tested\")","v":28.000000000000004},{"$f":"IFERROR(IF(L10=\"N<10\",\"N<10\",VLOOKUP(VALUE($A10),'2013-14 BL Civics'!$A$14:$AG$500,17,FALSE)*100),\"Not Tested\")","v":28.999999999999996},0.99999999999999289,{"$f":"IFERROR(IF(J10=\"N<10\",\"N<10\",VLOOKUP(VALUE($A10),'2012-13 BL Civics'!$A$14:$AG$500,23,FALSE)*100),\"Not Tested\")","v":32},{"$f":"IFERROR(IF(K10=\"N<10\",\"N<10\",VLOOKUP(VALUE($A10),'2013-14 BL Civics'!$A$14:$AG$500,23,FALSE)*100),\"Not Tested\")","v":35},3,{"$f":"IFERROR(IF(N10=\"N<10\",\"N<10\",VLOOKUP(VALUE($A10),'2012-13 BL Civics'!$A$14:$AG$500,29,FALSE)*100),\"Not Tested\")","v":35},{"$f":"IFERROR(IF(O10=\"N<10\",\"N<10\",VLOOKUP(VALUE($A10),'2013-14 BL Civics'!$A$14:$AG$500,29,FALSE)*100),\"Not Tested\")","v":42},7]
["0241",null,{"$f":"VLOOKUP(TEXT(A11,\"0000\"),SchList!$A$2:$C$483,2,FALSE)","v":"RUTH K BROAD/BAY HARBOR K-8   "},{"$f":"IFERROR(VLOOKUP(TEXT($A11,\"0000\"),'2012 BL Civics Enrollment'!$A$3:$C$500,3,FALSE),0)","v":114},{"$f":"IFERROR(VLOOKUP(TEXT($A11,\"0000\"),'2013 BL Civics Enrollment'!$A$3:$C$500,3,FALSE),\"\")","v":162},{"$f":"IFERROR(IF(VLOOKUP(VALUE(A11),'2012-13 BL Civics'!$A$14:$C$200,3,FALSE)<10,\"N<10\",IF(VLOOKUP(VALUE(A11),'2012-13 BL Civics'!$A$14:$C$200,3,FALSE)>D11,100,VLOOKUP(VALUE(A11),'2012-13 BL Civics'!$A$14:$C$200,3,FALSE)/D11%)),\"Not Tested\")","v":99.122807017543863},{"$f":"IFERROR(IF(VLOOKUP(VALUE(A11),'2013-14 BL Civics'!$A$14:$C$200,3,FALSE)<10,\"N<10\",IF(VLOOKUP(VALUE(A11),'2013-14 BL Civics'!$A$14:$C$200,3,FALSE)>E11,100,VLOOKUP(VALUE(A11),'2013-14 BL Civics'!$A$14:$C$200,3,FALSE)/E11%)),\"Not Tested\")","v":95.679012345679013},{"$f":"IFERROR(IF(F11=\"N<10\",\"N<10\",VLOOKUP(VALUE($A11),'2012-13 BL Civics'!$A$14:$AG$500,5,FALSE)*100),\"Not Tested\")","v":36},{"$f":"IFERROR(IF(G11=\"N<10\",\"N<10\",VLOOKUP(VALUE($A11),'2013-14 BL Civics'!$A$14:$AG$500,5,FALSE)*100),\"Not Tested\")","v":39},3,{"$f":"IFERROR(IF(H11=\"N<10\",\"N<10\",VLOOKUP(VALUE($A11),'2012-13 BL Civics'!$A$14:$AG$500,11,FALSE)*100),\"Not Tested\")","v":42},{"$f":"IFERROR(IF(I11=\"N<10\",\"N<10\",VLOOKUP(VALUE($A11),'2013-14 BL Civics'!$A$14:$AG$500,11,FALSE)*100),\"Not Tested\")","v":44},2,{"$f":"IFERROR(IF(K11=\"N<10\",\"N<10\",VLOOKUP(VALUE($A11),'2012-13 BL Civics'!$A$14:$AG$500,17,FALSE)*100),\"Not Tested\")","v":31},{"$f":"IFERROR(IF(L11=\"N<10\",\"N<10\",VLOOKUP(VALUE($A11),'2013-14 BL Civics'!$A$14:$AG$500,17,FALSE)*100),\"Not Tested\")","v":32},1,{"$f":"IFERROR(IF(J11=\"N<10\",\"N<10\",VLOOKUP(VALUE($A11),'2012-13 BL Civics'!$A$14:$AG$500,23,FALSE)*100),\"Not Tested\")","v":35},{"$f":"IFERROR(IF(K11=\"N<10\",\"N<10\",VLOOKUP(VALUE($A11),'2013-14 BL Civics'!$A$14:$AG$500,23,FALSE)*100),\"Not Tested\")","v":37},2,{"$f":"IFERROR(IF(N11=\"N<10\",\"N<10\",VLOOKUP(VALUE($A11),'2012-13 BL Civics'!$A$14:$AG$500,29,FALSE)*100),\"Not Tested\")","v":37},{"$f":"IFERROR(IF(O11=\"N<10\",\"N<10\",VLOOKUP(VALUE($A11),'2013-14 BL Civics'!$A$14:$AG$500,29,FALSE)*100),\"Not Tested\")","v":48},11]
["0332",null,{"$f":"VLOOKUP(TEXT(A12,\"0000\"),SchList!$A$2:$C$483,2,FALSE)","v":"SOMERSET ACADEMY(SILVER PALMS)"},{"$f":"IFERROR(VLOOKUP(TEXT($A12,\"0000\"),'2012 BL Civics Enrollment'!$A$3:$C$500,3,FALSE),0)","v":152},{"$f":"IFERROR(VLOOKUP(TEXT($A12,\"0000\"),'2013 BL Civics Enrollment'!$A$3:$C$500,3,FALSE),\"\")","v":148},{"$f":"IFERROR(IF(VLOOKUP(VALUE(A12),'2012-13 BL Civics'!$A$14:$C$200,3,FALSE)<10,\"N<10\",IF(VLOOKUP(VALUE(A12),'2012-13 BL Civics'!$A$14:$C$200,3,FALSE)>D12,100,VLOOKUP(VALUE(A12),'2012-13 BL Civics'!$A$14:$C$200,3,FALSE)/D12%)),\"Not Tested\")","v":98.684210526315795},{"$f":"IFERROR(IF(VLOOKUP(VALUE(A12),'2013-14 BL Civics'!$A$14:$C$200,3,FALSE)<10,\"N<10\",IF(VLOOKUP(VALUE(A12),'2013-14 BL Civics'!$A$14:$C$200,3,FALSE)>E12,100,VLOOKUP(VALUE(A12),'2013-14 BL Civics'!$A$14:$C$200,3,FALSE)/E12%)),\"Not Tested\")","v":89.189189189189193},{"$f":"IFERROR(IF(F12=\"N<10\",\"N<10\",VLOOKUP(VALUE($A12),'2012-13 BL Civics'!$A$14:$AG$500,5,FALSE)*100),\"Not Tested\")","v":34},{"$f":"IFERROR(IF(G12=\"N<10\",\"N<10\",VLOOKUP(VALUE($A12),'2013-14 BL Civics'!$A$14:$AG$500,5,FALSE)*100),\"Not Tested\")","v":36},2,{"$f":"IFERROR(IF(H12=\"N<10\",\"N<10\",VLOOKUP(VALUE($A12),'2012-13 BL Civics'!$A$14:$AG$500,11,FALSE)*100),\"Not Tested\")","v":42},{"$f":"IFERROR(IF(I12=\"N<10\",\"N<10\",VLOOKUP(VALUE($A12),'2013-14 BL Civics'!$A$14:$AG$500,11,FALSE)*100),\"Not Tested\")","v":39},-3,{"$f":"IFERROR(IF(K12=\"N<10\",\"N<10\",VLOOKUP(VALUE($A12),'2012-13 BL Civics'!$A$14:$AG$500,17,FALSE)*100),\"Not Tested\")","v":25},{"$f":"IFERROR(IF(L12=\"N<10\",\"N<10\",VLOOKUP(VALUE($A12),'2013-14 BL Civics'!$A$14:$AG$500,17,FALSE)*100),\"Not Tested\")","v":30},5,{"$f":"IFERROR(IF(J12=\"N<10\",\"N<10\",VLOOKUP(VALUE($A12),'2012-13 BL Civics'!$A$14:$AG$500,23,FALSE)*100),\"Not Tested\")","v":34},{"$f":"IFERROR(IF(K12=\"N<10\",\"N<10\",VLOOKUP(VALUE($A12),'2013-14 BL Civics'!$A$14:$AG$500,23,FALSE)*100),\"Not Tested\")","v":38},4,{"$f":"IFERROR(IF(N12=\"N<10\",\"N<10\",VLOOKUP(VALUE($A12),'2012-13 BL Civics'!$A$14:$AG$500,29,FALSE)*100),\"Not Tested\")","v":37},{"$f":"IFERROR(IF(O12=\"N<10\",\"N<10\",VLOOKUP(VALUE($A12),'2013-14 BL Civics'!$A$14:$AG$500,29,FALSE)*100),\"Not Tested\")","v":41},4]
["0451",null,{"$f":"VLOOKUP(TEXT(A13,\"0000\"),SchList!$A$2:$C$483,2,FALSE)","v":"BOWMAN ASHE/DOOLIN K-8 ACAD   "},{"$f":"IFERROR(VLOOKUP(TEXT($A13,\"0000\"),'2012 BL Civics Enrollment'!$A$3:$C$500,3,FALSE),0)","v":200},{"$f":"IFERROR(VLOOKUP(TEXT($A13,\"0000\"),'2013 BL Civics Enrollment'!$A$3:$C$500,3,FALSE),\"\")","v":164},{"$f":"IFERROR(IF(VLOOKUP(VALUE(A13),'2012-13 BL Civics'!$A$14:$C$200,3,FALSE)<10,\"N<10\",IF(VLOOKUP(VALUE(A13),'2012-13 BL Civics'!$A$14:$C$200,3,FALSE)>D13,100,VLOOKUP(VALUE(A13),'2012-13 BL Civics'!$A$14:$C$200,3,FALSE)/D13%)),\"Not Tested\")","v":100},{"$f":"IFERROR(IF(VLOOKUP(VALUE(A13),'2013-14 BL Civics'!$A$14:$C$200,3,FALSE)<10,\"N<10\",IF(VLOOKUP(VALUE(A13),'2013-14 BL Civics'!$A$14:$C$200,3,FALSE)>E13,100,VLOOKUP(VALUE(A13),'2013-14 BL Civics'!$A$14:$C$200,3,FALSE)/E13%)),\"Not Tested\")","v":92.682926829268297},{"$f":"IFERROR(IF(F13=\"N<10\",\"N<10\",VLOOKUP(VALUE($A13),'2012-13 BL Civics'!$A$14:$AG$500,5,FALSE)*100),\"Not Tested\")","v":32},{"$f":"IFERROR(IF(G13=\"N<10\",\"N<10\",VLOOKUP(VALUE($A13),'2013-14 BL Civics'!$A$14:$AG$500,5,FALSE)*100),\"Not Tested\")","v":32},0,{"$f":"IFERROR(IF(H13=\"N<10\",\"N<10\",VLOOKUP(VALUE($A13),'2012-13 BL Civics'!$A$14:$AG$500,11,FALSE)*100),\"Not Tested\")","v":37},{"$f":"IFERROR(IF(I13=\"N<10\",\"N<10\",VLOOKUP(VALUE($A13),'2013-14 BL Civics'!$A$14:$AG$500,11,FALSE)*100),\"Not Tested\")","v":33},-4,{"$f":"IFERROR(IF(K13=\"N<10\",\"N<10\",VLOOKUP(VALUE($A13),'2012-13 BL Civics'!$A$14:$AG$500,17,FALSE)*100),\"Not Tested\")","v":28.000000000000004},{"$f":"IFERROR(IF(L13=\"N<10\",\"N<10\",VLOOKUP(VALUE($A13),'2013-14 BL Civics'!$A$14:$AG$500,17,FALSE)*100),\"Not Tested\")","v":28.999999999999996},0.99999999999999289,{"$f":"IFERROR(IF(J13=\"N<10\",\"N<10\",VLOOKUP(VALUE($A13),'2012-13 BL Civics'!$A$14:$AG$500,23,FALSE)*100),\"Not Tested\")","v":31},{"$f":"IFERROR(IF(K13=\"N<10\",\"N<10\",VLOOKUP(VALUE($A13),'2013-14 BL Civics'!$A$14:$AG$500,23,FALSE)*100),\"Not Tested\")","v":30},-1,{"$f":"IFERROR(IF(N13=\"N<10\",\"N<10\",VLOOKUP(VALUE($A13),'2012-13 BL Civics'!$A$14:$AG$500,29,FALSE)*100),\"Not Tested\")","v":35},{"$f":"IFERROR(IF(O13=\"N<10\",\"N<10\",VLOOKUP(VALUE($A13),'2013-14 BL Civics'!$A$14:$AG$500,29,FALSE)*100),\"Not Tested\")","v":38},3]
["0651",null,{"$f":"VLOOKUP(TEXT(A14,\"0000\"),SchList!$A$2:$C$483,2,FALSE)","v":"CAMPBELL DRIVE K-8 CENTER     "},{"$f":"IFERROR(VLOOKUP(TEXT($A14,\"0000\"),'2012 BL Civics Enrollment'!$A$3:$C$500,3,FALSE),0)","v":61},{"$f":"IFERROR(VLOOKUP(TEXT($A14,\"0000\"),'2013 BL Civics Enrollment'!$A$3:$C$500,3,FALSE),\"\")","v":79},{"$f":"IFERROR(IF(VLOOKUP(VALUE(A14),'2012-13 BL Civics'!$A$14:$C$200,3,FALSE)<10,\"N<10\",IF(VLOOKUP(VALUE(A14),'2012-13 BL Civics'!$A$14:$C$200,3,FALSE)>D14,100,VLOOKUP(VALUE(A14),'2012-13 BL Civics'!$A$14:$C$200,3,FALSE)/D14%)),\"Not Tested\")","v":93.442622950819668},{"$f":"IFERROR(IF(VLOOKUP(VALUE(A14),'2013-14 BL Civics'!$A$14:$C$200,3,FALSE)<10,\"N<10\",IF(VLOOKUP(VALUE(A14),'2013-14 BL Civics'!$A$14:$C$200,3,FALSE)>E14,100,VLOOKUP(VALUE(A14),'2013-14 BL Civics'!$A$14:$C$200,3,FALSE)/E14%)),\"Not Tested\")","v":79.746835443037966},{"$f":"IFERROR(IF(F14=\"N<10\",\"N<10\",VLOOKUP(VALUE($A14),'2012-13 BL Civics'!$A$14:$AG$500,5,FALSE)*100),\"Not Tested\")","v":32},{"$f":"IFERROR(IF(G14=\"N<10\",\"N<10\",VLOOKUP(VALUE($A14),'2013-14 BL Civics'!$A$14:$AG$500,5,FALSE)*100),\"Not Tested\")","v":34},2,{"$f":"IFERROR(IF(H14=\"N<10\",\"N<10\",VLOOKUP(VALUE($A14),'2012-13 BL Civics'!$A$14:$AG$500,11,FALSE)*100),\"Not Tested\")","v":40},{"$f":"IFERROR(IF(I14=\"N<10\",\"N<10\",VLOOKUP(VALUE($A14),'2013-14 BL Civics'!$A$14:$AG$500,11,FALSE)*100),\"Not Tested\")","v":35},-5,{"$f":"IFERROR(IF(K14=\"N<10\",\"N<10\",VLOOKUP(VALUE($A14),'2012-13 BL Civics'!$A$14:$AG$500,17,FALSE)*100),\"Not Tested\")","v":23},{"$f":"IFERROR(IF(L14=\"N<10\",\"N<10\",VLOOKUP(VALUE($A14),'2013-14 BL Civics'!$A$14:$AG$500,17,FALSE)*100),\"Not Tested\")","v":28.999999999999996},5.9999999999999964,{"$f":"IFERROR(IF(J14=\"N<10\",\"N<10\",VLOOKUP(VALUE($A14),'2012-13 BL Civics'!$A$14:$AG$500,23,FALSE)*100),\"Not Tested\")","v":32},{"$f":"IFERROR(IF(K14=\"N<10\",\"N<10\",VLOOKUP(VALUE($A14),'2013-14 BL Civics'!$A$14:$AG$500,23,FALSE)*100),\"Not Tested\")","v":34},2,{"$f":"IFERROR(IF(N14=\"N<10\",\"N<10\",VLOOKUP(VALUE($A14),'2012-13 BL Civics'!$A$14:$AG$500,29,FALSE)*100),\"Not Tested\")","v":38},{"$f":"IFERROR(IF(O14=\"N<10\",\"N<10\",VLOOKUP(VALUE($A14),'2013-14 BL Civics'!$A$14:$AG$500,29,FALSE)*100),\"Not Tested\")","v":41},3]
["0761",null,{"$f":"VLOOKUP(TEXT(A15,\"0000\"),SchList!$A$2:$C$483,2,FALSE)","v":"FIENBERG/FISHER K-8 CENTER    "},{"$f":"IFERROR(VLOOKUP(TEXT($A15,\"0000\"),'2012 BL Civics Enrollment'!$A$3:$C$500,3,FALSE),0)","v":90},{"$f":"IFERROR(VLOOKUP(TEXT($A15,\"0000\"),'2013 BL Civics Enrollment'!$A$3:$C$500,3,FALSE),\"\")","v":100},{"$f":"IFERROR(IF(VLOOKUP(VALUE(A15),'2012-13 BL Civics'!$A$14:$C$200,3,FALSE)<10,\"N<10\",IF(VLOOKUP(VALUE(A15),'2012-13 BL Civics'!$A$14:$C$200,3,FALSE)>D15,100,VLOOKUP(VALUE(A15),'2012-13 BL Civics'!$A$14:$C$200,3,FALSE)/D15%)),\"Not Tested\")","v":97.777777777777771},{"$f":"IFERROR(IF(VLOOKUP(VALUE(A15),'2013-14 BL Civics'!$A$14:$C$200,3,FALSE)<10,\"N<10\",IF(VLOOKUP(VALUE(A15),'2013-14 BL Civics'!$A$14:$C$200,3,FALSE)>E15,100,VLOOKUP(VALUE(A15),'2013-14 BL Civics'!$A$14:$C$200,3,FALSE)/E15%)),\"Not Tested\")","v":98},{"$f":"IFERROR(IF(F15=\"N<10\",\"N<10\",VLOOKUP(VALUE($A15),'2012-13 BL Civics'!$A$14:$AG$500,5,FALSE)*100),\"Not Tested\")","v":33},{"$f":"IFERROR(IF(G15=\"N<10\",\"N<10\",VLOOKUP(VALUE($A15),'2013-14 BL Civics'!$A$14:$AG$500,5,FALSE)*100),\"Not Tested\")","v":35},2,{"$f":"IFERROR(IF(H15=\"N<10\",\"N<10\",VLOOKUP(VALUE($A15),'2012-13 BL Civics'!$A$14:$AG$500,11,FALSE)*100),\"Not Tested\")","v":37},{"$f":"IFERROR(IF(I15=\"N<10\",\"N<10\",VLOOKUP(VALUE($A15),'2013-14 BL Civics'!$A$14:$AG$500,11,FALSE)*100),\"Not Tested\")","v":37},0,{"$f":"IFERROR(IF(K15=\"N<10\",\"N<10\",VLOOKUP(VALUE($A15),'2012-13 BL Civics'!$A$14:$AG$500,17,FALSE)*100),\"Not Tested\")","v":26},{"$f":"IFERROR(IF(L15=\"N<10\",\"N<10\",VLOOKUP(VALUE($A15),'2013-14 BL Civics'!$A$14:$AG$500,17,FALSE)*100),\"Not Tested\")","v":33},7,{"$f":"IFERROR(IF(J15=\"N<10\",\"N<10\",VLOOKUP(VALUE($A15),'2012-13 BL Civics'!$A$14:$AG$500,23,FALSE)*100),\"Not Tested\")","v":34},{"$f":"IFERROR(IF(K15=\"N<10\",\"N<10\",VLOOKUP(VALUE($A15),'2013-14 BL Civics'!$A$14:$AG$500,23,FALSE)*100),\"Not Tested\")","v":32},-2,{"$f":"IFERROR(IF(N15=\"N<10\",\"N<10\",VLOOKUP(VALUE($A15),'2012-13 BL Civics'!$A$14:$AG$500,29,FALSE)*100),\"Not Tested\")","v":37},{"$f":"IFERROR(IF(O15=\"N<10\",\"N<10\",VLOOKUP(VALUE($A15),'2013-14 BL Civics'!$A$14:$AG$500,29,FALSE)*100),\"Not Tested\")","v":39},2]
["0950",null,{"$f":"VLOOKUP(TEXT(A16,\"0000\"),SchList!$A$2:$C$483,2,FALSE)","v":"AVENTURA CITY OF EXCELLENCE   "},{"$f":"IFERROR(VLOOKUP(TEXT($A16,\"0000\"),'2012 BL Civics Enrollment'!$A$3:$C$500,3,FALSE),0)","v":108},{"$f":"IFERROR(VLOOKUP(TEXT($A16,\"0000\"),'2013 BL Civics Enrollment'!$A$3:$C$500,3,FALSE),\"\")","v":109},{"$f":"IFERROR(IF(VLOOKUP(VALUE(A16),'2012-13 BL Civics'!$A$14:$C$200,3,FALSE)<10,\"N<10\",IF(VLOOKUP(VALUE(A16),'2012-13 BL Civics'!$A$14:$C$200,3,FALSE)>D16,100,VLOOKUP(VALUE(A16),'2012-13 BL Civics'!$A$14:$C$200,3,FALSE)/D16%)),\"Not Tested\")","v":93.518518518518519},{"$f":"IFERROR(IF(VLOOKUP(VALUE(A16),'2013-14 BL Civics'!$A$14:$C$200,3,FALSE)<10,\"N<10\",IF(VLOOKUP(VALUE(A16),'2013-14 BL Civics'!$A$14:$C$200,3,FALSE)>E16,100,VLOOKUP(VALUE(A16),'2013-14 BL Civics'!$A$14:$C$200,3,FALSE)/E16%)),\"Not Tested\")","v":96.330275229357795},{"$f":"IFERROR(IF(F16=\"N<10\",\"N<10\",VLOOKUP(VALUE($A16),'2012-13 BL Civics'!$A$14:$AG$500,5,FALSE)*100),\"Not Tested\")","v":44},{"$f":"IFERROR(IF(G16=\"N<10\",\"N<10\",VLOOKUP(VALUE($A16),'2013-14 BL Civics'!$A$14:$AG$500,5,FALSE)*100),\"Not Tested\")","v":44},0,{"$f":"IFERROR(IF(H16=\"N<10\",\"N<10\",VLOOKUP(VALUE($A16),'2012-13 BL Civics'!$A$14:$AG$500,11,FALSE)*100),\"Not Tested\")","v":53},{"$f":"IFERROR(IF(I16=\"N<10\",\"N<10\",VLOOKUP(VALUE($A16),'2013-14 BL Civics'!$A$14:$AG$500,11,FALSE)*100),\"Not Tested\")","v":48},-5,{"$f":"IFERROR(IF(K16=\"N<10\",\"N<10\",VLOOKUP(VALUE($A16),'2012-13 BL Civics'!$A$14:$AG$500,17,FALSE)*100),\"Not Tested\")","v":36},{"$f":"IFERROR(IF(L16=\"N<10\",\"N<10\",VLOOKUP(VALUE($A16),'2013-14 BL Civics'!$A$14:$AG$500,17,FALSE)*100),\"Not Tested\")","v":37},1,{"$f":"IFERROR(IF(J16=\"N<10\",\"N<10\",VLOOKUP(VALUE($A16),'2012-13 BL Civics'!$A$14:$AG$500,23,FALSE)*100),\"Not Tested\")","v":46},{"$f":"IFERROR(IF(K16=\"N<10\",\"N<10\",VLOOKUP(VALUE($A16),'2013-14 BL Civics'!$A$14:$AG$500,23,FALSE)*100),\"Not Tested\")","v":43},-3,{"$f":"IFERROR(IF(N16=\"N<10\",\"N<10\",VLOOKUP(VALUE($A16),'2012-13 BL Civics'!$A$14:$AG$500,29,FALSE)*100),\"Not Tested\")","v":46},{"$f":"IFERROR(IF(O16=\"N<10\",\"N<10\",VLOOKUP(VALUE($A16),'2013-14 BL Civics'!$A$14:$AG$500,29,FALSE)*100),\"Not Tested\")","v":48},2]
["0961",null,{"$f":"VLOOKUP(TEXT(A17,\"0000\"),SchList!$A$2:$C$483,2,FALSE)","v":"CORAL GABLES PREPARATORY ACAD "},{"$f":"IFERROR(VLOOKUP(TEXT($A17,\"0000\"),'2012 BL Civics Enrollment'!$A$3:$C$500,3,FALSE),0)","v":99},{"$f":"IFERROR(VLOOKUP(TEXT($A17,\"0000\"),'2013 BL Civics Enrollment'!$A$3:$C$500,3,FALSE),\"\")","v":75},{"$f":"IFERROR(IF(VLOOKUP(VALUE(A17),'2012-13 BL Civics'!$A$14:$C$200,3,FALSE)<10,\"N<10\",IF(VLOOKUP(VALUE(A17),'2012-13 BL Civics'!$A$14:$C$200,3,FALSE)>D17,100,VLOOKUP(VALUE(A17),'2012-13 BL Civics'!$A$14:$C$200,3,FALSE)/D17%)),\"Not Tested\")","v":98.98989898989899},{"$f":"IFERROR(IF(VLOOKUP(VALUE(A17),'2013-14 BL Civics'!$A$14:$C$200,3,FALSE)<10,\"N<10\",IF(VLOOKUP(VALUE(A17),'2013-14 BL Civics'!$A$14:$C$200,3,FALSE)>E17,100,VLOOKUP(VALUE(A17),'2013-14 BL Civics'!$A$14:$C$200,3,FALSE)/E17%)),\"Not Tested\")","v":94.666666666666671},{"$f":"IFERROR(IF(F17=\"N<10\",\"N<10\",VLOOKUP(VALUE($A17),'2012-13 BL Civics'!$A$14:$AG$500,5,FALSE)*100),\"Not Tested\")","v":37},{"$f":"IFERROR(IF(G17=\"N<10\",\"N<10\",VLOOKUP(VALUE($A17),'2013-14 BL Civics'!$A$14:$AG$500,5,FALSE)*100),\"Not Tested\")","v":44},7,{"$f":"IFERROR(IF(H17=\"N<10\",\"N<10\",VLOOKUP(VALUE($A17),'2012-13 BL Civics'!$A$14:$AG$500,11,FALSE)*100),\"Not Tested\")","v":48},{"$f":"IFERROR(IF(I17=\"N<10\",\"N<10\",VLOOKUP(VALUE($A17),'2013-14 BL Civics'!$A$14:$AG$500,11,FALSE)*100),\"Not Tested\")","v":49},1,{"$f":"IFERROR(IF(K17=\"N<10\",\"N<10\",VLOOKUP(VALUE($A17),'2012-13 BL Civics'!$A$14:$AG$500,17,FALSE)*100),\"Not Tested\")","v":28.000000000000004},{"$f":"IFERROR(IF(L17=\"N<10\",\"N<10\",VLOOKUP(VALUE($A17),'2013-14 BL Civics'!$A$14:$AG$500,17,FALSE)*100),\"Not Tested\")","v":39},10.999999999999996,{"$f":"IFERROR(IF(J17=\"N<10\",\"N<10\",VLOOKUP(VALUE($A17),'2012-13 BL Civics'!$A$14:$AG$500,23,FALSE)*100),\"Not Tested\")","v":36},{"$f":"IFERROR(IF(K17=\"N<10\",\"N<10\",VLOOKUP(VALUE($A17),'2013-14 BL Civics'!$A$14:$AG$500,23,FALSE)*100),\"Not Tested\")","v":43},7,{"$f":"IFERROR(IF(N17=\"N<10\",\"N<10\",VLOOKUP(VALUE($A17),'2012-13 BL Civics'!$A$14:$AG$500,29,FALSE)*100),\"Not Tested\")","v":41},{"$f":"IFERROR(IF(O17=\"N<10\",\"N<10\",VLOOKUP(VALUE($A17),'2013-14 BL Civics'!$A$14:$AG$500,29,FALSE)*100),\"Not Tested\")","v":51},10]
["1020",null,{"$f":"VLOOKUP(TEXT(A18,\"0000\"),SchList!$A$2:$C$483,2,FALSE)","v":"YOUTH CO-OP CHARTER SCHOOL    "},{"$f":"IFERROR(VLOOKUP(TEXT($A18,\"0000\"),'2012 BL Civics Enrollment'!$A$3:$C$500,3,FALSE),0)","v":91},{"$f":"IFERROR(VLOOKUP(TEXT($A18,\"0000\"),'2013 BL Civics Enrollment'!$A$3:$C$500,3,FALSE),\"\")","v":66},{"$f":"IFERROR(IF(VLOOKUP(VALUE(A18),'2012-13 BL Civics'!$A$14:$C$200,3,FALSE)<10,\"N<10\",IF(VLOOKUP(VALUE(A18),'2012-13 BL Civics'!$A$14:$C$200,3,FALSE)>D18,100,VLOOKUP(VALUE(A18),'2012-13 BL Civics'!$A$14:$C$200,3,FALSE)/D18%)),\"Not Tested\")","v":91.208791208791212},{"$f":"IFERROR(IF(VLOOKUP(VALUE(A18),'2013-14 BL Civics'!$A$14:$C$200,3,FALSE)<10,\"N<10\",IF(VLOOKUP(VALUE(A18),'2013-14 BL Civics'!$A$14:$C$200,3,FALSE)>E18,100,VLOOKUP(VALUE(A18),'2013-14 BL Civics'!$A$14:$C$200,3,FALSE)/E18%)),\"Not Tested\")","v":96.969696969696969},{"$f":"IFERROR(IF(F18=\"N<10\",\"N<10\",VLOOKUP(VALUE($A18),'2012-13 BL Civics'!$A$14:$AG$500,5,FALSE)*100),\"Not Tested\")","v":35},{"$f":"IFERROR(IF(G18=\"N<10\",\"N<10\",VLOOKUP(VALUE($A18),'2013-14 BL Civics'!$A$14:$AG$500,5,FALSE)*100),\"Not Tested\")","v":40},5,{"$f":"IFERROR(IF(H18=\"N<10\",\"N<10\",VLOOKUP(VALUE($A18),'2012-13 BL Civics'!$A$14:$AG$500,11,FALSE)*100),\"Not Tested\")","v":41},{"$f":"IFERROR(IF(I18=\"N<10\",\"N<10\",VLOOKUP(VALUE($A18),'2013-14 BL Civics'!$A$14:$AG$500,11,FALSE)*100),\"Not Tested\")","v":43},2,{"$f":"IFERROR(IF(K18=\"N<10\",\"N<10\",VLOOKUP(VALUE($A18),'2012-13 BL Civics'!$A$14:$AG$500,17,FALSE)*100),\"Not Tested\")","v":27},{"$f":"IFERROR(IF(L18=\"N<10\",\"N<10\",VLOOKUP(VALUE($A18),'2013-14 BL Civics'!$A$14:$AG$500,17,FALSE)*100),\"Not Tested\")","v":36},9,{"$f":"IFERROR(IF(J18=\"N<10\",\"N<10\",VLOOKUP(VALUE($A18),'2012-13 BL Civics'!$A$14:$AG$500,23,FALSE)*100),\"Not Tested\")","v":37},{"$f":"IFERROR(IF(K18=\"N<10\",\"N<10\",VLOOKUP(VALUE($A18),'2013-14 BL Civics'!$A$14:$AG$500,23,FALSE)*100),\"Not Tested\")","v":39},2,{"$f":"IFERROR(IF(N18=\"N<10\",\"N<10\",VLOOKUP(VALUE($A18),'2012-13 BL Civics'!$A$14:$AG$500,29,FALSE)*100),\"Not Tested\")","v":37},{"$f":"IFERROR(IF(O18=\"N<10\",\"N<10\",VLOOKUP(VALUE($A18),'2013-14 BL Civics'!$A$14:$AG$500,29,FALSE)*100),\"Not Tested\")","v":43},6]
["1121",null,{"$f":"VLOOKUP(TEXT(A19,\"0000\"),SchList!$A$2:$C$483,2,FALSE)","v":"CORAL WAY K-8 CENTER          "},{"$f":"IFERROR(VLOOKUP(TEXT($A19,\"0000\"),'2012 BL Civics Enrollment'!$A$3:$C$500,3,FALSE),0)","v":162},{"$f":"IFERROR(VLOOKUP(TEXT($A19,\"0000\"),'2013 BL Civics Enrollment'!$A$3:$C$500,3,FALSE),\"\")","v":162},{"$f":"IFERROR(IF(VLOOKUP(VALUE(A19),'2012-13 BL Civics'!$A$14:$C$200,3,FALSE)<10,\"N<10\",IF(VLOOKUP(VALUE(A19),'2012-13 BL Civics'!$A$14:$C$200,3,FALSE)>D19,100,VLOOKUP(VALUE(A19),'2012-13 BL Civics'!$A$14:$C$200,3,FALSE)/D19%)),\"Not Tested\")","v":96.913580246913568},{"$f":"IFERROR(IF(VLOOKUP(VALUE(A19),'2013-14 BL Civics'!$A$14:$C$200,3,FALSE)<10,\"N<10\",IF(VLOOKUP(VALUE(A19),'2013-14 BL Civics'!$A$14:$C$200,3,FALSE)>E19,100,VLOOKUP(VALUE(A19),'2013-14 BL Civics'!$A$14:$C$200,3,FALSE)/E19%)),\"Not Tested\")","v":96.913580246913568},{"$f":"IFERROR(IF(F19=\"N<10\",\"N<10\",VLOOKUP(VALUE($A19),'2012-13 BL Civics'!$A$14:$AG$500,5,FALSE)*100),\"Not Tested\")","v":34},{"$f":"IFERROR(IF(G19=\"N<10\",\"N<10\",VLOOKUP(VALUE($A19),'2013-14 BL Civics'!$A$14:$AG$500,5,FALSE)*100),\"Not Tested\")","v":37},3,{"$f":"IFERROR(IF(H19=\"N<10\",\"N<10\",VLOOKUP(VALUE($A19),'2012-13 BL Civics'!$A$14:$AG$500,11,FALSE)*100),\"Not Tested\")","v":41},{"$f":"IFERROR(IF(I19=\"N<10\",\"N<10\",VLOOKUP(VALUE($A19),'2013-14 BL Civics'!$A$14:$AG$500,11,FALSE)*100),\"Not Tested\")","v":40},-1,{"$f":"IFERROR(IF(K19=\"N<10\",\"N<10\",VLOOKUP(VALUE($A19),'2012-13 BL Civics'!$A$14:$AG$500,17,FALSE)*100),\"Not Tested\")","v":30},{"$f":"IFERROR(IF(L19=\"N<10\",\"N<10\",VLOOKUP(VALUE($A19),'2013-14 BL Civics'!$A$14:$AG$500,17,FALSE)*100),\"Not Tested\")","v":30},0,{"$f":"IFERROR(IF(J19=\"N<10\",\"N<10\",VLOOKUP(VALUE($A19),'2012-13 BL Civics'!$A$14:$AG$500,23,FALSE)*100),\"Not Tested\")","v":33},{"$f":"IFERROR(IF(K19=\"N<10\",\"N<10\",VLOOKUP(VALUE($A19),'2013-14 BL Civics'!$A$14:$AG$500,23,FALSE)*100),\"Not Tested\")","v":36},3,{"$f":"IFERROR(IF(N19=\"N<10\",\"N<10\",VLOOKUP(VALUE($A19),'2012-13 BL Civics'!$A$14:$AG$500,29,FALSE)*100),\"Not Tested\")","v":33},{"$f":"IFERROR(IF(O19=\"N<10\",\"N<10\",VLOOKUP(VALUE($A19),'2013-14 BL Civics'!$A$14:$AG$500,29,FALSE)*100),\"Not Tested\")","v":48},15]
["1331",null,{"$f":"VLOOKUP(TEXT(A20,\"0000\"),SchList!$A$2:$C$483,2,FALSE)","v":"DEVON AIRE K-8 CENTER         "},{"$f":"IFERROR(VLOOKUP(TEXT($A20,\"0000\"),'2012 BL Civics Enrollment'!$A$3:$C$500,3,FALSE),0)","v":182},{"$f":"IFERROR(VLOOKUP(TEXT($A20,\"0000\"),'2013 BL Civics Enrollment'!$A$3:$C$500,3,FALSE),\"\")","v":206},{"$f":"IFERROR(IF(VLOOKUP(VALUE(A20),'2012-13 BL Civics'!$A$14:$C$200,3,FALSE)<10,\"N<10\",IF(VLOOKUP(VALUE(A20),'2012-13 BL Civics'!$A$14:$C$200,3,FALSE)>D20,100,VLOOKUP(VALUE(A20),'2012-13 BL Civics'!$A$14:$C$200,3,FALSE)/D20%)),\"Not Tested\")","v":95.604395604395606},{"$f":"IFERROR(IF(VLOOKUP(VALUE(A20),'2013-14 BL Civics'!$A$14:$C$200,3,FALSE)<10,\"N<10\",IF(VLOOKUP(VALUE(A20),'2013-14 BL Civics'!$A$14:$C$200,3,FALSE)>E20,100,VLOOKUP(VALUE(A20),'2013-14 BL Civics'!$A$14:$C$200,3,FALSE)/E20%)),\"Not Tested\")","v":99.029126213592235},{"$f":"IFERROR(IF(F20=\"N<10\",\"N<10\",VLOOKUP(VALUE($A20),'2012-13 BL Civics'!$A$14:$AG$500,5,FALSE)*100),\"Not Tested\")","v":35},{"$f":"IFERROR(IF(G20=\"N<10\",\"N<10\",VLOOKUP(VALUE($A20),'2013-14 BL Civics'!$A$14:$AG$500,5,FALSE)*100),\"Not Tested\")","v":33},-2,{"$f":"IFERROR(IF(H20=\"N<10\",\"N<10\",VLOOKUP(VALUE($A20),'2012-13 BL Civics'!$A$14:$AG$500,11,FALSE)*100),\"Not Tested\")","v":40},{"$f":"IFERROR(IF(I20=\"N<10\",\"N<10\",VLOOKUP(VALUE($A20),'2013-14 BL Civics'!$A$14:$AG$500,11,FALSE)*100),\"Not Tested\")","v":35},-5,{"$f":"IFERROR(IF(K20=\"N<10\",\"N<10\",VLOOKUP(VALUE($A20),'2012-13 BL Civics'!$A$14:$AG$500,17,FALSE)*100),\"Not Tested\")","v":30},{"$f":"IFERROR(IF(L20=\"N<10\",\"N<10\",VLOOKUP(VALUE($A20),'2013-14 BL Civics'!$A$14:$AG$500,17,FALSE)*100),\"Not Tested\")","v":28.999999999999996},-1.0000000000000036,{"$f":"IFERROR(IF(J20=\"N<10\",\"N<10\",VLOOKUP(VALUE($A20),'2012-13 BL Civics'!$A$14:$AG$500,23,FALSE)*100),\"Not Tested\")","v":33},{"$f":"IFERROR(IF(K20=\"N<10\",\"N<10\",VLOOKUP(VALUE($A20),'2013-14 BL Civics'!$A$14:$AG$500,23,FALSE)*100),\"Not Tested\")","v":32},-1,{"$f":"IFERROR(IF(N20=\"N<10\",\"N<10\",VLOOKUP(VALUE($A20),'2012-13 BL Civics'!$A$14:$AG$500,29,FALSE)*100),\"Not Tested\")","v":38},{"$f":"IFERROR(IF(O20=\"N<10\",\"N<10\",VLOOKUP(VALUE($A20),'2013-14 BL Civics'!$A$14:$AG$500,29,FALSE)*100),\"Not Tested\")","v":38},0]
["1401",null,{"$f":"VLOOKUP(TEXT(A21,\"0000\"),SchList!$A$2:$C$483,2,FALSE)","v":"CHARLES R. DREW ELEMENTARY    "},{"$f":"IFERROR(VLOOKUP(TEXT($A21,\"0000\"),'2012 BL Civics Enrollment'!$A$3:$C$500,3,FALSE),0)","v":0},{"$f":"IFERROR(VLOOKUP(TEXT($A21,\"0000\"),'2013 BL Civics Enrollment'!$A$3:$C$500,3,FALSE),\"\")","v":40},{"$f":"IFERROR(IF(VLOOKUP(VALUE(A21),'2012-13 BL Civics'!$A$14:$C$200,3,FALSE)<10,\"N<10\",IF(VLOOKUP(VALUE(A21),'2012-13 BL Civics'!$A$14:$C$200,3,FALSE)>D21,100,VLOOKUP(VALUE(A21),'2012-13 BL Civics'!$A$14:$C$200,3,FALSE)/D21%)),\"Not Tested\")","v":"Not Tested"},{"$f":"IFERROR(IF(VLOOKUP(VALUE(A21),'2013-14 BL Civics'!$A$14:$C$200,3,FALSE)<10,\"N<10\",IF(VLOOKUP(VALUE(A21),'2013-14 BL Civics'!$A$14:$C$200,3,FALSE)>E21,100,VLOOKUP(VALUE(A21),'2013-14 BL Civics'!$A$14:$C$200,3,FALSE)/E21%)),\"Not Tested\")","v":92.5},{"$f":"IFERROR(IF(F21=\"N<10\",\"N<10\",VLOOKUP(VALUE($A21),'2012-13 BL Civics'!$A$14:$AG$500,5,FALSE)*100),\"Not Tested\")","v":"Not Tested"},{"$f":"IFERROR(IF(G21=\"N<10\",\"N<10\",VLOOKUP(VALUE($A21),'2013-14 BL Civics'!$A$14:$AG$500,5,FALSE)*100),\"Not Tested\")","v":34},"",{"$f":"IFERROR(IF(H21=\"N<10\",\"N<10\",VLOOKUP(VALUE($A21),'2012-13 BL Civics'!$A$14:$AG$500,11,FALSE)*100),\"Not Tested\")","v":"Not Tested"},{"$f":"IFERROR(IF(I21=\"N<10\",\"N<10\",VLOOKUP(VALUE($A21),'2013-14 BL Civics'!$A$14:$AG$500,11,FALSE)*100),\"Not Tested\")","v":35},"",{"$f":"IFERROR(IF(K21=\"N<10\",\"N<10\",VLOOKUP(VALUE($A21),'2012-13 BL Civics'!$A$14:$AG$500,17,FALSE)*100),\"Not Tested\")","v":"Not Tested"},{"$f":"IFERROR(IF(L21=\"N<10\",\"N<10\",VLOOKUP(VALUE($A21),'2013-14 BL Civics'!$A$14:$AG$500,17,FALSE)*100),\"Not Tested\")","v":32},"",{"$f":"IFERROR(IF(J21=\"N<10\",\"N<10\",VLOOKUP(VALUE($A21),'2012-13 BL Civics'!$A$14:$AG$500,23,FALSE)*100),\"Not Tested\")","v":"Not Tested"},{"$f":"IFERROR(IF(K21=\"N<10\",\"N<10\",VLOOKUP(VALUE($A21),'2013-14 BL Civics'!$A$14:$AG$500,23,FALSE)*100),\"Not Tested\")","v":31},"",{"$f":"IFERROR(IF(N21=\"N<10\",\"N<10\",VLOOKUP(VALUE($A21),'2012-13 BL Civics'!$A$14:$AG$500,29,FALSE)*100),\"Not Tested\")","v":"Not Tested"},{"$f":"IFERROR(IF(O21=\"N<10\",\"N<10\",VLOOKUP(VALUE($A21),'2013-14 BL Civics'!$A$14:$AG$500,29,FALSE)*100),\"Not Tested\")","v":42},""]
["1441",null,{"$f":"VLOOKUP(TEXT(A22,\"0000\"),SchList!$A$2:$C$483,2,FALSE)","v":"PAUL LAURENCE DUNBAR ELEM     "},{"$f":"IFERROR(VLOOKUP(TEXT($A22,\"0000\"),'2012 BL Civics Enrollment'!$A$3:$C$500,3,FALSE),0)","v":0},{"$f":"IFERROR(VLOOKUP(TEXT($A22,\"0000\"),'2013 BL Civics Enrollment'!$A$3:$C$500,3,FALSE),\"\")","v":21},{"$f":"IFERROR(IF(VLOOKUP(VALUE(A22),'2012-13 BL Civics'!$A$14:$C$200,3,FALSE)<10,\"N<10\",IF(VLOOKUP(VALUE(A22),'2012-13 BL Civics'!$A$14:$C$200,3,FALSE)>D22,100,VLOOKUP(VALUE(A22),'2012-13 BL Civics'!$A$14:$C$200,3,FALSE)/D22%)),\"Not Tested\")","v":"Not Tested"},{"$f":"IFERROR(IF(VLOOKUP(VALUE(A22),'2013-14 BL Civics'!$A$14:$C$200,3,FALSE)<10,\"N<10\",IF(VLOOKUP(VALUE(A22),'2013-14 BL Civics'!$A$14:$C$200,3,FALSE)>E22,100,VLOOKUP(VALUE(A22),'2013-14 BL Civics'!$A$14:$C$200,3,FALSE)/E22%)),\"Not Tested\")","v":85.714285714285722},{"$f":"IFERROR(IF(F22=\"N<10\",\"N<10\",VLOOKUP(VALUE($A22),'2012-13 BL Civics'!$A$14:$AG$500,5,FALSE)*100),\"Not Tested\")","v":"Not Tested"},{"$f":"IFERROR(IF(G22=\"N<10\",\"N<10\",VLOOKUP(VALUE($A22),'2013-14 BL Civics'!$A$14:$AG$500,5,FALSE)*100),\"Not Tested\")","v":31},"",{"$f":"IFERROR(IF(H22=\"N<10\",\"N<10\",VLOOKUP(VALUE($A22),'2012-13 BL Civics'!$A$14:$AG$500,11,FALSE)*100),\"Not Tested\")","v":"Not Tested"},{"$f":"IFERROR(IF(I22=\"N<10\",\"N<10\",VLOOKUP(VALUE($A22),'2013-14 BL Civics'!$A$14:$AG$500,11,FALSE)*100),\"Not Tested\")","v":34},"",{"$f":"IFERROR(IF(K22=\"N<10\",\"N<10\",VLOOKUP(VALUE($A22),'2012-13 BL Civics'!$A$14:$AG$500,17,FALSE)*100),\"Not Tested\")","v":"Not Tested"},{"$f":"IFERROR(IF(L22=\"N<10\",\"N<10\",VLOOKUP(VALUE($A22),'2013-14 BL Civics'!$A$14:$AG$500,17,FALSE)*100),\"Not Tested\")","v":28.000000000000004},"",{"$f":"IFERROR(IF(J22=\"N<10\",\"N<10\",VLOOKUP(VALUE($A22),'2012-13 BL Civics'!$A$14:$AG$500,23,FALSE)*100),\"Not Tested\")","v":"Not Tested"},{"$f":"IFERROR(IF(K22=\"N<10\",\"N<10\",VLOOKUP(VALUE($A22),'2013-14 BL Civics'!$A$14:$AG$500,23,FALSE)*100),\"Not Tested\")","v":25},"",{"$f":"IFERROR(IF(N22=\"N<10\",\"N<10\",VLOOKUP(VALUE($A22),'2012-13 BL Civics'!$A$14:$AG$500,29,FALSE)*100),\"Not Tested\")","v":"Not Tested"},{"$f":"IFERROR(IF(O22=\"N<10\",\"N<10\",VLOOKUP(VALUE($A22),'2013-14 BL Civics'!$A$14:$AG$500,29,FALSE)*100),\"Not Tested\")","v":41},""]
["1601",null,{"$f":"VLOOKUP(TEXT(A23,\"0000\"),SchList!$A$2:$C$483,2,FALSE)","v":"EDISON PARK ELEMENTARY        "},{"$f":"IFERROR(VLOOKUP(TEXT($A23,\"0000\"),'2012 BL Civics Enrollment'!$A$3:$C$500,3,FALSE),0)","v":0},{"$f":"IFERROR(VLOOKUP(TEXT($A23,\"0000\"),'2013 BL Civics Enrollment'!$A$3:$C$500,3,FALSE),\"\")","v":20},{"$f":"IFERROR(IF(VLOOKUP(VALUE(A23),'2012-13 BL Civics'!$A$14:$C$200,3,FALSE)<10,\"N<10\",IF(VLOOKUP(VALUE(A23),'2012-13 BL Civics'!$A$14:$C$200,3,FALSE)>D23,100,VLOOKUP(VALUE(A23),'2012-13 BL Civics'!$A$14:$C$200,3,FALSE)/D23%)),\"Not Tested\")","v":"Not Tested"},{"$f":"IFERROR(IF(VLOOKUP(VALUE(A23),'2013-14 BL Civics'!$A$14:$C$200,3,FALSE)<10,\"N<10\",IF(VLOOKUP(VALUE(A23),'2013-14 BL Civics'!$A$14:$C$200,3,FALSE)>E23,100,VLOOKUP(VALUE(A23),'2013-14 BL Civics'!$A$14:$C$200,3,FALSE)/E23%)),\"Not Tested\")","v":90},{"$f":"IFERROR(IF(F23=\"N<10\",\"N<10\",VLOOKUP(VALUE($A23),'2012-13 BL Civics'!$A$14:$AG$500,5,FALSE)*100),\"Not Tested\")","v":"Not Tested"},{"$f":"IFERROR(IF(G23=\"N<10\",\"N<10\",VLOOKUP(VALUE($A23),'2013-14 BL Civics'!$A$14:$AG$500,5,FALSE)*100),\"Not Tested\")","v":33},"",{"$f":"IFERROR(IF(H23=\"N<10\",\"N<10\",VLOOKUP(VALUE($A23),'2012-13 BL Civics'!$A$14:$AG$500,11,FALSE)*100),\"Not Tested\")","v":"Not Tested"},{"$f":"IFERROR(IF(I23=\"N<10\",\"N<10\",VLOOKUP(VALUE($A23),'2013-14 BL Civics'!$A$14:$AG$500,11,FALSE)*100),\"Not Tested\")","v":27},"",{"$f":"IFERROR(IF(K23=\"N<10\",\"N<10\",VLOOKUP(VALUE($A23),'2012-13 BL Civics'!$A$14:$AG$500,17,FALSE)*100),\"Not Tested\")","v":"Not Tested"},{"$f":"IFERROR(IF(L23=\"N<10\",\"N<10\",VLOOKUP(VALUE($A23),'2013-14 BL Civics'!$A$14:$AG$500,17,FALSE)*100),\"Not Tested\")","v":28.999999999999996},"",{"$f":"IFERROR(IF(J23=\"N<10\",\"N<10\",VLOOKUP(VALUE($A23),'2012-13 BL Civics'!$A$14:$AG$500,23,FALSE)*100),\"Not Tested\")","v":"Not Tested"},{"$f":"IFERROR(IF(K23=\"N<10\",\"N<10\",VLOOKUP(VALUE($A23),'2013-14 BL Civics'!$A$14:$AG$500,23,FALSE)*100),\"Not Tested\")","v":31},"",{"$f":"IFERROR(IF(N23=\"N<10\",\"N<10\",VLOOKUP(VALUE($A23),'2012-13 BL Civics'!$A$14:$AG$500,29,FALSE)*100),\"Not Tested\")","v":"Not Tested"},{"$f":"IFERROR(IF(O23=\"N<10\",\"N<10\",VLOOKUP(VALUE($A23),'2013-14 BL Civics'!$A$14:$AG$500,29,FALSE)*100),\"Not Tested\")","v":46},""]
["1681",null,{"$f":"VLOOKUP(TEXT(A24,\"0000\"),SchList!$A$2:$C$483,2,FALSE)","v":"LILLIE C. EVANS K-8 CENTER    "},{"$f":"IFERROR(VLOOKUP(TEXT($A24,\"0000\"),'2012 BL Civics Enrollment'!$A$3:$C$500,3,FALSE),0)","v":36},{"$f":"IFERROR(VLOOKUP(TEXT($A24,\"0000\"),'2013 BL Civics Enrollment'!$A$3:$C$500,3,FALSE),\"\")","v":46},{"$f":"IFERROR(IF(VLOOKUP(VALUE(A24),'2012-13 BL Civics'!$A$14:$C$200,3,FALSE)<10,\"N<10\",IF(VLOOKUP(VALUE(A24),'2012-13 BL Civics'!$A$14:$C$200,3,FALSE)>D24,100,VLOOKUP(VALUE(A24),'2012-13 BL Civics'!$A$14:$C$200,3,FALSE)/D24%)),\"Not Tested\")","v":100},{"$f":"IFERROR(IF(VLOOKUP(VALUE(A24),'2013-14 BL Civics'!$A$14:$C$200,3,FALSE)<10,\"N<10\",IF(VLOOKUP(VALUE(A24),'2013-14 BL Civics'!$A$14:$C$200,3,FALSE)>E24,100,VLOOKUP(VALUE(A24),'2013-14 BL Civics'!$A$14:$C$200,3,FALSE)/E24%)),\"Not Tested\")","v":95.65217391304347},{"$f":"IFERROR(IF(F24=\"N<10\",\"N<10\",VLOOKUP(VALUE($A24),'2012-13 BL Civics'!$A$14:$AG$500,5,FALSE)*100),\"Not Tested\")","v":34},{"$f":"IFERROR(IF(G24=\"N<10\",\"N<10\",VLOOKUP(VALUE($A24),'2013-14 BL Civics'!$A$14:$AG$500,5,FALSE)*100),\"Not Tested\")","v":33},-1,{"$f":"IFERROR(IF(H24=\"N<10\",\"N<10\",VLOOKUP(VALUE($A24),'2012-13 BL Civics'!$A$14:$AG$500,11,FALSE)*100),\"Not Tested\")","v":42},{"$f":"IFERROR(IF(I24=\"N<10\",\"N<10\",VLOOKUP(VALUE($A24),'2013-14 BL Civics'!$A$14:$AG$500,11,FALSE)*100),\"Not Tested\")","v":31},-11,{"$f":"IFERROR(IF(K24=\"N<10\",\"N<10\",VLOOKUP(VALUE($A24),'2012-13 BL Civics'!$A$14:$AG$500,17,FALSE)*100),\"Not Tested\")","v":26},{"$f":"IFERROR(IF(L24=\"N<10\",\"N<10\",VLOOKUP(VALUE($A24),'2013-14 BL Civics'!$A$14:$AG$500,17,FALSE)*100),\"Not Tested\")","v":30},4,{"$f":"IFERROR(IF(J24=\"N<10\",\"N<10\",VLOOKUP(VALUE($A24),'2012-13 BL Civics'!$A$14:$AG$500,23,FALSE)*100),\"Not Tested\")","v":34},{"$f":"IFERROR(IF(K24=\"N<10\",\"N<10\",VLOOKUP(VALUE($A24),'2013-14 BL Civics'!$A$14:$AG$500,23,FALSE)*100),\"Not Tested\")","v":34},0,{"$f":"IFERROR(IF(N24=\"N<10\",\"N<10\",VLOOKUP(VALUE($A24),'2012-13 BL Civics'!$A$14:$AG$500,29,FALSE)*100),\"Not Tested\")","v":38},{"$f":"IFERROR(IF(O24=\"N<10\",\"N<10\",VLOOKUP(VALUE($A24),'2013-14 BL Civics'!$A$14:$AG$500,29,FALSE)*100),\"Not Tested\")","v":40},2]
["1721",null,{"$f":"VLOOKUP(TEXT(A25,\"0000\"),SchList!$A$2:$C$483,2,FALSE)","v":"EVERGLADES K-8 CENTER         "},{"$f":"IFERROR(VLOOKUP(TEXT($A25,\"0000\"),'2012 BL Civics Enrollment'!$A$3:$C$500,3,FALSE),0)","v":151},{"$f":"IFERROR(VLOOKUP(TEXT($A25,\"0000\"),'2013 BL Civics Enrollment'!$A$3:$C$500,3,FALSE),\"\")","v":139},{"$f":"IFERROR(IF(VLOOKUP(VALUE(A25),'2012-13 BL Civics'!$A$14:$C$200,3,FALSE)<10,\"N<10\",IF(VLOOKUP(VALUE(A25),'2012-13 BL Civics'!$A$14:$C$200,3,FALSE)>D25,100,VLOOKUP(VALUE(A25),'2012-13 BL Civics'!$A$14:$C$200,3,FALSE)/D25%)),\"Not Tested\")","v":100},{"$f":"IFERROR(IF(VLOOKUP(VALUE(A25),'2013-14 BL Civics'!$A$14:$C$200,3,FALSE)<10,\"N<10\",IF(VLOOKUP(VALUE(A25),'2013-14 BL Civics'!$A$14:$C$200,3,FALSE)>E25,100,VLOOKUP(VALUE(A25),'2013-14 BL Civics'!$A$14:$C$200,3,FALSE)/E25%)),\"Not Tested\")","v":100},{"$f":"IFERROR(IF(F25=\"N<10\",\"N<10\",VLOOKUP(VALUE($A25),'2012-13 BL Civics'!$A$14:$AG$500,5,FALSE)*100),\"Not Tested\")","v":34},{"$f":"IFERROR(IF(G25=\"N<10\",\"N<10\",VLOOKUP(VALUE($A25),'2013-14 BL Civics'!$A$14:$AG$500,5,FALSE)*100),\"Not Tested\")","v":38},4,{"$f":"IFERROR(IF(H25=\"N<10\",\"N<10\",VLOOKUP(VALUE($A25),'2012-13 BL Civics'!$A$14:$AG$500,11,FALSE)*100),\"Not Tested\")","v":42},{"$f":"IFERROR(IF(I25=\"N<10\",\"N<10\",VLOOKUP(VALUE($A25),'2013-14 BL Civics'!$A$14:$AG$500,11,FALSE)*100),\"Not Tested\")","v":39},-3,{"$f":"IFERROR(IF(K25=\"N<10\",\"N<10\",VLOOKUP(VALUE($A25),'2012-13 BL Civics'!$A$14:$AG$500,17,FALSE)*100),\"Not Tested\")","v":27},{"$f":"IFERROR(IF(L25=\"N<10\",\"N<10\",VLOOKUP(VALUE($A25),'2013-14 BL Civics'!$A$14:$AG$500,17,FALSE)*100),\"Not Tested\")","v":36},9,{"$f":"IFERROR(IF(J25=\"N<10\",\"N<10\",VLOOKUP(VALUE($A25),'2012-13 BL Civics'!$A$14:$AG$500,23,FALSE)*100),\"Not Tested\")","v":34},{"$f":"IFERROR(IF(K25=\"N<10\",\"N<10\",VLOOKUP(VALUE($A25),'2013-14 BL Civics'!$A$14:$AG$500,23,FALSE)*100),\"Not Tested\")","v":36},2,{"$f":"IFERROR(IF(N25=\"N<10\",\"N<10\",VLOOKUP(VALUE($A25),'2012-13 BL Civics'!$A$14:$AG$500,29,FALSE)*100),\"Not Tested\")","v":35},{"$f":"IFERROR(IF(O25=\"N<10\",\"N<10\",VLOOKUP(VALUE($A25),'2013-14 BL Civics'!$A$14:$AG$500,29,FALSE)*100),\"Not Tested\")","v":44},9]
["2041",null,{"$f":"VLOOKUP(TEXT(A26,\"0000\"),SchList!$A$2:$C$483,2,FALSE)","v":"BENJAMIN FRANKLIN K-8 CENTER  "},{"$f":"IFERROR(VLOOKUP(TEXT($A26,\"0000\"),'2012 BL Civics Enrollment'!$A$3:$C$500,3,FALSE),0)","v":43},{"$f":"IFERROR(VLOOKUP(TEXT($A26,\"0000\"),'2013 BL Civics Enrollment'!$A$3:$C$500,3,FALSE),\"\")","v":63},{"$f":"IFERROR(IF(VLOOKUP(VALUE(A26),'2012-13 BL Civics'!$A$14:$C$200,3,FALSE)<10,\"N<10\",IF(VLOOKUP(VALUE(A26),'2012-13 BL Civics'!$A$14:$C$200,3,FALSE)>D26,100,VLOOKUP(VALUE(A26),'2012-13 BL Civics'!$A$14:$C$200,3,FALSE)/D26%)),\"Not Tested\")","v":88.372093023255815},{"$f":"IFERROR(IF(VLOOKUP(VALUE(A26),'2013-14 BL Civics'!$A$14:$C$200,3,FALSE)<10,\"N<10\",IF(VLOOKUP(VALUE(A26),'2013-14 BL Civics'!$A$14:$C$200,3,FALSE)>E26,100,VLOOKUP(VALUE(A26),'2013-14 BL Civics'!$A$14:$C$200,3,FALSE)/E26%)),\"Not Tested\")","v":84.126984126984127},{"$f":"IFERROR(IF(F26=\"N<10\",\"N<10\",VLOOKUP(VALUE($A26),'2012-13 BL Civics'!$A$14:$AG$500,5,FALSE)*100),\"Not Tested\")","v":33},{"$f":"IFERROR(IF(G26=\"N<10\",\"N<10\",VLOOKUP(VALUE($A26),'2013-14 BL Civics'!$A$14:$AG$500,5,FALSE)*100),\"Not Tested\")","v":32},-1,{"$f":"IFERROR(IF(H26=\"N<10\",\"N<10\",VLOOKUP(VALUE($A26),'2012-13 BL Civics'!$A$14:$AG$500,11,FALSE)*100),\"Not Tested\")","v":36},{"$f":"IFERROR(IF(I26=\"N<10\",\"N<10\",VLOOKUP(VALUE($A26),'2013-14 BL Civics'!$A$14:$AG$500,11,FALSE)*100),\"Not Tested\")","v":28.999999999999996},-7.0000000000000036,{"$f":"IFERROR(IF(K26=\"N<10\",\"N<10\",VLOOKUP(VALUE($A26),'2012-13 BL Civics'!$A$14:$AG$500,17,FALSE)*100),\"Not Tested\")","v":28.999999999999996},{"$f":"IFERROR(IF(L26=\"N<10\",\"N<10\",VLOOKUP(VALUE($A26),'2013-14 BL Civics'!$A$14:$AG$500,17,FALSE)*100),\"Not Tested\")","v":28.999999999999996},0,{"$f":"IFERROR(IF(J26=\"N<10\",\"N<10\",VLOOKUP(VALUE($A26),'2012-13 BL Civics'!$A$14:$AG$500,23,FALSE)*100),\"Not Tested\")","v":32},{"$f":"IFERROR(IF(K26=\"N<10\",\"N<10\",VLOOKUP(VALUE($A26),'2013-14 BL Civics'!$A$14:$AG$500,23,FALSE)*100),\"Not Tested\")","v":32},0,{"$f":"IFERROR(IF(N26=\"N<10\",\"N<10\",VLOOKUP(VALUE($A26),'2012-13 BL Civics'!$A$14:$AG$500,29,FALSE)*100),\"Not Tested\")","v":35},{"$f":"IFERROR(IF(O26=\"N<10\",\"N<10\",VLOOKUP(VALUE($A26),'2013-14 BL Civics'!$A$14:$AG$500,29,FALSE)*100),\"Not Tested\")","v":38},3]
["2060",null,{"$f":"VLOOKUP(TEXT(A27,\"0000\"),SchList!$A$2:$C$483,2,FALSE)","v":"GIBSON CHARTER SCHOOL         "},{"$f":"IFERROR(VLOOKUP(TEXT($A27,\"0000\"),'2012 BL Civics Enrollment'!$A$3:$C$500,3,FALSE),0)","v":43},{"$f":"IFERROR(VLOOKUP(TEXT($A27,\"0000\"),'2013 BL Civics Enrollment'!$A$3:$C$500,3,FALSE),\"\")","v":33},{"$f":"IFERROR(IF(VLOOKUP(VALUE(A27),'2012-13 BL Civics'!$A$14:$C$200,3,FALSE)<10,\"N<10\",IF(VLOOKUP(VALUE(A27),'2012-13 BL Civics'!$A$14:$C$200,3,FALSE)>D27,100,VLOOKUP(VALUE(A27),'2012-13 BL Civics'!$A$14:$C$200,3,FALSE)/D27%)),\"Not Tested\")","v":67.441860465116278},{"$f":"IFERROR(IF(VLOOKUP(VALUE(A27),'2013-14 BL Civics'!$A$14:$C$200,3,FALSE)<10,\"N<10\",IF(VLOOKUP(VALUE(A27),'2013-14 BL Civics'!$A$14:$C$200,3,FALSE)>E27,100,VLOOKUP(VALUE(A27),'2013-14 BL Civics'!$A$14:$C$200,3,FALSE)/E27%)),\"Not Tested\")","v":96.969696969696969},{"$f":"IFERROR(IF(F27=\"N<10\",\"N<10\",VLOOKUP(VALUE($A27),'2012-13 BL Civics'!$A$14:$AG$500,5,FALSE)*100),\"Not Tested\")","v":33},{"$f":"IFERROR(IF(G27=\"N<10\",\"N<10\",VLOOKUP(VALUE($A27),'2013-14 BL Civics'!$A$14:$AG$500,5,FALSE)*100),\"Not Tested\")","v":34},1,{"$f":"IFERROR(IF(H27=\"N<10\",\"N<10\",VLOOKUP(VALUE($A27),'2012-13 BL Civics'!$A$14:$AG$500,11,FALSE)*100),\"Not Tested\")","v":46},{"$f":"IFERROR(IF(I27=\"N<10\",\"N<10\",VLOOKUP(VALUE($A27),'2013-14 BL Civics'!$A$14:$AG$500,11,FALSE)*100),\"Not Tested\")","v":36},-10,{"$f":"IFERROR(IF(K27=\"N<10\",\"N<10\",VLOOKUP(VALUE($A27),'2012-13 BL Civics'!$A$14:$AG$500,17,FALSE)*100),\"Not Tested\")","v":23},{"$f":"IFERROR(IF(L27=\"N<10\",\"N<10\",VLOOKUP(VALUE($A27),'2013-14 BL Civics'!$A$14:$AG$500,17,FALSE)*100),\"Not Tested\")","v":28.000000000000004},5.0000000000000036,{"$f":"IFERROR(IF(J27=\"N<10\",\"N<10\",VLOOKUP(VALUE($A27),'2012-13 BL Civics'!$A$14:$AG$500,23,FALSE)*100),\"Not Tested\")","v":33},{"$f":"IFERROR(IF(K27=\"N<10\",\"N<10\",VLOOKUP(VALUE($A27),'2013-14 BL Civics'!$A$14:$AG$500,23,FALSE)*100),\"Not Tested\")","v":33},0,{"$f":"IFERROR(IF(N27=\"N<10\",\"N<10\",VLOOKUP(VALUE($A27),'2012-13 BL Civics'!$A$14:$AG$500,29,FALSE)*100),\"Not Tested\")","v":36},{"$f":"IFERROR(IF(O27=\"N<10\",\"N<10\",VLOOKUP(VALUE($A27),'2013-14 BL Civics'!$A$14:$AG$500,29,FALSE)*100),\"Not Tested\")","v":43},7]
["2701",null,{"$f":"VLOOKUP(TEXT(A28,\"0000\"),SchList!$A$2:$C$483,2,FALSE)","v":"KENWOOD K-8 CENTER            "},{"$f":"IFERROR(VLOOKUP(TEXT($A28,\"0000\"),'2012 BL Civics Enrollment'!$A$3:$C$500,3,FALSE),0)","v":125},{"$f":"IFERROR(VLOOKUP(TEXT($A28,\"0000\"),'2013 BL Civics Enrollment'!$A$3:$C$500,3,FALSE),\"\")","v":145},{"$f":"IFERROR(IF(VLOOKUP(VALUE(A28),'2012-13 BL Civics'!$A$14:$C$200,3,FALSE)<10,\"N<10\",IF(VLOOKUP(VALUE(A28),'2012-13 BL Civics'!$A$14:$C$200,3,FALSE)>D28,100,VLOOKUP(VALUE(A28),'2012-13 BL Civics'!$A$14:$C$200,3,FALSE)/D28%)),\"Not Tested\")","v":100},{"$f":"IFERROR(IF(VLOOKUP(VALUE(A28),'2013-14 BL Civics'!$A$14:$C$200,3,FALSE)<10,\"N<10\",IF(VLOOKUP(VALUE(A28),'2013-14 BL Civics'!$A$14:$C$200,3,FALSE)>E28,100,VLOOKUP(VALUE(A28),'2013-14 BL Civics'!$A$14:$C$200,3,FALSE)/E28%)),\"Not Tested\")","v":97.931034482758619},{"$f":"IFERROR(IF(F28=\"N<10\",\"N<10\",VLOOKUP(VALUE($A28),'2012-13 BL Civics'!$A$14:$AG$500,5,FALSE)*100),\"Not Tested\")","v":37},{"$f":"IFERROR(IF(G28=\"N<10\",\"N<10\",VLOOKUP(VALUE($A28),'2013-14 BL Civics'!$A$14:$AG$500,5,FALSE)*100),\"Not Tested\")","v":40},3,{"$f":"IFERROR(IF(H28=\"N<10\",\"N<10\",VLOOKUP(VALUE($A28),'2012-13 BL Civics'!$A$14:$AG$500,11,FALSE)*100),\"Not Tested\")","v":43},{"$f":"IFERROR(IF(I28=\"N<10\",\"N<10\",VLOOKUP(VALUE($A28),'2013-14 BL Civics'!$A$14:$AG$500,11,FALSE)*100),\"Not Tested\")","v":44},1,{"$f":"IFERROR(IF(K28=\"N<10\",\"N<10\",VLOOKUP(VALUE($A28),'2012-13 BL Civics'!$A$14:$AG$500,17,FALSE)*100),\"Not Tested\")","v":30},{"$f":"IFERROR(IF(L28=\"N<10\",\"N<10\",VLOOKUP(VALUE($A28),'2013-14 BL Civics'!$A$14:$AG$500,17,FALSE)*100),\"Not Tested\")","v":33},3,{"$f":"IFERROR(IF(J28=\"N<10\",\"N<10\",VLOOKUP(VALUE($A28),'2012-13 BL Civics'!$A$14:$AG$500,23,FALSE)*100),\"Not Tested\")","v":38},{"$f":"IFERROR(IF(K28=\"N<10\",\"N<10\",VLOOKUP(VALUE($A28),'2013-14 BL Civics'!$A$14:$AG$500,23,FALSE)*100),\"Not Tested\")","v":38},0,{"$f":"IFERROR(IF(N28=\"N<10\",\"N<10\",VLOOKUP(VALUE($A28),'2012-13 BL Civics'!$A$14:$AG$500,29,FALSE)*100),\"Not Tested\")","v":38},{"$f":"IFERROR(IF(O28=\"N<10\",\"N<10\",VLOOKUP(VALUE($A28),'2013-14 BL Civics'!$A$14:$AG$500,29,FALSE)*100),\"Not Tested\")","v":48},10]
["2741",null,{"$f":"VLOOKUP(TEXT(A29,\"0000\"),SchList!$A$2:$C$483,2,FALSE)","v":"KEY BISCAYNE K-8 CENTER       "},{"$f":"IFERROR(VLOOKUP(TEXT($A29,\"0000\"),'2012 BL Civics Enrollment'!$A$3:$C$500,3,FALSE),0)","v":137},{"$f":"IFERROR(VLOOKUP(TEXT($A29,\"0000\"),'2013 BL Civics Enrollment'!$A$3:$C$500,3,FALSE),\"\")","v":162},{"$f":"IFERROR(IF(VLOOKUP(VALUE(A29),'2012-13 BL Civics'!$A$14:$C$200,3,FALSE)<10,\"N<10\",IF(VLOOKUP(VALUE(A29),'2012-13 BL Civics'!$A$14:$C$200,3,FALSE)>D29,100,VLOOKUP(VALUE(A29),'2012-13 BL Civics'!$A$14:$C$200,3,FALSE)/D29%)),\"Not Tested\")","v":95.62043795620437},{"$f":"IFERROR(IF(VLOOKUP(VALUE(A29),'2013-14 BL Civics'!$A$14:$C$200,3,FALSE)<10,\"N<10\",IF(VLOOKUP(VALUE(A29),'2013-14 BL Civics'!$A$14:$C$200,3,FALSE)>E29,100,VLOOKUP(VALUE(A29),'2013-14 BL Civics'!$A$14:$C$200,3,FALSE)/E29%)),\"Not Tested\")","v":82.716049382716051},{"$f":"IFERROR(IF(F29=\"N<10\",\"N<10\",VLOOKUP(VALUE($A29),'2012-13 BL Civics'!$A$14:$AG$500,5,FALSE)*100),\"Not Tested\")","v":41},{"$f":"IFERROR(IF(G29=\"N<10\",\"N<10\",VLOOKUP(VALUE($A29),'2013-14 BL Civics'!$A$14:$AG$500,5,FALSE)*100),\"Not Tested\")","v":39},-2,{"$f":"IFERROR(IF(H29=\"N<10\",\"N<10\",VLOOKUP(VALUE($A29),'2012-13 BL Civics'!$A$14:$AG$500,11,FALSE)*100),\"Not Tested\")","v":50},{"$f":"IFERROR(IF(I29=\"N<10\",\"N<10\",VLOOKUP(VALUE($A29),'2013-14 BL Civics'!$A$14:$AG$500,11,FALSE)*100),\"Not Tested\")","v":41},-9,{"$f":"IFERROR(IF(K29=\"N<10\",\"N<10\",VLOOKUP(VALUE($A29),'2012-13 BL Civics'!$A$14:$AG$500,17,FALSE)*100),\"Not Tested\")","v":36},{"$f":"IFERROR(IF(L29=\"N<10\",\"N<10\",VLOOKUP(VALUE($A29),'2013-14 BL Civics'!$A$14:$AG$500,17,FALSE)*100),\"Not Tested\")","v":36},0,{"$f":"IFERROR(IF(J29=\"N<10\",\"N<10\",VLOOKUP(VALUE($A29),'2012-13 BL Civics'!$A$14:$AG$500,23,FALSE)*100),\"Not Tested\")","v":39},{"$f":"IFERROR(IF(K29=\"N<10\",\"N<10\",VLOOKUP(VALUE($A29),'2013-14 BL Civics'!$A$14:$AG$500,23,FALSE)*100),\"Not Tested\")","v":37},-2,{"$f":"IFERROR(IF(N29=\"N<10\",\"N<10\",VLOOKUP(VALUE($A29),'2012-13 BL Civics'!$A$14:$AG$500,29,FALSE)*100),\"Not Tested\")","v":40},{"$f":"IFERROR(IF(O29=\"N<10\",\"N<10\",VLOOKUP(VALUE($A29),'2013-14 BL Civics'!$A$14:$AG$500,29,FALSE)*100),\"Not Tested\")","v":44},4]
["2881",null,{"$f":"VLOOKUP(TEXT(A30,\"0000\"),SchList!$A$2:$C$483,2,FALSE)","v":"LEEWOOD K-8 CENTER            "},{"$f":"IFERROR(VLOOKUP(TEXT($A30,\"0000\"),'2012 BL Civics Enrollment'!$A$3:$C$500,3,FALSE),0)","v":67},{"$f":"IFERROR(VLOOKUP(TEXT($A30,\"0000\"),'2013 BL Civics Enrollment'!$A$3:$C$500,3,FALSE),\"\")","v":75},{"$f":"IFERROR(IF(VLOOKUP(VALUE(A30),'2012-13 BL Civics'!$A$14:$C$200,3,FALSE)<10,\"N<10\",IF(VLOOKUP(VALUE(A30),'2012-13 BL Civics'!$A$14:$C$200,3,FALSE)>D30,100,VLOOKUP(VALUE(A30),'2012-13 BL Civics'!$A$14:$C$200,3,FALSE)/D30%)),\"Not Tested\")","v":100},{"$f":"IFERROR(IF(VLOOKUP(VALUE(A30),'2013-14 BL Civics'!$A$14:$C$200,3,FALSE)<10,\"N<10\",IF(VLOOKUP(VALUE(A30),'2013-14 BL Civics'!$A$14:$C$200,3,FALSE)>E30,100,VLOOKUP(VALUE(A30),'2013-14 BL Civics'!$A$14:$C$200,3,FALSE)/E30%)),\"Not Tested\")","v":97.333333333333329},{"$f":"IFERROR(IF(F30=\"N<10\",\"N<10\",VLOOKUP(VALUE($A30),'2012-13 BL Civics'!$A$14:$AG$500,5,FALSE)*100),\"Not Tested\")","v":36},{"$f":"IFERROR(IF(G30=\"N<10\",\"N<10\",VLOOKUP(VALUE($A30),'2013-14 BL Civics'!$A$14:$AG$500,5,FALSE)*100),\"Not Tested\")","v":44},8,{"$f":"IFERROR(IF(H30=\"N<10\",\"N<10\",VLOOKUP(VALUE($A30),'2012-13 BL Civics'!$A$14:$AG$500,11,FALSE)*100),\"Not Tested\")","v":44},{"$f":"IFERROR(IF(I30=\"N<10\",\"N<10\",VLOOKUP(VALUE($A30),'2013-14 BL Civics'!$A$14:$AG$500,11,FALSE)*100),\"Not Tested\")","v":48},4,{"$f":"IFERROR(IF(K30=\"N<10\",\"N<10\",VLOOKUP(VALUE($A30),'2012-13 BL Civics'!$A$14:$AG$500,17,FALSE)*100),\"Not Tested\")","v":28.999999999999996},{"$f":"IFERROR(IF(L30=\"N<10\",\"N<10\",VLOOKUP(VALUE($A30),'2013-14 BL Civics'!$A$14:$AG$500,17,FALSE)*100),\"Not Tested\")","v":37},8.0000000000000036,{"$f":"IFERROR(IF(J30=\"N<10\",\"N<10\",VLOOKUP(VALUE($A30),'2012-13 BL Civics'!$A$14:$AG$500,23,FALSE)*100),\"Not Tested\")","v":36},{"$f":"IFERROR(IF(K30=\"N<10\",\"N<10\",VLOOKUP(VALUE($A30),'2013-14 BL Civics'!$A$14:$AG$500,23,FALSE)*100),\"Not Tested\")","v":45},9,{"$f":"IFERROR(IF(N30=\"N<10\",\"N<10\",VLOOKUP(VALUE($A30),'2012-13 BL Civics'!$A$14:$AG$500,29,FALSE)*100),\"Not Tested\")","v":41},{"$f":"IFERROR(IF(O30=\"N<10\",\"N<10\",VLOOKUP(VALUE($A30),'2013-14 BL Civics'!$A$14:$AG$500,29,FALSE)*100),\"Not Tested\")","v":51},10]
["2901",null,{"$f":"VLOOKUP(TEXT(A31,\"0000\"),SchList!$A$2:$C$483,2,FALSE)","v":"LEISURE CITY K-8 CENTER       "},{"$f":"IFERROR(VLOOKUP(TEXT($A31,\"0000\"),'2012 BL Civics Enrollment'!$A$3:$C$500,3,FALSE),0)","v":113},{"$f":"IFERROR(VLOOKUP(TEXT($A31,\"0000\"),'2013 BL Civics Enrollment'!$A$3:$C$500,3,FALSE),\"\")","v":103},{"$f":"IFERROR(IF(VLOOKUP(VALUE(A31),'2012-13 BL Civics'!$A$14:$C$200,3,FALSE)<10,\"N<10\",IF(VLOOKUP(VALUE(A31),'2012-13 BL Civics'!$A$14:$C$200,3,FALSE)>D31,100,VLOOKUP(VALUE(A31),'2012-13 BL Civics'!$A$14:$C$200,3,FALSE)/D31%)),\"Not Tested\")","v":100},{"$f":"IFERROR(IF(VLOOKUP(VALUE(A31),'2013-14 BL Civics'!$A$14:$C$200,3,FALSE)<10,\"N<10\",IF(VLOOKUP(VALUE(A31),'2013-14 BL Civics'!$A$14:$C$200,3,FALSE)>E31,100,VLOOKUP(VALUE(A31),'2013-14 BL Civics'!$A$14:$C$200,3,FALSE)/E31%)),\"Not Tested\")","v":95.145631067961162},{"$f":"IFERROR(IF(F31=\"N<10\",\"N<10\",VLOOKUP(VALUE($A31),'2012-13 BL Civics'!$A$14:$AG$500,5,FALSE)*100),\"Not Tested\")","v":32},{"$f":"IFERROR(IF(G31=\"N<10\",\"N<10\",VLOOKUP(VALUE($A31),'2013-14 BL Civics'!$A$14:$AG$500,5,FALSE)*100),\"Not Tested\")","v":35},3,{"$f":"IFERROR(IF(H31=\"N<10\",\"N<10\",VLOOKUP(VALUE($A31),'2012-13 BL Civics'!$A$14:$AG$500,11,FALSE)*100),\"Not Tested\")","v":38},{"$f":"IFERROR(IF(I31=\"N<10\",\"N<10\",VLOOKUP(VALUE($A31),'2013-14 BL Civics'!$A$14:$AG$500,11,FALSE)*100),\"Not Tested\")","v":35},-3,{"$f":"IFERROR(IF(K31=\"N<10\",\"N<10\",VLOOKUP(VALUE($A31),'2012-13 BL Civics'!$A$14:$AG$500,17,FALSE)*100),\"Not Tested\")","v":26},{"$f":"IFERROR(IF(L31=\"N<10\",\"N<10\",VLOOKUP(VALUE($A31),'2013-14 BL Civics'!$A$14:$AG$500,17,FALSE)*100),\"Not Tested\")","v":30},4,{"$f":"IFERROR(IF(J31=\"N<10\",\"N<10\",VLOOKUP(VALUE($A31),'2012-13 BL Civics'!$A$14:$AG$500,23,FALSE)*100),\"Not Tested\")","v":34},{"$f":"IFERROR(IF(K31=\"N<10\",\"N<10\",VLOOKUP(VALUE($A31),'2013-14 BL Civics'!$A$14:$AG$500,23,FALSE)*100),\"Not Tested\")","v":36},2,{"$f":"IFERROR(IF(N31=\"N<10\",\"N<10\",VLOOKUP(VALUE($A31),'2012-13 BL Civics'!$A$14:$AG$500,29,FALSE)*100),\"Not Tested\")","v":34},{"$f":"IFERROR(IF(O31=\"N<10\",\"N<10\",VLOOKUP(VALUE($A31),'2013-14 BL Civics'!$A$14:$AG$500,29,FALSE)*100),\"Not Tested\")","v":41},7]
["2911",null,{"$f":"VLOOKUP(TEXT(A32,\"0000\"),SchList!$A$2:$C$483,2,FALSE)","v":"LINDA LENTIN K-8 CENTER       "},{"$f":"IFERROR(VLOOKUP(TEXT($A32,\"0000\"),'2012 BL Civics Enrollment'!$A$3:$C$500,3,FALSE),0)","v":102},{"$f":"IFERROR(VLOOKUP(TEXT($A32,\"0000\"),'2013 BL Civics Enrollment'!$A$3:$C$500,3,FALSE),\"\")","v":122},{"$f":"IFERROR(IF(VLOOKUP(VALUE(A32),'2012-13 BL Civics'!$A$14:$C$200,3,FALSE)<10,\"N<10\",IF(VLOOKUP(VALUE(A32),'2012-13 BL Civics'!$A$14:$C$200,3,FALSE)>D32,100,VLOOKUP(VALUE(A32),'2012-13 BL Civics'!$A$14:$C$200,3,FALSE)/D32%)),\"Not Tested\")","v":100},{"$f":"IFERROR(IF(VLOOKUP(VALUE(A32),'2013-14 BL Civics'!$A$14:$C$200,3,FALSE)<10,\"N<10\",IF(VLOOKUP(VALUE(A32),'2013-14 BL Civics'!$A$14:$C$200,3,FALSE)>E32,100,VLOOKUP(VALUE(A32),'2013-14 BL Civics'!$A$14:$C$200,3,FALSE)/E32%)),\"Not Tested\")","v":97.540983606557376},{"$f":"IFERROR(IF(F32=\"N<10\",\"N<10\",VLOOKUP(VALUE($A32),'2012-13 BL Civics'!$A$14:$AG$500,5,FALSE)*100),\"Not Tested\")","v":34},{"$f":"IFERROR(IF(G32=\"N<10\",\"N<10\",VLOOKUP(VALUE($A32),'2013-14 BL Civics'!$A$14:$AG$500,5,FALSE)*100),\"Not Tested\")","v":33},-1,{"$f":"IFERROR(IF(H32=\"N<10\",\"N<10\",VLOOKUP(VALUE($A32),'2012-13 BL Civics'!$A$14:$AG$500,11,FALSE)*100),\"Not Tested\")","v":43},{"$f":"IFERROR(IF(I32=\"N<10\",\"N<10\",VLOOKUP(VALUE($A32),'2013-14 BL Civics'!$A$14:$AG$500,11,FALSE)*100),\"Not Tested\")","v":34},-9,{"$f":"IFERROR(IF(K32=\"N<10\",\"N<10\",VLOOKUP(VALUE($A32),'2012-13 BL Civics'!$A$14:$AG$500,17,FALSE)*100),\"Not Tested\")","v":26},{"$f":"IFERROR(IF(L32=\"N<10\",\"N<10\",VLOOKUP(VALUE($A32),'2013-14 BL Civics'!$A$14:$AG$500,17,FALSE)*100),\"Not Tested\")","v":30},4,{"$f":"IFERROR(IF(J32=\"N<10\",\"N<10\",VLOOKUP(VALUE($A32),'2012-13 BL Civics'!$A$14:$AG$500,23,FALSE)*100),\"Not Tested\")","v":33},{"$f":"IFERROR(IF(K32=\"N<10\",\"N<10\",VLOOKUP(VALUE($A32),'2013-14 BL Civics'!$A$14:$AG$500,23,FALSE)*100),\"Not Tested\")","v":32},-1,{"$f":"IFERROR(IF(N32=\"N<10\",\"N<10\",VLOOKUP(VALUE($A32),'2012-13 BL Civics'!$A$14:$AG$500,29,FALSE)*100),\"Not Tested\")","v":40},{"$f":"IFERROR(IF(O32=\"N<10\",\"N<10\",VLOOKUP(VALUE($A32),'2013-14 BL Civics'!$A$14:$AG$500,29,FALSE)*100),\"Not Tested\")","v":40},0]
["3029",null,{"$f":"VLOOKUP(TEXT(A33,\"0000\"),SchList!$A$2:$C$483,2,FALSE)","v":"DORAL ACADEMY OF TECHNOLOGY   "},{"$f":"IFERROR(VLOOKUP(TEXT($A33,\"0000\"),'2012 BL Civics Enrollment'!$A$3:$C$500,3,FALSE),0)","v":63},{"$f":"IFERROR(VLOOKUP(TEXT($A33,\"0000\"),'2013 BL Civics Enrollment'!$A$3:$C$500,3,FALSE),\"\")","v":71},{"$f":"IFERROR(IF(VLOOKUP(VALUE(A33),'2012-13 BL Civics'!$A$14:$C$200,3,FALSE)<10,\"N<10\",IF(VLOOKUP(VALUE(A33),'2012-13 BL Civics'!$A$14:$C$200,3,FALSE)>D33,100,VLOOKUP(VALUE(A33),'2012-13 BL Civics'!$A$14:$C$200,3,FALSE)/D33%)),\"Not Tested\")","v":100},{"$f":"IFERROR(IF(VLOOKUP(VALUE(A33),'2013-14 BL Civics'!$A$14:$C$200,3,FALSE)<10,\"N<10\",IF(VLOOKUP(VALUE(A33),'2013-14 BL Civics'!$A$14:$C$200,3,FALSE)>E33,100,VLOOKUP(VALUE(A33),'2013-14 BL Civics'!$A$14:$C$200,3,FALSE)/E33%)),\"Not Tested\")","v":100},{"$f":"IFERROR(IF(F33=\"N<10\",\"N<10\",VLOOKUP(VALUE($A33),'2012-13 BL Civics'!$A$14:$AG$500,5,FALSE)*100),\"Not Tested\")","v":44},{"$f":"IFERROR(IF(G33=\"N<10\",\"N<10\",VLOOKUP(VALUE($A33),'2013-14 BL Civics'!$A$14:$AG$500,5,FALSE)*100),\"Not Tested\")","v":48},4,{"$f":"IFERROR(IF(H33=\"N<10\",\"N<10\",VLOOKUP(VALUE($A33),'2012-13 BL Civics'!$A$14:$AG$500,11,FALSE)*100),\"Not Tested\")","v":53},{"$f":"IFERROR(IF(I33=\"N<10\",\"N<10\",VLOOKUP(VALUE($A33),'2013-14 BL Civics'!$A$14:$AG$500,11,FALSE)*100),\"Not Tested\")","v":55.000000000000007},2.0000000000000071,{"$f":"IFERROR(IF(K33=\"N<10\",\"N<10\",VLOOKUP(VALUE($A33),'2012-13 BL Civics'!$A$14:$AG$500,17,FALSE)*100),\"Not Tested\")","v":37},{"$f":"IFERROR(IF(L33=\"N<10\",\"N<10\",VLOOKUP(VALUE($A33),'2013-14 BL Civics'!$A$14:$AG$500,17,FALSE)*100),\"Not Tested\")","v":39},2,{"$f":"IFERROR(IF(J33=\"N<10\",\"N<10\",VLOOKUP(VALUE($A33),'2012-13 BL Civics'!$A$14:$AG$500,23,FALSE)*100),\"Not Tested\")","v":46},{"$f":"IFERROR(IF(K33=\"N<10\",\"N<10\",VLOOKUP(VALUE($A33),'2013-14 BL Civics'!$A$14:$AG$500,23,FALSE)*100),\"Not Tested\")","v":49},3,{"$f":"IFERROR(IF(N33=\"N<10\",\"N<10\",VLOOKUP(VALUE($A33),'2012-13 BL Civics'!$A$14:$AG$500,29,FALSE)*100),\"Not Tested\")","v":43},{"$f":"IFERROR(IF(O33=\"N<10\",\"N<10\",VLOOKUP(VALUE($A33),'2013-14 BL Civics'!$A$14:$AG$500,29,FALSE)*100),\"Not Tested\")","v":54},11]
["3032",null,{"$f":"VLOOKUP(TEXT(A34,\"0000\"),SchList!$A$2:$C$483,2,FALSE)","v":"PALM GLADES PREPATORY ACADEMY "},{"$f":"IFERROR(VLOOKUP(TEXT($A34,\"0000\"),'2012 BL Civics Enrollment'!$A$3:$C$500,3,FALSE),0)","v":131},{"$f":"IFERROR(VLOOKUP(TEXT($A34,\"0000\"),'2013 BL Civics Enrollment'!$A$3:$C$500,3,FALSE),\"\")","v":167},{"$f":"IFERROR(IF(VLOOKUP(VALUE(A34),'2012-13 BL Civics'!$A$14:$C$200,3,FALSE)<10,\"N<10\",IF(VLOOKUP(VALUE(A34),'2012-13 BL Civics'!$A$14:$C$200,3,FALSE)>D34,100,VLOOKUP(VALUE(A34),'2012-13 BL Civics'!$A$14:$C$200,3,FALSE)/D34%)),\"Not Tested\")","v":15.267175572519083},{"$f":"IFERROR(IF(VLOOKUP(VALUE(A34),'2013-14 BL Civics'!$A$14:$C$200,3,FALSE)<10,\"N<10\",IF(VLOOKUP(VALUE(A34),'2013-14 BL Civics'!$A$14:$C$200,3,FALSE)>E34,100,VLOOKUP(VALUE(A34),'2013-14 BL Civics'!$A$14:$C$200,3,FALSE)/E34%)),\"Not Tested\")","v":91.017964071856298},{"$f":"IFERROR(IF(F34=\"N<10\",\"N<10\",VLOOKUP(VALUE($A34),'2012-13 BL Civics'!$A$14:$AG$500,5,FALSE)*100),\"Not Tested\")","v":42},{"$f":"IFERROR(IF(G34=\"N<10\",\"N<10\",VLOOKUP(VALUE($A34),'2013-14 BL Civics'!$A$14:$AG$500,5,FALSE)*100),\"Not Tested\")","v":36},-6,{"$f":"IFERROR(IF(H34=\"N<10\",\"N<10\",VLOOKUP(VALUE($A34),'2012-13 BL Civics'!$A$14:$AG$500,11,FALSE)*100),\"Not Tested\")","v":52},{"$f":"IFERROR(IF(I34=\"N<10\",\"N<10\",VLOOKUP(VALUE($A34),'2013-14 BL Civics'!$A$14:$AG$500,11,FALSE)*100),\"Not Tested\")","v":39},-13,{"$f":"IFERROR(IF(K34=\"N<10\",\"N<10\",VLOOKUP(VALUE($A34),'2012-13 BL Civics'!$A$14:$AG$500,17,FALSE)*100),\"Not Tested\")","v":30},{"$f":"IFERROR(IF(L34=\"N<10\",\"N<10\",VLOOKUP(VALUE($A34),'2013-14 BL Civics'!$A$14:$AG$500,17,FALSE)*100),\"Not Tested\")","v":30},0,{"$f":"IFERROR(IF(J34=\"N<10\",\"N<10\",VLOOKUP(VALUE($A34),'2012-13 BL Civics'!$A$14:$AG$500,23,FALSE)*100),\"Not Tested\")","v":49},{"$f":"IFERROR(IF(K34=\"N<10\",\"N<10\",VLOOKUP(VALUE($A34),'2013-14 BL Civics'!$A$14:$AG$500,23,FALSE)*100),\"Not Tested\")","v":36},-13,{"$f":"IFERROR(IF(N34=\"N<10\",\"N<10\",VLOOKUP(VALUE($A34),'2012-13 BL Civics'!$A$14:$AG$500,29,FALSE)*100),\"Not Tested\")","v":43},{"$f":"IFERROR(IF(O34=\"N<10\",\"N<10\",VLOOKUP(VALUE($A34),'2013-14 BL Civics'!$A$14:$AG$500,29,FALSE)*100),\"Not Tested\")","v":41},-2]
["3101",null,{"$f":"VLOOKUP(TEXT(A35,\"0000\"),SchList!$A$2:$C$483,2,FALSE)","v":"FRANK C. MARTIN K-8 CENTER    "},{"$f":"IFERROR(VLOOKUP(TEXT($A35,\"0000\"),'2012 BL Civics Enrollment'!$A$3:$C$500,3,FALSE),0)","v":137},{"$f":"IFERROR(VLOOKUP(TEXT($A35,\"0000\"),'2013 BL Civics Enrollment'!$A$3:$C$500,3,FALSE),\"\")","v":122},{"$f":"IFERROR(IF(VLOOKUP(VALUE(A35),'2012-13 BL Civics'!$A$14:$C$200,3,FALSE)<10,\"N<10\",IF(VLOOKUP(VALUE(A35),'2012-13 BL Civics'!$A$14:$C$200,3,FALSE)>D35,100,VLOOKUP(VALUE(A35),'2012-13 BL Civics'!$A$14:$C$200,3,FALSE)/D35%)),\"Not Tested\")","v":99.270072992700719},{"$f":"IFERROR(IF(VLOOKUP(VALUE(A35),'2013-14 BL Civics'!$A$14:$C$200,3,FALSE)<10,\"N<10\",IF(VLOOKUP(VALUE(A35),'2013-14 BL Civics'!$A$14:$C$200,3,FALSE)>E35,100,VLOOKUP(VALUE(A35),'2013-14 BL Civics'!$A$14:$C$200,3,FALSE)/E35%)),\"Not Tested\")","v":99.180327868852459},{"$f":"IFERROR(IF(F35=\"N<10\",\"N<10\",VLOOKUP(VALUE($A35),'2012-13 BL Civics'!$A$14:$AG$500,5,FALSE)*100),\"Not Tested\")","v":41},{"$f":"IFERROR(IF(G35=\"N<10\",\"N<10\",VLOOKUP(VALUE($A35),'2013-14 BL Civics'!$A$14:$AG$500,5,FALSE)*100),\"Not Tested\")","v":44},3,{"$f":"IFERROR(IF(H35=\"N<10\",\"N<10\",VLOOKUP(VALUE($A35),'2012-13 BL Civics'!$A$14:$AG$500,11,FALSE)*100),\"Not Tested\")","v":52},{"$f":"IFERROR(IF(I35=\"N<10\",\"N<10\",VLOOKUP(VALUE($A35),'2013-14 BL Civics'!$A$14:$AG$500,11,FALSE)*100),\"Not Tested\")","v":50},-2,{"$f":"IFERROR(IF(K35=\"N<10\",\"N<10\",VLOOKUP(VALUE($A35),'2012-13 BL Civics'!$A$14:$AG$500,17,FALSE)*100),\"Not Tested\")","v":32},{"$f":"IFERROR(IF(L35=\"N<10\",\"N<10\",VLOOKUP(VALUE($A35),'2013-14 BL Civics'!$A$14:$AG$500,17,FALSE)*100),\"Not Tested\")","v":37},5,{"$f":"IFERROR(IF(J35=\"N<10\",\"N<10\",VLOOKUP(VALUE($A35),'2012-13 BL Civics'!$A$14:$AG$500,23,FALSE)*100),\"Not Tested\")","v":42},{"$f":"IFERROR(IF(K35=\"N<10\",\"N<10\",VLOOKUP(VALUE($A35),'2013-14 BL Civics'!$A$14:$AG$500,23,FALSE)*100),\"Not Tested\")","v":44},2,{"$f":"IFERROR(IF(N35=\"N<10\",\"N<10\",VLOOKUP(VALUE($A35),'2012-13 BL Civics'!$A$14:$AG$500,29,FALSE)*100),\"Not Tested\")","v":43},{"$f":"IFERROR(IF(O35=\"N<10\",\"N<10\",VLOOKUP(VALUE($A35),'2013-14 BL Civics'!$A$14:$AG$500,29,FALSE)*100),\"Not Tested\")","v":49},6]
["3191",null,{"$f":"VLOOKUP(TEXT(A36,\"0000\"),SchList!$A$2:$C$483,2,FALSE)","v":"ADA MERRITT K-8 CENTER        "},{"$f":"IFERROR(VLOOKUP(TEXT($A36,\"0000\"),'2012 BL Civics Enrollment'!$A$3:$C$500,3,FALSE),0)","v":112},{"$f":"IFERROR(VLOOKUP(TEXT($A36,\"0000\"),'2013 BL Civics Enrollment'!$A$3:$C$500,3,FALSE),\"\")","v":91},{"$f":"IFERROR(IF(VLOOKUP(VALUE(A36),'2012-13 BL Civics'!$A$14:$C$200,3,FALSE)<10,\"N<10\",IF(VLOOKUP(VALUE(A36),'2012-13 BL Civics'!$A$14:$C$200,3,FALSE)>D36,100,VLOOKUP(VALUE(A36),'2012-13 BL Civics'!$A$14:$C$200,3,FALSE)/D36%)),\"Not Tested\")","v":96.428571428571416},{"$f":"IFERROR(IF(VLOOKUP(VALUE(A36),'2013-14 BL Civics'!$A$14:$C$200,3,FALSE)<10,\"N<10\",IF(VLOOKUP(VALUE(A36),'2013-14 BL Civics'!$A$14:$C$200,3,FALSE)>E36,100,VLOOKUP(VALUE(A36),'2013-14 BL Civics'!$A$14:$C$200,3,FALSE)/E36%)),\"Not Tested\")","v":96.703296703296701},{"$f":"IFERROR(IF(F36=\"N<10\",\"N<10\",VLOOKUP(VALUE($A36),'2012-13 BL Civics'!$A$14:$AG$500,5,FALSE)*100),\"Not Tested\")","v":39},{"$f":"IFERROR(IF(G36=\"N<10\",\"N<10\",VLOOKUP(VALUE($A36),'2013-14 BL Civics'!$A$14:$AG$500,5,FALSE)*100),\"Not Tested\")","v":48},9,{"$f":"IFERROR(IF(H36=\"N<10\",\"N<10\",VLOOKUP(VALUE($A36),'2012-13 BL Civics'!$A$14:$AG$500,11,FALSE)*100),\"Not Tested\")","v":52},{"$f":"IFERROR(IF(I36=\"N<10\",\"N<10\",VLOOKUP(VALUE($A36),'2013-14 BL Civics'!$A$14:$AG$500,11,FALSE)*100),\"Not Tested\")","v":52},0,{"$f":"IFERROR(IF(K36=\"N<10\",\"N<10\",VLOOKUP(VALUE($A36),'2012-13 BL Civics'!$A$14:$AG$500,17,FALSE)*100),\"Not Tested\")","v":31},{"$f":"IFERROR(IF(L36=\"N<10\",\"N<10\",VLOOKUP(VALUE($A36),'2013-14 BL Civics'!$A$14:$AG$500,17,FALSE)*100),\"Not Tested\")","v":41},10,{"$f":"IFERROR(IF(J36=\"N<10\",\"N<10\",VLOOKUP(VALUE($A36),'2012-13 BL Civics'!$A$14:$AG$500,23,FALSE)*100),\"Not Tested\")","v":38},{"$f":"IFERROR(IF(K36=\"N<10\",\"N<10\",VLOOKUP(VALUE($A36),'2013-14 BL Civics'!$A$14:$AG$500,23,FALSE)*100),\"Not Tested\")","v":49},11,{"$f":"IFERROR(IF(N36=\"N<10\",\"N<10\",VLOOKUP(VALUE($A36),'2012-13 BL Civics'!$A$14:$AG$500,29,FALSE)*100),\"Not Tested\")","v":43},{"$f":"IFERROR(IF(O36=\"N<10\",\"N<10\",VLOOKUP(VALUE($A36),'2013-14 BL Civics'!$A$14:$AG$500,29,FALSE)*100),\"Not Tested\")","v":52},9]
["3281",null,{"$f":"VLOOKUP(TEXT(A37,\"0000\"),SchList!$A$2:$C$483,2,FALSE)","v":"MIAMI LAKES K-8 CENTER        "},{"$f":"IFERROR(VLOOKUP(TEXT($A37,\"0000\"),'2012 BL Civics Enrollment'!$A$3:$C$500,3,FALSE),0)","v":152},{"$f":"IFERROR(VLOOKUP(TEXT($A37,\"0000\"),'2013 BL Civics Enrollment'!$A$3:$C$500,3,FALSE),\"\")","v":165},{"$f":"IFERROR(IF(VLOOKUP(VALUE(A37),'2012-13 BL Civics'!$A$14:$C$200,3,FALSE)<10,\"N<10\",IF(VLOOKUP(VALUE(A37),'2012-13 BL Civics'!$A$14:$C$200,3,FALSE)>D37,100,VLOOKUP(VALUE(A37),'2012-13 BL Civics'!$A$14:$C$200,3,FALSE)/D37%)),\"Not Tested\")","v":100},{"$f":"IFERROR(IF(VLOOKUP(VALUE(A37),'2013-14 BL Civics'!$A$14:$C$200,3,FALSE)<10,\"N<10\",IF(VLOOKUP(VALUE(A37),'2013-14 BL Civics'!$A$14:$C$200,3,FALSE)>E37,100,VLOOKUP(VALUE(A37),'2013-14 BL Civics'!$A$14:$C$200,3,FALSE)/E37%)),\"Not Tested\")","v":55.151515151515156},{"$f":"IFERROR(IF(F37=\"N<10\",\"N<10\",VLOOKUP(VALUE($A37),'2012-13 BL Civics'!$A$14:$AG$500,5,FALSE)*100),\"Not Tested\")","v":34},{"$f":"IFERROR(IF(G37=\"N<10\",\"N<10\",VLOOKUP(VALUE($A37),'2013-14 BL Civics'!$A$14:$AG$500,5,FALSE)*100),\"Not Tested\")","v":34},0,{"$f":"IFERROR(IF(H37=\"N<10\",\"N<10\",VLOOKUP(VALUE($A37),'2012-13 BL Civics'!$A$14:$AG$500,11,FALSE)*100),\"Not Tested\")","v":41},{"$f":"IFERROR(IF(I37=\"N<10\",\"N<10\",VLOOKUP(VALUE($A37),'2013-14 BL Civics'!$A$14:$AG$500,11,FALSE)*100),\"Not Tested\")","v":37},-4,{"$f":"IFERROR(IF(K37=\"N<10\",\"N<10\",VLOOKUP(VALUE($A37),'2012-13 BL Civics'!$A$14:$AG$500,17,FALSE)*100),\"Not Tested\")","v":27},{"$f":"IFERROR(IF(L37=\"N<10\",\"N<10\",VLOOKUP(VALUE($A37),'2013-14 BL Civics'!$A$14:$AG$500,17,FALSE)*100),\"Not Tested\")","v":30},3,{"$f":"IFERROR(IF(J37=\"N<10\",\"N<10\",VLOOKUP(VALUE($A37),'2012-13 BL Civics'!$A$14:$AG$500,23,FALSE)*100),\"Not Tested\")","v":33},{"$f":"IFERROR(IF(K37=\"N<10\",\"N<10\",VLOOKUP(VALUE($A37),'2013-14 BL Civics'!$A$14:$AG$500,23,FALSE)*100),\"Not Tested\")","v":35},2,{"$f":"IFERROR(IF(N37=\"N<10\",\"N<10\",VLOOKUP(VALUE($A37),'2012-13 BL Civics'!$A$14:$AG$500,29,FALSE)*100),\"Not Tested\")","v":37},{"$f":"IFERROR(IF(O37=\"N<10\",\"N<10\",VLOOKUP(VALUE($A37),'2013-14 BL Civics'!$A$14:$AG$500,29,FALSE)*100),\"Not Tested\")","v":39},2]
["3421",null,{"$f":"VLOOKUP(TEXT(A38,\"0000\"),SchList!$A$2:$C$483,2,FALSE)","v":"M.A. MILAM K-8 CENTER         "},{"$f":"IFERROR(VLOOKUP(TEXT($A38,\"0000\"),'2012 BL Civics Enrollment'!$A$3:$C$500,3,FALSE),0)","v":154},{"$f":"IFERROR(VLOOKUP(TEXT($A38,\"0000\"),'2013 BL Civics Enrollment'!$A$3:$C$500,3,FALSE),\"\")","v":128},{"$f":"IFERROR(IF(VLOOKUP(VALUE(A38),'2012-13 BL Civics'!$A$14:$C$200,3,FALSE)<10,\"N<10\",IF(VLOOKUP(VALUE(A38),'2012-13 BL Civics'!$A$14:$C$200,3,FALSE)>D38,100,VLOOKUP(VALUE(A38),'2012-13 BL Civics'!$A$14:$C$200,3,FALSE)/D38%)),\"Not Tested\")","v":100},{"$f":"IFERROR(IF(VLOOKUP(VALUE(A38),'2013-14 BL Civics'!$A$14:$C$200,3,FALSE)<10,\"N<10\",IF(VLOOKUP(VALUE(A38),'2013-14 BL Civics'!$A$14:$C$200,3,FALSE)>E38,100,VLOOKUP(VALUE(A38),'2013-14 BL Civics'!$A$14:$C$200,3,FALSE)/E38%)),\"Not Tested\")","v":99.21875},{"$f":"IFERROR(IF(F38=\"N<10\",\"N<10\",VLOOKUP(VALUE($A38),'2012-13 BL Civics'!$A$14:$AG$500,5,FALSE)*100),\"Not Tested\")","v":32},{"$f":"IFERROR(IF(G38=\"N<10\",\"N<10\",VLOOKUP(VALUE($A38),'2013-14 BL Civics'!$A$14:$AG$500,5,FALSE)*100),\"Not Tested\")","v":38},6,{"$f":"IFERROR(IF(H38=\"N<10\",\"N<10\",VLOOKUP(VALUE($A38),'2012-13 BL Civics'!$A$14:$AG$500,11,FALSE)*100),\"Not Tested\")","v":42},{"$f":"IFERROR(IF(I38=\"N<10\",\"N<10\",VLOOKUP(VALUE($A38),'2013-14 BL Civics'!$A$14:$AG$500,11,FALSE)*100),\"Not Tested\")","v":39},-3,{"$f":"IFERROR(IF(K38=\"N<10\",\"N<10\",VLOOKUP(VALUE($A38),'2012-13 BL Civics'!$A$14:$AG$500,17,FALSE)*100),\"Not Tested\")","v":26},{"$f":"IFERROR(IF(L38=\"N<10\",\"N<10\",VLOOKUP(VALUE($A38),'2013-14 BL Civics'!$A$14:$AG$500,17,FALSE)*100),\"Not Tested\")","v":34},8,{"$f":"IFERROR(IF(J38=\"N<10\",\"N<10\",VLOOKUP(VALUE($A38),'2012-13 BL Civics'!$A$14:$AG$500,23,FALSE)*100),\"Not Tested\")","v":31},{"$f":"IFERROR(IF(K38=\"N<10\",\"N<10\",VLOOKUP(VALUE($A38),'2013-14 BL Civics'!$A$14:$AG$500,23,FALSE)*100),\"Not Tested\")","v":38},7,{"$f":"IFERROR(IF(N38=\"N<10\",\"N<10\",VLOOKUP(VALUE($A38),'2012-13 BL Civics'!$A$14:$AG$500,29,FALSE)*100),\"Not Tested\")","v":35},{"$f":"IFERROR(IF(O38=\"N<10\",\"N<10\",VLOOKUP(VALUE($A38),'2013-14 BL Civics'!$A$14:$AG$500,29,FALSE)*100),\"Not Tested\")","v":45},10]
["3501",null,{"$f":"VLOOKUP(TEXT(A39,\"0000\"),SchList!$A$2:$C$483,2,FALSE)","v":"MORNINGSIDE ELEMENTARY        "},{"$f":"IFERROR(VLOOKUP(TEXT($A39,\"0000\"),'2012 BL Civics Enrollment'!$A$3:$C$500,3,FALSE),0)","v":0},{"$f":"IFERROR(VLOOKUP(TEXT($A39,\"0000\"),'2013 BL Civics Enrollment'!$A$3:$C$500,3,FALSE),\"\")","v":23},{"$f":"IFERROR(IF(VLOOKUP(VALUE(A39),'2012-13 BL Civics'!$A$14:$C$200,3,FALSE)<10,\"N<10\",IF(VLOOKUP(VALUE(A39),'2012-13 BL Civics'!$A$14:$C$200,3,FALSE)>D39,100,VLOOKUP(VALUE(A39),'2012-13 BL Civics'!$A$14:$C$200,3,FALSE)/D39%)),\"Not Tested\")","v":"Not Tested"},{"$f":"IFERROR(IF(VLOOKUP(VALUE(A39),'2013-14 BL Civics'!$A$14:$C$200,3,FALSE)<10,\"N<10\",IF(VLOOKUP(VALUE(A39),'2013-14 BL Civics'!$A$14:$C$200,3,FALSE)>E39,100,VLOOKUP(VALUE(A39),'2013-14 BL Civics'!$A$14:$C$200,3,FALSE)/E39%)),\"Not Tested\")","v":95.65217391304347},{"$f":"IFERROR(IF(F39=\"N<10\",\"N<10\",VLOOKUP(VALUE($A39),'2012-13 BL Civics'!$A$14:$AG$500,5,FALSE)*100),\"Not Tested\")","v":"Not Tested"},{"$f":"IFERROR(IF(G39=\"N<10\",\"N<10\",VLOOKUP(VALUE($A39),'2013-14 BL Civics'!$A$14:$AG$500,5,FALSE)*100),\"Not Tested\")","v":30},"",{"$f":"IFERROR(IF(H39=\"N<10\",\"N<10\",VLOOKUP(VALUE($A39),'2012-13 BL Civics'!$A$14:$AG$500,11,FALSE)*100),\"Not Tested\")","v":"Not Tested"},{"$f":"IFERROR(IF(I39=\"N<10\",\"N<10\",VLOOKUP(VALUE($A39),'2013-14 BL Civics'!$A$14:$AG$500,11,FALSE)*100),\"Not Tested\")","v":34},"",{"$f":"IFERROR(IF(K39=\"N<10\",\"N<10\",VLOOKUP(VALUE($A39),'2012-13 BL Civics'!$A$14:$AG$500,17,FALSE)*100),\"Not Tested\")","v":"Not Tested"},{"$f":"IFERROR(IF(L39=\"N<10\",\"N<10\",VLOOKUP(VALUE($A39),'2013-14 BL Civics'!$A$14:$AG$500,17,FALSE)*100),\"Not Tested\")","v":26},"",{"$f":"IFERROR(IF(J39=\"N<10\",\"N<10\",VLOOKUP(VALUE($A39),'2012-13 BL Civics'!$A$14:$AG$500,23,FALSE)*100),\"Not Tested\")","v":"Not Tested"},{"$f":"IFERROR(IF(K39=\"N<10\",\"N<10\",VLOOKUP(VALUE($A39),'2013-14 BL Civics'!$A$14:$AG$500,23,FALSE)*100),\"Not Tested\")","v":27},"",{"$f":"IFERROR(IF(N39=\"N<10\",\"N<10\",VLOOKUP(VALUE($A39),'2012-13 BL Civics'!$A$14:$AG$500,29,FALSE)*100),\"Not Tested\")","v":"Not Tested"},{"$f":"IFERROR(IF(O39=\"N<10\",\"N<10\",VLOOKUP(VALUE($A39),'2013-14 BL Civics'!$A$14:$AG$500,29,FALSE)*100),\"Not Tested\")","v":38},""]
["3581",null,{"$f":"VLOOKUP(TEXT(A40,\"0000\"),SchList!$A$2:$C$483,2,FALSE)","v":"MYRTLE GROVE ELEMENTARY       "},{"$f":"IFERROR(VLOOKUP(TEXT($A40,\"0000\"),'2012 BL Civics Enrollment'!$A$3:$C$500,3,FALSE),0)","v":0},{"$f":"IFERROR(VLOOKUP(TEXT($A40,\"0000\"),'2013 BL Civics Enrollment'!$A$3:$C$500,3,FALSE),\"\")","v":41},{"$f":"IFERROR(IF(VLOOKUP(VALUE(A40),'2012-13 BL Civics'!$A$14:$C$200,3,FALSE)<10,\"N<10\",IF(VLOOKUP(VALUE(A40),'2012-13 BL Civics'!$A$14:$C$200,3,FALSE)>D40,100,VLOOKUP(VALUE(A40),'2012-13 BL Civics'!$A$14:$C$200,3,FALSE)/D40%)),\"Not Tested\")","v":"Not Tested"},{"$f":"IFERROR(IF(VLOOKUP(VALUE(A40),'2013-14 BL Civics'!$A$14:$C$200,3,FALSE)<10,\"N<10\",IF(VLOOKUP(VALUE(A40),'2013-14 BL Civics'!$A$14:$C$200,3,FALSE)>E40,100,VLOOKUP(VALUE(A40),'2013-14 BL Civics'!$A$14:$C$200,3,FALSE)/E40%)),\"Not Tested\")","v":92.682926829268297},{"$f":"IFERROR(IF(F40=\"N<10\",\"N<10\",VLOOKUP(VALUE($A40),'2012-13 BL Civics'!$A$14:$AG$500,5,FALSE)*100),\"Not Tested\")","v":"Not Tested"},{"$f":"IFERROR(IF(G40=\"N<10\",\"N<10\",VLOOKUP(VALUE($A40),'2013-14 BL Civics'!$A$14:$AG$500,5,FALSE)*100),\"Not Tested\")","v":35},"",{"$f":"IFERROR(IF(H40=\"N<10\",\"N<10\",VLOOKUP(VALUE($A40),'2012-13 BL Civics'!$A$14:$AG$500,11,FALSE)*100),\"Not Tested\")","v":"Not Tested"},{"$f":"IFERROR(IF(I40=\"N<10\",\"N<10\",VLOOKUP(VALUE($A40),'2013-14 BL Civics'!$A$14:$AG$500,11,FALSE)*100),\"Not Tested\")","v":34},"",{"$f":"IFERROR(IF(K40=\"N<10\",\"N<10\",VLOOKUP(VALUE($A40),'2012-13 BL Civics'!$A$14:$AG$500,17,FALSE)*100),\"Not Tested\")","v":"Not Tested"},{"$f":"IFERROR(IF(L40=\"N<10\",\"N<10\",VLOOKUP(VALUE($A40),'2013-14 BL Civics'!$A$14:$AG$500,17,FALSE)*100),\"Not Tested\")","v":34},"",{"$f":"IFERROR(IF(J40=\"N<10\",\"N<10\",VLOOKUP(VALUE($A40),'2012-13 BL Civics'!$A$14:$AG$500,23,FALSE)*100),\"Not Tested\")","v":"Not Tested"},{"$f":"IFERROR(IF(K40=\"N<10\",\"N<10\",VLOOKUP(VALUE($A40),'2013-14 BL Civics'!$A$14:$AG$500,23,FALSE)*100),\"Not Tested\")","v":32},"",{"$f":"IFERROR(IF(N40=\"N<10\",\"N<10\",VLOOKUP(VALUE($A40),'2012-13 BL Civics'!$A$14:$AG$500,29,FALSE)*100),\"Not Tested\")","v":"Not Tested"},{"$f":"IFERROR(IF(O40=\"N<10\",\"N<10\",VLOOKUP(VALUE($A40),'2013-14 BL Civics'!$A$14:$AG$500,29,FALSE)*100),\"Not Tested\")","v":43},""]
["3610",null,{"$f":"VLOOKUP(TEXT(A41,\"0000\"),SchList!$A$2:$C$483,2,FALSE)","v":"KEYS GATE CHARTER SCHOOL      "},{"$f":"IFERROR(VLOOKUP(TEXT($A41,\"0000\"),'2012 BL Civics Enrollment'!$A$3:$C$500,3,FALSE),0)","v":290},{"$f":"IFERROR(VLOOKUP(TEXT($A41,\"0000\"),'2013 BL Civics Enrollment'!$A$3:$C$500,3,FALSE),\"\")","v":262},{"$f":"IFERROR(IF(VLOOKUP(VALUE(A41),'2012-13 BL Civics'!$A$14:$C$200,3,FALSE)<10,\"N<10\",IF(VLOOKUP(VALUE(A41),'2012-13 BL Civics'!$A$14:$C$200,3,FALSE)>D41,100,VLOOKUP(VALUE(A41),'2012-13 BL Civics'!$A$14:$C$200,3,FALSE)/D41%)),\"Not Tested\")","v":87.241379310344826},{"$f":"IFERROR(IF(VLOOKUP(VALUE(A41),'2013-14 BL Civics'!$A$14:$C$200,3,FALSE)<10,\"N<10\",IF(VLOOKUP(VALUE(A41),'2013-14 BL Civics'!$A$14:$C$200,3,FALSE)>E41,100,VLOOKUP(VALUE(A41),'2013-14 BL Civics'!$A$14:$C$200,3,FALSE)/E41%)),\"Not Tested\")","v":"N<10"},{"$f":"IFERROR(IF(F41=\"N<10\",\"N<10\",VLOOKUP(VALUE($A41),'2012-13 BL Civics'!$A$14:$AG$500,5,FALSE)*100),\"Not Tested\")","v":34},{"$f":"IFERROR(IF(G41=\"N<10\",\"N<10\",VLOOKUP(VALUE($A41),'2013-14 BL Civics'!$A$14:$AG$500,5,FALSE)*100),\"Not Tested\")","v":"N<10"},"",{"$f":"IFERROR(IF(H41=\"N<10\",\"N<10\",VLOOKUP(VALUE($A41),'2012-13 BL Civics'!$A$14:$AG$500,11,FALSE)*100),\"Not Tested\")","v":41},{"$f":"IFERROR(IF(I41=\"N<10\",\"N<10\",VLOOKUP(VALUE($A41),'2013-14 BL Civics'!$A$14:$AG$500,11,FALSE)*100),\"Not Tested\")","v":"N<10"},"",{"$f":"IFERROR(IF(K41=\"N<10\",\"N<10\",VLOOKUP(VALUE($A41),'2012-13 BL Civics'!$A$14:$AG$500,17,FALSE)*100),\"Not Tested\")","v":27},{"$f":"IFERROR(IF(L41=\"N<10\",\"N<10\",VLOOKUP(VALUE($A41),'2013-14 BL Civics'!$A$14:$AG$500,17,FALSE)*100),\"Not Tested\")","v":"N<10"},"",{"$f":"IFERROR(IF(J41=\"N<10\",\"N<10\",VLOOKUP(VALUE($A41),'2012-13 BL Civics'!$A$14:$AG$500,23,FALSE)*100),\"Not Tested\")","v":34},{"$f":"IFERROR(IF(K41=\"N<10\",\"N<10\",VLOOKUP(VALUE($A41),'2013-14 BL Civics'!$A$14:$AG$500,23,FALSE)*100),\"Not Tested\")","v":64},30,{"$f":"IFERROR(IF(N41=\"N<10\",\"N<10\",VLOOKUP(VALUE($A41),'2012-13 BL Civics'!$A$14:$AG$500,29,FALSE)*100),\"Not Tested\")","v":36},{"$f":"IFERROR(IF(O41=\"N<10\",\"N<10\",VLOOKUP(VALUE($A41),'2013-14 BL Civics'!$A$14:$AG$500,29,FALSE)*100),\"Not Tested\")","v":"N<10"},""]
["3621",null,{"$f":"VLOOKUP(TEXT(A42,\"0000\"),SchList!$A$2:$C$483,2,FALSE)","v":"COCONUT PALM K-8 ACADEMY      "},{"$f":"IFERROR(VLOOKUP(TEXT($A42,\"0000\"),'2012 BL Civics Enrollment'!$A$3:$C$500,3,FALSE),0)","v":117},{"$f":"IFERROR(VLOOKUP(TEXT($A42,\"0000\"),'2013 BL Civics Enrollment'!$A$3:$C$500,3,FALSE),\"\")","v":121},{"$f":"IFERROR(IF(VLOOKUP(VALUE(A42),'2012-13 BL Civics'!$A$14:$C$200,3,FALSE)<10,\"N<10\",IF(VLOOKUP(VALUE(A42),'2012-13 BL Civics'!$A$14:$C$200,3,FALSE)>D42,100,VLOOKUP(VALUE(A42),'2012-13 BL Civics'!$A$14:$C$200,3,FALSE)/D42%)),\"Not Tested\")","v":62.393162393162399},{"$f":"IFERROR(IF(VLOOKUP(VALUE(A42),'2013-14 BL Civics'!$A$14:$C$200,3,FALSE)<10,\"N<10\",IF(VLOOKUP(VALUE(A42),'2013-14 BL Civics'!$A$14:$C$200,3,FALSE)>E42,100,VLOOKUP(VALUE(A42),'2013-14 BL Civics'!$A$14:$C$200,3,FALSE)/E42%)),\"Not Tested\")","v":90.082644628099175},{"$f":"IFERROR(IF(F42=\"N<10\",\"N<10\",VLOOKUP(VALUE($A42),'2012-13 BL Civics'!$A$14:$AG$500,5,FALSE)*100),\"Not Tested\")","v":34},{"$f":"IFERROR(IF(G42=\"N<10\",\"N<10\",VLOOKUP(VALUE($A42),'2013-14 BL Civics'!$A$14:$AG$500,5,FALSE)*100),\"Not Tested\")","v":33},-1,{"$f":"IFERROR(IF(H42=\"N<10\",\"N<10\",VLOOKUP(VALUE($A42),'2012-13 BL Civics'!$A$14:$AG$500,11,FALSE)*100),\"Not Tested\")","v":37},{"$f":"IFERROR(IF(I42=\"N<10\",\"N<10\",VLOOKUP(VALUE($A42),'2013-14 BL Civics'!$A$14:$AG$500,11,FALSE)*100),\"Not Tested\")","v":32},-5,{"$f":"IFERROR(IF(K42=\"N<10\",\"N<10\",VLOOKUP(VALUE($A42),'2012-13 BL Civics'!$A$14:$AG$500,17,FALSE)*100),\"Not Tested\")","v":28.999999999999996},{"$f":"IFERROR(IF(L42=\"N<10\",\"N<10\",VLOOKUP(VALUE($A42),'2013-14 BL Civics'!$A$14:$AG$500,17,FALSE)*100),\"Not Tested\")","v":28.999999999999996},0,{"$f":"IFERROR(IF(J42=\"N<10\",\"N<10\",VLOOKUP(VALUE($A42),'2012-13 BL Civics'!$A$14:$AG$500,23,FALSE)*100),\"Not Tested\")","v":34},{"$f":"IFERROR(IF(K42=\"N<10\",\"N<10\",VLOOKUP(VALUE($A42),'2013-14 BL Civics'!$A$14:$AG$500,23,FALSE)*100),\"Not Tested\")","v":32},-2,{"$f":"IFERROR(IF(N42=\"N<10\",\"N<10\",VLOOKUP(VALUE($A42),'2012-13 BL Civics'!$A$14:$AG$500,29,FALSE)*100),\"Not Tested\")","v":39},{"$f":"IFERROR(IF(O42=\"N<10\",\"N<10\",VLOOKUP(VALUE($A42),'2013-14 BL Civics'!$A$14:$AG$500,29,FALSE)*100),\"Not Tested\")","v":39},0]
["3821",null,{"$f":"VLOOKUP(TEXT(A43,\"0000\"),SchList!$A$2:$C$483,2,FALSE)","v":"NORTH COUNTY K-8 CENTER       "},{"$f":"IFERROR(VLOOKUP(TEXT($A43,\"0000\"),'2012 BL Civics Enrollment'!$A$3:$C$500,3,FALSE),0)","v":37},{"$f":"IFERROR(VLOOKUP(TEXT($A43,\"0000\"),'2013 BL Civics Enrollment'!$A$3:$C$500,3,FALSE),\"\")","v":36},{"$f":"IFERROR(IF(VLOOKUP(VALUE(A43),'2012-13 BL Civics'!$A$14:$C$200,3,FALSE)<10,\"N<10\",IF(VLOOKUP(VALUE(A43),'2012-13 BL Civics'!$A$14:$C$200,3,FALSE)>D43,100,VLOOKUP(VALUE(A43),'2012-13 BL Civics'!$A$14:$C$200,3,FALSE)/D43%)),\"Not Tested\")","v":97.297297297297305},{"$f":"IFERROR(IF(VLOOKUP(VALUE(A43),'2013-14 BL Civics'!$A$14:$C$200,3,FALSE)<10,\"N<10\",IF(VLOOKUP(VALUE(A43),'2013-14 BL Civics'!$A$14:$C$200,3,FALSE)>E43,100,VLOOKUP(VALUE(A43),'2013-14 BL Civics'!$A$14:$C$200,3,FALSE)/E43%)),\"Not Tested\")","v":97.222222222222229},{"$f":"IFERROR(IF(F43=\"N<10\",\"N<10\",VLOOKUP(VALUE($A43),'2012-13 BL Civics'!$A$14:$AG$500,5,FALSE)*100),\"Not Tested\")","v":33},{"$f":"IFERROR(IF(G43=\"N<10\",\"N<10\",VLOOKUP(VALUE($A43),'2013-14 BL Civics'!$A$14:$AG$500,5,FALSE)*100),\"Not Tested\")","v":34},1,{"$f":"IFERROR(IF(H43=\"N<10\",\"N<10\",VLOOKUP(VALUE($A43),'2012-13 BL Civics'!$A$14:$AG$500,11,FALSE)*100),\"Not Tested\")","v":39},{"$f":"IFERROR(IF(I43=\"N<10\",\"N<10\",VLOOKUP(VALUE($A43),'2013-14 BL Civics'!$A$14:$AG$500,11,FALSE)*100),\"Not Tested\")","v":36},-3,{"$f":"IFERROR(IF(K43=\"N<10\",\"N<10\",VLOOKUP(VALUE($A43),'2012-13 BL Civics'!$A$14:$AG$500,17,FALSE)*100),\"Not Tested\")","v":28.000000000000004},{"$f":"IFERROR(IF(L43=\"N<10\",\"N<10\",VLOOKUP(VALUE($A43),'2013-14 BL Civics'!$A$14:$AG$500,17,FALSE)*100),\"Not Tested\")","v":32},3.9999999999999964,{"$f":"IFERROR(IF(J43=\"N<10\",\"N<10\",VLOOKUP(VALUE($A43),'2012-13 BL Civics'!$A$14:$AG$500,23,FALSE)*100),\"Not Tested\")","v":33},{"$f":"IFERROR(IF(K43=\"N<10\",\"N<10\",VLOOKUP(VALUE($A43),'2013-14 BL Civics'!$A$14:$AG$500,23,FALSE)*100),\"Not Tested\")","v":30},-3,{"$f":"IFERROR(IF(N43=\"N<10\",\"N<10\",VLOOKUP(VALUE($A43),'2012-13 BL Civics'!$A$14:$AG$500,29,FALSE)*100),\"Not Tested\")","v":35},{"$f":"IFERROR(IF(O43=\"N<10\",\"N<10\",VLOOKUP(VALUE($A43),'2013-14 BL Civics'!$A$14:$AG$500,29,FALSE)*100),\"Not Tested\")","v":40},5]
["4031",null,{"$f":"VLOOKUP(TEXT(A44,\"0000\"),SchList!$A$2:$C$483,2,FALSE)","v":"GATEWAY ENVIRONMENTAL K-8     "},{"$f":"IFERROR(VLOOKUP(TEXT($A44,\"0000\"),'2012 BL Civics Enrollment'!$A$3:$C$500,3,FALSE),0)","v":131},{"$f":"IFERROR(VLOOKUP(TEXT($A44,\"0000\"),'2013 BL Civics Enrollment'!$A$3:$C$500,3,FALSE),\"\")","v":152},{"$f":"IFERROR(IF(VLOOKUP(VALUE(A44),'2012-13 BL Civics'!$A$14:$C$200,3,FALSE)<10,\"N<10\",IF(VLOOKUP(VALUE(A44),'2012-13 BL Civics'!$A$14:$C$200,3,FALSE)>D44,100,VLOOKUP(VALUE(A44),'2012-13 BL Civics'!$A$14:$C$200,3,FALSE)/D44%)),\"Not Tested\")","v":98.473282442748086},{"$f":"IFERROR(IF(VLOOKUP(VALUE(A44),'2013-14 BL Civics'!$A$14:$C$200,3,FALSE)<10,\"N<10\",IF(VLOOKUP(VALUE(A44),'2013-14 BL Civics'!$A$14:$C$200,3,FALSE)>E44,100,VLOOKUP(VALUE(A44),'2013-14 BL Civics'!$A$14:$C$200,3,FALSE)/E44%)),\"Not Tested\")","v":85.526315789473685},{"$f":"IFERROR(IF(F44=\"N<10\",\"N<10\",VLOOKUP(VALUE($A44),'2012-13 BL Civics'!$A$14:$AG$500,5,FALSE)*100),\"Not Tested\")","v":32},{"$f":"IFERROR(IF(G44=\"N<10\",\"N<10\",VLOOKUP(VALUE($A44),'2013-14 BL Civics'!$A$14:$AG$500,5,FALSE)*100),\"Not Tested\")","v":35},3,{"$f":"IFERROR(IF(H44=\"N<10\",\"N<10\",VLOOKUP(VALUE($A44),'2012-13 BL Civics'!$A$14:$AG$500,11,FALSE)*100),\"Not Tested\")","v":39},{"$f":"IFERROR(IF(I44=\"N<10\",\"N<10\",VLOOKUP(VALUE($A44),'2013-14 BL Civics'!$A$14:$AG$500,11,FALSE)*100),\"Not Tested\")","v":36},-3,{"$f":"IFERROR(IF(K44=\"N<10\",\"N<10\",VLOOKUP(VALUE($A44),'2012-13 BL Civics'!$A$14:$AG$500,17,FALSE)*100),\"Not Tested\")","v":25},{"$f":"IFERROR(IF(L44=\"N<10\",\"N<10\",VLOOKUP(VALUE($A44),'2013-14 BL Civics'!$A$14:$AG$500,17,FALSE)*100),\"Not Tested\")","v":31},6,{"$f":"IFERROR(IF(J44=\"N<10\",\"N<10\",VLOOKUP(VALUE($A44),'2012-13 BL Civics'!$A$14:$AG$500,23,FALSE)*100),\"Not Tested\")","v":32},{"$f":"IFERROR(IF(K44=\"N<10\",\"N<10\",VLOOKUP(VALUE($A44),'2013-14 BL Civics'!$A$14:$AG$500,23,FALSE)*100),\"Not Tested\")","v":33},1,{"$f":"IFERROR(IF(N44=\"N<10\",\"N<10\",VLOOKUP(VALUE($A44),'2012-13 BL Civics'!$A$14:$AG$500,29,FALSE)*100),\"Not Tested\")","v":36},{"$f":"IFERROR(IF(O44=\"N<10\",\"N<10\",VLOOKUP(VALUE($A44),'2013-14 BL Civics'!$A$14:$AG$500,29,FALSE)*100),\"Not Tested\")","v":41},5]
["4391",null,{"$f":"VLOOKUP(TEXT(A45,\"0000\"),SchList!$A$2:$C$483,2,FALSE)","v":"IRVING & BEATRICE PESKOE K-8  "},{"$f":"IFERROR(VLOOKUP(TEXT($A45,\"0000\"),'2012 BL Civics Enrollment'!$A$3:$C$500,3,FALSE),0)","v":40},{"$f":"IFERROR(VLOOKUP(TEXT($A45,\"0000\"),'2013 BL Civics Enrollment'!$A$3:$C$500,3,FALSE),\"\")","v":61},{"$f":"IFERROR(IF(VLOOKUP(VALUE(A45),'2012-13 BL Civics'!$A$14:$C$200,3,FALSE)<10,\"N<10\",IF(VLOOKUP(VALUE(A45),'2012-13 BL Civics'!$A$14:$C$200,3,FALSE)>D45,100,VLOOKUP(VALUE(A45),'2012-13 BL Civics'!$A$14:$C$200,3,FALSE)/D45%)),\"Not Tested\")","v":100},{"$f":"IFERROR(IF(VLOOKUP(VALUE(A45),'2013-14 BL Civics'!$A$14:$C$200,3,FALSE)<10,\"N<10\",IF(VLOOKUP(VALUE(A45),'2013-14 BL Civics'!$A$14:$C$200,3,FALSE)>E45,100,VLOOKUP(VALUE(A45),'2013-14 BL Civics'!$A$14:$C$200,3,FALSE)/E45%)),\"Not Tested\")","v":98.360655737704917},{"$f":"IFERROR(IF(F45=\"N<10\",\"N<10\",VLOOKUP(VALUE($A45),'2012-13 BL Civics'!$A$14:$AG$500,5,FALSE)*100),\"Not Tested\")","v":30},{"$f":"IFERROR(IF(G45=\"N<10\",\"N<10\",VLOOKUP(VALUE($A45),'2013-14 BL Civics'!$A$14:$AG$500,5,FALSE)*100),\"Not Tested\")","v":32},2,{"$f":"IFERROR(IF(H45=\"N<10\",\"N<10\",VLOOKUP(VALUE($A45),'2012-13 BL Civics'!$A$14:$AG$500,11,FALSE)*100),\"Not Tested\")","v":36},{"$f":"IFERROR(IF(I45=\"N<10\",\"N<10\",VLOOKUP(VALUE($A45),'2013-14 BL Civics'!$A$14:$AG$500,11,FALSE)*100),\"Not Tested\")","v":34},-2,{"$f":"IFERROR(IF(K45=\"N<10\",\"N<10\",VLOOKUP(VALUE($A45),'2012-13 BL Civics'!$A$14:$AG$500,17,FALSE)*100),\"Not Tested\")","v":28.000000000000004},{"$f":"IFERROR(IF(L45=\"N<10\",\"N<10\",VLOOKUP(VALUE($A45),'2013-14 BL Civics'!$A$14:$AG$500,17,FALSE)*100),\"Not Tested\")","v":30},1.9999999999999964,{"$f":"IFERROR(IF(J45=\"N<10\",\"N<10\",VLOOKUP(VALUE($A45),'2012-13 BL Civics'!$A$14:$AG$500,23,FALSE)*100),\"Not Tested\")","v":27},{"$f":"IFERROR(IF(K45=\"N<10\",\"N<10\",VLOOKUP(VALUE($A45),'2013-14 BL Civics'!$A$14:$AG$500,23,FALSE)*100),\"Not Tested\")","v":30},3,{"$f":"IFERROR(IF(N45=\"N<10\",\"N<10\",VLOOKUP(VALUE($A45),'2012-13 BL Civics'!$A$14:$AG$500,29,FALSE)*100),\"Not Tested\")","v":33},{"$f":"IFERROR(IF(O45=\"N<10\",\"N<10\",VLOOKUP(VALUE($A45),'2013-14 BL Civics'!$A$14:$AG$500,29,FALSE)*100),\"Not Tested\")","v":36},3]
["4691",null,{"$f":"VLOOKUP(TEXT(A46,\"0000\"),SchList!$A$2:$C$483,2,FALSE)","v":"JANE ROBERTS K-8 CENTER       "},{"$f":"IFERROR(VLOOKUP(TEXT($A46,\"0000\"),'2012 BL Civics Enrollment'!$A$3:$C$500,3,FALSE),0)","v":121},{"$f":"IFERROR(VLOOKUP(TEXT($A46,\"0000\"),'2013 BL Civics Enrollment'!$A$3:$C$500,3,FALSE),\"\")","v":83},{"$f":"IFERROR(IF(VLOOKUP(VALUE(A46),'2012-13 BL Civics'!$A$14:$C$200,3,FALSE)<10,\"N<10\",IF(VLOOKUP(VALUE(A46),'2012-13 BL Civics'!$A$14:$C$200,3,FALSE)>D46,100,VLOOKUP(VALUE(A46),'2012-13 BL Civics'!$A$14:$C$200,3,FALSE)/D46%)),\"Not Tested\")","v":"N<10"},{"$f":"IFERROR(IF(VLOOKUP(VALUE(A46),'2013-14 BL Civics'!$A$14:$C$200,3,FALSE)<10,\"N<10\",IF(VLOOKUP(VALUE(A46),'2013-14 BL Civics'!$A$14:$C$200,3,FALSE)>E46,100,VLOOKUP(VALUE(A46),'2013-14 BL Civics'!$A$14:$C$200,3,FALSE)/E46%)),\"Not Tested\")","v":89.156626506024097},{"$f":"IFERROR(IF(F46=\"N<10\",\"N<10\",VLOOKUP(VALUE($A46),'2012-13 BL Civics'!$A$14:$AG$500,5,FALSE)*100),\"Not Tested\")","v":"N<10"},{"$f":"IFERROR(IF(G46=\"N<10\",\"N<10\",VLOOKUP(VALUE($A46),'2013-14 BL Civics'!$A$14:$AG$500,5,FALSE)*100),\"Not Tested\")","v":38},"",{"$f":"IFERROR(IF(H46=\"N<10\",\"N<10\",VLOOKUP(VALUE($A46),'2012-13 BL Civics'!$A$14:$AG$500,11,FALSE)*100),\"Not Tested\")","v":"N<10"},{"$f":"IFERROR(IF(I46=\"N<10\",\"N<10\",VLOOKUP(VALUE($A46),'2013-14 BL Civics'!$A$14:$AG$500,11,FALSE)*100),\"Not Tested\")","v":40},"",{"$f":"IFERROR(IF(K46=\"N<10\",\"N<10\",VLOOKUP(VALUE($A46),'2012-13 BL Civics'!$A$14:$AG$500,17,FALSE)*100),\"Not Tested\")","v":"N<10"},{"$f":"IFERROR(IF(L46=\"N<10\",\"N<10\",VLOOKUP(VALUE($A46),'2013-14 BL Civics'!$A$14:$AG$500,17,FALSE)*100),\"Not Tested\")","v":31},"",{"$f":"IFERROR(IF(J46=\"N<10\",\"N<10\",VLOOKUP(VALUE($A46),'2012-13 BL Civics'!$A$14:$AG$500,23,FALSE)*100),\"Not Tested\")","v":36},{"$f":"IFERROR(IF(K46=\"N<10\",\"N<10\",VLOOKUP(VALUE($A46),'2013-14 BL Civics'!$A$14:$AG$500,23,FALSE)*100),\"Not Tested\")","v":"N<10"},"",{"$f":"IFERROR(IF(N46=\"N<10\",\"N<10\",VLOOKUP(VALUE($A46),'2012-13 BL Civics'!$A$14:$AG$500,29,FALSE)*100),\"Not Tested\")","v":"N<10"},{"$f":"IFERROR(IF(O46=\"N<10\",\"N<10\",VLOOKUP(VALUE($A46),'2013-14 BL Civics'!$A$14:$AG$500,29,FALSE)*100),\"Not Tested\")","v":42},""]
["5003",null,{"$f":"VLOOKUP(TEXT(A47,\"0000\"),SchList!$A$2:$C$483,2,FALSE)","v":"SOUTH DADE MIDDLE SCHOOL      "},{"$f":"IFERROR(VLOOKUP(TEXT($A47,\"0000\"),'2012 BL Civics Enrollment'!$A$3:$C$500,3,FALSE),0)","v":270},{"$f":"IFERROR(VLOOKUP(TEXT($A47,\"0000\"),'2013 BL Civics Enrollment'!$A$3:$C$500,3,FALSE),\"\")","v":257},{"$f":"IFERROR(IF(VLOOKUP(VALUE(A47),'2012-13 BL Civics'!$A$14:$C$200,3,FALSE)<10,\"N<10\",IF(VLOOKUP(VALUE(A47),'2012-13 BL Civics'!$A$14:$C$200,3,FALSE)>D47,100,VLOOKUP(VALUE(A47),'2012-13 BL Civics'!$A$14:$C$200,3,FALSE)/D47%)),\"Not Tested\")","v":62.592592592592588},{"$f":"IFERROR(IF(VLOOKUP(VALUE(A47),'2013-14 BL Civics'!$A$14:$C$200,3,FALSE)<10,\"N<10\",IF(VLOOKUP(VALUE(A47),'2013-14 BL Civics'!$A$14:$C$200,3,FALSE)>E47,100,VLOOKUP(VALUE(A47),'2013-14 BL Civics'!$A$14:$C$200,3,FALSE)/E47%)),\"Not Tested\")","v":93.38521400778211},{"$f":"IFERROR(IF(F47=\"N<10\",\"N<10\",VLOOKUP(VALUE($A47),'2012-13 BL Civics'!$A$14:$AG$500,5,FALSE)*100),\"Not Tested\")","v":32},{"$f":"IFERROR(IF(G47=\"N<10\",\"N<10\",VLOOKUP(VALUE($A47),'2013-14 BL Civics'!$A$14:$AG$500,5,FALSE)*100),\"Not Tested\")","v":33},1,{"$f":"IFERROR(IF(H47=\"N<10\",\"N<10\",VLOOKUP(VALUE($A47),'2012-13 BL Civics'!$A$14:$AG$500,11,FALSE)*100),\"Not Tested\")","v":39},{"$f":"IFERROR(IF(I47=\"N<10\",\"N<10\",VLOOKUP(VALUE($A47),'2013-14 BL Civics'!$A$14:$AG$500,11,FALSE)*100),\"Not Tested\")","v":34},-5,{"$f":"IFERROR(IF(K47=\"N<10\",\"N<10\",VLOOKUP(VALUE($A47),'2012-13 BL Civics'!$A$14:$AG$500,17,FALSE)*100),\"Not Tested\")","v":27},{"$f":"IFERROR(IF(L47=\"N<10\",\"N<10\",VLOOKUP(VALUE($A47),'2013-14 BL Civics'!$A$14:$AG$500,17,FALSE)*100),\"Not Tested\")","v":30},3,{"$f":"IFERROR(IF(J47=\"N<10\",\"N<10\",VLOOKUP(VALUE($A47),'2012-13 BL Civics'!$A$14:$AG$500,23,FALSE)*100),\"Not Tested\")","v":30},{"$f":"IFERROR(IF(K47=\"N<10\",\"N<10\",VLOOKUP(VALUE($A47),'2013-14 BL Civics'!$A$14:$AG$500,23,FALSE)*100),\"Not Tested\")","v":31},1,{"$f":"IFERROR(IF(N47=\"N<10\",\"N<10\",VLOOKUP(VALUE($A47),'2012-13 BL Civics'!$A$14:$AG$500,29,FALSE)*100),\"Not Tested\")","v":32},{"$f":"IFERROR(IF(O47=\"N<10\",\"N<10\",VLOOKUP(VALUE($A47),'2013-14 BL Civics'!$A$14:$AG$500,29,FALSE)*100),\"Not Tested\")","v":40},8]
["5005",null,{"$f":"VLOOKUP(TEXT(A48,\"0000\"),SchList!$A$2:$C$483,2,FALSE)","v":"DAVID LAWRENCE JR K-8 CENTER  "},{"$f":"IFERROR(VLOOKUP(TEXT($A48,\"0000\"),'2012 BL Civics Enrollment'!$A$3:$C$500,3,FALSE),0)","v":195},{"$f":"IFERROR(VLOOKUP(TEXT($A48,\"0000\"),'2013 BL Civics Enrollment'!$A$3:$C$500,3,FALSE),\"\")","v":195},{"$f":"IFERROR(IF(VLOOKUP(VALUE(A48),'2012-13 BL Civics'!$A$14:$C$200,3,FALSE)<10,\"N<10\",IF(VLOOKUP(VALUE(A48),'2012-13 BL Civics'!$A$14:$C$200,3,FALSE)>D48,100,VLOOKUP(VALUE(A48),'2012-13 BL Civics'!$A$14:$C$200,3,FALSE)/D48%)),\"Not Tested\")","v":86.666666666666671},{"$f":"IFERROR(IF(VLOOKUP(VALUE(A48),'2013-14 BL Civics'!$A$14:$C$200,3,FALSE)<10,\"N<10\",IF(VLOOKUP(VALUE(A48),'2013-14 BL Civics'!$A$14:$C$200,3,FALSE)>E48,100,VLOOKUP(VALUE(A48),'2013-14 BL Civics'!$A$14:$C$200,3,FALSE)/E48%)),\"Not Tested\")","v":94.358974358974365},{"$f":"IFERROR(IF(F48=\"N<10\",\"N<10\",VLOOKUP(VALUE($A48),'2012-13 BL Civics'!$A$14:$AG$500,5,FALSE)*100),\"Not Tested\")","v":35},{"$f":"IFERROR(IF(G48=\"N<10\",\"N<10\",VLOOKUP(VALUE($A48),'2013-14 BL Civics'!$A$14:$AG$500,5,FALSE)*100),\"Not Tested\")","v":35},0,{"$f":"IFERROR(IF(H48=\"N<10\",\"N<10\",VLOOKUP(VALUE($A48),'2012-13 BL Civics'!$A$14:$AG$500,11,FALSE)*100),\"Not Tested\")","v":43},{"$f":"IFERROR(IF(I48=\"N<10\",\"N<10\",VLOOKUP(VALUE($A48),'2013-14 BL Civics'!$A$14:$AG$500,11,FALSE)*100),\"Not Tested\")","v":37},-6,{"$f":"IFERROR(IF(K48=\"N<10\",\"N<10\",VLOOKUP(VALUE($A48),'2012-13 BL Civics'!$A$14:$AG$500,17,FALSE)*100),\"Not Tested\")","v":27},{"$f":"IFERROR(IF(L48=\"N<10\",\"N<10\",VLOOKUP(VALUE($A48),'2013-14 BL Civics'!$A$14:$AG$500,17,FALSE)*100),\"Not Tested\")","v":31},4,{"$f":"IFERROR(IF(J48=\"N<10\",\"N<10\",VLOOKUP(VALUE($A48),'2012-13 BL Civics'!$A$14:$AG$500,23,FALSE)*100),\"Not Tested\")","v":34},{"$f":"IFERROR(IF(K48=\"N<10\",\"N<10\",VLOOKUP(VALUE($A48),'2013-14 BL Civics'!$A$14:$AG$500,23,FALSE)*100),\"Not Tested\")","v":34},0,{"$f":"IFERROR(IF(N48=\"N<10\",\"N<10\",VLOOKUP(VALUE($A48),'2012-13 BL Civics'!$A$14:$AG$500,29,FALSE)*100),\"Not Tested\")","v":38},{"$f":"IFERROR(IF(O48=\"N<10\",\"N<10\",VLOOKUP(VALUE($A48),'2013-14 BL Civics'!$A$14:$AG$500,29,FALSE)*100),\"Not Tested\")","v":40},2]
["5006",null,{"$f":"VLOOKUP(TEXT(A49,\"0000\"),SchList!$A$2:$C$483,2,FALSE)","v":"EVERGLADES PREPARATORY ACADEMY"},{"$f":"IFERROR(VLOOKUP(TEXT($A49,\"0000\"),'2012 BL Civics Enrollment'!$A$3:$C$500,3,FALSE),0)","v":189},{"$f":"IFERROR(VLOOKUP(TEXT($A49,\"0000\"),'2013 BL Civics Enrollment'!$A$3:$C$500,3,FALSE),\"\")","v":235},{"$f":"IFERROR(IF(VLOOKUP(VALUE(A49),'2012-13 BL Civics'!$A$14:$C$200,3,FALSE)<10,\"N<10\",IF(VLOOKUP(VALUE(A49),'2012-13 BL Civics'!$A$14:$C$200,3,FALSE)>D49,100,VLOOKUP(VALUE(A49),'2012-13 BL Civics'!$A$14:$C$200,3,FALSE)/D49%)),\"Not Tested\")","v":87.301587301587304},{"$f":"IFERROR(IF(VLOOKUP(VALUE(A49),'2013-14 BL Civics'!$A$14:$C$200,3,FALSE)<10,\"N<10\",IF(VLOOKUP(VALUE(A49),'2013-14 BL Civics'!$A$14:$C$200,3,FALSE)>E49,100,VLOOKUP(VALUE(A49),'2013-14 BL Civics'!$A$14:$C$200,3,FALSE)/E49%)),\"Not Tested\")","v":96.170212765957444},{"$f":"IFERROR(IF(F49=\"N<10\",\"N<10\",VLOOKUP(VALUE($A49),'2012-13 BL Civics'!$A$14:$AG$500,5,FALSE)*100),\"Not Tested\")","v":38},{"$f":"IFERROR(IF(G49=\"N<10\",\"N<10\",VLOOKUP(VALUE($A49),'2013-14 BL Civics'!$A$14:$AG$500,5,FALSE)*100),\"Not Tested\")","v":35},-3,{"$f":"IFERROR(IF(H49=\"N<10\",\"N<10\",VLOOKUP(VALUE($A49),'2012-13 BL Civics'!$A$14:$AG$500,11,FALSE)*100),\"Not Tested\")","v":45},{"$f":"IFERROR(IF(I49=\"N<10\",\"N<10\",VLOOKUP(VALUE($A49),'2013-14 BL Civics'!$A$14:$AG$500,11,FALSE)*100),\"Not Tested\")","v":38},-7,{"$f":"IFERROR(IF(K49=\"N<10\",\"N<10\",VLOOKUP(VALUE($A49),'2012-13 BL Civics'!$A$14:$AG$500,17,FALSE)*100),\"Not Tested\")","v":28.999999999999996},{"$f":"IFERROR(IF(L49=\"N<10\",\"N<10\",VLOOKUP(VALUE($A49),'2013-14 BL Civics'!$A$14:$AG$500,17,FALSE)*100),\"Not Tested\")","v":30},1.0000000000000036,{"$f":"IFERROR(IF(J49=\"N<10\",\"N<10\",VLOOKUP(VALUE($A49),'2012-13 BL Civics'!$A$14:$AG$500,23,FALSE)*100),\"Not Tested\")","v":38},{"$f":"IFERROR(IF(K49=\"N<10\",\"N<10\",VLOOKUP(VALUE($A49),'2013-14 BL Civics'!$A$14:$AG$500,23,FALSE)*100),\"Not Tested\")","v":35},-3,{"$f":"IFERROR(IF(N49=\"N<10\",\"N<10\",VLOOKUP(VALUE($A49),'2012-13 BL Civics'!$A$14:$AG$500,29,FALSE)*100),\"Not Tested\")","v":42},{"$f":"IFERROR(IF(O49=\"N<10\",\"N<10\",VLOOKUP(VALUE($A49),'2013-14 BL Civics'!$A$14:$AG$500,29,FALSE)*100),\"Not Tested\")","v":41},-1]
["5007",null,{"$f":"VLOOKUP(TEXT(A50,\"0000\"),SchList!$A$2:$C$483,2,FALSE)","v":"LINCOLN-MARTI CHARTER HIALEAH "},{"$f":"IFERROR(VLOOKUP(TEXT($A50,\"0000\"),'2012 BL Civics Enrollment'!$A$3:$C$500,3,FALSE),0)","v":20},{"$f":"IFERROR(VLOOKUP(TEXT($A50,\"0000\"),'2013 BL Civics Enrollment'!$A$3:$C$500,3,FALSE),\"\")","v":28},{"$f":"IFERROR(IF(VLOOKUP(VALUE(A50),'2012-13 BL Civics'!$A$14:$C$200,3,FALSE)<10,\"N<10\",IF(VLOOKUP(VALUE(A50),'2012-13 BL Civics'!$A$14:$C$200,3,FALSE)>D50,100,VLOOKUP(VALUE(A50),'2012-13 BL Civics'!$A$14:$C$200,3,FALSE)/D50%)),\"Not Tested\")","v":95},{"$f":"IFERROR(IF(VLOOKUP(VALUE(A50),'2013-14 BL Civics'!$A$14:$C$200,3,FALSE)<10,\"N<10\",IF(VLOOKUP(VALUE(A50),'2013-14 BL Civics'!$A$14:$C$200,3,FALSE)>E50,100,VLOOKUP(VALUE(A50),'2013-14 BL Civics'!$A$14:$C$200,3,FALSE)/E50%)),\"Not Tested\")","v":96.428571428571416},{"$f":"IFERROR(IF(F50=\"N<10\",\"N<10\",VLOOKUP(VALUE($A50),'2012-13 BL Civics'!$A$14:$AG$500,5,FALSE)*100),\"Not Tested\")","v":34},{"$f":"IFERROR(IF(G50=\"N<10\",\"N<10\",VLOOKUP(VALUE($A50),'2013-14 BL Civics'!$A$14:$AG$500,5,FALSE)*100),\"Not Tested\")","v":37},3,{"$f":"IFERROR(IF(H50=\"N<10\",\"N<10\",VLOOKUP(VALUE($A50),'2012-13 BL Civics'!$A$14:$AG$500,11,FALSE)*100),\"Not Tested\")","v":38},{"$f":"IFERROR(IF(I50=\"N<10\",\"N<10\",VLOOKUP(VALUE($A50),'2013-14 BL Civics'!$A$14:$AG$500,11,FALSE)*100),\"Not Tested\")","v":38},0,{"$f":"IFERROR(IF(K50=\"N<10\",\"N<10\",VLOOKUP(VALUE($A50),'2012-13 BL Civics'!$A$14:$AG$500,17,FALSE)*100),\"Not Tested\")","v":25},{"$f":"IFERROR(IF(L50=\"N<10\",\"N<10\",VLOOKUP(VALUE($A50),'2013-14 BL Civics'!$A$14:$AG$500,17,FALSE)*100),\"Not Tested\")","v":32},7,{"$f":"IFERROR(IF(J50=\"N<10\",\"N<10\",VLOOKUP(VALUE($A50),'2012-13 BL Civics'!$A$14:$AG$500,23,FALSE)*100),\"Not Tested\")","v":35},{"$f":"IFERROR(IF(K50=\"N<10\",\"N<10\",VLOOKUP(VALUE($A50),'2013-14 BL Civics'!$A$14:$AG$500,23,FALSE)*100),\"Not Tested\")","v":33},-2,{"$f":"IFERROR(IF(N50=\"N<10\",\"N<10\",VLOOKUP(VALUE($A50),'2012-13 BL Civics'!$A$14:$AG$500,29,FALSE)*100),\"Not Tested\")","v":39},{"$f":"IFERROR(IF(O50=\"N<10\",\"N<10\",VLOOKUP(VALUE($A50),'2013-14 BL Civics'!$A$14:$AG$500,29,FALSE)*100),\"Not Tested\")","v":47},8]
["5010",null,{"$f":"VLOOKUP(TEXT(A51,\"0000\"),SchList!$A$2:$C$483,2,FALSE)","v":"OXFORD ACADEMY OF MIAMI       "},{"$f":"IFERROR(VLOOKUP(TEXT($A51,\"0000\"),'2012 BL Civics Enrollment'!$A$3:$C$500,3,FALSE),0)","v":13},{"$f":"IFERROR(VLOOKUP(TEXT($A51,\"0000\"),'2013 BL Civics Enrollment'!$A$3:$C$500,3,FALSE),\"\")","v":19},{"$f":"IFERROR(IF(VLOOKUP(VALUE(A51),'2012-13 BL Civics'!$A$14:$C$200,3,FALSE)<10,\"N<10\",IF(VLOOKUP(VALUE(A51),'2012-13 BL Civics'!$A$14:$C$200,3,FALSE)>D51,100,VLOOKUP(VALUE(A51),'2012-13 BL Civics'!$A$14:$C$200,3,FALSE)/D51%)),\"Not Tested\")","v":"Not Tested"},{"$f":"IFERROR(IF(VLOOKUP(VALUE(A51),'2013-14 BL Civics'!$A$14:$C$200,3,FALSE)<10,\"N<10\",IF(VLOOKUP(VALUE(A51),'2013-14 BL Civics'!$A$14:$C$200,3,FALSE)>E51,100,VLOOKUP(VALUE(A51),'2013-14 BL Civics'!$A$14:$C$200,3,FALSE)/E51%)),\"Not Tested\")","v":100},{"$f":"IFERROR(IF(F51=\"N<10\",\"N<10\",VLOOKUP(VALUE($A51),'2012-13 BL Civics'!$A$14:$AG$500,5,FALSE)*100),\"Not Tested\")","v":"Not Tested"},{"$f":"IFERROR(IF(G51=\"N<10\",\"N<10\",VLOOKUP(VALUE($A51),'2013-14 BL Civics'!$A$14:$AG$500,5,FALSE)*100),\"Not Tested\")","v":40},"",{"$f":"IFERROR(IF(H51=\"N<10\",\"N<10\",VLOOKUP(VALUE($A51),'2012-13 BL Civics'!$A$14:$AG$500,11,FALSE)*100),\"Not Tested\")","v":"Not Tested"},{"$f":"IFERROR(IF(I51=\"N<10\",\"N<10\",VLOOKUP(VALUE($A51),'2013-14 BL Civics'!$A$14:$AG$500,11,FALSE)*100),\"Not Tested\")","v":46},"",{"$f":"IFERROR(IF(K51=\"N<10\",\"N<10\",VLOOKUP(VALUE($A51),'2012-13 BL Civics'!$A$14:$AG$500,17,FALSE)*100),\"Not Tested\")","v":"Not Tested"},{"$f":"IFERROR(IF(L51=\"N<10\",\"N<10\",VLOOKUP(VALUE($A51),'2013-14 BL Civics'!$A$14:$AG$500,17,FALSE)*100),\"Not Tested\")","v":36},"",{"$f":"IFERROR(IF(J51=\"N<10\",\"N<10\",VLOOKUP(VALUE($A51),'2012-13 BL Civics'!$A$14:$AG$500,23,FALSE)*100),\"Not Tested\")","v":"Not Tested"},{"$f":"IFERROR(IF(K51=\"N<10\",\"N<10\",VLOOKUP(VALUE($A51),'2013-14 BL Civics'!$A$14:$AG$500,23,FALSE)*100),\"Not Tested\")","v":36},"",{"$f":"IFERROR(IF(N51=\"N<10\",\"N<10\",VLOOKUP(VALUE($A51),'2012-13 BL Civics'!$A$14:$AG$500,29,FALSE)*100),\"Not Tested\")","v":"Not Tested"},{"$f":"IFERROR(IF(O51=\"N<10\",\"N<10\",VLOOKUP(VALUE($A51),'2013-14 BL Civics'!$A$14:$AG$500,29,FALSE)*100),\"Not Tested\")","v":46},""]
["5020",null,{"$f":"VLOOKUP(TEXT(A52,\"0000\"),SchList!$A$2:$C$483,2,FALSE)","v":"BRIDGEPOINT ACAD INTERAMERICAN"},{"$f":"IFERROR(VLOOKUP(TEXT($A52,\"0000\"),'2012 BL Civics Enrollment'!$A$3:$C$500,3,FALSE),0)","v":16},{"$f":"IFERROR(VLOOKUP(TEXT($A52,\"0000\"),'2013 BL Civics Enrollment'!$A$3:$C$500,3,FALSE),\"\")","v":16},{"$f":"IFERROR(IF(VLOOKUP(VALUE(A52),'2012-13 BL Civics'!$A$14:$C$200,3,FALSE)<10,\"N<10\",IF(VLOOKUP(VALUE(A52),'2012-13 BL Civics'!$A$14:$C$200,3,FALSE)>D52,100,VLOOKUP(VALUE(A52),'2012-13 BL Civics'!$A$14:$C$200,3,FALSE)/D52%)),\"Not Tested\")","v":100},{"$f":"IFERROR(IF(VLOOKUP(VALUE(A52),'2013-14 BL Civics'!$A$14:$C$200,3,FALSE)<10,\"N<10\",IF(VLOOKUP(VALUE(A52),'2013-14 BL Civics'!$A$14:$C$200,3,FALSE)>E52,100,VLOOKUP(VALUE(A52),'2013-14 BL Civics'!$A$14:$C$200,3,FALSE)/E52%)),\"Not Tested\")","v":100},{"$f":"IFERROR(IF(F52=\"N<10\",\"N<10\",VLOOKUP(VALUE($A52),'2012-13 BL Civics'!$A$14:$AG$500,5,FALSE)*100),\"Not Tested\")","v":30},{"$f":"IFERROR(IF(G52=\"N<10\",\"N<10\",VLOOKUP(VALUE($A52),'2013-14 BL Civics'!$A$14:$AG$500,5,FALSE)*100),\"Not Tested\")","v":34},4,{"$f":"IFERROR(IF(H52=\"N<10\",\"N<10\",VLOOKUP(VALUE($A52),'2012-13 BL Civics'!$A$14:$AG$500,11,FALSE)*100),\"Not Tested\")","v":39},{"$f":"IFERROR(IF(I52=\"N<10\",\"N<10\",VLOOKUP(VALUE($A52),'2013-14 BL Civics'!$A$14:$AG$500,11,FALSE)*100),\"Not Tested\")","v":27},-12,{"$f":"IFERROR(IF(K52=\"N<10\",\"N<10\",VLOOKUP(VALUE($A52),'2012-13 BL Civics'!$A$14:$AG$500,17,FALSE)*100),\"Not Tested\")","v":20},{"$f":"IFERROR(IF(L52=\"N<10\",\"N<10\",VLOOKUP(VALUE($A52),'2013-14 BL Civics'!$A$14:$AG$500,17,FALSE)*100),\"Not Tested\")","v":30},10,{"$f":"IFERROR(IF(J52=\"N<10\",\"N<10\",VLOOKUP(VALUE($A52),'2012-13 BL Civics'!$A$14:$AG$500,23,FALSE)*100),\"Not Tested\")","v":37},{"$f":"IFERROR(IF(K52=\"N<10\",\"N<10\",VLOOKUP(VALUE($A52),'2013-14 BL Civics'!$A$14:$AG$500,23,FALSE)*100),\"Not Tested\")","v":36},-1,{"$f":"IFERROR(IF(N52=\"N<10\",\"N<10\",VLOOKUP(VALUE($A52),'2012-13 BL Civics'!$A$14:$AG$500,29,FALSE)*100),\"Not Tested\")","v":27},{"$f":"IFERROR(IF(O52=\"N<10\",\"N<10\",VLOOKUP(VALUE($A52),'2013-14 BL Civics'!$A$14:$AG$500,29,FALSE)*100),\"Not Tested\")","v":43},16]
["5022",null,{"$f":"VLOOKUP(TEXT(A53,\"0000\"),SchList!$A$2:$C$483,2,FALSE)","v":"BEN GAMLA CHARTER SCHL        "},{"$f":"IFERROR(VLOOKUP(TEXT($A53,\"0000\"),'2012 BL Civics Enrollment'!$A$3:$C$500,3,FALSE),0)","v":16},{"$f":"IFERROR(VLOOKUP(TEXT($A53,\"0000\"),'2013 BL Civics Enrollment'!$A$3:$C$500,3,FALSE),\"\")","v":21},{"$f":"IFERROR(IF(VLOOKUP(VALUE(A53),'2012-13 BL Civics'!$A$14:$C$200,3,FALSE)<10,\"N<10\",IF(VLOOKUP(VALUE(A53),'2012-13 BL Civics'!$A$14:$C$200,3,FALSE)>D53,100,VLOOKUP(VALUE(A53),'2012-13 BL Civics'!$A$14:$C$200,3,FALSE)/D53%)),\"Not Tested\")","v":93.75},{"$f":"IFERROR(IF(VLOOKUP(VALUE(A53),'2013-14 BL Civics'!$A$14:$C$200,3,FALSE)<10,\"N<10\",IF(VLOOKUP(VALUE(A53),'2013-14 BL Civics'!$A$14:$C$200,3,FALSE)>E53,100,VLOOKUP(VALUE(A53),'2013-14 BL Civics'!$A$14:$C$200,3,FALSE)/E53%)),\"Not Tested\")","v":100},{"$f":"IFERROR(IF(F53=\"N<10\",\"N<10\",VLOOKUP(VALUE($A53),'2012-13 BL Civics'!$A$14:$AG$500,5,FALSE)*100),\"Not Tested\")","v":33},{"$f":"IFERROR(IF(G53=\"N<10\",\"N<10\",VLOOKUP(VALUE($A53),'2013-14 BL Civics'!$A$14:$AG$500,5,FALSE)*100),\"Not Tested\")","v":38},5,{"$f":"IFERROR(IF(H53=\"N<10\",\"N<10\",VLOOKUP(VALUE($A53),'2012-13 BL Civics'!$A$14:$AG$500,11,FALSE)*100),\"Not Tested\")","v":43},{"$f":"IFERROR(IF(I53=\"N<10\",\"N<10\",VLOOKUP(VALUE($A53),'2013-14 BL Civics'!$A$14:$AG$500,11,FALSE)*100),\"Not Tested\")","v":38},-5,{"$f":"IFERROR(IF(K53=\"N<10\",\"N<10\",VLOOKUP(VALUE($A53),'2012-13 BL Civics'!$A$14:$AG$500,17,FALSE)*100),\"Not Tested\")","v":26},{"$f":"IFERROR(IF(L53=\"N<10\",\"N<10\",VLOOKUP(VALUE($A53),'2013-14 BL Civics'!$A$14:$AG$500,17,FALSE)*100),\"Not Tested\")","v":36},10,{"$f":"IFERROR(IF(J53=\"N<10\",\"N<10\",VLOOKUP(VALUE($A53),'2012-13 BL Civics'!$A$14:$AG$500,23,FALSE)*100),\"Not Tested\")","v":31},{"$f":"IFERROR(IF(K53=\"N<10\",\"N<10\",VLOOKUP(VALUE($A53),'2013-14 BL Civics'!$A$14:$AG$500,23,FALSE)*100),\"Not Tested\")","v":38},7,{"$f":"IFERROR(IF(N53=\"N<10\",\"N<10\",VLOOKUP(VALUE($A53),'2012-13 BL Civics'!$A$14:$AG$500,29,FALSE)*100),\"Not Tested\")","v":38},{"$f":"IFERROR(IF(O53=\"N<10\",\"N<10\",VLOOKUP(VALUE($A53),'2013-14 BL Civics'!$A$14:$AG$500,29,FALSE)*100),\"Not Tested\")","v":41},3]
["5025",null,{"$f":"VLOOKUP(TEXT(A54,\"0000\"),SchList!$A$2:$C$483,2,FALSE)","v":"LINCOLN-MARTI CS LITTLE HAVANA"},{"$f":"IFERROR(VLOOKUP(TEXT($A54,\"0000\"),'2012 BL Civics Enrollment'!$A$3:$C$500,3,FALSE),0)","v":78},{"$f":"IFERROR(VLOOKUP(TEXT($A54,\"0000\"),'2013 BL Civics Enrollment'!$A$3:$C$500,3,FALSE),\"\")","v":54},{"$f":"IFERROR(IF(VLOOKUP(VALUE(A54),'2012-13 BL Civics'!$A$14:$C$200,3,FALSE)<10,\"N<10\",IF(VLOOKUP(VALUE(A54),'2012-13 BL Civics'!$A$14:$C$200,3,FALSE)>D54,100,VLOOKUP(VALUE(A54),'2012-13 BL Civics'!$A$14:$C$200,3,FALSE)/D54%)),\"Not Tested\")","v":93.589743589743591},{"$f":"IFERROR(IF(VLOOKUP(VALUE(A54),'2013-14 BL Civics'!$A$14:$C$200,3,FALSE)<10,\"N<10\",IF(VLOOKUP(VALUE(A54),'2013-14 BL Civics'!$A$14:$C$200,3,FALSE)>E54,100,VLOOKUP(VALUE(A54),'2013-14 BL Civics'!$A$14:$C$200,3,FALSE)/E54%)),\"Not Tested\")","v":94.444444444444443},{"$f":"IFERROR(IF(F54=\"N<10\",\"N<10\",VLOOKUP(VALUE($A54),'2012-13 BL Civics'!$A$14:$AG$500,5,FALSE)*100),\"Not Tested\")","v":34},{"$f":"IFERROR(IF(G54=\"N<10\",\"N<10\",VLOOKUP(VALUE($A54),'2013-14 BL Civics'!$A$14:$AG$500,5,FALSE)*100),\"Not Tested\")","v":35},1,{"$f":"IFERROR(IF(H54=\"N<10\",\"N<10\",VLOOKUP(VALUE($A54),'2012-13 BL Civics'!$A$14:$AG$500,11,FALSE)*100),\"Not Tested\")","v":38},{"$f":"IFERROR(IF(I54=\"N<10\",\"N<10\",VLOOKUP(VALUE($A54),'2013-14 BL Civics'!$A$14:$AG$500,11,FALSE)*100),\"Not Tested\")","v":33},-5,{"$f":"IFERROR(IF(K54=\"N<10\",\"N<10\",VLOOKUP(VALUE($A54),'2012-13 BL Civics'!$A$14:$AG$500,17,FALSE)*100),\"Not Tested\")","v":28.999999999999996},{"$f":"IFERROR(IF(L54=\"N<10\",\"N<10\",VLOOKUP(VALUE($A54),'2013-14 BL Civics'!$A$14:$AG$500,17,FALSE)*100),\"Not Tested\")","v":33},4.0000000000000036,{"$f":"IFERROR(IF(J54=\"N<10\",\"N<10\",VLOOKUP(VALUE($A54),'2012-13 BL Civics'!$A$14:$AG$500,23,FALSE)*100),\"Not Tested\")","v":37},{"$f":"IFERROR(IF(K54=\"N<10\",\"N<10\",VLOOKUP(VALUE($A54),'2013-14 BL Civics'!$A$14:$AG$500,23,FALSE)*100),\"Not Tested\")","v":34},-3,{"$f":"IFERROR(IF(N54=\"N<10\",\"N<10\",VLOOKUP(VALUE($A54),'2012-13 BL Civics'!$A$14:$AG$500,29,FALSE)*100),\"Not Tested\")","v":34},{"$f":"IFERROR(IF(O54=\"N<10\",\"N<10\",VLOOKUP(VALUE($A54),'2013-14 BL Civics'!$A$14:$AG$500,29,FALSE)*100),\"Not Tested\")","v":42},8]
["5032",null,{"$f":"VLOOKUP(TEXT(A55,\"0000\"),SchList!$A$2:$C$483,2,FALSE)","v":"EXCELSIOR CHARTER ACADEMY     "},{"$f":"IFERROR(VLOOKUP(TEXT($A55,\"0000\"),'2012 BL Civics Enrollment'!$A$3:$C$500,3,FALSE),0)","v":22},{"$f":"IFERROR(VLOOKUP(TEXT($A55,\"0000\"),'2013 BL Civics Enrollment'!$A$3:$C$500,3,FALSE),\"\")","v":27},{"$f":"IFERROR(IF(VLOOKUP(VALUE(A55),'2012-13 BL Civics'!$A$14:$C$200,3,FALSE)<10,\"N<10\",IF(VLOOKUP(VALUE(A55),'2012-13 BL Civics'!$A$14:$C$200,3,FALSE)>D55,100,VLOOKUP(VALUE(A55),'2012-13 BL Civics'!$A$14:$C$200,3,FALSE)/D55%)),\"Not Tested\")","v":59.090909090909093},{"$f":"IFERROR(IF(VLOOKUP(VALUE(A55),'2013-14 BL Civics'!$A$14:$C$200,3,FALSE)<10,\"N<10\",IF(VLOOKUP(VALUE(A55),'2013-14 BL Civics'!$A$14:$C$200,3,FALSE)>E55,100,VLOOKUP(VALUE(A55),'2013-14 BL Civics'!$A$14:$C$200,3,FALSE)/E55%)),\"Not Tested\")","v":51.851851851851848},{"$f":"IFERROR(IF(F55=\"N<10\",\"N<10\",VLOOKUP(VALUE($A55),'2012-13 BL Civics'!$A$14:$AG$500,5,FALSE)*100),\"Not Tested\")","v":28.999999999999996},{"$f":"IFERROR(IF(G55=\"N<10\",\"N<10\",VLOOKUP(VALUE($A55),'2013-14 BL Civics'!$A$14:$AG$500,5,FALSE)*100),\"Not Tested\")","v":35},6.0000000000000036,{"$f":"IFERROR(IF(H55=\"N<10\",\"N<10\",VLOOKUP(VALUE($A55),'2012-13 BL Civics'!$A$14:$AG$500,11,FALSE)*100),\"Not Tested\")","v":37},{"$f":"IFERROR(IF(I55=\"N<10\",\"N<10\",VLOOKUP(VALUE($A55),'2013-14 BL Civics'!$A$14:$AG$500,11,FALSE)*100),\"Not Tested\")","v":33},-4,{"$f":"IFERROR(IF(K55=\"N<10\",\"N<10\",VLOOKUP(VALUE($A55),'2012-13 BL Civics'!$A$14:$AG$500,17,FALSE)*100),\"Not Tested\")","v":21},{"$f":"IFERROR(IF(L55=\"N<10\",\"N<10\",VLOOKUP(VALUE($A55),'2013-14 BL Civics'!$A$14:$AG$500,17,FALSE)*100),\"Not Tested\")","v":34},13,{"$f":"IFERROR(IF(J55=\"N<10\",\"N<10\",VLOOKUP(VALUE($A55),'2012-13 BL Civics'!$A$14:$AG$500,23,FALSE)*100),\"Not Tested\")","v":34},{"$f":"IFERROR(IF(K55=\"N<10\",\"N<10\",VLOOKUP(VALUE($A55),'2013-14 BL Civics'!$A$14:$AG$500,23,FALSE)*100),\"Not Tested\")","v":30},-4,{"$f":"IFERROR(IF(N55=\"N<10\",\"N<10\",VLOOKUP(VALUE($A55),'2012-13 BL Civics'!$A$14:$AG$500,29,FALSE)*100),\"Not Tested\")","v":28.000000000000004},{"$f":"IFERROR(IF(O55=\"N<10\",\"N<10\",VLOOKUP(VALUE($A55),'2013-14 BL Civics'!$A$14:$AG$500,29,FALSE)*100),\"Not Tested\")","v":43},14.999999999999996]
["5044",null,{"$f":"VLOOKUP(TEXT(A56,\"0000\"),SchList!$A$2:$C$483,2,FALSE)","v":"ACADEMY FOR INT'L EDUCATION CH"},{"$f":"IFERROR(VLOOKUP(TEXT($A56,\"0000\"),'2012 BL Civics Enrollment'!$A$3:$C$500,3,FALSE),0)","v":13},{"$f":"IFERROR(VLOOKUP(TEXT($A56,\"0000\"),'2013 BL Civics Enrollment'!$A$3:$C$500,3,FALSE),\"\")","v":47},{"$f":"IFERROR(IF(VLOOKUP(VALUE(A56),'2012-13 BL Civics'!$A$14:$C$200,3,FALSE)<10,\"N<10\",IF(VLOOKUP(VALUE(A56),'2012-13 BL Civics'!$A$14:$C$200,3,FALSE)>D56,100,VLOOKUP(VALUE(A56),'2012-13 BL Civics'!$A$14:$C$200,3,FALSE)/D56%)),\"Not Tested\")","v":100},{"$f":"IFERROR(IF(VLOOKUP(VALUE(A56),'2013-14 BL Civics'!$A$14:$C$200,3,FALSE)<10,\"N<10\",IF(VLOOKUP(VALUE(A56),'2013-14 BL Civics'!$A$14:$C$200,3,FALSE)>E56,100,VLOOKUP(VALUE(A56),'2013-14 BL Civics'!$A$14:$C$200,3,FALSE)/E56%)),\"Not Tested\")","v":97.872340425531917},{"$f":"IFERROR(IF(F56=\"N<10\",\"N<10\",VLOOKUP(VALUE($A56),'2012-13 BL Civics'!$A$14:$AG$500,5,FALSE)*100),\"Not Tested\")","v":33},{"$f":"IFERROR(IF(G56=\"N<10\",\"N<10\",VLOOKUP(VALUE($A56),'2013-14 BL Civics'!$A$14:$AG$500,5,FALSE)*100),\"Not Tested\")","v":41},8,{"$f":"IFERROR(IF(H56=\"N<10\",\"N<10\",VLOOKUP(VALUE($A56),'2012-13 BL Civics'!$A$14:$AG$500,11,FALSE)*100),\"Not Tested\")","v":40},{"$f":"IFERROR(IF(I56=\"N<10\",\"N<10\",VLOOKUP(VALUE($A56),'2013-14 BL Civics'!$A$14:$AG$500,11,FALSE)*100),\"Not Tested\")","v":42},2,{"$f":"IFERROR(IF(K56=\"N<10\",\"N<10\",VLOOKUP(VALUE($A56),'2012-13 BL Civics'!$A$14:$AG$500,17,FALSE)*100),\"Not Tested\")","v":24},{"$f":"IFERROR(IF(L56=\"N<10\",\"N<10\",VLOOKUP(VALUE($A56),'2013-14 BL Civics'!$A$14:$AG$500,17,FALSE)*100),\"Not Tested\")","v":38},14,{"$f":"IFERROR(IF(J56=\"N<10\",\"N<10\",VLOOKUP(VALUE($A56),'2012-13 BL Civics'!$A$14:$AG$500,23,FALSE)*100),\"Not Tested\")","v":35},{"$f":"IFERROR(IF(K56=\"N<10\",\"N<10\",VLOOKUP(VALUE($A56),'2013-14 BL Civics'!$A$14:$AG$500,23,FALSE)*100),\"Not Tested\")","v":39},4,{"$f":"IFERROR(IF(N56=\"N<10\",\"N<10\",VLOOKUP(VALUE($A56),'2012-13 BL Civics'!$A$14:$AG$500,29,FALSE)*100),\"Not Tested\")","v":39},{"$f":"IFERROR(IF(O56=\"N<10\",\"N<10\",VLOOKUP(VALUE($A56),'2013-14 BL Civics'!$A$14:$AG$500,29,FALSE)*100),\"Not Tested\")","v":49},10]
["5045",null,{"$f":"VLOOKUP(TEXT(A57,\"0000\"),SchList!$A$2:$C$483,2,FALSE)","v":"MATER GROVE ACADEMY           "},{"$f":"IFERROR(VLOOKUP(TEXT($A57,\"0000\"),'2012 BL Civics Enrollment'!$A$3:$C$500,3,FALSE),0)","v":0},{"$f":"IFERROR(VLOOKUP(TEXT($A57,\"0000\"),'2013 BL Civics Enrollment'!$A$3:$C$500,3,FALSE),\"\")","v":16},{"$f":"IFERROR(IF(VLOOKUP(VALUE(A57),'2012-13 BL Civics'!$A$14:$C$200,3,FALSE)<10,\"N<10\",IF(VLOOKUP(VALUE(A57),'2012-13 BL Civics'!$A$14:$C$200,3,FALSE)>D57,100,VLOOKUP(VALUE(A57),'2012-13 BL Civics'!$A$14:$C$200,3,FALSE)/D57%)),\"Not Tested\")","v":"Not Tested"},{"$f":"IFERROR(IF(VLOOKUP(VALUE(A57),'2013-14 BL Civics'!$A$14:$C$200,3,FALSE)<10,\"N<10\",IF(VLOOKUP(VALUE(A57),'2013-14 BL Civics'!$A$14:$C$200,3,FALSE)>E57,100,VLOOKUP(VALUE(A57),'2013-14 BL Civics'!$A$14:$C$200,3,FALSE)/E57%)),\"Not Tested\")","v":100},{"$f":"IFERROR(IF(F57=\"N<10\",\"N<10\",VLOOKUP(VALUE($A57),'2012-13 BL Civics'!$A$14:$AG$500,5,FALSE)*100),\"Not Tested\")","v":"Not Tested"},{"$f":"IFERROR(IF(G57=\"N<10\",\"N<10\",VLOOKUP(VALUE($A57),'2013-14 BL Civics'!$A$14:$AG$500,5,FALSE)*100),\"Not Tested\")","v":39},"",{"$f":"IFERROR(IF(H57=\"N<10\",\"N<10\",VLOOKUP(VALUE($A57),'2012-13 BL Civics'!$A$14:$AG$500,11,FALSE)*100),\"Not Tested\")","v":"Not Tested"},{"$f":"IFERROR(IF(I57=\"N<10\",\"N<10\",VLOOKUP(VALUE($A57),'2013-14 BL Civics'!$A$14:$AG$500,11,FALSE)*100),\"Not Tested\")","v":42},"",{"$f":"IFERROR(IF(K57=\"N<10\",\"N<10\",VLOOKUP(VALUE($A57),'2012-13 BL Civics'!$A$14:$AG$500,17,FALSE)*100),\"Not Tested\")","v":"Not Tested"},{"$f":"IFERROR(IF(L57=\"N<10\",\"N<10\",VLOOKUP(VALUE($A57),'2013-14 BL Civics'!$A$14:$AG$500,17,FALSE)*100),\"Not Tested\")","v":33},"",{"$f":"IFERROR(IF(J57=\"N<10\",\"N<10\",VLOOKUP(VALUE($A57),'2012-13 BL Civics'!$A$14:$AG$500,23,FALSE)*100),\"Not Tested\")","v":"Not Tested"},{"$f":"IFERROR(IF(K57=\"N<10\",\"N<10\",VLOOKUP(VALUE($A57),'2013-14 BL Civics'!$A$14:$AG$500,23,FALSE)*100),\"Not Tested\")","v":41},"",{"$f":"IFERROR(IF(N57=\"N<10\",\"N<10\",VLOOKUP(VALUE($A57),'2012-13 BL Civics'!$A$14:$AG$500,29,FALSE)*100),\"Not Tested\")","v":"Not Tested"},{"$f":"IFERROR(IF(O57=\"N<10\",\"N<10\",VLOOKUP(VALUE($A57),'2013-14 BL Civics'!$A$14:$AG$500,29,FALSE)*100),\"Not Tested\")","v":41},""]
["5046",null,{"$f":"VLOOKUP(TEXT(A58,\"0000\"),SchList!$A$2:$C$483,2,FALSE)","v":"MATER BRICKELL PREP ACADEMY   "},{"$f":"IFERROR(VLOOKUP(TEXT($A58,\"0000\"),'2012 BL Civics Enrollment'!$A$3:$C$500,3,FALSE),0)","v":0},{"$f":"IFERROR(VLOOKUP(TEXT($A58,\"0000\"),'2013 BL Civics Enrollment'!$A$3:$C$500,3,FALSE),\"\")","v":14},{"$f":"IFERROR(IF(VLOOKUP(VALUE(A58),'2012-13 BL Civics'!$A$14:$C$200,3,FALSE)<10,\"N<10\",IF(VLOOKUP(VALUE(A58),'2012-13 BL Civics'!$A$14:$C$200,3,FALSE)>D58,100,VLOOKUP(VALUE(A58),'2012-13 BL Civics'!$A$14:$C$200,3,FALSE)/D58%)),\"Not Tested\")","v":"Not Tested"},{"$f":"IFERROR(IF(VLOOKUP(VALUE(A58),'2013-14 BL Civics'!$A$14:$C$200,3,FALSE)<10,\"N<10\",IF(VLOOKUP(VALUE(A58),'2013-14 BL Civics'!$A$14:$C$200,3,FALSE)>E58,100,VLOOKUP(VALUE(A58),'2013-14 BL Civics'!$A$14:$C$200,3,FALSE)/E58%)),\"Not Tested\")","v":99.999999999999986},{"$f":"IFERROR(IF(F58=\"N<10\",\"N<10\",VLOOKUP(VALUE($A58),'2012-13 BL Civics'!$A$14:$AG$500,5,FALSE)*100),\"Not Tested\")","v":"Not Tested"},{"$f":"IFERROR(IF(G58=\"N<10\",\"N<10\",VLOOKUP(VALUE($A58),'2013-14 BL Civics'!$A$14:$AG$500,5,FALSE)*100),\"Not Tested\")","v":40},"",{"$f":"IFERROR(IF(H58=\"N<10\",\"N<10\",VLOOKUP(VALUE($A58),'2012-13 BL Civics'!$A$14:$AG$500,11,FALSE)*100),\"Not Tested\")","v":"Not Tested"},{"$f":"IFERROR(IF(I58=\"N<10\",\"N<10\",VLOOKUP(VALUE($A58),'2013-14 BL Civics'!$A$14:$AG$500,11,FALSE)*100),\"Not Tested\")","v":39},"",{"$f":"IFERROR(IF(K58=\"N<10\",\"N<10\",VLOOKUP(VALUE($A58),'2012-13 BL Civics'!$A$14:$AG$500,17,FALSE)*100),\"Not Tested\")","v":"Not Tested"},{"$f":"IFERROR(IF(L58=\"N<10\",\"N<10\",VLOOKUP(VALUE($A58),'2013-14 BL Civics'!$A$14:$AG$500,17,FALSE)*100),\"Not Tested\")","v":36},"",{"$f":"IFERROR(IF(J58=\"N<10\",\"N<10\",VLOOKUP(VALUE($A58),'2012-13 BL Civics'!$A$14:$AG$500,23,FALSE)*100),\"Not Tested\")","v":"Not Tested"},{"$f":"IFERROR(IF(K58=\"N<10\",\"N<10\",VLOOKUP(VALUE($A58),'2013-14 BL Civics'!$A$14:$AG$500,23,FALSE)*100),\"Not Tested\")","v":41},"",{"$f":"IFERROR(IF(N58=\"N<10\",\"N<10\",VLOOKUP(VALUE($A58),'2012-13 BL Civics'!$A$14:$AG$500,29,FALSE)*100),\"Not Tested\")","v":"Not Tested"},{"$f":"IFERROR(IF(O58=\"N<10\",\"N<10\",VLOOKUP(VALUE($A58),'2013-14 BL Civics'!$A$14:$AG$500,29,FALSE)*100),\"Not Tested\")","v":45},""]
["5047",null,{"$f":"VLOOKUP(TEXT(A59,\"0000\"),SchList!$A$2:$C$483,2,FALSE)","v":"MATER ACADEMY (MIAMI BEACH)   "},{"$f":"IFERROR(VLOOKUP(TEXT($A59,\"0000\"),'2012 BL Civics Enrollment'!$A$3:$C$500,3,FALSE),0)","v":80},{"$f":"IFERROR(VLOOKUP(TEXT($A59,\"0000\"),'2013 BL Civics Enrollment'!$A$3:$C$500,3,FALSE),\"\")","v":48},{"$f":"IFERROR(IF(VLOOKUP(VALUE(A59),'2012-13 BL Civics'!$A$14:$C$200,3,FALSE)<10,\"N<10\",IF(VLOOKUP(VALUE(A59),'2012-13 BL Civics'!$A$14:$C$200,3,FALSE)>D59,100,VLOOKUP(VALUE(A59),'2012-13 BL Civics'!$A$14:$C$200,3,FALSE)/D59%)),\"Not Tested\")","v":86.25},{"$f":"IFERROR(IF(VLOOKUP(VALUE(A59),'2013-14 BL Civics'!$A$14:$C$200,3,FALSE)<10,\"N<10\",IF(VLOOKUP(VALUE(A59),'2013-14 BL Civics'!$A$14:$C$200,3,FALSE)>E59,100,VLOOKUP(VALUE(A59),'2013-14 BL Civics'!$A$14:$C$200,3,FALSE)/E59%)),\"Not Tested\")","v":81.25},{"$f":"IFERROR(IF(F59=\"N<10\",\"N<10\",VLOOKUP(VALUE($A59),'2012-13 BL Civics'!$A$14:$AG$500,5,FALSE)*100),\"Not Tested\")","v":34},{"$f":"IFERROR(IF(G59=\"N<10\",\"N<10\",VLOOKUP(VALUE($A59),'2013-14 BL Civics'!$A$14:$AG$500,5,FALSE)*100),\"Not Tested\")","v":38},4,{"$f":"IFERROR(IF(H59=\"N<10\",\"N<10\",VLOOKUP(VALUE($A59),'2012-13 BL Civics'!$A$14:$AG$500,11,FALSE)*100),\"Not Tested\")","v":45},{"$f":"IFERROR(IF(I59=\"N<10\",\"N<10\",VLOOKUP(VALUE($A59),'2013-14 BL Civics'!$A$14:$AG$500,11,FALSE)*100),\"Not Tested\")","v":40},-5,{"$f":"IFERROR(IF(K59=\"N<10\",\"N<10\",VLOOKUP(VALUE($A59),'2012-13 BL Civics'!$A$14:$AG$500,17,FALSE)*100),\"Not Tested\")","v":28.999999999999996},{"$f":"IFERROR(IF(L59=\"N<10\",\"N<10\",VLOOKUP(VALUE($A59),'2013-14 BL Civics'!$A$14:$AG$500,17,FALSE)*100),\"Not Tested\")","v":33},4.0000000000000036,{"$f":"IFERROR(IF(J59=\"N<10\",\"N<10\",VLOOKUP(VALUE($A59),'2012-13 BL Civics'!$A$14:$AG$500,23,FALSE)*100),\"Not Tested\")","v":28.999999999999996},{"$f":"IFERROR(IF(K59=\"N<10\",\"N<10\",VLOOKUP(VALUE($A59),'2013-14 BL Civics'!$A$14:$AG$500,23,FALSE)*100),\"Not Tested\")","v":39},10.000000000000004,{"$f":"IFERROR(IF(N59=\"N<10\",\"N<10\",VLOOKUP(VALUE($A59),'2012-13 BL Civics'!$A$14:$AG$500,29,FALSE)*100),\"Not Tested\")","v":37},{"$f":"IFERROR(IF(O59=\"N<10\",\"N<10\",VLOOKUP(VALUE($A59),'2013-14 BL Civics'!$A$14:$AG$500,29,FALSE)*100),\"Not Tested\")","v":42},5]
["5049",null,{"$f":"VLOOKUP(TEXT(A60,\"0000\"),SchList!$A$2:$C$483,2,FALSE)","v":"PINECREST COVE ACADEMY        "},{"$f":"IFERROR(VLOOKUP(TEXT($A60,\"0000\"),'2012 BL Civics Enrollment'!$A$3:$C$500,3,FALSE),0)","v":27},{"$f":"IFERROR(VLOOKUP(TEXT($A60,\"0000\"),'2013 BL Civics Enrollment'!$A$3:$C$500,3,FALSE),\"\")","v":80},{"$f":"IFERROR(IF(VLOOKUP(VALUE(A60),'2012-13 BL Civics'!$A$14:$C$200,3,FALSE)<10,\"N<10\",IF(VLOOKUP(VALUE(A60),'2012-13 BL Civics'!$A$14:$C$200,3,FALSE)>D60,100,VLOOKUP(VALUE(A60),'2012-13 BL Civics'!$A$14:$C$200,3,FALSE)/D60%)),\"Not Tested\")","v":100},{"$f":"IFERROR(IF(VLOOKUP(VALUE(A60),'2013-14 BL Civics'!$A$14:$C$200,3,FALSE)<10,\"N<10\",IF(VLOOKUP(VALUE(A60),'2013-14 BL Civics'!$A$14:$C$200,3,FALSE)>E60,100,VLOOKUP(VALUE(A60),'2013-14 BL Civics'!$A$14:$C$200,3,FALSE)/E60%)),\"Not Tested\")","v":97.5},{"$f":"IFERROR(IF(F60=\"N<10\",\"N<10\",VLOOKUP(VALUE($A60),'2012-13 BL Civics'!$A$14:$AG$500,5,FALSE)*100),\"Not Tested\")","v":37},{"$f":"IFERROR(IF(G60=\"N<10\",\"N<10\",VLOOKUP(VALUE($A60),'2013-14 BL Civics'!$A$14:$AG$500,5,FALSE)*100),\"Not Tested\")","v":38},1,{"$f":"IFERROR(IF(H60=\"N<10\",\"N<10\",VLOOKUP(VALUE($A60),'2012-13 BL Civics'!$A$14:$AG$500,11,FALSE)*100),\"Not Tested\")","v":43},{"$f":"IFERROR(IF(I60=\"N<10\",\"N<10\",VLOOKUP(VALUE($A60),'2013-14 BL Civics'!$A$14:$AG$500,11,FALSE)*100),\"Not Tested\")","v":40},-3,{"$f":"IFERROR(IF(K60=\"N<10\",\"N<10\",VLOOKUP(VALUE($A60),'2012-13 BL Civics'!$A$14:$AG$500,17,FALSE)*100),\"Not Tested\")","v":28.000000000000004},{"$f":"IFERROR(IF(L60=\"N<10\",\"N<10\",VLOOKUP(VALUE($A60),'2013-14 BL Civics'!$A$14:$AG$500,17,FALSE)*100),\"Not Tested\")","v":32},3.9999999999999964,{"$f":"IFERROR(IF(J60=\"N<10\",\"N<10\",VLOOKUP(VALUE($A60),'2012-13 BL Civics'!$A$14:$AG$500,23,FALSE)*100),\"Not Tested\")","v":38},{"$f":"IFERROR(IF(K60=\"N<10\",\"N<10\",VLOOKUP(VALUE($A60),'2013-14 BL Civics'!$A$14:$AG$500,23,FALSE)*100),\"Not Tested\")","v":38},0,{"$f":"IFERROR(IF(N60=\"N<10\",\"N<10\",VLOOKUP(VALUE($A60),'2012-13 BL Civics'!$A$14:$AG$500,29,FALSE)*100),\"Not Tested\")","v":41},{"$f":"IFERROR(IF(O60=\"N<10\",\"N<10\",VLOOKUP(VALUE($A60),'2013-14 BL Civics'!$A$14:$AG$500,29,FALSE)*100),\"Not Tested\")","v":47},6]
["5051",null,{"$f":"VLOOKUP(TEXT(A61,\"0000\"),SchList!$A$2:$C$483,2,FALSE)","v":"ERNEST R GRAHAM K-8 CENTER    "},{"$f":"IFERROR(VLOOKUP(TEXT($A61,\"0000\"),'2012 BL Civics Enrollment'!$A$3:$C$500,3,FALSE),0)","v":104},{"$f":"IFERROR(VLOOKUP(TEXT($A61,\"0000\"),'2013 BL Civics Enrollment'!$A$3:$C$500,3,FALSE),\"\")","v":131},{"$f":"IFERROR(IF(VLOOKUP(VALUE(A61),'2012-13 BL Civics'!$A$14:$C$200,3,FALSE)<10,\"N<10\",IF(VLOOKUP(VALUE(A61),'2012-13 BL Civics'!$A$14:$C$200,3,FALSE)>D61,100,VLOOKUP(VALUE(A61),'2012-13 BL Civics'!$A$14:$C$200,3,FALSE)/D61%)),\"Not Tested\")","v":99.038461538461533},{"$f":"IFERROR(IF(VLOOKUP(VALUE(A61),'2013-14 BL Civics'!$A$14:$C$200,3,FALSE)<10,\"N<10\",IF(VLOOKUP(VALUE(A61),'2013-14 BL Civics'!$A$14:$C$200,3,FALSE)>E61,100,VLOOKUP(VALUE(A61),'2013-14 BL Civics'!$A$14:$C$200,3,FALSE)/E61%)),\"Not Tested\")","v":99.236641221374043},{"$f":"IFERROR(IF(F61=\"N<10\",\"N<10\",VLOOKUP(VALUE($A61),'2012-13 BL Civics'!$A$14:$AG$500,5,FALSE)*100),\"Not Tested\")","v":33},{"$f":"IFERROR(IF(G61=\"N<10\",\"N<10\",VLOOKUP(VALUE($A61),'2013-14 BL Civics'!$A$14:$AG$500,5,FALSE)*100),\"Not Tested\")","v":35},2,{"$f":"IFERROR(IF(H61=\"N<10\",\"N<10\",VLOOKUP(VALUE($A61),'2012-13 BL Civics'!$A$14:$AG$500,11,FALSE)*100),\"Not Tested\")","v":39},{"$f":"IFERROR(IF(I61=\"N<10\",\"N<10\",VLOOKUP(VALUE($A61),'2013-14 BL Civics'!$A$14:$AG$500,11,FALSE)*100),\"Not Tested\")","v":37},-2,{"$f":"IFERROR(IF(K61=\"N<10\",\"N<10\",VLOOKUP(VALUE($A61),'2012-13 BL Civics'!$A$14:$AG$500,17,FALSE)*100),\"Not Tested\")","v":27},{"$f":"IFERROR(IF(L61=\"N<10\",\"N<10\",VLOOKUP(VALUE($A61),'2013-14 BL Civics'!$A$14:$AG$500,17,FALSE)*100),\"Not Tested\")","v":28.999999999999996},1.9999999999999964,{"$f":"IFERROR(IF(J61=\"N<10\",\"N<10\",VLOOKUP(VALUE($A61),'2012-13 BL Civics'!$A$14:$AG$500,23,FALSE)*100),\"Not Tested\")","v":30},{"$f":"IFERROR(IF(K61=\"N<10\",\"N<10\",VLOOKUP(VALUE($A61),'2013-14 BL Civics'!$A$14:$AG$500,23,FALSE)*100),\"Not Tested\")","v":33},3,{"$f":"IFERROR(IF(N61=\"N<10\",\"N<10\",VLOOKUP(VALUE($A61),'2012-13 BL Civics'!$A$14:$AG$500,29,FALSE)*100),\"Not Tested\")","v":36},{"$f":"IFERROR(IF(O61=\"N<10\",\"N<10\",VLOOKUP(VALUE($A61),'2013-14 BL Civics'!$A$14:$AG$500,29,FALSE)*100),\"Not Tested\")","v":46},10]
["5101",null,{"$f":"VLOOKUP(TEXT(A62,\"0000\"),SchList!$A$2:$C$483,2,FALSE)","v":"JOHN I. SMITH K-8 CENTER      "},{"$f":"IFERROR(VLOOKUP(TEXT($A62,\"0000\"),'2012 BL Civics Enrollment'!$A$3:$C$500,3,FALSE),0)","v":110},{"$f":"IFERROR(VLOOKUP(TEXT($A62,\"0000\"),'2013 BL Civics Enrollment'!$A$3:$C$500,3,FALSE),\"\")","v":103},{"$f":"IFERROR(IF(VLOOKUP(VALUE(A62),'2012-13 BL Civics'!$A$14:$C$200,3,FALSE)<10,\"N<10\",IF(VLOOKUP(VALUE(A62),'2012-13 BL Civics'!$A$14:$C$200,3,FALSE)>D62,100,VLOOKUP(VALUE(A62),'2012-13 BL Civics'!$A$14:$C$200,3,FALSE)/D62%)),\"Not Tested\")","v":95.454545454545453},{"$f":"IFERROR(IF(VLOOKUP(VALUE(A62),'2013-14 BL Civics'!$A$14:$C$200,3,FALSE)<10,\"N<10\",IF(VLOOKUP(VALUE(A62),'2013-14 BL Civics'!$A$14:$C$200,3,FALSE)>E62,100,VLOOKUP(VALUE(A62),'2013-14 BL Civics'!$A$14:$C$200,3,FALSE)/E62%)),\"Not Tested\")","v":76.699029126213588},{"$f":"IFERROR(IF(F62=\"N<10\",\"N<10\",VLOOKUP(VALUE($A62),'2012-13 BL Civics'!$A$14:$AG$500,5,FALSE)*100),\"Not Tested\")","v":28.000000000000004},{"$f":"IFERROR(IF(G62=\"N<10\",\"N<10\",VLOOKUP(VALUE($A62),'2013-14 BL Civics'!$A$14:$AG$500,5,FALSE)*100),\"Not Tested\")","v":33},4.9999999999999964,{"$f":"IFERROR(IF(H62=\"N<10\",\"N<10\",VLOOKUP(VALUE($A62),'2012-13 BL Civics'!$A$14:$AG$500,11,FALSE)*100),\"Not Tested\")","v":35},{"$f":"IFERROR(IF(I62=\"N<10\",\"N<10\",VLOOKUP(VALUE($A62),'2013-14 BL Civics'!$A$14:$AG$500,11,FALSE)*100),\"Not Tested\")","v":35},0,{"$f":"IFERROR(IF(K62=\"N<10\",\"N<10\",VLOOKUP(VALUE($A62),'2012-13 BL Civics'!$A$14:$AG$500,17,FALSE)*100),\"Not Tested\")","v":21},{"$f":"IFERROR(IF(L62=\"N<10\",\"N<10\",VLOOKUP(VALUE($A62),'2013-14 BL Civics'!$A$14:$AG$500,17,FALSE)*100),\"Not Tested\")","v":31},10,{"$f":"IFERROR(IF(J62=\"N<10\",\"N<10\",VLOOKUP(VALUE($A62),'2012-13 BL Civics'!$A$14:$AG$500,23,FALSE)*100),\"Not Tested\")","v":28.000000000000004},{"$f":"IFERROR(IF(K62=\"N<10\",\"N<10\",VLOOKUP(VALUE($A62),'2013-14 BL Civics'!$A$14:$AG$500,23,FALSE)*100),\"Not Tested\")","v":32},3.9999999999999964,{"$f":"IFERROR(IF(N62=\"N<10\",\"N<10\",VLOOKUP(VALUE($A62),'2012-13 BL Civics'!$A$14:$AG$500,29,FALSE)*100),\"Not Tested\")","v":31},{"$f":"IFERROR(IF(O62=\"N<10\",\"N<10\",VLOOKUP(VALUE($A62),'2013-14 BL Civics'!$A$14:$AG$500,29,FALSE)*100),\"Not Tested\")","v":35},4]
["5141",null,{"$f":"VLOOKUP(TEXT(A63,\"0000\"),SchList!$A$2:$C$483,2,FALSE)","v":"HUBERT O. SIBLEY K-8 CENTER   "},{"$f":"IFERROR(VLOOKUP(TEXT($A63,\"0000\"),'2012 BL Civics Enrollment'!$A$3:$C$500,3,FALSE),0)","v":98},{"$f":"IFERROR(VLOOKUP(TEXT($A63,\"0000\"),'2013 BL Civics Enrollment'!$A$3:$C$500,3,FALSE),\"\")","v":95},{"$f":"IFERROR(IF(VLOOKUP(VALUE(A63),'2012-13 BL Civics'!$A$14:$C$200,3,FALSE)<10,\"N<10\",IF(VLOOKUP(VALUE(A63),'2012-13 BL Civics'!$A$14:$C$200,3,FALSE)>D63,100,VLOOKUP(VALUE(A63),'2012-13 BL Civics'!$A$14:$C$200,3,FALSE)/D63%)),\"Not Tested\")","v":93.877551020408163},{"$f":"IFERROR(IF(VLOOKUP(VALUE(A63),'2013-14 BL Civics'!$A$14:$C$200,3,FALSE)<10,\"N<10\",IF(VLOOKUP(VALUE(A63),'2013-14 BL Civics'!$A$14:$C$200,3,FALSE)>E63,100,VLOOKUP(VALUE(A63),'2013-14 BL Civics'!$A$14:$C$200,3,FALSE)/E63%)),\"Not Tested\")","v":93.684210526315795},{"$f":"IFERROR(IF(F63=\"N<10\",\"N<10\",VLOOKUP(VALUE($A63),'2012-13 BL Civics'!$A$14:$AG$500,5,FALSE)*100),\"Not Tested\")","v":31},{"$f":"IFERROR(IF(G63=\"N<10\",\"N<10\",VLOOKUP(VALUE($A63),'2013-14 BL Civics'!$A$14:$AG$500,5,FALSE)*100),\"Not Tested\")","v":32},1,{"$f":"IFERROR(IF(H63=\"N<10\",\"N<10\",VLOOKUP(VALUE($A63),'2012-13 BL Civics'!$A$14:$AG$500,11,FALSE)*100),\"Not Tested\")","v":34},{"$f":"IFERROR(IF(I63=\"N<10\",\"N<10\",VLOOKUP(VALUE($A63),'2013-14 BL Civics'!$A$14:$AG$500,11,FALSE)*100),\"Not Tested\")","v":31},-3,{"$f":"IFERROR(IF(K63=\"N<10\",\"N<10\",VLOOKUP(VALUE($A63),'2012-13 BL Civics'!$A$14:$AG$500,17,FALSE)*100),\"Not Tested\")","v":26},{"$f":"IFERROR(IF(L63=\"N<10\",\"N<10\",VLOOKUP(VALUE($A63),'2013-14 BL Civics'!$A$14:$AG$500,17,FALSE)*100),\"Not Tested\")","v":27},1,{"$f":"IFERROR(IF(J63=\"N<10\",\"N<10\",VLOOKUP(VALUE($A63),'2012-13 BL Civics'!$A$14:$AG$500,23,FALSE)*100),\"Not Tested\")","v":32},{"$f":"IFERROR(IF(K63=\"N<10\",\"N<10\",VLOOKUP(VALUE($A63),'2013-14 BL Civics'!$A$14:$AG$500,23,FALSE)*100),\"Not Tested\")","v":33},1,{"$f":"IFERROR(IF(N63=\"N<10\",\"N<10\",VLOOKUP(VALUE($A63),'2012-13 BL Civics'!$A$14:$AG$500,29,FALSE)*100),\"Not Tested\")","v":33},{"$f":"IFERROR(IF(O63=\"N<10\",\"N<10\",VLOOKUP(VALUE($A63),'2013-14 BL Civics'!$A$14:$AG$500,29,FALSE)*100),\"Not Tested\")","v":40},7]
["5241",null,{"$f":"VLOOKUP(TEXT(A64,\"0000\"),SchList!$A$2:$C$483,2,FALSE)","v":"SOUTH MIAMI K-8 CENTER        "},{"$f":"IFERROR(VLOOKUP(TEXT($A64,\"0000\"),'2012 BL Civics Enrollment'!$A$3:$C$500,3,FALSE),0)","v":63},{"$f":"IFERROR(VLOOKUP(TEXT($A64,\"0000\"),'2013 BL Civics Enrollment'!$A$3:$C$500,3,FALSE),\"\")","v":64},{"$f":"IFERROR(IF(VLOOKUP(VALUE(A64),'2012-13 BL Civics'!$A$14:$C$200,3,FALSE)<10,\"N<10\",IF(VLOOKUP(VALUE(A64),'2012-13 BL Civics'!$A$14:$C$200,3,FALSE)>D64,100,VLOOKUP(VALUE(A64),'2012-13 BL Civics'!$A$14:$C$200,3,FALSE)/D64%)),\"Not Tested\")","v":100},{"$f":"IFERROR(IF(VLOOKUP(VALUE(A64),'2013-14 BL Civics'!$A$14:$C$200,3,FALSE)<10,\"N<10\",IF(VLOOKUP(VALUE(A64),'2013-14 BL Civics'!$A$14:$C$200,3,FALSE)>E64,100,VLOOKUP(VALUE(A64),'2013-14 BL Civics'!$A$14:$C$200,3,FALSE)/E64%)),\"Not Tested\")","v":100},{"$f":"IFERROR(IF(F64=\"N<10\",\"N<10\",VLOOKUP(VALUE($A64),'2012-13 BL Civics'!$A$14:$AG$500,5,FALSE)*100),\"Not Tested\")","v":32},{"$f":"IFERROR(IF(G64=\"N<10\",\"N<10\",VLOOKUP(VALUE($A64),'2013-14 BL Civics'!$A$14:$AG$500,5,FALSE)*100),\"Not Tested\")","v":43},11,{"$f":"IFERROR(IF(H64=\"N<10\",\"N<10\",VLOOKUP(VALUE($A64),'2012-13 BL Civics'!$A$14:$AG$500,11,FALSE)*100),\"Not Tested\")","v":40},{"$f":"IFERROR(IF(I64=\"N<10\",\"N<10\",VLOOKUP(VALUE($A64),'2013-14 BL Civics'!$A$14:$AG$500,11,FALSE)*100),\"Not Tested\")","v":44},4,{"$f":"IFERROR(IF(K64=\"N<10\",\"N<10\",VLOOKUP(VALUE($A64),'2012-13 BL Civics'!$A$14:$AG$500,17,FALSE)*100),\"Not Tested\")","v":28.000000000000004},{"$f":"IFERROR(IF(L64=\"N<10\",\"N<10\",VLOOKUP(VALUE($A64),'2013-14 BL Civics'!$A$14:$AG$500,17,FALSE)*100),\"Not Tested\")","v":38},9.9999999999999964,{"$f":"IFERROR(IF(J64=\"N<10\",\"N<10\",VLOOKUP(VALUE($A64),'2012-13 BL Civics'!$A$14:$AG$500,23,FALSE)*100),\"Not Tested\")","v":30},{"$f":"IFERROR(IF(K64=\"N<10\",\"N<10\",VLOOKUP(VALUE($A64),'2013-14 BL Civics'!$A$14:$AG$500,23,FALSE)*100),\"Not Tested\")","v":45},15,{"$f":"IFERROR(IF(N64=\"N<10\",\"N<10\",VLOOKUP(VALUE($A64),'2012-13 BL Civics'!$A$14:$AG$500,29,FALSE)*100),\"Not Tested\")","v":32},{"$f":"IFERROR(IF(O64=\"N<10\",\"N<10\",VLOOKUP(VALUE($A64),'2013-14 BL Civics'!$A$14:$AG$500,29,FALSE)*100),\"Not Tested\")","v":45},13]
["5671",null,{"$f":"VLOOKUP(TEXT(A65,\"0000\"),SchList!$A$2:$C$483,2,FALSE)","v":"VINELAND K-8 CENTER           "},{"$f":"IFERROR(VLOOKUP(TEXT($A65,\"0000\"),'2012 BL Civics Enrollment'!$A$3:$C$500,3,FALSE),0)","v":89},{"$f":"IFERROR(VLOOKUP(TEXT($A65,\"0000\"),'2013 BL Civics Enrollment'!$A$3:$C$500,3,FALSE),\"\")","v":82},{"$f":"IFERROR(IF(VLOOKUP(VALUE(A65),'2012-13 BL Civics'!$A$14:$C$200,3,FALSE)<10,\"N<10\",IF(VLOOKUP(VALUE(A65),'2012-13 BL Civics'!$A$14:$C$200,3,FALSE)>D65,100,VLOOKUP(VALUE(A65),'2012-13 BL Civics'!$A$14:$C$200,3,FALSE)/D65%)),\"Not Tested\")","v":100},{"$f":"IFERROR(IF(VLOOKUP(VALUE(A65),'2013-14 BL Civics'!$A$14:$C$200,3,FALSE)<10,\"N<10\",IF(VLOOKUP(VALUE(A65),'2013-14 BL Civics'!$A$14:$C$200,3,FALSE)>E65,100,VLOOKUP(VALUE(A65),'2013-14 BL Civics'!$A$14:$C$200,3,FALSE)/E65%)),\"Not Tested\")","v":97.560975609756099},{"$f":"IFERROR(IF(F65=\"N<10\",\"N<10\",VLOOKUP(VALUE($A65),'2012-13 BL Civics'!$A$14:$AG$500,5,FALSE)*100),\"Not Tested\")","v":40},{"$f":"IFERROR(IF(G65=\"N<10\",\"N<10\",VLOOKUP(VALUE($A65),'2013-14 BL Civics'!$A$14:$AG$500,5,FALSE)*100),\"Not Tested\")","v":39},-1,{"$f":"IFERROR(IF(H65=\"N<10\",\"N<10\",VLOOKUP(VALUE($A65),'2012-13 BL Civics'!$A$14:$AG$500,11,FALSE)*100),\"Not Tested\")","v":47},{"$f":"IFERROR(IF(I65=\"N<10\",\"N<10\",VLOOKUP(VALUE($A65),'2013-14 BL Civics'!$A$14:$AG$500,11,FALSE)*100),\"Not Tested\")","v":42},-5,{"$f":"IFERROR(IF(K65=\"N<10\",\"N<10\",VLOOKUP(VALUE($A65),'2012-13 BL Civics'!$A$14:$AG$500,17,FALSE)*100),\"Not Tested\")","v":30},{"$f":"IFERROR(IF(L65=\"N<10\",\"N<10\",VLOOKUP(VALUE($A65),'2013-14 BL Civics'!$A$14:$AG$500,17,FALSE)*100),\"Not Tested\")","v":34},4,{"$f":"IFERROR(IF(J65=\"N<10\",\"N<10\",VLOOKUP(VALUE($A65),'2012-13 BL Civics'!$A$14:$AG$500,23,FALSE)*100),\"Not Tested\")","v":42},{"$f":"IFERROR(IF(K65=\"N<10\",\"N<10\",VLOOKUP(VALUE($A65),'2013-14 BL Civics'!$A$14:$AG$500,23,FALSE)*100),\"Not Tested\")","v":40},-2,{"$f":"IFERROR(IF(N65=\"N<10\",\"N<10\",VLOOKUP(VALUE($A65),'2012-13 BL Civics'!$A$14:$AG$500,29,FALSE)*100),\"Not Tested\")","v":44},{"$f":"IFERROR(IF(O65=\"N<10\",\"N<10\",VLOOKUP(VALUE($A65),'2013-14 BL Civics'!$A$14:$AG$500,29,FALSE)*100),\"Not Tested\")","v":44},0]
["5861",null,{"$f":"VLOOKUP(TEXT(A66,\"0000\"),SchList!$A$2:$C$483,2,FALSE)","v":"DR H W MACK/W LITTLE RIVER K8 "},{"$f":"IFERROR(VLOOKUP(TEXT($A66,\"0000\"),'2012 BL Civics Enrollment'!$A$3:$C$500,3,FALSE),0)","v":43},{"$f":"IFERROR(VLOOKUP(TEXT($A66,\"0000\"),'2013 BL Civics Enrollment'!$A$3:$C$500,3,FALSE),\"\")","v":44},{"$f":"IFERROR(IF(VLOOKUP(VALUE(A66),'2012-13 BL Civics'!$A$14:$C$200,3,FALSE)<10,\"N<10\",IF(VLOOKUP(VALUE(A66),'2012-13 BL Civics'!$A$14:$C$200,3,FALSE)>D66,100,VLOOKUP(VALUE(A66),'2012-13 BL Civics'!$A$14:$C$200,3,FALSE)/D66%)),\"Not Tested\")","v":83.720930232558146},{"$f":"IFERROR(IF(VLOOKUP(VALUE(A66),'2013-14 BL Civics'!$A$14:$C$200,3,FALSE)<10,\"N<10\",IF(VLOOKUP(VALUE(A66),'2013-14 BL Civics'!$A$14:$C$200,3,FALSE)>E66,100,VLOOKUP(VALUE(A66),'2013-14 BL Civics'!$A$14:$C$200,3,FALSE)/E66%)),\"Not Tested\")","v":90.909090909090907},{"$f":"IFERROR(IF(F66=\"N<10\",\"N<10\",VLOOKUP(VALUE($A66),'2012-13 BL Civics'!$A$14:$AG$500,5,FALSE)*100),\"Not Tested\")","v":33},{"$f":"IFERROR(IF(G66=\"N<10\",\"N<10\",VLOOKUP(VALUE($A66),'2013-14 BL Civics'!$A$14:$AG$500,5,FALSE)*100),\"Not Tested\")","v":34},1,{"$f":"IFERROR(IF(H66=\"N<10\",\"N<10\",VLOOKUP(VALUE($A66),'2012-13 BL Civics'!$A$14:$AG$500,11,FALSE)*100),\"Not Tested\")","v":37},{"$f":"IFERROR(IF(I66=\"N<10\",\"N<10\",VLOOKUP(VALUE($A66),'2013-14 BL Civics'!$A$14:$AG$500,11,FALSE)*100),\"Not Tested\")","v":34},-3,{"$f":"IFERROR(IF(K66=\"N<10\",\"N<10\",VLOOKUP(VALUE($A66),'2012-13 BL Civics'!$A$14:$AG$500,17,FALSE)*100),\"Not Tested\")","v":28.999999999999996},{"$f":"IFERROR(IF(L66=\"N<10\",\"N<10\",VLOOKUP(VALUE($A66),'2013-14 BL Civics'!$A$14:$AG$500,17,FALSE)*100),\"Not Tested\")","v":30},1.0000000000000036,{"$f":"IFERROR(IF(J66=\"N<10\",\"N<10\",VLOOKUP(VALUE($A66),'2012-13 BL Civics'!$A$14:$AG$500,23,FALSE)*100),\"Not Tested\")","v":34},{"$f":"IFERROR(IF(K66=\"N<10\",\"N<10\",VLOOKUP(VALUE($A66),'2013-14 BL Civics'!$A$14:$AG$500,23,FALSE)*100),\"Not Tested\")","v":30},-4,{"$f":"IFERROR(IF(N66=\"N<10\",\"N<10\",VLOOKUP(VALUE($A66),'2012-13 BL Civics'!$A$14:$AG$500,29,FALSE)*100),\"Not Tested\")","v":33},{"$f":"IFERROR(IF(O66=\"N<10\",\"N<10\",VLOOKUP(VALUE($A66),'2013-14 BL Civics'!$A$14:$AG$500,29,FALSE)*100),\"Not Tested\")","v":43},10]
["5901",null,{"$f":"VLOOKUP(TEXT(A67,\"0000\"),SchList!$A$2:$C$483,2,FALSE)","v":"CARRIE P MEEK/WESTVIEW K-8 CTR"},{"$f":"IFERROR(VLOOKUP(TEXT($A67,\"0000\"),'2012 BL Civics Enrollment'!$A$3:$C$500,3,FALSE),0)","v":61},{"$f":"IFERROR(VLOOKUP(TEXT($A67,\"0000\"),'2013 BL Civics Enrollment'!$A$3:$C$500,3,FALSE),\"\")","v":77},{"$f":"IFERROR(IF(VLOOKUP(VALUE(A67),'2012-13 BL Civics'!$A$14:$C$200,3,FALSE)<10,\"N<10\",IF(VLOOKUP(VALUE(A67),'2012-13 BL Civics'!$A$14:$C$200,3,FALSE)>D67,100,VLOOKUP(VALUE(A67),'2012-13 BL Civics'!$A$14:$C$200,3,FALSE)/D67%)),\"Not Tested\")","v":90.163934426229517},{"$f":"IFERROR(IF(VLOOKUP(VALUE(A67),'2013-14 BL Civics'!$A$14:$C$200,3,FALSE)<10,\"N<10\",IF(VLOOKUP(VALUE(A67),'2013-14 BL Civics'!$A$14:$C$200,3,FALSE)>E67,100,VLOOKUP(VALUE(A67),'2013-14 BL Civics'!$A$14:$C$200,3,FALSE)/E67%)),\"Not Tested\")","v":92.20779220779221},{"$f":"IFERROR(IF(F67=\"N<10\",\"N<10\",VLOOKUP(VALUE($A67),'2012-13 BL Civics'!$A$14:$AG$500,5,FALSE)*100),\"Not Tested\")","v":32},{"$f":"IFERROR(IF(G67=\"N<10\",\"N<10\",VLOOKUP(VALUE($A67),'2013-14 BL Civics'!$A$14:$AG$500,5,FALSE)*100),\"Not Tested\")","v":32},0,{"$f":"IFERROR(IF(H67=\"N<10\",\"N<10\",VLOOKUP(VALUE($A67),'2012-13 BL Civics'!$A$14:$AG$500,11,FALSE)*100),\"Not Tested\")","v":37},{"$f":"IFERROR(IF(I67=\"N<10\",\"N<10\",VLOOKUP(VALUE($A67),'2013-14 BL Civics'!$A$14:$AG$500,11,FALSE)*100),\"Not Tested\")","v":35},-2,{"$f":"IFERROR(IF(K67=\"N<10\",\"N<10\",VLOOKUP(VALUE($A67),'2012-13 BL Civics'!$A$14:$AG$500,17,FALSE)*100),\"Not Tested\")","v":27},{"$f":"IFERROR(IF(L67=\"N<10\",\"N<10\",VLOOKUP(VALUE($A67),'2013-14 BL Civics'!$A$14:$AG$500,17,FALSE)*100),\"Not Tested\")","v":27},0,{"$f":"IFERROR(IF(J67=\"N<10\",\"N<10\",VLOOKUP(VALUE($A67),'2012-13 BL Civics'!$A$14:$AG$500,23,FALSE)*100),\"Not Tested\")","v":32},{"$f":"IFERROR(IF(K67=\"N<10\",\"N<10\",VLOOKUP(VALUE($A67),'2013-14 BL Civics'!$A$14:$AG$500,23,FALSE)*100),\"Not Tested\")","v":30},-2,{"$f":"IFERROR(IF(N67=\"N<10\",\"N<10\",VLOOKUP(VALUE($A67),'2012-13 BL Civics'!$A$14:$AG$500,29,FALSE)*100),\"Not Tested\")","v":35},{"$f":"IFERROR(IF(O67=\"N<10\",\"N<10\",VLOOKUP(VALUE($A67),'2013-14 BL Civics'!$A$14:$AG$500,29,FALSE)*100),\"Not Tested\")","v":38},3]
["5961",null,{"$f":"VLOOKUP(TEXT(A68,\"0000\"),SchList!$A$2:$C$483,2,FALSE)","v":"WINSTON PARK K-8 CENTER       "},{"$f":"IFERROR(VLOOKUP(TEXT($A68,\"0000\"),'2012 BL Civics Enrollment'!$A$3:$C$500,3,FALSE),0)","v":164},{"$f":"IFERROR(VLOOKUP(TEXT($A68,\"0000\"),'2013 BL Civics Enrollment'!$A$3:$C$500,3,FALSE),\"\")","v":153},{"$f":"IFERROR(IF(VLOOKUP(VALUE(A68),'2012-13 BL Civics'!$A$14:$C$200,3,FALSE)<10,\"N<10\",IF(VLOOKUP(VALUE(A68),'2012-13 BL Civics'!$A$14:$C$200,3,FALSE)>D68,100,VLOOKUP(VALUE(A68),'2012-13 BL Civics'!$A$14:$C$200,3,FALSE)/D68%)),\"Not Tested\")","v":97.560975609756099},{"$f":"IFERROR(IF(VLOOKUP(VALUE(A68),'2013-14 BL Civics'!$A$14:$C$200,3,FALSE)<10,\"N<10\",IF(VLOOKUP(VALUE(A68),'2013-14 BL Civics'!$A$14:$C$200,3,FALSE)>E68,100,VLOOKUP(VALUE(A68),'2013-14 BL Civics'!$A$14:$C$200,3,FALSE)/E68%)),\"Not Tested\")","v":95.424836601307192},{"$f":"IFERROR(IF(F68=\"N<10\",\"N<10\",VLOOKUP(VALUE($A68),'2012-13 BL Civics'!$A$14:$AG$500,5,FALSE)*100),\"Not Tested\")","v":34},{"$f":"IFERROR(IF(G68=\"N<10\",\"N<10\",VLOOKUP(VALUE($A68),'2013-14 BL Civics'!$A$14:$AG$500,5,FALSE)*100),\"Not Tested\")","v":27},{"$f":"IFERROR(I68-H68,\"\")","v":-7},{"$f":"IFERROR(IF(H68=\"N<10\",\"N<10\",VLOOKUP(VALUE($A68),'2012-13 BL Civics'!$A$14:$AG$500,11,FALSE)*100),\"Not Tested\")","v":43},{"$f":"IFERROR(IF(I68=\"N<10\",\"N<10\",VLOOKUP(VALUE($A68),'2013-14 BL Civics'!$A$14:$AG$500,11,FALSE)*100),\"Not Tested\")","v":26},{"$f":"IFERROR(L68-K68,\"\")","v":-17},{"$f":"IFERROR(IF(K68=\"N<10\",\"N<10\",VLOOKUP(VALUE($A68),'2012-13 BL Civics'!$A$14:$AG$500,17,FALSE)*100),\"Not Tested\")","v":28.999999999999996},{"$f":"IFERROR(IF(L68=\"N<10\",\"N<10\",VLOOKUP(VALUE($A68),'2013-14 BL Civics'!$A$14:$AG$500,17,FALSE)*100),\"Not Tested\")","v":27},{"$f":"IFERROR(O68-N68,\"\")","v":-1.9999999999999964},{"$f":"IFERROR(IF(J68=\"N<10\",\"N<10\",VLOOKUP(VALUE($A68),'2012-13 BL Civics'!$A$14:$AG$500,23,FALSE)*100),\"Not Tested\")","v":35},{"$f":"IFERROR(IF(K68=\"N<10\",\"N<10\",VLOOKUP(VALUE($A68),'2013-14 BL Civics'!$A$14:$AG$500,23,FALSE)*100),\"Not Tested\")","v":27},{"$f":"IFERROR(R68-Q68,\"\")","v":-8},{"$f":"IFERROR(IF(N68=\"N<10\",\"N<10\",VLOOKUP(VALUE($A68),'2012-13 BL Civics'!$A$14:$AG$500,29,FALSE)*100),\"Not Tested\")","v":33},{"$f":"IFERROR(IF(O68=\"N<10\",\"N<10\",VLOOKUP(VALUE($A68),'2013-14 BL Civics'!$A$14:$AG$500,29,FALSE)*100),\"Not Tested\")","v":28.000000000000004},{"$f":"IFERROR(U68-T68,\"\")","v":-4.9999999999999964}]
["6001",null,{"$f":"VLOOKUP(TEXT(A69,\"0000\"),SchList!$A$2:$C$483,2,FALSE)","v":"HERBERT A. AMMONS MIDDLE      "},{"$f":"IFERROR(VLOOKUP(TEXT($A69,\"0000\"),'2012 BL Civics Enrollment'!$A$3:$C$500,3,FALSE),0)","v":419},{"$f":"IFERROR(VLOOKUP(TEXT($A69,\"0000\"),'2013 BL Civics Enrollment'!$A$3:$C$500,3,FALSE),\"\")","v":402},{"$f":"IFERROR(IF(VLOOKUP(VALUE(A69),'2012-13 BL Civics'!$A$14:$C$200,3,FALSE)<10,\"N<10\",IF(VLOOKUP(VALUE(A69),'2012-13 BL Civics'!$A$14:$C$200,3,FALSE)>D69,100,VLOOKUP(VALUE(A69),'2012-13 BL Civics'!$A$14:$C$200,3,FALSE)/D69%)),\"Not Tested\")","v":99.045346062052502},{"$f":"IFERROR(IF(VLOOKUP(VALUE(A69),'2013-14 BL Civics'!$A$14:$C$200,3,FALSE)<10,\"N<10\",IF(VLOOKUP(VALUE(A69),'2013-14 BL Civics'!$A$14:$C$200,3,FALSE)>E69,100,VLOOKUP(VALUE(A69),'2013-14 BL Civics'!$A$14:$C$200,3,FALSE)/E69%)),\"Not Tested\")","v":99.751243781094544},{"$f":"IFERROR(IF(F69=\"N<10\",\"N<10\",VLOOKUP(VALUE($A69),'2012-13 BL Civics'!$A$14:$AG$500,5,FALSE)*100),\"Not Tested\")","v":40},{"$f":"IFERROR(IF(G69=\"N<10\",\"N<10\",VLOOKUP(VALUE($A69),'2013-14 BL Civics'!$A$14:$AG$500,5,FALSE)*100),\"Not Tested\")","v":47},7,{"$f":"IFERROR(IF(H69=\"N<10\",\"N<10\",VLOOKUP(VALUE($A69),'2012-13 BL Civics'!$A$14:$AG$500,11,FALSE)*100),\"Not Tested\")","v":52},{"$f":"IFERROR(IF(I69=\"N<10\",\"N<10\",VLOOKUP(VALUE($A69),'2013-14 BL Civics'!$A$14:$AG$500,11,FALSE)*100),\"Not Tested\")","v":50},-2,{"$f":"IFERROR(IF(K69=\"N<10\",\"N<10\",VLOOKUP(VALUE($A69),'2012-13 BL Civics'!$A$14:$AG$500,17,FALSE)*100),\"Not Tested\")","v":31},{"$f":"IFERROR(IF(L69=\"N<10\",\"N<10\",VLOOKUP(VALUE($A69),'2013-14 BL Civics'!$A$14:$AG$500,17,FALSE)*100),\"Not Tested\")","v":42},11,{"$f":"IFERROR(IF(J69=\"N<10\",\"N<10\",VLOOKUP(VALUE($A69),'2012-13 BL Civics'!$A$14:$AG$500,23,FALSE)*100),\"Not Tested\")","v":40},{"$f":"IFERROR(IF(K69=\"N<10\",\"N<10\",VLOOKUP(VALUE($A69),'2013-14 BL Civics'!$A$14:$AG$500,23,FALSE)*100),\"Not Tested\")","v":46},6,{"$f":"IFERROR(IF(N69=\"N<10\",\"N<10\",VLOOKUP(VALUE($A69),'2012-13 BL Civics'!$A$14:$AG$500,29,FALSE)*100),\"Not Tested\")","v":41},{"$f":"IFERROR(IF(O69=\"N<10\",\"N<10\",VLOOKUP(VALUE($A69),'2013-14 BL Civics'!$A$14:$AG$500,29,FALSE)*100),\"Not Tested\")","v":52},11]
["6004",null,{"$f":"VLOOKUP(TEXT(A70,\"0000\"),SchList!$A$2:$C$483,2,FALSE)","v":"SOMERSET ACADEMY MIDDLE       "},{"$f":"IFERROR(VLOOKUP(TEXT($A70,\"0000\"),'2012 BL Civics Enrollment'!$A$3:$C$500,3,FALSE),0)","v":92},{"$f":"IFERROR(VLOOKUP(TEXT($A70,\"0000\"),'2013 BL Civics Enrollment'!$A$3:$C$500,3,FALSE),\"\")","v":73},{"$f":"IFERROR(IF(VLOOKUP(VALUE(A70),'2012-13 BL Civics'!$A$14:$C$200,3,FALSE)<10,\"N<10\",IF(VLOOKUP(VALUE(A70),'2012-13 BL Civics'!$A$14:$C$200,3,FALSE)>D70,100,VLOOKUP(VALUE(A70),'2012-13 BL Civics'!$A$14:$C$200,3,FALSE)/D70%)),\"Not Tested\")","v":100},{"$f":"IFERROR(IF(VLOOKUP(VALUE(A70),'2013-14 BL Civics'!$A$14:$C$200,3,FALSE)<10,\"N<10\",IF(VLOOKUP(VALUE(A70),'2013-14 BL Civics'!$A$14:$C$200,3,FALSE)>E70,100,VLOOKUP(VALUE(A70),'2013-14 BL Civics'!$A$14:$C$200,3,FALSE)/E70%)),\"Not Tested\")","v":97.260273972602747},{"$f":"IFERROR(IF(F70=\"N<10\",\"N<10\",VLOOKUP(VALUE($A70),'2012-13 BL Civics'!$A$14:$AG$500,5,FALSE)*100),\"Not Tested\")","v":36},{"$f":"IFERROR(IF(G70=\"N<10\",\"N<10\",VLOOKUP(VALUE($A70),'2013-14 BL Civics'!$A$14:$AG$500,5,FALSE)*100),\"Not Tested\")","v":37},1,{"$f":"IFERROR(IF(H70=\"N<10\",\"N<10\",VLOOKUP(VALUE($A70),'2012-13 BL Civics'!$A$14:$AG$500,11,FALSE)*100),\"Not Tested\")","v":44},{"$f":"IFERROR(IF(I70=\"N<10\",\"N<10\",VLOOKUP(VALUE($A70),'2013-14 BL Civics'!$A$14:$AG$500,11,FALSE)*100),\"Not Tested\")","v":37},-7,{"$f":"IFERROR(IF(K70=\"N<10\",\"N<10\",VLOOKUP(VALUE($A70),'2012-13 BL Civics'!$A$14:$AG$500,17,FALSE)*100),\"Not Tested\")","v":30},{"$f":"IFERROR(IF(L70=\"N<10\",\"N<10\",VLOOKUP(VALUE($A70),'2013-14 BL Civics'!$A$14:$AG$500,17,FALSE)*100),\"Not Tested\")","v":31},1,{"$f":"IFERROR(IF(J70=\"N<10\",\"N<10\",VLOOKUP(VALUE($A70),'2012-13 BL Civics'!$A$14:$AG$500,23,FALSE)*100),\"Not Tested\")","v":35},{"$f":"IFERROR(IF(K70=\"N<10\",\"N<10\",VLOOKUP(VALUE($A70),'2013-14 BL Civics'!$A$14:$AG$500,23,FALSE)*100),\"Not Tested\")","v":37},2,{"$f":"IFERROR(IF(N70=\"N<10\",\"N<10\",VLOOKUP(VALUE($A70),'2012-13 BL Civics'!$A$14:$AG$500,29,FALSE)*100),\"Not Tested\")","v":38},{"$f":"IFERROR(IF(O70=\"N<10\",\"N<10\",VLOOKUP(VALUE($A70),'2013-14 BL Civics'!$A$14:$AG$500,29,FALSE)*100),\"Not Tested\")","v":48},10]
["6005",null,{"$f":"VLOOKUP(TEXT(A71,\"0000\"),SchList!$A$2:$C$483,2,FALSE)","v":"RAMZ ACAD MIDDLE MIAMI CAMPUS "},{"$f":"IFERROR(VLOOKUP(TEXT($A71,\"0000\"),'2012 BL Civics Enrollment'!$A$3:$C$500,3,FALSE),0)","v":36},{"$f":"IFERROR(VLOOKUP(TEXT($A71,\"0000\"),'2013 BL Civics Enrollment'!$A$3:$C$500,3,FALSE),\"\")","v":46},{"$f":"IFERROR(IF(VLOOKUP(VALUE(A71),'2012-13 BL Civics'!$A$14:$C$200,3,FALSE)<10,\"N<10\",IF(VLOOKUP(VALUE(A71),'2012-13 BL Civics'!$A$14:$C$200,3,FALSE)>D71,100,VLOOKUP(VALUE(A71),'2012-13 BL Civics'!$A$14:$C$200,3,FALSE)/D71%)),\"Not Tested\")","v":100},{"$f":"IFERROR(IF(VLOOKUP(VALUE(A71),'2013-14 BL Civics'!$A$14:$C$200,3,FALSE)<10,\"N<10\",IF(VLOOKUP(VALUE(A71),'2013-14 BL Civics'!$A$14:$C$200,3,FALSE)>E71,100,VLOOKUP(VALUE(A71),'2013-14 BL Civics'!$A$14:$C$200,3,FALSE)/E71%)),\"Not Tested\")","v":97.826086956521735},{"$f":"IFERROR(IF(F71=\"N<10\",\"N<10\",VLOOKUP(VALUE($A71),'2012-13 BL Civics'!$A$14:$AG$500,5,FALSE)*100),\"Not Tested\")","v":31},{"$f":"IFERROR(IF(G71=\"N<10\",\"N<10\",VLOOKUP(VALUE($A71),'2013-14 BL Civics'!$A$14:$AG$500,5,FALSE)*100),\"Not Tested\")","v":34},3,{"$f":"IFERROR(IF(H71=\"N<10\",\"N<10\",VLOOKUP(VALUE($A71),'2012-13 BL Civics'!$A$14:$AG$500,11,FALSE)*100),\"Not Tested\")","v":35},{"$f":"IFERROR(IF(I71=\"N<10\",\"N<10\",VLOOKUP(VALUE($A71),'2013-14 BL Civics'!$A$14:$AG$500,11,FALSE)*100),\"Not Tested\")","v":37},2,{"$f":"IFERROR(IF(K71=\"N<10\",\"N<10\",VLOOKUP(VALUE($A71),'2012-13 BL Civics'!$A$14:$AG$500,17,FALSE)*100),\"Not Tested\")","v":28.999999999999996},{"$f":"IFERROR(IF(L71=\"N<10\",\"N<10\",VLOOKUP(VALUE($A71),'2013-14 BL Civics'!$A$14:$AG$500,17,FALSE)*100),\"Not Tested\")","v":27},-1.9999999999999964,{"$f":"IFERROR(IF(J71=\"N<10\",\"N<10\",VLOOKUP(VALUE($A71),'2012-13 BL Civics'!$A$14:$AG$500,23,FALSE)*100),\"Not Tested\")","v":26},{"$f":"IFERROR(IF(K71=\"N<10\",\"N<10\",VLOOKUP(VALUE($A71),'2013-14 BL Civics'!$A$14:$AG$500,23,FALSE)*100),\"Not Tested\")","v":34},8,{"$f":"IFERROR(IF(N71=\"N<10\",\"N<10\",VLOOKUP(VALUE($A71),'2012-13 BL Civics'!$A$14:$AG$500,29,FALSE)*100),\"Not Tested\")","v":35},{"$f":"IFERROR(IF(O71=\"N<10\",\"N<10\",VLOOKUP(VALUE($A71),'2013-14 BL Civics'!$A$14:$AG$500,29,FALSE)*100),\"Not Tested\")","v":41},6]
["6006",null,{"$f":"VLOOKUP(TEXT(A72,\"0000\"),SchList!$A$2:$C$483,2,FALSE)","v":"ARCHIMEDEAN CONSERVATORY      "},{"$f":"IFERROR(VLOOKUP(TEXT($A72,\"0000\"),'2012 BL Civics Enrollment'!$A$3:$C$500,3,FALSE),0)","v":121},{"$f":"IFERROR(VLOOKUP(TEXT($A72,\"0000\"),'2013 BL Civics Enrollment'!$A$3:$C$500,3,FALSE),\"\")","v":109},{"$f":"IFERROR(IF(VLOOKUP(VALUE(A72),'2012-13 BL Civics'!$A$14:$C$200,3,FALSE)<10,\"N<10\",IF(VLOOKUP(VALUE(A72),'2012-13 BL Civics'!$A$14:$C$200,3,FALSE)>D72,100,VLOOKUP(VALUE(A72),'2012-13 BL Civics'!$A$14:$C$200,3,FALSE)/D72%)),\"Not Tested\")","v":100},{"$f":"IFERROR(IF(VLOOKUP(VALUE(A72),'2013-14 BL Civics'!$A$14:$C$200,3,FALSE)<10,\"N<10\",IF(VLOOKUP(VALUE(A72),'2013-14 BL Civics'!$A$14:$C$200,3,FALSE)>E72,100,VLOOKUP(VALUE(A72),'2013-14 BL Civics'!$A$14:$C$200,3,FALSE)/E72%)),\"Not Tested\")","v":99.999999999999986},{"$f":"IFERROR(IF(F72=\"N<10\",\"N<10\",VLOOKUP(VALUE($A72),'2012-13 BL Civics'!$A$14:$AG$500,5,FALSE)*100),\"Not Tested\")","v":41},{"$f":"IFERROR(IF(G72=\"N<10\",\"N<10\",VLOOKUP(VALUE($A72),'2013-14 BL Civics'!$A$14:$AG$500,5,FALSE)*100),\"Not Tested\")","v":44},3,{"$f":"IFERROR(IF(H72=\"N<10\",\"N<10\",VLOOKUP(VALUE($A72),'2012-13 BL Civics'!$A$14:$AG$500,11,FALSE)*100),\"Not Tested\")","v":51},{"$f":"IFERROR(IF(I72=\"N<10\",\"N<10\",VLOOKUP(VALUE($A72),'2013-14 BL Civics'!$A$14:$AG$500,11,FALSE)*100),\"Not Tested\")","v":52},1,{"$f":"IFERROR(IF(K72=\"N<10\",\"N<10\",VLOOKUP(VALUE($A72),'2012-13 BL Civics'!$A$14:$AG$500,17,FALSE)*100),\"Not Tested\")","v":30},{"$f":"IFERROR(IF(L72=\"N<10\",\"N<10\",VLOOKUP(VALUE($A72),'2013-14 BL Civics'!$A$14:$AG$500,17,FALSE)*100),\"Not Tested\")","v":35},5,{"$f":"IFERROR(IF(J72=\"N<10\",\"N<10\",VLOOKUP(VALUE($A72),'2012-13 BL Civics'!$A$14:$AG$500,23,FALSE)*100),\"Not Tested\")","v":44},{"$f":"IFERROR(IF(K72=\"N<10\",\"N<10\",VLOOKUP(VALUE($A72),'2013-14 BL Civics'!$A$14:$AG$500,23,FALSE)*100),\"Not Tested\")","v":45},1,{"$f":"IFERROR(IF(N72=\"N<10\",\"N<10\",VLOOKUP(VALUE($A72),'2012-13 BL Civics'!$A$14:$AG$500,29,FALSE)*100),\"Not Tested\")","v":43},{"$f":"IFERROR(IF(O72=\"N<10\",\"N<10\",VLOOKUP(VALUE($A72),'2013-14 BL Civics'!$A$14:$AG$500,29,FALSE)*100),\"Not Tested\")","v":48},5]
["6008",null,{"$f":"VLOOKUP(TEXT(A73,\"0000\"),SchList!$A$2:$C$483,2,FALSE)","v":"LAWRENCE ACADEMY MIDDLE       "},{"$f":"IFERROR(VLOOKUP(TEXT($A73,\"0000\"),'2012 BL Civics Enrollment'!$A$3:$C$500,3,FALSE),0)","v":35},{"$f":"IFERROR(VLOOKUP(TEXT($A73,\"0000\"),'2013 BL Civics Enrollment'!$A$3:$C$500,3,FALSE),\"\")","v":28},{"$f":"IFERROR(IF(VLOOKUP(VALUE(A73),'2012-13 BL Civics'!$A$14:$C$200,3,FALSE)<10,\"N<10\",IF(VLOOKUP(VALUE(A73),'2012-13 BL Civics'!$A$14:$C$200,3,FALSE)>D73,100,VLOOKUP(VALUE(A73),'2012-13 BL Civics'!$A$14:$C$200,3,FALSE)/D73%)),\"Not Tested\")","v":77.142857142857153},{"$f":"IFERROR(IF(VLOOKUP(VALUE(A73),'2013-14 BL Civics'!$A$14:$C$200,3,FALSE)<10,\"N<10\",IF(VLOOKUP(VALUE(A73),'2013-14 BL Civics'!$A$14:$C$200,3,FALSE)>E73,100,VLOOKUP(VALUE(A73),'2013-14 BL Civics'!$A$14:$C$200,3,FALSE)/E73%)),\"Not Tested\")","v":89.285714285714278},{"$f":"IFERROR(IF(F73=\"N<10\",\"N<10\",VLOOKUP(VALUE($A73),'2012-13 BL Civics'!$A$14:$AG$500,5,FALSE)*100),\"Not Tested\")","v":34},{"$f":"IFERROR(IF(G73=\"N<10\",\"N<10\",VLOOKUP(VALUE($A73),'2013-14 BL Civics'!$A$14:$AG$500,5,FALSE)*100),\"Not Tested\")","v":34},0,{"$f":"IFERROR(IF(H73=\"N<10\",\"N<10\",VLOOKUP(VALUE($A73),'2012-13 BL Civics'!$A$14:$AG$500,11,FALSE)*100),\"Not Tested\")","v":32},{"$f":"IFERROR(IF(I73=\"N<10\",\"N<10\",VLOOKUP(VALUE($A73),'2013-14 BL Civics'!$A$14:$AG$500,11,FALSE)*100),\"Not Tested\")","v":31},-1,{"$f":"IFERROR(IF(K73=\"N<10\",\"N<10\",VLOOKUP(VALUE($A73),'2012-13 BL Civics'!$A$14:$AG$500,17,FALSE)*100),\"Not Tested\")","v":30},{"$f":"IFERROR(IF(L73=\"N<10\",\"N<10\",VLOOKUP(VALUE($A73),'2013-14 BL Civics'!$A$14:$AG$500,17,FALSE)*100),\"Not Tested\")","v":30},0,{"$f":"IFERROR(IF(J73=\"N<10\",\"N<10\",VLOOKUP(VALUE($A73),'2012-13 BL Civics'!$A$14:$AG$500,23,FALSE)*100),\"Not Tested\")","v":38},{"$f":"IFERROR(IF(K73=\"N<10\",\"N<10\",VLOOKUP(VALUE($A73),'2013-14 BL Civics'!$A$14:$AG$500,23,FALSE)*100),\"Not Tested\")","v":37},-1,{"$f":"IFERROR(IF(N73=\"N<10\",\"N<10\",VLOOKUP(VALUE($A73),'2012-13 BL Civics'!$A$14:$AG$500,29,FALSE)*100),\"Not Tested\")","v":37},{"$f":"IFERROR(IF(O73=\"N<10\",\"N<10\",VLOOKUP(VALUE($A73),'2013-14 BL Civics'!$A$14:$AG$500,29,FALSE)*100),\"Not Tested\")","v":40},3]
["6009",null,{"$f":"VLOOKUP(TEXT(A74,\"0000\"),SchList!$A$2:$C$483,2,FALSE)","v":"MATER ACADEMY EAST MIDDLE     "},{"$f":"IFERROR(VLOOKUP(TEXT($A74,\"0000\"),'2012 BL Civics Enrollment'!$A$3:$C$500,3,FALSE),0)","v":116},{"$f":"IFERROR(VLOOKUP(TEXT($A74,\"0000\"),'2013 BL Civics Enrollment'!$A$3:$C$500,3,FALSE),\"\")","v":118},{"$f":"IFERROR(IF(VLOOKUP(VALUE(A74),'2012-13 BL Civics'!$A$14:$C$200,3,FALSE)<10,\"N<10\",IF(VLOOKUP(VALUE(A74),'2012-13 BL Civics'!$A$14:$C$200,3,FALSE)>D74,100,VLOOKUP(VALUE(A74),'2012-13 BL Civics'!$A$14:$C$200,3,FALSE)/D74%)),\"Not Tested\")","v":96.551724137931046},{"$f":"IFERROR(IF(VLOOKUP(VALUE(A74),'2013-14 BL Civics'!$A$14:$C$200,3,FALSE)<10,\"N<10\",IF(VLOOKUP(VALUE(A74),'2013-14 BL Civics'!$A$14:$C$200,3,FALSE)>E74,100,VLOOKUP(VALUE(A74),'2013-14 BL Civics'!$A$14:$C$200,3,FALSE)/E74%)),\"Not Tested\")","v":92.372881355932208},{"$f":"IFERROR(IF(F74=\"N<10\",\"N<10\",VLOOKUP(VALUE($A74),'2012-13 BL Civics'!$A$14:$AG$500,5,FALSE)*100),\"Not Tested\")","v":35},{"$f":"IFERROR(IF(G74=\"N<10\",\"N<10\",VLOOKUP(VALUE($A74),'2013-14 BL Civics'!$A$14:$AG$500,5,FALSE)*100),\"Not Tested\")","v":37},2,{"$f":"IFERROR(IF(H74=\"N<10\",\"N<10\",VLOOKUP(VALUE($A74),'2012-13 BL Civics'!$A$14:$AG$500,11,FALSE)*100),\"Not Tested\")","v":38},{"$f":"IFERROR(IF(I74=\"N<10\",\"N<10\",VLOOKUP(VALUE($A74),'2013-14 BL Civics'!$A$14:$AG$500,11,FALSE)*100),\"Not Tested\")","v":40},2,{"$f":"IFERROR(IF(K74=\"N<10\",\"N<10\",VLOOKUP(VALUE($A74),'2012-13 BL Civics'!$A$14:$AG$500,17,FALSE)*100),\"Not Tested\")","v":30},{"$f":"IFERROR(IF(L74=\"N<10\",\"N<10\",VLOOKUP(VALUE($A74),'2013-14 BL Civics'!$A$14:$AG$500,17,FALSE)*100),\"Not Tested\")","v":32},2,{"$f":"IFERROR(IF(J74=\"N<10\",\"N<10\",VLOOKUP(VALUE($A74),'2012-13 BL Civics'!$A$14:$AG$500,23,FALSE)*100),\"Not Tested\")","v":35},{"$f":"IFERROR(IF(K74=\"N<10\",\"N<10\",VLOOKUP(VALUE($A74),'2013-14 BL Civics'!$A$14:$AG$500,23,FALSE)*100),\"Not Tested\")","v":37},2,{"$f":"IFERROR(IF(N74=\"N<10\",\"N<10\",VLOOKUP(VALUE($A74),'2012-13 BL Civics'!$A$14:$AG$500,29,FALSE)*100),\"Not Tested\")","v":37},{"$f":"IFERROR(IF(O74=\"N<10\",\"N<10\",VLOOKUP(VALUE($A74),'2013-14 BL Civics'!$A$14:$AG$500,29,FALSE)*100),\"Not Tested\")","v":42},5]
["6010",null,{"$f":"VLOOKUP(TEXT(A75,\"0000\"),SchList!$A$2:$C$483,2,FALSE)","v":"FLORIDA INTERNATIONAL ACADEMY "},{"$f":"IFERROR(VLOOKUP(TEXT($A75,\"0000\"),'2012 BL Civics Enrollment'!$A$3:$C$500,3,FALSE),0)","v":123},{"$f":"IFERROR(VLOOKUP(TEXT($A75,\"0000\"),'2013 BL Civics Enrollment'!$A$3:$C$500,3,FALSE),\"\")","v":93},{"$f":"IFERROR(IF(VLOOKUP(VALUE(A75),'2012-13 BL Civics'!$A$14:$C$200,3,FALSE)<10,\"N<10\",IF(VLOOKUP(VALUE(A75),'2012-13 BL Civics'!$A$14:$C$200,3,FALSE)>D75,100,VLOOKUP(VALUE(A75),'2012-13 BL Civics'!$A$14:$C$200,3,FALSE)/D75%)),\"Not Tested\")","v":95.121951219512198},{"$f":"IFERROR(IF(VLOOKUP(VALUE(A75),'2013-14 BL Civics'!$A$14:$C$200,3,FALSE)<10,\"N<10\",IF(VLOOKUP(VALUE(A75),'2013-14 BL Civics'!$A$14:$C$200,3,FALSE)>E75,100,VLOOKUP(VALUE(A75),'2013-14 BL Civics'!$A$14:$C$200,3,FALSE)/E75%)),\"Not Tested\")","v":70.967741935483872},{"$f":"IFERROR(IF(F75=\"N<10\",\"N<10\",VLOOKUP(VALUE($A75),'2012-13 BL Civics'!$A$14:$AG$500,5,FALSE)*100),\"Not Tested\")","v":32},{"$f":"IFERROR(IF(G75=\"N<10\",\"N<10\",VLOOKUP(VALUE($A75),'2013-14 BL Civics'!$A$14:$AG$500,5,FALSE)*100),\"Not Tested\")","v":33},1,{"$f":"IFERROR(IF(H75=\"N<10\",\"N<10\",VLOOKUP(VALUE($A75),'2012-13 BL Civics'!$A$14:$AG$500,11,FALSE)*100),\"Not Tested\")","v":40},{"$f":"IFERROR(IF(I75=\"N<10\",\"N<10\",VLOOKUP(VALUE($A75),'2013-14 BL Civics'!$A$14:$AG$500,11,FALSE)*100),\"Not Tested\")","v":32},-8,{"$f":"IFERROR(IF(K75=\"N<10\",\"N<10\",VLOOKUP(VALUE($A75),'2012-13 BL Civics'!$A$14:$AG$500,17,FALSE)*100),\"Not Tested\")","v":27},{"$f":"IFERROR(IF(L75=\"N<10\",\"N<10\",VLOOKUP(VALUE($A75),'2013-14 BL Civics'!$A$14:$AG$500,17,FALSE)*100),\"Not Tested\")","v":28.000000000000004},1.0000000000000036,{"$f":"IFERROR(IF(J75=\"N<10\",\"N<10\",VLOOKUP(VALUE($A75),'2012-13 BL Civics'!$A$14:$AG$500,23,FALSE)*100),\"Not Tested\")","v":31},{"$f":"IFERROR(IF(K75=\"N<10\",\"N<10\",VLOOKUP(VALUE($A75),'2013-14 BL Civics'!$A$14:$AG$500,23,FALSE)*100),\"Not Tested\")","v":32},1,{"$f":"IFERROR(IF(N75=\"N<10\",\"N<10\",VLOOKUP(VALUE($A75),'2012-13 BL Civics'!$A$14:$AG$500,29,FALSE)*100),\"Not Tested\")","v":32},{"$f":"IFERROR(IF(O75=\"N<10\",\"N<10\",VLOOKUP(VALUE($A75),'2013-14 BL Civics'!$A$14:$AG$500,29,FALSE)*100),\"Not Tested\")","v":43},11]
["6011",null,{"$f":"VLOOKUP(TEXT(A76,\"0000\"),SchList!$A$2:$C$483,2,FALSE)","v":"ALLAPATTAH MIDDLE             "},{"$f":"IFERROR(VLOOKUP(TEXT($A76,\"0000\"),'2012 BL Civics Enrollment'!$A$3:$C$500,3,FALSE),0)","v":193},{"$f":"IFERROR(VLOOKUP(TEXT($A76,\"0000\"),'2013 BL Civics Enrollment'!$A$3:$C$500,3,FALSE),\"\")","v":163},{"$f":"IFERROR(IF(VLOOKUP(VALUE(A76),'2012-13 BL Civics'!$A$14:$C$200,3,FALSE)<10,\"N<10\",IF(VLOOKUP(VALUE(A76),'2012-13 BL Civics'!$A$14:$C$200,3,FALSE)>D76,100,VLOOKUP(VALUE(A76),'2012-13 BL Civics'!$A$14:$C$200,3,FALSE)/D76%)),\"Not Tested\")","v":75.129533678756474},{"$f":"IFERROR(IF(VLOOKUP(VALUE(A76),'2013-14 BL Civics'!$A$14:$C$200,3,FALSE)<10,\"N<10\",IF(VLOOKUP(VALUE(A76),'2013-14 BL Civics'!$A$14:$C$200,3,FALSE)>E76,100,VLOOKUP(VALUE(A76),'2013-14 BL Civics'!$A$14:$C$200,3,FALSE)/E76%)),\"Not Tested\")","v":92.024539877300626},{"$f":"IFERROR(IF(F76=\"N<10\",\"N<10\",VLOOKUP(VALUE($A76),'2012-13 BL Civics'!$A$14:$AG$500,5,FALSE)*100),\"Not Tested\")","v":28.999999999999996},{"$f":"IFERROR(IF(G76=\"N<10\",\"N<10\",VLOOKUP(VALUE($A76),'2013-14 BL Civics'!$A$14:$AG$500,5,FALSE)*100),\"Not Tested\")","v":28.000000000000004},-0.99999999999999289,{"$f":"IFERROR(IF(H76=\"N<10\",\"N<10\",VLOOKUP(VALUE($A76),'2012-13 BL Civics'!$A$14:$AG$500,11,FALSE)*100),\"Not Tested\")","v":33},{"$f":"IFERROR(IF(I76=\"N<10\",\"N<10\",VLOOKUP(VALUE($A76),'2013-14 BL Civics'!$A$14:$AG$500,11,FALSE)*100),\"Not Tested\")","v":30},-3,{"$f":"IFERROR(IF(K76=\"N<10\",\"N<10\",VLOOKUP(VALUE($A76),'2012-13 BL Civics'!$A$14:$AG$500,17,FALSE)*100),\"Not Tested\")","v":24},{"$f":"IFERROR(IF(L76=\"N<10\",\"N<10\",VLOOKUP(VALUE($A76),'2013-14 BL Civics'!$A$14:$AG$500,17,FALSE)*100),\"Not Tested\")","v":27},3,{"$f":"IFERROR(IF(J76=\"N<10\",\"N<10\",VLOOKUP(VALUE($A76),'2012-13 BL Civics'!$A$14:$AG$500,23,FALSE)*100),\"Not Tested\")","v":28.999999999999996},{"$f":"IFERROR(IF(K76=\"N<10\",\"N<10\",VLOOKUP(VALUE($A76),'2013-14 BL Civics'!$A$14:$AG$500,23,FALSE)*100),\"Not Tested\")","v":27},-1.9999999999999964,{"$f":"IFERROR(IF(N76=\"N<10\",\"N<10\",VLOOKUP(VALUE($A76),'2012-13 BL Civics'!$A$14:$AG$500,29,FALSE)*100),\"Not Tested\")","v":32},{"$f":"IFERROR(IF(O76=\"N<10\",\"N<10\",VLOOKUP(VALUE($A76),'2013-14 BL Civics'!$A$14:$AG$500,29,FALSE)*100),\"Not Tested\")","v":32},0]
["6012",null,{"$f":"VLOOKUP(TEXT(A77,\"0000\"),SchList!$A$2:$C$483,2,FALSE)","v":"MATER ACADEMY CHARTER MIDDLE  "},{"$f":"IFERROR(VLOOKUP(TEXT($A77,\"0000\"),'2012 BL Civics Enrollment'!$A$3:$C$500,3,FALSE),0)","v":502},{"$f":"IFERROR(VLOOKUP(TEXT($A77,\"0000\"),'2013 BL Civics Enrollment'!$A$3:$C$500,3,FALSE),\"\")","v":462},{"$f":"IFERROR(IF(VLOOKUP(VALUE(A77),'2012-13 BL Civics'!$A$14:$C$200,3,FALSE)<10,\"N<10\",IF(VLOOKUP(VALUE(A77),'2012-13 BL Civics'!$A$14:$C$200,3,FALSE)>D77,100,VLOOKUP(VALUE(A77),'2012-13 BL Civics'!$A$14:$C$200,3,FALSE)/D77%)),\"Not Tested\")","v":97.011952191235068},{"$f":"IFERROR(IF(VLOOKUP(VALUE(A77),'2013-14 BL Civics'!$A$14:$C$200,3,FALSE)<10,\"N<10\",IF(VLOOKUP(VALUE(A77),'2013-14 BL Civics'!$A$14:$C$200,3,FALSE)>E77,100,VLOOKUP(VALUE(A77),'2013-14 BL Civics'!$A$14:$C$200,3,FALSE)/E77%)),\"Not Tested\")","v":95.454545454545453},{"$f":"IFERROR(IF(F77=\"N<10\",\"N<10\",VLOOKUP(VALUE($A77),'2012-13 BL Civics'!$A$14:$AG$500,5,FALSE)*100),\"Not Tested\")","v":36},{"$f":"IFERROR(IF(G77=\"N<10\",\"N<10\",VLOOKUP(VALUE($A77),'2013-14 BL Civics'!$A$14:$AG$500,5,FALSE)*100),\"Not Tested\")","v":39},3,{"$f":"IFERROR(IF(H77=\"N<10\",\"N<10\",VLOOKUP(VALUE($A77),'2012-13 BL Civics'!$A$14:$AG$500,11,FALSE)*100),\"Not Tested\")","v":44},{"$f":"IFERROR(IF(I77=\"N<10\",\"N<10\",VLOOKUP(VALUE($A77),'2013-14 BL Civics'!$A$14:$AG$500,11,FALSE)*100),\"Not Tested\")","v":42},-2,{"$f":"IFERROR(IF(K77=\"N<10\",\"N<10\",VLOOKUP(VALUE($A77),'2012-13 BL Civics'!$A$14:$AG$500,17,FALSE)*100),\"Not Tested\")","v":30},{"$f":"IFERROR(IF(L77=\"N<10\",\"N<10\",VLOOKUP(VALUE($A77),'2013-14 BL Civics'!$A$14:$AG$500,17,FALSE)*100),\"Not Tested\")","v":34},4,{"$f":"IFERROR(IF(J77=\"N<10\",\"N<10\",VLOOKUP(VALUE($A77),'2012-13 BL Civics'!$A$14:$AG$500,23,FALSE)*100),\"Not Tested\")","v":36},{"$f":"IFERROR(IF(K77=\"N<10\",\"N<10\",VLOOKUP(VALUE($A77),'2013-14 BL Civics'!$A$14:$AG$500,23,FALSE)*100),\"Not Tested\")","v":38},2,{"$f":"IFERROR(IF(N77=\"N<10\",\"N<10\",VLOOKUP(VALUE($A77),'2012-13 BL Civics'!$A$14:$AG$500,29,FALSE)*100),\"Not Tested\")","v":37},{"$f":"IFERROR(IF(O77=\"N<10\",\"N<10\",VLOOKUP(VALUE($A77),'2013-14 BL Civics'!$A$14:$AG$500,29,FALSE)*100),\"Not Tested\")","v":45},8]
["6013",null,{"$f":"VLOOKUP(TEXT(A78,\"0000\"),SchList!$A$2:$C$483,2,FALSE)","v":"SOMERSET ACADEMY MIDDLE-SOUTH "},{"$f":"IFERROR(VLOOKUP(TEXT($A78,\"0000\"),'2012 BL Civics Enrollment'!$A$3:$C$500,3,FALSE),0)","v":42},{"$f":"IFERROR(VLOOKUP(TEXT($A78,\"0000\"),'2013 BL Civics Enrollment'!$A$3:$C$500,3,FALSE),\"\")","v":73},{"$f":"IFERROR(IF(VLOOKUP(VALUE(A78),'2012-13 BL Civics'!$A$14:$C$200,3,FALSE)<10,\"N<10\",IF(VLOOKUP(VALUE(A78),'2012-13 BL Civics'!$A$14:$C$200,3,FALSE)>D78,100,VLOOKUP(VALUE(A78),'2012-13 BL Civics'!$A$14:$C$200,3,FALSE)/D78%)),\"Not Tested\")","v":100},{"$f":"IFERROR(IF(VLOOKUP(VALUE(A78),'2013-14 BL Civics'!$A$14:$C$200,3,FALSE)<10,\"N<10\",IF(VLOOKUP(VALUE(A78),'2013-14 BL Civics'!$A$14:$C$200,3,FALSE)>E78,100,VLOOKUP(VALUE(A78),'2013-14 BL Civics'!$A$14:$C$200,3,FALSE)/E78%)),\"Not Tested\")","v":91.780821917808225},{"$f":"IFERROR(IF(F78=\"N<10\",\"N<10\",VLOOKUP(VALUE($A78),'2012-13 BL Civics'!$A$14:$AG$500,5,FALSE)*100),\"Not Tested\")","v":34},{"$f":"IFERROR(IF(G78=\"N<10\",\"N<10\",VLOOKUP(VALUE($A78),'2013-14 BL Civics'!$A$14:$AG$500,5,FALSE)*100),\"Not Tested\")","v":34},0,{"$f":"IFERROR(IF(H78=\"N<10\",\"N<10\",VLOOKUP(VALUE($A78),'2012-13 BL Civics'!$A$14:$AG$500,11,FALSE)*100),\"Not Tested\")","v":37},{"$f":"IFERROR(IF(I78=\"N<10\",\"N<10\",VLOOKUP(VALUE($A78),'2013-14 BL Civics'!$A$14:$AG$500,11,FALSE)*100),\"Not Tested\")","v":37},0,{"$f":"IFERROR(IF(K78=\"N<10\",\"N<10\",VLOOKUP(VALUE($A78),'2012-13 BL Civics'!$A$14:$AG$500,17,FALSE)*100),\"Not Tested\")","v":28.999999999999996},{"$f":"IFERROR(IF(L78=\"N<10\",\"N<10\",VLOOKUP(VALUE($A78),'2013-14 BL Civics'!$A$14:$AG$500,17,FALSE)*100),\"Not Tested\")","v":28.999999999999996},0,{"$f":"IFERROR(IF(J78=\"N<10\",\"N<10\",VLOOKUP(VALUE($A78),'2012-13 BL Civics'!$A$14:$AG$500,23,FALSE)*100),\"Not Tested\")","v":37},{"$f":"IFERROR(IF(K78=\"N<10\",\"N<10\",VLOOKUP(VALUE($A78),'2013-14 BL Civics'!$A$14:$AG$500,23,FALSE)*100),\"Not Tested\")","v":34},-3,{"$f":"IFERROR(IF(N78=\"N<10\",\"N<10\",VLOOKUP(VALUE($A78),'2012-13 BL Civics'!$A$14:$AG$500,29,FALSE)*100),\"Not Tested\")","v":37},{"$f":"IFERROR(IF(O78=\"N<10\",\"N<10\",VLOOKUP(VALUE($A78),'2013-14 BL Civics'!$A$14:$AG$500,29,FALSE)*100),\"Not Tested\")","v":40},3]
["6014",null,{"$f":"VLOOKUP(TEXT(A79,\"0000\"),SchList!$A$2:$C$483,2,FALSE)","v":"Imater Academy Middle School"},{"$f":"IFERROR(VLOOKUP(TEXT($A79,\"0000\"),'2012 BL Civics Enrollment'!$A$3:$C$500,3,FALSE),0)","v":0},{"$f":"IFERROR(VLOOKUP(TEXT($A79,\"0000\"),'2013 BL Civics Enrollment'!$A$3:$C$500,3,FALSE),\"\")","v":161},{"$f":"IFERROR(IF(VLOOKUP(VALUE(A79),'2012-13 BL Civics'!$A$14:$C$200,3,FALSE)<10,\"N<10\",IF(VLOOKUP(VALUE(A79),'2012-13 BL Civics'!$A$14:$C$200,3,FALSE)>D79,100,VLOOKUP(VALUE(A79),'2012-13 BL Civics'!$A$14:$C$200,3,FALSE)/D79%)),\"Not Tested\")","v":"Not Tested"},{"$f":"IFERROR(IF(VLOOKUP(VALUE(A79),'2013-14 BL Civics'!$A$14:$C$200,3,FALSE)<10,\"N<10\",IF(VLOOKUP(VALUE(A79),'2013-14 BL Civics'!$A$14:$C$200,3,FALSE)>E79,100,VLOOKUP(VALUE(A79),'2013-14 BL Civics'!$A$14:$C$200,3,FALSE)/E79%)),\"Not Tested\")","v":98.757763975155271},{"$f":"IFERROR(IF(F79=\"N<10\",\"N<10\",VLOOKUP(VALUE($A79),'2012-13 BL Civics'!$A$14:$AG$500,5,FALSE)*100),\"Not Tested\")","v":"Not Tested"},{"$f":"IFERROR(IF(G79=\"N<10\",\"N<10\",VLOOKUP(VALUE($A79),'2013-14 BL Civics'!$A$14:$AG$500,5,FALSE)*100),\"Not Tested\")","v":35},"",{"$f":"IFERROR(IF(H79=\"N<10\",\"N<10\",VLOOKUP(VALUE($A79),'2012-13 BL Civics'!$A$14:$AG$500,11,FALSE)*100),\"Not Tested\")","v":"Not Tested"},{"$f":"IFERROR(IF(I79=\"N<10\",\"N<10\",VLOOKUP(VALUE($A79),'2013-14 BL Civics'!$A$14:$AG$500,11,FALSE)*100),\"Not Tested\")","v":39},"",{"$f":"IFERROR(IF(K79=\"N<10\",\"N<10\",VLOOKUP(VALUE($A79),'2012-13 BL Civics'!$A$14:$AG$500,17,FALSE)*100),\"Not Tested\")","v":"Not Tested"},{"$f":"IFERROR(IF(L79=\"N<10\",\"N<10\",VLOOKUP(VALUE($A79),'2013-14 BL Civics'!$A$14:$AG$500,17,FALSE)*100),\"Not Tested\")","v":30},"",{"$f":"IFERROR(IF(J79=\"N<10\",\"N<10\",VLOOKUP(VALUE($A79),'2012-13 BL Civics'!$A$14:$AG$500,23,FALSE)*100),\"Not Tested\")","v":"Not Tested"},{"$f":"IFERROR(IF(K79=\"N<10\",\"N<10\",VLOOKUP(VALUE($A79),'2013-14 BL Civics'!$A$14:$AG$500,23,FALSE)*100),\"Not Tested\")","v":33},"",{"$f":"IFERROR(IF(N79=\"N<10\",\"N<10\",VLOOKUP(VALUE($A79),'2012-13 BL Civics'!$A$14:$AG$500,29,FALSE)*100),\"Not Tested\")","v":"Not Tested"},{"$f":"IFERROR(IF(O79=\"N<10\",\"N<10\",VLOOKUP(VALUE($A79),'2013-14 BL Civics'!$A$14:$AG$500,29,FALSE)*100),\"Not Tested\")","v":43},""]
["6015",null,{"$f":"VLOOKUP(TEXT(A80,\"0000\"),SchList!$A$2:$C$483,2,FALSE)","v":"Sports Leadership And Management (Slam) Chart"},{"$f":"IFERROR(VLOOKUP(TEXT($A80,\"0000\"),'2012 BL Civics Enrollment'!$A$3:$C$500,3,FALSE),0)","v":0},{"$f":"IFERROR(VLOOKUP(TEXT($A80,\"0000\"),'2013 BL Civics Enrollment'!$A$3:$C$500,3,FALSE),\"\")","v":158},{"$f":"IFERROR(IF(VLOOKUP(VALUE(A80),'2012-13 BL Civics'!$A$14:$C$200,3,FALSE)<10,\"N<10\",IF(VLOOKUP(VALUE(A80),'2012-13 BL Civics'!$A$14:$C$200,3,FALSE)>D80,100,VLOOKUP(VALUE(A80),'2012-13 BL Civics'!$A$14:$C$200,3,FALSE)/D80%)),\"Not Tested\")","v":"Not Tested"},{"$f":"IFERROR(IF(VLOOKUP(VALUE(A80),'2013-14 BL Civics'!$A$14:$C$200,3,FALSE)<10,\"N<10\",IF(VLOOKUP(VALUE(A80),'2013-14 BL Civics'!$A$14:$C$200,3,FALSE)>E80,100,VLOOKUP(VALUE(A80),'2013-14 BL Civics'!$A$14:$C$200,3,FALSE)/E80%)),\"Not Tested\")","v":86.075949367088597},{"$f":"IFERROR(IF(F80=\"N<10\",\"N<10\",VLOOKUP(VALUE($A80),'2012-13 BL Civics'!$A$14:$AG$500,5,FALSE)*100),\"Not Tested\")","v":"Not Tested"},{"$f":"IFERROR(IF(G80=\"N<10\",\"N<10\",VLOOKUP(VALUE($A80),'2013-14 BL Civics'!$A$14:$AG$500,5,FALSE)*100),\"Not Tested\")","v":37},"",{"$f":"IFERROR(IF(H80=\"N<10\",\"N<10\",VLOOKUP(VALUE($A80),'2012-13 BL Civics'!$A$14:$AG$500,11,FALSE)*100),\"Not Tested\")","v":"Not Tested"},{"$f":"IFERROR(IF(I80=\"N<10\",\"N<10\",VLOOKUP(VALUE($A80),'2013-14 BL Civics'!$A$14:$AG$500,11,FALSE)*100),\"Not Tested\")","v":38},"",{"$f":"IFERROR(IF(K80=\"N<10\",\"N<10\",VLOOKUP(VALUE($A80),'2012-13 BL Civics'!$A$14:$AG$500,17,FALSE)*100),\"Not Tested\")","v":"Not Tested"},{"$f":"IFERROR(IF(L80=\"N<10\",\"N<10\",VLOOKUP(VALUE($A80),'2013-14 BL Civics'!$A$14:$AG$500,17,FALSE)*100),\"Not Tested\")","v":31},"",{"$f":"IFERROR(IF(J80=\"N<10\",\"N<10\",VLOOKUP(VALUE($A80),'2012-13 BL Civics'!$A$14:$AG$500,23,FALSE)*100),\"Not Tested\")","v":"Not Tested"},{"$f":"IFERROR(IF(K80=\"N<10\",\"N<10\",VLOOKUP(VALUE($A80),'2013-14 BL Civics'!$A$14:$AG$500,23,FALSE)*100),\"Not Tested\")","v":37},"",{"$f":"IFERROR(IF(N80=\"N<10\",\"N<10\",VLOOKUP(VALUE($A80),'2012-13 BL Civics'!$A$14:$AG$500,29,FALSE)*100),\"Not Tested\")","v":"Not Tested"},{"$f":"IFERROR(IF(O80=\"N<10\",\"N<10\",VLOOKUP(VALUE($A80),'2013-14 BL Civics'!$A$14:$AG$500,29,FALSE)*100),\"Not Tested\")","v":44},""]
["6020",null,{"$f":"VLOOKUP(TEXT(A81,\"0000\"),SchList!$A$2:$C$483,2,FALSE)","v":"ASPIRA RAUL A. MARTINEZ CHTR  "},{"$f":"IFERROR(VLOOKUP(TEXT($A81,\"0000\"),'2012 BL Civics Enrollment'!$A$3:$C$500,3,FALSE),0)","v":206},{"$f":"IFERROR(VLOOKUP(TEXT($A81,\"0000\"),'2013 BL Civics Enrollment'!$A$3:$C$500,3,FALSE),\"\")","v":215},{"$f":"IFERROR(IF(VLOOKUP(VALUE(A81),'2012-13 BL Civics'!$A$14:$C$200,3,FALSE)<10,\"N<10\",IF(VLOOKUP(VALUE(A81),'2012-13 BL Civics'!$A$14:$C$200,3,FALSE)>D81,100,VLOOKUP(VALUE(A81),'2012-13 BL Civics'!$A$14:$C$200,3,FALSE)/D81%)),\"Not Tested\")","v":85.4368932038835},{"$f":"IFERROR(IF(VLOOKUP(VALUE(A81),'2013-14 BL Civics'!$A$14:$C$200,3,FALSE)<10,\"N<10\",IF(VLOOKUP(VALUE(A81),'2013-14 BL Civics'!$A$14:$C$200,3,FALSE)>E81,100,VLOOKUP(VALUE(A81),'2013-14 BL Civics'!$A$14:$C$200,3,FALSE)/E81%)),\"Not Tested\")","v":100},{"$f":"IFERROR(IF(F81=\"N<10\",\"N<10\",VLOOKUP(VALUE($A81),'2012-13 BL Civics'!$A$14:$AG$500,5,FALSE)*100),\"Not Tested\")","v":33},{"$f":"IFERROR(IF(G81=\"N<10\",\"N<10\",VLOOKUP(VALUE($A81),'2013-14 BL Civics'!$A$14:$AG$500,5,FALSE)*100),\"Not Tested\")","v":32},-1,{"$f":"IFERROR(IF(H81=\"N<10\",\"N<10\",VLOOKUP(VALUE($A81),'2012-13 BL Civics'!$A$14:$AG$500,11,FALSE)*100),\"Not Tested\")","v":38},{"$f":"IFERROR(IF(I81=\"N<10\",\"N<10\",VLOOKUP(VALUE($A81),'2013-14 BL Civics'!$A$14:$AG$500,11,FALSE)*100),\"Not Tested\")","v":35},-3,{"$f":"IFERROR(IF(K81=\"N<10\",\"N<10\",VLOOKUP(VALUE($A81),'2012-13 BL Civics'!$A$14:$AG$500,17,FALSE)*100),\"Not Tested\")","v":25},{"$f":"IFERROR(IF(L81=\"N<10\",\"N<10\",VLOOKUP(VALUE($A81),'2013-14 BL Civics'!$A$14:$AG$500,17,FALSE)*100),\"Not Tested\")","v":28.999999999999996},3.9999999999999964,{"$f":"IFERROR(IF(J81=\"N<10\",\"N<10\",VLOOKUP(VALUE($A81),'2012-13 BL Civics'!$A$14:$AG$500,23,FALSE)*100),\"Not Tested\")","v":34},{"$f":"IFERROR(IF(K81=\"N<10\",\"N<10\",VLOOKUP(VALUE($A81),'2013-14 BL Civics'!$A$14:$AG$500,23,FALSE)*100),\"Not Tested\")","v":32},-2,{"$f":"IFERROR(IF(N81=\"N<10\",\"N<10\",VLOOKUP(VALUE($A81),'2012-13 BL Civics'!$A$14:$AG$500,29,FALSE)*100),\"Not Tested\")","v":37},{"$f":"IFERROR(IF(O81=\"N<10\",\"N<10\",VLOOKUP(VALUE($A81),'2013-14 BL Civics'!$A$14:$AG$500,29,FALSE)*100),\"Not Tested\")","v":37},0]
["6021",null,{"$f":"VLOOKUP(TEXT(A82,\"0000\"),SchList!$A$2:$C$483,2,FALSE)","v":"ARVIDA MIDDLE SCHOOL          "},{"$f":"IFERROR(VLOOKUP(TEXT($A82,\"0000\"),'2012 BL Civics Enrollment'!$A$3:$C$500,3,FALSE),0)","v":394},{"$f":"IFERROR(VLOOKUP(TEXT($A82,\"0000\"),'2013 BL Civics Enrollment'!$A$3:$C$500,3,FALSE),\"\")","v":439},{"$f":"IFERROR(IF(VLOOKUP(VALUE(A82),'2012-13 BL Civics'!$A$14:$C$200,3,FALSE)<10,\"N<10\",IF(VLOOKUP(VALUE(A82),'2012-13 BL Civics'!$A$14:$C$200,3,FALSE)>D82,100,VLOOKUP(VALUE(A82),'2012-13 BL Civics'!$A$14:$C$200,3,FALSE)/D82%)),\"Not Tested\")","v":97.969543147208128},{"$f":"IFERROR(IF(VLOOKUP(VALUE(A82),'2013-14 BL Civics'!$A$14:$C$200,3,FALSE)<10,\"N<10\",IF(VLOOKUP(VALUE(A82),'2013-14 BL Civics'!$A$14:$C$200,3,FALSE)>E82,100,VLOOKUP(VALUE(A82),'2013-14 BL Civics'!$A$14:$C$200,3,FALSE)/E82%)),\"Not Tested\")","v":97.722095671981791},{"$f":"IFERROR(IF(F82=\"N<10\",\"N<10\",VLOOKUP(VALUE($A82),'2012-13 BL Civics'!$A$14:$AG$500,5,FALSE)*100),\"Not Tested\")","v":38},{"$f":"IFERROR(IF(G82=\"N<10\",\"N<10\",VLOOKUP(VALUE($A82),'2013-14 BL Civics'!$A$14:$AG$500,5,FALSE)*100),\"Not Tested\")","v":38},0,{"$f":"IFERROR(IF(H82=\"N<10\",\"N<10\",VLOOKUP(VALUE($A82),'2012-13 BL Civics'!$A$14:$AG$500,11,FALSE)*100),\"Not Tested\")","v":45},{"$f":"IFERROR(IF(I82=\"N<10\",\"N<10\",VLOOKUP(VALUE($A82),'2013-14 BL Civics'!$A$14:$AG$500,11,FALSE)*100),\"Not Tested\")","v":42},-3,{"$f":"IFERROR(IF(K82=\"N<10\",\"N<10\",VLOOKUP(VALUE($A82),'2012-13 BL Civics'!$A$14:$AG$500,17,FALSE)*100),\"Not Tested\")","v":31},{"$f":"IFERROR(IF(L82=\"N<10\",\"N<10\",VLOOKUP(VALUE($A82),'2013-14 BL Civics'!$A$14:$AG$500,17,FALSE)*100),\"Not Tested\")","v":33},2,{"$f":"IFERROR(IF(J82=\"N<10\",\"N<10\",VLOOKUP(VALUE($A82),'2012-13 BL Civics'!$A$14:$AG$500,23,FALSE)*100),\"Not Tested\")","v":40},{"$f":"IFERROR(IF(K82=\"N<10\",\"N<10\",VLOOKUP(VALUE($A82),'2013-14 BL Civics'!$A$14:$AG$500,23,FALSE)*100),\"Not Tested\")","v":38},-2,{"$f":"IFERROR(IF(N82=\"N<10\",\"N<10\",VLOOKUP(VALUE($A82),'2012-13 BL Civics'!$A$14:$AG$500,29,FALSE)*100),\"Not Tested\")","v":40},{"$f":"IFERROR(IF(O82=\"N<10\",\"N<10\",VLOOKUP(VALUE($A82),'2013-14 BL Civics'!$A$14:$AG$500,29,FALSE)*100),\"Not Tested\")","v":44},4]
["6022",null,{"$f":"VLOOKUP(TEXT(A83,\"0000\"),SchList!$A$2:$C$483,2,FALSE)","v":"PINECREST ACADEMY CHARTER MIDD"},{"$f":"IFERROR(VLOOKUP(TEXT($A83,\"0000\"),'2012 BL Civics Enrollment'!$A$3:$C$500,3,FALSE),0)","v":207},{"$f":"IFERROR(VLOOKUP(TEXT($A83,\"0000\"),'2013 BL Civics Enrollment'!$A$3:$C$500,3,FALSE),\"\")","v":199},{"$f":"IFERROR(IF(VLOOKUP(VALUE(A83),'2012-13 BL Civics'!$A$14:$C$200,3,FALSE)<10,\"N<10\",IF(VLOOKUP(VALUE(A83),'2012-13 BL Civics'!$A$14:$C$200,3,FALSE)>D83,100,VLOOKUP(VALUE(A83),'2012-13 BL Civics'!$A$14:$C$200,3,FALSE)/D83%)),\"Not Tested\")","v":100.00000000000001},{"$f":"IFERROR(IF(VLOOKUP(VALUE(A83),'2013-14 BL Civics'!$A$14:$C$200,3,FALSE)<10,\"N<10\",IF(VLOOKUP(VALUE(A83),'2013-14 BL Civics'!$A$14:$C$200,3,FALSE)>E83,100,VLOOKUP(VALUE(A83),'2013-14 BL Civics'!$A$14:$C$200,3,FALSE)/E83%)),\"Not Tested\")","v":100},{"$f":"IFERROR(IF(F83=\"N<10\",\"N<10\",VLOOKUP(VALUE($A83),'2012-13 BL Civics'!$A$14:$AG$500,5,FALSE)*100),\"Not Tested\")","v":36},{"$f":"IFERROR(IF(G83=\"N<10\",\"N<10\",VLOOKUP(VALUE($A83),'2013-14 BL Civics'!$A$14:$AG$500,5,FALSE)*100),\"Not Tested\")","v":38},2,{"$f":"IFERROR(IF(H83=\"N<10\",\"N<10\",VLOOKUP(VALUE($A83),'2012-13 BL Civics'!$A$14:$AG$500,11,FALSE)*100),\"Not Tested\")","v":44},{"$f":"IFERROR(IF(I83=\"N<10\",\"N<10\",VLOOKUP(VALUE($A83),'2013-14 BL Civics'!$A$14:$AG$500,11,FALSE)*100),\"Not Tested\")","v":40},-4,{"$f":"IFERROR(IF(K83=\"N<10\",\"N<10\",VLOOKUP(VALUE($A83),'2012-13 BL Civics'!$A$14:$AG$500,17,FALSE)*100),\"Not Tested\")","v":28.999999999999996},{"$f":"IFERROR(IF(L83=\"N<10\",\"N<10\",VLOOKUP(VALUE($A83),'2013-14 BL Civics'!$A$14:$AG$500,17,FALSE)*100),\"Not Tested\")","v":32},3.0000000000000036,{"$f":"IFERROR(IF(J83=\"N<10\",\"N<10\",VLOOKUP(VALUE($A83),'2012-13 BL Civics'!$A$14:$AG$500,23,FALSE)*100),\"Not Tested\")","v":34},{"$f":"IFERROR(IF(K83=\"N<10\",\"N<10\",VLOOKUP(VALUE($A83),'2013-14 BL Civics'!$A$14:$AG$500,23,FALSE)*100),\"Not Tested\")","v":38},4,{"$f":"IFERROR(IF(N83=\"N<10\",\"N<10\",VLOOKUP(VALUE($A83),'2012-13 BL Civics'!$A$14:$AG$500,29,FALSE)*100),\"Not Tested\")","v":41},{"$f":"IFERROR(IF(O83=\"N<10\",\"N<10\",VLOOKUP(VALUE($A83),'2013-14 BL Civics'!$A$14:$AG$500,29,FALSE)*100),\"Not Tested\")","v":47},6]
["6023",null,{"$f":"VLOOKUP(TEXT(A84,\"0000\"),SchList!$A$2:$C$483,2,FALSE)","v":"ANDOVER MIDDLE SCHOOL         "},{"$f":"IFERROR(VLOOKUP(TEXT($A84,\"0000\"),'2012 BL Civics Enrollment'!$A$3:$C$500,3,FALSE),0)","v":343},{"$f":"IFERROR(VLOOKUP(TEXT($A84,\"0000\"),'2013 BL Civics Enrollment'!$A$3:$C$500,3,FALSE),\"\")","v":304},{"$f":"IFERROR(IF(VLOOKUP(VALUE(A84),'2012-13 BL Civics'!$A$14:$C$200,3,FALSE)<10,\"N<10\",IF(VLOOKUP(VALUE(A84),'2012-13 BL Civics'!$A$14:$C$200,3,FALSE)>D84,100,VLOOKUP(VALUE(A84),'2012-13 BL Civics'!$A$14:$C$200,3,FALSE)/D84%)),\"Not Tested\")","v":100},{"$f":"IFERROR(IF(VLOOKUP(VALUE(A84),'2013-14 BL Civics'!$A$14:$C$200,3,FALSE)<10,\"N<10\",IF(VLOOKUP(VALUE(A84),'2013-14 BL Civics'!$A$14:$C$200,3,FALSE)>E84,100,VLOOKUP(VALUE(A84),'2013-14 BL Civics'!$A$14:$C$200,3,FALSE)/E84%)),\"Not Tested\")","v":94.73684210526315},{"$f":"IFERROR(IF(F84=\"N<10\",\"N<10\",VLOOKUP(VALUE($A84),'2012-13 BL Civics'!$A$14:$AG$500,5,FALSE)*100),\"Not Tested\")","v":33},{"$f":"IFERROR(IF(G84=\"N<10\",\"N<10\",VLOOKUP(VALUE($A84),'2013-14 BL Civics'!$A$14:$AG$500,5,FALSE)*100),\"Not Tested\")","v":35},2,{"$f":"IFERROR(IF(H84=\"N<10\",\"N<10\",VLOOKUP(VALUE($A84),'2012-13 BL Civics'!$A$14:$AG$500,11,FALSE)*100),\"Not Tested\")","v":39},{"$f":"IFERROR(IF(I84=\"N<10\",\"N<10\",VLOOKUP(VALUE($A84),'2013-14 BL Civics'!$A$14:$AG$500,11,FALSE)*100),\"Not Tested\")","v":35},-4,{"$f":"IFERROR(IF(K84=\"N<10\",\"N<10\",VLOOKUP(VALUE($A84),'2012-13 BL Civics'!$A$14:$AG$500,17,FALSE)*100),\"Not Tested\")","v":27},{"$f":"IFERROR(IF(L84=\"N<10\",\"N<10\",VLOOKUP(VALUE($A84),'2013-14 BL Civics'!$A$14:$AG$500,17,FALSE)*100),\"Not Tested\")","v":31},4,{"$f":"IFERROR(IF(J84=\"N<10\",\"N<10\",VLOOKUP(VALUE($A84),'2012-13 BL Civics'!$A$14:$AG$500,23,FALSE)*100),\"Not Tested\")","v":34},{"$f":"IFERROR(IF(K84=\"N<10\",\"N<10\",VLOOKUP(VALUE($A84),'2013-14 BL Civics'!$A$14:$AG$500,23,FALSE)*100),\"Not Tested\")","v":33},-1,{"$f":"IFERROR(IF(N84=\"N<10\",\"N<10\",VLOOKUP(VALUE($A84),'2012-13 BL Civics'!$A$14:$AG$500,29,FALSE)*100),\"Not Tested\")","v":34},{"$f":"IFERROR(IF(O84=\"N<10\",\"N<10\",VLOOKUP(VALUE($A84),'2013-14 BL Civics'!$A$14:$AG$500,29,FALSE)*100),\"Not Tested\")","v":43},9]
["6028",null,{"$f":"VLOOKUP(TEXT(A85,\"0000\"),SchList!$A$2:$C$483,2,FALSE)","v":"RENAISSANCE MIDDLE CHARTER"},{"$f":"IFERROR(VLOOKUP(TEXT($A85,\"0000\"),'2012 BL Civics Enrollment'!$A$3:$C$500,3,FALSE),0)","v":145},{"$f":"IFERROR(VLOOKUP(TEXT($A85,\"0000\"),'2013 BL Civics Enrollment'!$A$3:$C$500,3,FALSE),\"\")","v":149},{"$f":"IFERROR(IF(VLOOKUP(VALUE(A85),'2012-13 BL Civics'!$A$14:$C$200,3,FALSE)<10,\"N<10\",IF(VLOOKUP(VALUE(A85),'2012-13 BL Civics'!$A$14:$C$200,3,FALSE)>D85,100,VLOOKUP(VALUE(A85),'2012-13 BL Civics'!$A$14:$C$200,3,FALSE)/D85%)),\"Not Tested\")","v":"Not Tested"},{"$f":"IFERROR(IF(VLOOKUP(VALUE(A85),'2013-14 BL Civics'!$A$14:$C$200,3,FALSE)<10,\"N<10\",IF(VLOOKUP(VALUE(A85),'2013-14 BL Civics'!$A$14:$C$200,3,FALSE)>E85,100,VLOOKUP(VALUE(A85),'2013-14 BL Civics'!$A$14:$C$200,3,FALSE)/E85%)),\"Not Tested\")","v":"Not Tested"},{"$f":"IFERROR(IF(F85=\"N<10\",\"N<10\",VLOOKUP(VALUE($A85),'2012-13 BL Civics'!$A$14:$AG$500,5,FALSE)*100),\"Not Tested\")","v":"Not Tested"},{"$f":"IFERROR(IF(G85=\"N<10\",\"N<10\",VLOOKUP(VALUE($A85),'2013-14 BL Civics'!$A$14:$AG$500,5,FALSE)*100),\"Not Tested\")","v":"Not Tested"},"",{"$f":"IFERROR(IF(H85=\"N<10\",\"N<10\",VLOOKUP(VALUE($A85),'2012-13 BL Civics'!$A$14:$AG$500,11,FALSE)*100),\"Not Tested\")","v":"Not Tested"},{"$f":"IFERROR(IF(I85=\"N<10\",\"N<10\",VLOOKUP(VALUE($A85),'2013-14 BL Civics'!$A$14:$AG$500,11,FALSE)*100),\"Not Tested\")","v":"Not Tested"},"",{"$f":"IFERROR(IF(K85=\"N<10\",\"N<10\",VLOOKUP(VALUE($A85),'2012-13 BL Civics'!$A$14:$AG$500,17,FALSE)*100),\"Not Tested\")","v":"Not Tested"},{"$f":"IFERROR(IF(L85=\"N<10\",\"N<10\",VLOOKUP(VALUE($A85),'2013-14 BL Civics'!$A$14:$AG$500,17,FALSE)*100),\"Not Tested\")","v":"Not Tested"},"",{"$f":"IFERROR(IF(J85=\"N<10\",\"N<10\",VLOOKUP(VALUE($A85),'2012-13 BL Civics'!$A$14:$AG$500,23,FALSE)*100),\"Not Tested\")","v":"Not Tested"},{"$f":"IFERROR(IF(K85=\"N<10\",\"N<10\",VLOOKUP(VALUE($A85),'2013-14 BL Civics'!$A$14:$AG$500,23,FALSE)*100),\"Not Tested\")","v":"Not Tested"},"",{"$f":"IFERROR(IF(N85=\"N<10\",\"N<10\",VLOOKUP(VALUE($A85),'2012-13 BL Civics'!$A$14:$AG$500,29,FALSE)*100),\"Not Tested\")","v":"Not Tested"},{"$f":"IFERROR(IF(O85=\"N<10\",\"N<10\",VLOOKUP(VALUE($A85),'2013-14 BL Civics'!$A$14:$AG$500,29,FALSE)*100),\"Not Tested\")","v":"Not Tested"},""]
["6030",null,{"$f":"VLOOKUP(TEXT(A86,\"0000\"),SchList!$A$2:$C$483,2,FALSE)","v":"DORAL ACADEMY CHARTER MIDDLE  "},{"$f":"IFERROR(VLOOKUP(TEXT($A86,\"0000\"),'2012 BL Civics Enrollment'!$A$3:$C$500,3,FALSE),0)","v":464},{"$f":"IFERROR(VLOOKUP(TEXT($A86,\"0000\"),'2013 BL Civics Enrollment'!$A$3:$C$500,3,FALSE),\"\")","v":460},{"$f":"IFERROR(IF(VLOOKUP(VALUE(A86),'2012-13 BL Civics'!$A$14:$C$200,3,FALSE)<10,\"N<10\",IF(VLOOKUP(VALUE(A86),'2012-13 BL Civics'!$A$14:$C$200,3,FALSE)>D86,100,VLOOKUP(VALUE(A86),'2012-13 BL Civics'!$A$14:$C$200,3,FALSE)/D86%)),\"Not Tested\")","v":98.922413793103459},{"$f":"IFERROR(IF(VLOOKUP(VALUE(A86),'2013-14 BL Civics'!$A$14:$C$200,3,FALSE)<10,\"N<10\",IF(VLOOKUP(VALUE(A86),'2013-14 BL Civics'!$A$14:$C$200,3,FALSE)>E86,100,VLOOKUP(VALUE(A86),'2013-14 BL Civics'!$A$14:$C$200,3,FALSE)/E86%)),\"Not Tested\")","v":100.00000000000001},{"$f":"IFERROR(IF(F86=\"N<10\",\"N<10\",VLOOKUP(VALUE($A86),'2012-13 BL Civics'!$A$14:$AG$500,5,FALSE)*100),\"Not Tested\")","v":38},{"$f":"IFERROR(IF(G86=\"N<10\",\"N<10\",VLOOKUP(VALUE($A86),'2013-14 BL Civics'!$A$14:$AG$500,5,FALSE)*100),\"Not Tested\")","v":40},2,{"$f":"IFERROR(IF(H86=\"N<10\",\"N<10\",VLOOKUP(VALUE($A86),'2012-13 BL Civics'!$A$14:$AG$500,11,FALSE)*100),\"Not Tested\")","v":47},{"$f":"IFERROR(IF(I86=\"N<10\",\"N<10\",VLOOKUP(VALUE($A86),'2013-14 BL Civics'!$A$14:$AG$500,11,FALSE)*100),\"Not Tested\")","v":44},-3,{"$f":"IFERROR(IF(K86=\"N<10\",\"N<10\",VLOOKUP(VALUE($A86),'2012-13 BL Civics'!$A$14:$AG$500,17,FALSE)*100),\"Not Tested\")","v":30},{"$f":"IFERROR(IF(L86=\"N<10\",\"N<10\",VLOOKUP(VALUE($A86),'2013-14 BL Civics'!$A$14:$AG$500,17,FALSE)*100),\"Not Tested\")","v":34},4,{"$f":"IFERROR(IF(J86=\"N<10\",\"N<10\",VLOOKUP(VALUE($A86),'2012-13 BL Civics'!$A$14:$AG$500,23,FALSE)*100),\"Not Tested\")","v":39},{"$f":"IFERROR(IF(K86=\"N<10\",\"N<10\",VLOOKUP(VALUE($A86),'2013-14 BL Civics'!$A$14:$AG$500,23,FALSE)*100),\"Not Tested\")","v":40},1,{"$f":"IFERROR(IF(N86=\"N<10\",\"N<10\",VLOOKUP(VALUE($A86),'2012-13 BL Civics'!$A$14:$AG$500,29,FALSE)*100),\"Not Tested\")","v":40},{"$f":"IFERROR(IF(O86=\"N<10\",\"N<10\",VLOOKUP(VALUE($A86),'2013-14 BL Civics'!$A$14:$AG$500,29,FALSE)*100),\"Not Tested\")","v":46},6]
["6031",null,{"$f":"VLOOKUP(TEXT(A87,\"0000\"),SchList!$A$2:$C$483,2,FALSE)","v":"BROWNSVILLE MIDDLE            "},{"$f":"IFERROR(VLOOKUP(TEXT($A87,\"0000\"),'2012 BL Civics Enrollment'!$A$3:$C$500,3,FALSE),0)","v":218},{"$f":"IFERROR(VLOOKUP(TEXT($A87,\"0000\"),'2013 BL Civics Enrollment'!$A$3:$C$500,3,FALSE),\"\")","v":288},{"$f":"IFERROR(IF(VLOOKUP(VALUE(A87),'2012-13 BL Civics'!$A$14:$C$200,3,FALSE)<10,\"N<10\",IF(VLOOKUP(VALUE(A87),'2012-13 BL Civics'!$A$14:$C$200,3,FALSE)>D87,100,VLOOKUP(VALUE(A87),'2012-13 BL Civics'!$A$14:$C$200,3,FALSE)/D87%)),\"Not Tested\")","v":88.532110091743107},{"$f":"IFERROR(IF(VLOOKUP(VALUE(A87),'2013-14 BL Civics'!$A$14:$C$200,3,FALSE)<10,\"N<10\",IF(VLOOKUP(VALUE(A87),'2013-14 BL Civics'!$A$14:$C$200,3,FALSE)>E87,100,VLOOKUP(VALUE(A87),'2013-14 BL Civics'!$A$14:$C$200,3,FALSE)/E87%)),\"Not Tested\")","v":91.666666666666671},{"$f":"IFERROR(IF(F87=\"N<10\",\"N<10\",VLOOKUP(VALUE($A87),'2012-13 BL Civics'!$A$14:$AG$500,5,FALSE)*100),\"Not Tested\")","v":31},{"$f":"IFERROR(IF(G87=\"N<10\",\"N<10\",VLOOKUP(VALUE($A87),'2013-14 BL Civics'!$A$14:$AG$500,5,FALSE)*100),\"Not Tested\")","v":31},0,{"$f":"IFERROR(IF(H87=\"N<10\",\"N<10\",VLOOKUP(VALUE($A87),'2012-13 BL Civics'!$A$14:$AG$500,11,FALSE)*100),\"Not Tested\")","v":37},{"$f":"IFERROR(IF(I87=\"N<10\",\"N<10\",VLOOKUP(VALUE($A87),'2013-14 BL Civics'!$A$14:$AG$500,11,FALSE)*100),\"Not Tested\")","v":32},-5,{"$f":"IFERROR(IF(K87=\"N<10\",\"N<10\",VLOOKUP(VALUE($A87),'2012-13 BL Civics'!$A$14:$AG$500,17,FALSE)*100),\"Not Tested\")","v":26},{"$f":"IFERROR(IF(L87=\"N<10\",\"N<10\",VLOOKUP(VALUE($A87),'2013-14 BL Civics'!$A$14:$AG$500,17,FALSE)*100),\"Not Tested\")","v":27},1,{"$f":"IFERROR(IF(J87=\"N<10\",\"N<10\",VLOOKUP(VALUE($A87),'2012-13 BL Civics'!$A$14:$AG$500,23,FALSE)*100),\"Not Tested\")","v":28.999999999999996},{"$f":"IFERROR(IF(K87=\"N<10\",\"N<10\",VLOOKUP(VALUE($A87),'2013-14 BL Civics'!$A$14:$AG$500,23,FALSE)*100),\"Not Tested\")","v":30},1.0000000000000036,{"$f":"IFERROR(IF(N87=\"N<10\",\"N<10\",VLOOKUP(VALUE($A87),'2012-13 BL Civics'!$A$14:$AG$500,29,FALSE)*100),\"Not Tested\")","v":33},{"$f":"IFERROR(IF(O87=\"N<10\",\"N<10\",VLOOKUP(VALUE($A87),'2013-14 BL Civics'!$A$14:$AG$500,29,FALSE)*100),\"Not Tested\")","v":37},4]
["6033",null,{"$f":"VLOOKUP(TEXT(A88,\"0000\"),SchList!$A$2:$C$483,2,FALSE)","v":"MATER ACADEMY LAKES MIDDLE    "},{"$f":"IFERROR(VLOOKUP(TEXT($A88,\"0000\"),'2012 BL Civics Enrollment'!$A$3:$C$500,3,FALSE),0)","v":209},{"$f":"IFERROR(VLOOKUP(TEXT($A88,\"0000\"),'2013 BL Civics Enrollment'!$A$3:$C$500,3,FALSE),\"\")","v":245},{"$f":"IFERROR(IF(VLOOKUP(VALUE(A88),'2012-13 BL Civics'!$A$14:$C$200,3,FALSE)<10,\"N<10\",IF(VLOOKUP(VALUE(A88),'2012-13 BL Civics'!$A$14:$C$200,3,FALSE)>D88,100,VLOOKUP(VALUE(A88),'2012-13 BL Civics'!$A$14:$C$200,3,FALSE)/D88%)),\"Not Tested\")","v":96.172248803827756},{"$f":"IFERROR(IF(VLOOKUP(VALUE(A88),'2013-14 BL Civics'!$A$14:$C$200,3,FALSE)<10,\"N<10\",IF(VLOOKUP(VALUE(A88),'2013-14 BL Civics'!$A$14:$C$200,3,FALSE)>E88,100,VLOOKUP(VALUE(A88),'2013-14 BL Civics'!$A$14:$C$200,3,FALSE)/E88%)),\"Not Tested\")","v":97.551020408163254},{"$f":"IFERROR(IF(F88=\"N<10\",\"N<10\",VLOOKUP(VALUE($A88),'2012-13 BL Civics'!$A$14:$AG$500,5,FALSE)*100),\"Not Tested\")","v":36},{"$f":"IFERROR(IF(G88=\"N<10\",\"N<10\",VLOOKUP(VALUE($A88),'2013-14 BL Civics'!$A$14:$AG$500,5,FALSE)*100),\"Not Tested\")","v":39},3,{"$f":"IFERROR(IF(H88=\"N<10\",\"N<10\",VLOOKUP(VALUE($A88),'2012-13 BL Civics'!$A$14:$AG$500,11,FALSE)*100),\"Not Tested\")","v":45},{"$f":"IFERROR(IF(I88=\"N<10\",\"N<10\",VLOOKUP(VALUE($A88),'2013-14 BL Civics'!$A$14:$AG$500,11,FALSE)*100),\"Not Tested\")","v":43},-2,{"$f":"IFERROR(IF(K88=\"N<10\",\"N<10\",VLOOKUP(VALUE($A88),'2012-13 BL Civics'!$A$14:$AG$500,17,FALSE)*100),\"Not Tested\")","v":28.999999999999996},{"$f":"IFERROR(IF(L88=\"N<10\",\"N<10\",VLOOKUP(VALUE($A88),'2013-14 BL Civics'!$A$14:$AG$500,17,FALSE)*100),\"Not Tested\")","v":32},3.0000000000000036,{"$f":"IFERROR(IF(J88=\"N<10\",\"N<10\",VLOOKUP(VALUE($A88),'2012-13 BL Civics'!$A$14:$AG$500,23,FALSE)*100),\"Not Tested\")","v":35},{"$f":"IFERROR(IF(K88=\"N<10\",\"N<10\",VLOOKUP(VALUE($A88),'2013-14 BL Civics'!$A$14:$AG$500,23,FALSE)*100),\"Not Tested\")","v":37},2,{"$f":"IFERROR(IF(N88=\"N<10\",\"N<10\",VLOOKUP(VALUE($A88),'2012-13 BL Civics'!$A$14:$AG$500,29,FALSE)*100),\"Not Tested\")","v":39},{"$f":"IFERROR(IF(O88=\"N<10\",\"N<10\",VLOOKUP(VALUE($A88),'2013-14 BL Civics'!$A$14:$AG$500,29,FALSE)*100),\"Not Tested\")","v":47},8]
["6040",null,{"$f":"VLOOKUP(TEXT(A89,\"0000\"),SchList!$A$2:$C$483,2,FALSE)","v":"DOCTORS CHARTER/MIAMI SHORES  "},{"$f":"IFERROR(VLOOKUP(TEXT($A89,\"0000\"),'2012 BL Civics Enrollment'!$A$3:$C$500,3,FALSE),0)","v":84},{"$f":"IFERROR(VLOOKUP(TEXT($A89,\"0000\"),'2013 BL Civics Enrollment'!$A$3:$C$500,3,FALSE),\"\")","v":89},{"$f":"IFERROR(IF(VLOOKUP(VALUE(A89),'2012-13 BL Civics'!$A$14:$C$200,3,FALSE)<10,\"N<10\",IF(VLOOKUP(VALUE(A89),'2012-13 BL Civics'!$A$14:$C$200,3,FALSE)>D89,100,VLOOKUP(VALUE(A89),'2012-13 BL Civics'!$A$14:$C$200,3,FALSE)/D89%)),\"Not Tested\")","v":98.80952380952381},{"$f":"IFERROR(IF(VLOOKUP(VALUE(A89),'2013-14 BL Civics'!$A$14:$C$200,3,FALSE)<10,\"N<10\",IF(VLOOKUP(VALUE(A89),'2013-14 BL Civics'!$A$14:$C$200,3,FALSE)>E89,100,VLOOKUP(VALUE(A89),'2013-14 BL Civics'!$A$14:$C$200,3,FALSE)/E89%)),\"Not Tested\")","v":98.876404494382015},{"$f":"IFERROR(IF(F89=\"N<10\",\"N<10\",VLOOKUP(VALUE($A89),'2012-13 BL Civics'!$A$14:$AG$500,5,FALSE)*100),\"Not Tested\")","v":39},{"$f":"IFERROR(IF(G89=\"N<10\",\"N<10\",VLOOKUP(VALUE($A89),'2013-14 BL Civics'!$A$14:$AG$500,5,FALSE)*100),\"Not Tested\")","v":47},8,{"$f":"IFERROR(IF(H89=\"N<10\",\"N<10\",VLOOKUP(VALUE($A89),'2012-13 BL Civics'!$A$14:$AG$500,11,FALSE)*100),\"Not Tested\")","v":51},{"$f":"IFERROR(IF(I89=\"N<10\",\"N<10\",VLOOKUP(VALUE($A89),'2013-14 BL Civics'!$A$14:$AG$500,11,FALSE)*100),\"Not Tested\")","v":51},0,{"$f":"IFERROR(IF(K89=\"N<10\",\"N<10\",VLOOKUP(VALUE($A89),'2012-13 BL Civics'!$A$14:$AG$500,17,FALSE)*100),\"Not Tested\")","v":32},{"$f":"IFERROR(IF(L89=\"N<10\",\"N<10\",VLOOKUP(VALUE($A89),'2013-14 BL Civics'!$A$14:$AG$500,17,FALSE)*100),\"Not Tested\")","v":42},10,{"$f":"IFERROR(IF(J89=\"N<10\",\"N<10\",VLOOKUP(VALUE($A89),'2012-13 BL Civics'!$A$14:$AG$500,23,FALSE)*100),\"Not Tested\")","v":39},{"$f":"IFERROR(IF(K89=\"N<10\",\"N<10\",VLOOKUP(VALUE($A89),'2013-14 BL Civics'!$A$14:$AG$500,23,FALSE)*100),\"Not Tested\")","v":46},7,{"$f":"IFERROR(IF(N89=\"N<10\",\"N<10\",VLOOKUP(VALUE($A89),'2012-13 BL Civics'!$A$14:$AG$500,29,FALSE)*100),\"Not Tested\")","v":39},{"$f":"IFERROR(IF(O89=\"N<10\",\"N<10\",VLOOKUP(VALUE($A89),'2013-14 BL Civics'!$A$14:$AG$500,29,FALSE)*100),\"Not Tested\")","v":54},15]
["6041",null,{"$f":"VLOOKUP(TEXT(A90,\"0000\"),SchList!$A$2:$C$483,2,FALSE)","v":"PAUL W. BELL MIDDLE           "},{"$f":"IFERROR(VLOOKUP(TEXT($A90,\"0000\"),'2012 BL Civics Enrollment'!$A$3:$C$500,3,FALSE),0)","v":202},{"$f":"IFERROR(VLOOKUP(TEXT($A90,\"0000\"),'2013 BL Civics Enrollment'!$A$3:$C$500,3,FALSE),\"\")","v":151},{"$f":"IFERROR(IF(VLOOKUP(VALUE(A90),'2012-13 BL Civics'!$A$14:$C$200,3,FALSE)<10,\"N<10\",IF(VLOOKUP(VALUE(A90),'2012-13 BL Civics'!$A$14:$C$200,3,FALSE)>D90,100,VLOOKUP(VALUE(A90),'2012-13 BL Civics'!$A$14:$C$200,3,FALSE)/D90%)),\"Not Tested\")","v":83.168316831683171},{"$f":"IFERROR(IF(VLOOKUP(VALUE(A90),'2013-14 BL Civics'!$A$14:$C$200,3,FALSE)<10,\"N<10\",IF(VLOOKUP(VALUE(A90),'2013-14 BL Civics'!$A$14:$C$200,3,FALSE)>E90,100,VLOOKUP(VALUE(A90),'2013-14 BL Civics'!$A$14:$C$200,3,FALSE)/E90%)),\"Not Tested\")","v":99.337748344370866},{"$f":"IFERROR(IF(F90=\"N<10\",\"N<10\",VLOOKUP(VALUE($A90),'2012-13 BL Civics'!$A$14:$AG$500,5,FALSE)*100),\"Not Tested\")","v":32},{"$f":"IFERROR(IF(G90=\"N<10\",\"N<10\",VLOOKUP(VALUE($A90),'2013-14 BL Civics'!$A$14:$AG$500,5,FALSE)*100),\"Not Tested\")","v":34},2,{"$f":"IFERROR(IF(H90=\"N<10\",\"N<10\",VLOOKUP(VALUE($A90),'2012-13 BL Civics'!$A$14:$AG$500,11,FALSE)*100),\"Not Tested\")","v":39},{"$f":"IFERROR(IF(I90=\"N<10\",\"N<10\",VLOOKUP(VALUE($A90),'2013-14 BL Civics'!$A$14:$AG$500,11,FALSE)*100),\"Not Tested\")","v":38},-1,{"$f":"IFERROR(IF(K90=\"N<10\",\"N<10\",VLOOKUP(VALUE($A90),'2012-13 BL Civics'!$A$14:$AG$500,17,FALSE)*100),\"Not Tested\")","v":26},{"$f":"IFERROR(IF(L90=\"N<10\",\"N<10\",VLOOKUP(VALUE($A90),'2013-14 BL Civics'!$A$14:$AG$500,17,FALSE)*100),\"Not Tested\")","v":30},4,{"$f":"IFERROR(IF(J90=\"N<10\",\"N<10\",VLOOKUP(VALUE($A90),'2012-13 BL Civics'!$A$14:$AG$500,23,FALSE)*100),\"Not Tested\")","v":33},{"$f":"IFERROR(IF(K90=\"N<10\",\"N<10\",VLOOKUP(VALUE($A90),'2013-14 BL Civics'!$A$14:$AG$500,23,FALSE)*100),\"Not Tested\")","v":35},2,{"$f":"IFERROR(IF(N90=\"N<10\",\"N<10\",VLOOKUP(VALUE($A90),'2012-13 BL Civics'!$A$14:$AG$500,29,FALSE)*100),\"Not Tested\")","v":34},{"$f":"IFERROR(IF(O90=\"N<10\",\"N<10\",VLOOKUP(VALUE($A90),'2013-14 BL Civics'!$A$14:$AG$500,29,FALSE)*100),\"Not Tested\")","v":37},3]
["6042",null,{"$f":"VLOOKUP(TEXT(A91,\"0000\"),SchList!$A$2:$C$483,2,FALSE)","v":"MATER GARDENS ACADEMY MIDDLE  "},{"$f":"IFERROR(VLOOKUP(TEXT($A91,\"0000\"),'2012 BL Civics Enrollment'!$A$3:$C$500,3,FALSE),0)","v":93},{"$f":"IFERROR(VLOOKUP(TEXT($A91,\"0000\"),'2013 BL Civics Enrollment'!$A$3:$C$500,3,FALSE),\"\")","v":81},{"$f":"IFERROR(IF(VLOOKUP(VALUE(A91),'2012-13 BL Civics'!$A$14:$C$200,3,FALSE)<10,\"N<10\",IF(VLOOKUP(VALUE(A91),'2012-13 BL Civics'!$A$14:$C$200,3,FALSE)>D91,100,VLOOKUP(VALUE(A91),'2012-13 BL Civics'!$A$14:$C$200,3,FALSE)/D91%)),\"Not Tested\")","v":97.849462365591393},{"$f":"IFERROR(IF(VLOOKUP(VALUE(A91),'2013-14 BL Civics'!$A$14:$C$200,3,FALSE)<10,\"N<10\",IF(VLOOKUP(VALUE(A91),'2013-14 BL Civics'!$A$14:$C$200,3,FALSE)>E91,100,VLOOKUP(VALUE(A91),'2013-14 BL Civics'!$A$14:$C$200,3,FALSE)/E91%)),\"Not Tested\")","v":97.53086419753086},{"$f":"IFERROR(IF(F91=\"N<10\",\"N<10\",VLOOKUP(VALUE($A91),'2012-13 BL Civics'!$A$14:$AG$500,5,FALSE)*100),\"Not Tested\")","v":36},{"$f":"IFERROR(IF(G91=\"N<10\",\"N<10\",VLOOKUP(VALUE($A91),'2013-14 BL Civics'!$A$14:$AG$500,5,FALSE)*100),\"Not Tested\")","v":37},1,{"$f":"IFERROR(IF(H91=\"N<10\",\"N<10\",VLOOKUP(VALUE($A91),'2012-13 BL Civics'!$A$14:$AG$500,11,FALSE)*100),\"Not Tested\")","v":42},{"$f":"IFERROR(IF(I91=\"N<10\",\"N<10\",VLOOKUP(VALUE($A91),'2013-14 BL Civics'!$A$14:$AG$500,11,FALSE)*100),\"Not Tested\")","v":40},-2,{"$f":"IFERROR(IF(K91=\"N<10\",\"N<10\",VLOOKUP(VALUE($A91),'2012-13 BL Civics'!$A$14:$AG$500,17,FALSE)*100),\"Not Tested\")","v":30},{"$f":"IFERROR(IF(L91=\"N<10\",\"N<10\",VLOOKUP(VALUE($A91),'2013-14 BL Civics'!$A$14:$AG$500,17,FALSE)*100),\"Not Tested\")","v":32},2,{"$f":"IFERROR(IF(J91=\"N<10\",\"N<10\",VLOOKUP(VALUE($A91),'2012-13 BL Civics'!$A$14:$AG$500,23,FALSE)*100),\"Not Tested\")","v":35},{"$f":"IFERROR(IF(K91=\"N<10\",\"N<10\",VLOOKUP(VALUE($A91),'2013-14 BL Civics'!$A$14:$AG$500,23,FALSE)*100),\"Not Tested\")","v":35},0,{"$f":"IFERROR(IF(N91=\"N<10\",\"N<10\",VLOOKUP(VALUE($A91),'2012-13 BL Civics'!$A$14:$AG$500,29,FALSE)*100),\"Not Tested\")","v":40},{"$f":"IFERROR(IF(O91=\"N<10\",\"N<10\",VLOOKUP(VALUE($A91),'2013-14 BL Civics'!$A$14:$AG$500,29,FALSE)*100),\"Not Tested\")","v":46},6]
["6045",null,{"$f":"VLOOKUP(TEXT(A92,\"0000\"),SchList!$A$2:$C$483,2,FALSE)","v":"INTL. STUDIES CHARTER MIDDLE  "},{"$f":"IFERROR(VLOOKUP(TEXT($A92,\"0000\"),'2012 BL Civics Enrollment'!$A$3:$C$500,3,FALSE),0)","v":88},{"$f":"IFERROR(VLOOKUP(TEXT($A92,\"0000\"),'2013 BL Civics Enrollment'!$A$3:$C$500,3,FALSE),\"\")","v":91},{"$f":"IFERROR(IF(VLOOKUP(VALUE(A92),'2012-13 BL Civics'!$A$14:$C$200,3,FALSE)<10,\"N<10\",IF(VLOOKUP(VALUE(A92),'2012-13 BL Civics'!$A$14:$C$200,3,FALSE)>D92,100,VLOOKUP(VALUE(A92),'2012-13 BL Civics'!$A$14:$C$200,3,FALSE)/D92%)),\"Not Tested\")","v":96.590909090909093},{"$f":"IFERROR(IF(VLOOKUP(VALUE(A92),'2013-14 BL Civics'!$A$14:$C$200,3,FALSE)<10,\"N<10\",IF(VLOOKUP(VALUE(A92),'2013-14 BL Civics'!$A$14:$C$200,3,FALSE)>E92,100,VLOOKUP(VALUE(A92),'2013-14 BL Civics'!$A$14:$C$200,3,FALSE)/E92%)),\"Not Tested\")","v":98.901098901098891},{"$f":"IFERROR(IF(F92=\"N<10\",\"N<10\",VLOOKUP(VALUE($A92),'2012-13 BL Civics'!$A$14:$AG$500,5,FALSE)*100),\"Not Tested\")","v":36},{"$f":"IFERROR(IF(G92=\"N<10\",\"N<10\",VLOOKUP(VALUE($A92),'2013-14 BL Civics'!$A$14:$AG$500,5,FALSE)*100),\"Not Tested\")","v":38},2,{"$f":"IFERROR(IF(H92=\"N<10\",\"N<10\",VLOOKUP(VALUE($A92),'2012-13 BL Civics'!$A$14:$AG$500,11,FALSE)*100),\"Not Tested\")","v":45},{"$f":"IFERROR(IF(I92=\"N<10\",\"N<10\",VLOOKUP(VALUE($A92),'2013-14 BL Civics'!$A$14:$AG$500,11,FALSE)*100),\"Not Tested\")","v":43},-2,{"$f":"IFERROR(IF(K92=\"N<10\",\"N<10\",VLOOKUP(VALUE($A92),'2012-13 BL Civics'!$A$14:$AG$500,17,FALSE)*100),\"Not Tested\")","v":28.999999999999996},{"$f":"IFERROR(IF(L92=\"N<10\",\"N<10\",VLOOKUP(VALUE($A92),'2013-14 BL Civics'!$A$14:$AG$500,17,FALSE)*100),\"Not Tested\")","v":31},2.0000000000000036,{"$f":"IFERROR(IF(J92=\"N<10\",\"N<10\",VLOOKUP(VALUE($A92),'2012-13 BL Civics'!$A$14:$AG$500,23,FALSE)*100),\"Not Tested\")","v":35},{"$f":"IFERROR(IF(K92=\"N<10\",\"N<10\",VLOOKUP(VALUE($A92),'2013-14 BL Civics'!$A$14:$AG$500,23,FALSE)*100),\"Not Tested\")","v":37},2,{"$f":"IFERROR(IF(N92=\"N<10\",\"N<10\",VLOOKUP(VALUE($A92),'2012-13 BL Civics'!$A$14:$AG$500,29,FALSE)*100),\"Not Tested\")","v":39},{"$f":"IFERROR(IF(O92=\"N<10\",\"N<10\",VLOOKUP(VALUE($A92),'2013-14 BL Civics'!$A$14:$AG$500,29,FALSE)*100),\"Not Tested\")","v":45},6]
["6047",null,{"$f":"VLOOKUP(TEXT(A93,\"0000\"),SchList!$A$2:$C$483,2,FALSE)","v":"MATER ACADEMY MIDDLE-INTL STUD"},{"$f":"IFERROR(VLOOKUP(TEXT($A93,\"0000\"),'2012 BL Civics Enrollment'!$A$3:$C$500,3,FALSE),0)","v":42},{"$f":"IFERROR(VLOOKUP(TEXT($A93,\"0000\"),'2013 BL Civics Enrollment'!$A$3:$C$500,3,FALSE),\"\")","v":42},{"$f":"IFERROR(IF(VLOOKUP(VALUE(A93),'2012-13 BL Civics'!$A$14:$C$200,3,FALSE)<10,\"N<10\",IF(VLOOKUP(VALUE(A93),'2012-13 BL Civics'!$A$14:$C$200,3,FALSE)>D93,100,VLOOKUP(VALUE(A93),'2012-13 BL Civics'!$A$14:$C$200,3,FALSE)/D93%)),\"Not Tested\")","v":100},{"$f":"IFERROR(IF(VLOOKUP(VALUE(A93),'2013-14 BL Civics'!$A$14:$C$200,3,FALSE)<10,\"N<10\",IF(VLOOKUP(VALUE(A93),'2013-14 BL Civics'!$A$14:$C$200,3,FALSE)>E93,100,VLOOKUP(VALUE(A93),'2013-14 BL Civics'!$A$14:$C$200,3,FALSE)/E93%)),\"Not Tested\")","v":100},{"$f":"IFERROR(IF(F93=\"N<10\",\"N<10\",VLOOKUP(VALUE($A93),'2012-13 BL Civics'!$A$14:$AG$500,5,FALSE)*100),\"Not Tested\")","v":34},{"$f":"IFERROR(IF(G93=\"N<10\",\"N<10\",VLOOKUP(VALUE($A93),'2013-14 BL Civics'!$A$14:$AG$500,5,FALSE)*100),\"Not Tested\")","v":35},1,{"$f":"IFERROR(IF(H93=\"N<10\",\"N<10\",VLOOKUP(VALUE($A93),'2012-13 BL Civics'!$A$14:$AG$500,11,FALSE)*100),\"Not Tested\")","v":41},{"$f":"IFERROR(IF(I93=\"N<10\",\"N<10\",VLOOKUP(VALUE($A93),'2013-14 BL Civics'!$A$14:$AG$500,11,FALSE)*100),\"Not Tested\")","v":35},-6,{"$f":"IFERROR(IF(K93=\"N<10\",\"N<10\",VLOOKUP(VALUE($A93),'2012-13 BL Civics'!$A$14:$AG$500,17,FALSE)*100),\"Not Tested\")","v":27},{"$f":"IFERROR(IF(L93=\"N<10\",\"N<10\",VLOOKUP(VALUE($A93),'2013-14 BL Civics'!$A$14:$AG$500,17,FALSE)*100),\"Not Tested\")","v":31},4,{"$f":"IFERROR(IF(J93=\"N<10\",\"N<10\",VLOOKUP(VALUE($A93),'2012-13 BL Civics'!$A$14:$AG$500,23,FALSE)*100),\"Not Tested\")","v":34},{"$f":"IFERROR(IF(K93=\"N<10\",\"N<10\",VLOOKUP(VALUE($A93),'2013-14 BL Civics'!$A$14:$AG$500,23,FALSE)*100),\"Not Tested\")","v":34},0,{"$f":"IFERROR(IF(N93=\"N<10\",\"N<10\",VLOOKUP(VALUE($A93),'2012-13 BL Civics'!$A$14:$AG$500,29,FALSE)*100),\"Not Tested\")","v":38},{"$f":"IFERROR(IF(O93=\"N<10\",\"N<10\",VLOOKUP(VALUE($A93),'2013-14 BL Civics'!$A$14:$AG$500,29,FALSE)*100),\"Not Tested\")","v":41},3]
["6048",null,{"$f":"VLOOKUP(TEXT(A94,\"0000\"),SchList!$A$2:$C$483,2,FALSE)","v":"MIAMI COMMUNITY CHARTER MIDDLE"},{"$f":"IFERROR(VLOOKUP(TEXT($A94,\"0000\"),'2012 BL Civics Enrollment'!$A$3:$C$500,3,FALSE),0)","v":95},{"$f":"IFERROR(VLOOKUP(TEXT($A94,\"0000\"),'2013 BL Civics Enrollment'!$A$3:$C$500,3,FALSE),\"\")","v":113},{"$f":"IFERROR(IF(VLOOKUP(VALUE(A94),'2012-13 BL Civics'!$A$14:$C$200,3,FALSE)<10,\"N<10\",IF(VLOOKUP(VALUE(A94),'2012-13 BL Civics'!$A$14:$C$200,3,FALSE)>D94,100,VLOOKUP(VALUE(A94),'2012-13 BL Civics'!$A$14:$C$200,3,FALSE)/D94%)),\"Not Tested\")","v":96.842105263157904},{"$f":"IFERROR(IF(VLOOKUP(VALUE(A94),'2013-14 BL Civics'!$A$14:$C$200,3,FALSE)<10,\"N<10\",IF(VLOOKUP(VALUE(A94),'2013-14 BL Civics'!$A$14:$C$200,3,FALSE)>E94,100,VLOOKUP(VALUE(A94),'2013-14 BL Civics'!$A$14:$C$200,3,FALSE)/E94%)),\"Not Tested\")","v":94.690265486725679},{"$f":"IFERROR(IF(F94=\"N<10\",\"N<10\",VLOOKUP(VALUE($A94),'2012-13 BL Civics'!$A$14:$AG$500,5,FALSE)*100),\"Not Tested\")","v":31},{"$f":"IFERROR(IF(G94=\"N<10\",\"N<10\",VLOOKUP(VALUE($A94),'2013-14 BL Civics'!$A$14:$AG$500,5,FALSE)*100),\"Not Tested\")","v":30},-1,{"$f":"IFERROR(IF(H94=\"N<10\",\"N<10\",VLOOKUP(VALUE($A94),'2012-13 BL Civics'!$A$14:$AG$500,11,FALSE)*100),\"Not Tested\")","v":36},{"$f":"IFERROR(IF(I94=\"N<10\",\"N<10\",VLOOKUP(VALUE($A94),'2013-14 BL Civics'!$A$14:$AG$500,11,FALSE)*100),\"Not Tested\")","v":30},-6,{"$f":"IFERROR(IF(K94=\"N<10\",\"N<10\",VLOOKUP(VALUE($A94),'2012-13 BL Civics'!$A$14:$AG$500,17,FALSE)*100),\"Not Tested\")","v":26},{"$f":"IFERROR(IF(L94=\"N<10\",\"N<10\",VLOOKUP(VALUE($A94),'2013-14 BL Civics'!$A$14:$AG$500,17,FALSE)*100),\"Not Tested\")","v":28.000000000000004},2.0000000000000036,{"$f":"IFERROR(IF(J94=\"N<10\",\"N<10\",VLOOKUP(VALUE($A94),'2012-13 BL Civics'!$A$14:$AG$500,23,FALSE)*100),\"Not Tested\")","v":28.000000000000004},{"$f":"IFERROR(IF(K94=\"N<10\",\"N<10\",VLOOKUP(VALUE($A94),'2013-14 BL Civics'!$A$14:$AG$500,23,FALSE)*100),\"Not Tested\")","v":30},1.9999999999999964,{"$f":"IFERROR(IF(N94=\"N<10\",\"N<10\",VLOOKUP(VALUE($A94),'2012-13 BL Civics'!$A$14:$AG$500,29,FALSE)*100),\"Not Tested\")","v":36},{"$f":"IFERROR(IF(O94=\"N<10\",\"N<10\",VLOOKUP(VALUE($A94),'2013-14 BL Civics'!$A$14:$AG$500,29,FALSE)*100),\"Not Tested\")","v":35},-1]
["6049",null,{"$f":"VLOOKUP(TEXT(A95,\"0000\"),SchList!$A$2:$C$483,2,FALSE)","v":"RIVER CITIES COMMUNITY CHARTER"},{"$f":"IFERROR(VLOOKUP(TEXT($A95,\"0000\"),'2012 BL Civics Enrollment'!$A$3:$C$500,3,FALSE),0)","v":64},{"$f":"IFERROR(VLOOKUP(TEXT($A95,\"0000\"),'2013 BL Civics Enrollment'!$A$3:$C$500,3,FALSE),\"\")","v":44},{"$f":"IFERROR(IF(VLOOKUP(VALUE(A95),'2012-13 BL Civics'!$A$14:$C$200,3,FALSE)<10,\"N<10\",IF(VLOOKUP(VALUE(A95),'2012-13 BL Civics'!$A$14:$C$200,3,FALSE)>D95,100,VLOOKUP(VALUE(A95),'2012-13 BL Civics'!$A$14:$C$200,3,FALSE)/D95%)),\"Not Tested\")","v":98.4375},{"$f":"IFERROR(IF(VLOOKUP(VALUE(A95),'2013-14 BL Civics'!$A$14:$C$200,3,FALSE)<10,\"N<10\",IF(VLOOKUP(VALUE(A95),'2013-14 BL Civics'!$A$14:$C$200,3,FALSE)>E95,100,VLOOKUP(VALUE(A95),'2013-14 BL Civics'!$A$14:$C$200,3,FALSE)/E95%)),\"Not Tested\")","v":90.909090909090907},{"$f":"IFERROR(IF(F95=\"N<10\",\"N<10\",VLOOKUP(VALUE($A95),'2012-13 BL Civics'!$A$14:$AG$500,5,FALSE)*100),\"Not Tested\")","v":28.999999999999996},{"$f":"IFERROR(IF(G95=\"N<10\",\"N<10\",VLOOKUP(VALUE($A95),'2013-14 BL Civics'!$A$14:$AG$500,5,FALSE)*100),\"Not Tested\")","v":31},2.0000000000000036,{"$f":"IFERROR(IF(H95=\"N<10\",\"N<10\",VLOOKUP(VALUE($A95),'2012-13 BL Civics'!$A$14:$AG$500,11,FALSE)*100),\"Not Tested\")","v":34},{"$f":"IFERROR(IF(I95=\"N<10\",\"N<10\",VLOOKUP(VALUE($A95),'2013-14 BL Civics'!$A$14:$AG$500,11,FALSE)*100),\"Not Tested\")","v":31},-3,{"$f":"IFERROR(IF(K95=\"N<10\",\"N<10\",VLOOKUP(VALUE($A95),'2012-13 BL Civics'!$A$14:$AG$500,17,FALSE)*100),\"Not Tested\")","v":24},{"$f":"IFERROR(IF(L95=\"N<10\",\"N<10\",VLOOKUP(VALUE($A95),'2013-14 BL Civics'!$A$14:$AG$500,17,FALSE)*100),\"Not Tested\")","v":33},9,{"$f":"IFERROR(IF(J95=\"N<10\",\"N<10\",VLOOKUP(VALUE($A95),'2012-13 BL Civics'!$A$14:$AG$500,23,FALSE)*100),\"Not Tested\")","v":26},{"$f":"IFERROR(IF(K95=\"N<10\",\"N<10\",VLOOKUP(VALUE($A95),'2013-14 BL Civics'!$A$14:$AG$500,23,FALSE)*100),\"Not Tested\")","v":27},1,{"$f":"IFERROR(IF(N95=\"N<10\",\"N<10\",VLOOKUP(VALUE($A95),'2012-13 BL Civics'!$A$14:$AG$500,29,FALSE)*100),\"Not Tested\")","v":33},{"$f":"IFERROR(IF(O95=\"N<10\",\"N<10\",VLOOKUP(VALUE($A95),'2013-14 BL Civics'!$A$14:$AG$500,29,FALSE)*100),\"Not Tested\")","v":33},0]
["6051",null,{"$f":"VLOOKUP(TEXT(A96,\"0000\"),SchList!$A$2:$C$483,2,FALSE)","v":"CAROL CITY MIDDLE             "},{"$f":"IFERROR(VLOOKUP(TEXT($A96,\"0000\"),'2012 BL Civics Enrollment'!$A$3:$C$500,3,FALSE),0)","v":206},{"$f":"IFERROR(VLOOKUP(TEXT($A96,\"0000\"),'2013 BL Civics Enrollment'!$A$3:$C$500,3,FALSE),\"\")","v":150},{"$f":"IFERROR(IF(VLOOKUP(VALUE(A96),'2012-13 BL Civics'!$A$14:$C$200,3,FALSE)<10,\"N<10\",IF(VLOOKUP(VALUE(A96),'2012-13 BL Civics'!$A$14:$C$200,3,FALSE)>D96,100,VLOOKUP(VALUE(A96),'2012-13 BL Civics'!$A$14:$C$200,3,FALSE)/D96%)),\"Not Tested\")","v":88.349514563106794},{"$f":"IFERROR(IF(VLOOKUP(VALUE(A96),'2013-14 BL Civics'!$A$14:$C$200,3,FALSE)<10,\"N<10\",IF(VLOOKUP(VALUE(A96),'2013-14 BL Civics'!$A$14:$C$200,3,FALSE)>E96,100,VLOOKUP(VALUE(A96),'2013-14 BL Civics'!$A$14:$C$200,3,FALSE)/E96%)),\"Not Tested\")","v":94.666666666666671},{"$f":"IFERROR(IF(F96=\"N<10\",\"N<10\",VLOOKUP(VALUE($A96),'2012-13 BL Civics'!$A$14:$AG$500,5,FALSE)*100),\"Not Tested\")","v":31},{"$f":"IFERROR(IF(G96=\"N<10\",\"N<10\",VLOOKUP(VALUE($A96),'2013-14 BL Civics'!$A$14:$AG$500,5,FALSE)*100),\"Not Tested\")","v":28.000000000000004},-2.9999999999999964,{"$f":"IFERROR(IF(H96=\"N<10\",\"N<10\",VLOOKUP(VALUE($A96),'2012-13 BL Civics'!$A$14:$AG$500,11,FALSE)*100),\"Not Tested\")","v":36},{"$f":"IFERROR(IF(I96=\"N<10\",\"N<10\",VLOOKUP(VALUE($A96),'2013-14 BL Civics'!$A$14:$AG$500,11,FALSE)*100),\"Not Tested\")","v":27},-9,{"$f":"IFERROR(IF(K96=\"N<10\",\"N<10\",VLOOKUP(VALUE($A96),'2012-13 BL Civics'!$A$14:$AG$500,17,FALSE)*100),\"Not Tested\")","v":27},{"$f":"IFERROR(IF(L96=\"N<10\",\"N<10\",VLOOKUP(VALUE($A96),'2013-14 BL Civics'!$A$14:$AG$500,17,FALSE)*100),\"Not Tested\")","v":24},-3,{"$f":"IFERROR(IF(J96=\"N<10\",\"N<10\",VLOOKUP(VALUE($A96),'2012-13 BL Civics'!$A$14:$AG$500,23,FALSE)*100),\"Not Tested\")","v":28.999999999999996},{"$f":"IFERROR(IF(K96=\"N<10\",\"N<10\",VLOOKUP(VALUE($A96),'2013-14 BL Civics'!$A$14:$AG$500,23,FALSE)*100),\"Not Tested\")","v":28.000000000000004},-0.99999999999999289,{"$f":"IFERROR(IF(N96=\"N<10\",\"N<10\",VLOOKUP(VALUE($A96),'2012-13 BL Civics'!$A$14:$AG$500,29,FALSE)*100),\"Not Tested\")","v":33},{"$f":"IFERROR(IF(O96=\"N<10\",\"N<10\",VLOOKUP(VALUE($A96),'2013-14 BL Civics'!$A$14:$AG$500,29,FALSE)*100),\"Not Tested\")","v":35},2]
["6052",null,{"$f":"VLOOKUP(TEXT(A97,\"0000\"),SchList!$A$2:$C$483,2,FALSE)","v":"ZELDA GLAZER MIDDLE SCHOOL    "},{"$f":"IFERROR(VLOOKUP(TEXT($A97,\"0000\"),'2012 BL Civics Enrollment'!$A$3:$C$500,3,FALSE),0)","v":411},{"$f":"IFERROR(VLOOKUP(TEXT($A97,\"0000\"),'2013 BL Civics Enrollment'!$A$3:$C$500,3,FALSE),\"\")","v":356},{"$f":"IFERROR(IF(VLOOKUP(VALUE(A97),'2012-13 BL Civics'!$A$14:$C$200,3,FALSE)<10,\"N<10\",IF(VLOOKUP(VALUE(A97),'2012-13 BL Civics'!$A$14:$C$200,3,FALSE)>D97,100,VLOOKUP(VALUE(A97),'2012-13 BL Civics'!$A$14:$C$200,3,FALSE)/D97%)),\"Not Tested\")","v":96.59367396593673},{"$f":"IFERROR(IF(VLOOKUP(VALUE(A97),'2013-14 BL Civics'!$A$14:$C$200,3,FALSE)<10,\"N<10\",IF(VLOOKUP(VALUE(A97),'2013-14 BL Civics'!$A$14:$C$200,3,FALSE)>E97,100,VLOOKUP(VALUE(A97),'2013-14 BL Civics'!$A$14:$C$200,3,FALSE)/E97%)),\"Not Tested\")","v":97.752808988764045},{"$f":"IFERROR(IF(F97=\"N<10\",\"N<10\",VLOOKUP(VALUE($A97),'2012-13 BL Civics'!$A$14:$AG$500,5,FALSE)*100),\"Not Tested\")","v":34},{"$f":"IFERROR(IF(G97=\"N<10\",\"N<10\",VLOOKUP(VALUE($A97),'2013-14 BL Civics'!$A$14:$AG$500,5,FALSE)*100),\"Not Tested\")","v":35},1,{"$f":"IFERROR(IF(H97=\"N<10\",\"N<10\",VLOOKUP(VALUE($A97),'2012-13 BL Civics'!$A$14:$AG$500,11,FALSE)*100),\"Not Tested\")","v":45},{"$f":"IFERROR(IF(I97=\"N<10\",\"N<10\",VLOOKUP(VALUE($A97),'2013-14 BL Civics'!$A$14:$AG$500,11,FALSE)*100),\"Not Tested\")","v":37},-8,{"$f":"IFERROR(IF(K97=\"N<10\",\"N<10\",VLOOKUP(VALUE($A97),'2012-13 BL Civics'!$A$14:$AG$500,17,FALSE)*100),\"Not Tested\")","v":27},{"$f":"IFERROR(IF(L97=\"N<10\",\"N<10\",VLOOKUP(VALUE($A97),'2013-14 BL Civics'!$A$14:$AG$500,17,FALSE)*100),\"Not Tested\")","v":31},4,{"$f":"IFERROR(IF(J97=\"N<10\",\"N<10\",VLOOKUP(VALUE($A97),'2012-13 BL Civics'!$A$14:$AG$500,23,FALSE)*100),\"Not Tested\")","v":31},{"$f":"IFERROR(IF(K97=\"N<10\",\"N<10\",VLOOKUP(VALUE($A97),'2013-14 BL Civics'!$A$14:$AG$500,23,FALSE)*100),\"Not Tested\")","v":32},1,{"$f":"IFERROR(IF(N97=\"N<10\",\"N<10\",VLOOKUP(VALUE($A97),'2012-13 BL Civics'!$A$14:$AG$500,29,FALSE)*100),\"Not Tested\")","v":36},{"$f":"IFERROR(IF(O97=\"N<10\",\"N<10\",VLOOKUP(VALUE($A97),'2013-14 BL Civics'!$A$14:$AG$500,29,FALSE)*100),\"Not Tested\")","v":40},4]
["6053",null,{"$f":"VLOOKUP(TEXT(A98,\"0000\"),SchList!$A$2:$C$483,2,FALSE)","v":"SOMERSET ACAD MIDDLE (S-MIAMI)"},{"$f":"IFERROR(VLOOKUP(TEXT($A98,\"0000\"),'2012 BL Civics Enrollment'!$A$3:$C$500,3,FALSE),0)","v":50},{"$f":"IFERROR(VLOOKUP(TEXT($A98,\"0000\"),'2013 BL Civics Enrollment'!$A$3:$C$500,3,FALSE),\"\")","v":34},{"$f":"IFERROR(IF(VLOOKUP(VALUE(A98),'2012-13 BL Civics'!$A$14:$C$200,3,FALSE)<10,\"N<10\",IF(VLOOKUP(VALUE(A98),'2012-13 BL Civics'!$A$14:$C$200,3,FALSE)>D98,100,VLOOKUP(VALUE(A98),'2012-13 BL Civics'!$A$14:$C$200,3,FALSE)/D98%)),\"Not Tested\")","v":100},{"$f":"IFERROR(IF(VLOOKUP(VALUE(A98),'2013-14 BL Civics'!$A$14:$C$200,3,FALSE)<10,\"N<10\",IF(VLOOKUP(VALUE(A98),'2013-14 BL Civics'!$A$14:$C$200,3,FALSE)>E98,100,VLOOKUP(VALUE(A98),'2013-14 BL Civics'!$A$14:$C$200,3,FALSE)/E98%)),\"Not Tested\")","v":99.999999999999986},{"$f":"IFERROR(IF(F98=\"N<10\",\"N<10\",VLOOKUP(VALUE($A98),'2012-13 BL Civics'!$A$14:$AG$500,5,FALSE)*100),\"Not Tested\")","v":41},{"$f":"IFERROR(IF(G98=\"N<10\",\"N<10\",VLOOKUP(VALUE($A98),'2013-14 BL Civics'!$A$14:$AG$500,5,FALSE)*100),\"Not Tested\")","v":42},1,{"$f":"IFERROR(IF(H98=\"N<10\",\"N<10\",VLOOKUP(VALUE($A98),'2012-13 BL Civics'!$A$14:$AG$500,11,FALSE)*100),\"Not Tested\")","v":50},{"$f":"IFERROR(IF(I98=\"N<10\",\"N<10\",VLOOKUP(VALUE($A98),'2013-14 BL Civics'!$A$14:$AG$500,11,FALSE)*100),\"Not Tested\")","v":44},-6,{"$f":"IFERROR(IF(K98=\"N<10\",\"N<10\",VLOOKUP(VALUE($A98),'2012-13 BL Civics'!$A$14:$AG$500,17,FALSE)*100),\"Not Tested\")","v":34},{"$f":"IFERROR(IF(L98=\"N<10\",\"N<10\",VLOOKUP(VALUE($A98),'2013-14 BL Civics'!$A$14:$AG$500,17,FALSE)*100),\"Not Tested\")","v":35},1,{"$f":"IFERROR(IF(J98=\"N<10\",\"N<10\",VLOOKUP(VALUE($A98),'2012-13 BL Civics'!$A$14:$AG$500,23,FALSE)*100),\"Not Tested\")","v":42},{"$f":"IFERROR(IF(K98=\"N<10\",\"N<10\",VLOOKUP(VALUE($A98),'2013-14 BL Civics'!$A$14:$AG$500,23,FALSE)*100),\"Not Tested\")","v":45},3,{"$f":"IFERROR(IF(N98=\"N<10\",\"N<10\",VLOOKUP(VALUE($A98),'2012-13 BL Civics'!$A$14:$AG$500,29,FALSE)*100),\"Not Tested\")","v":44},{"$f":"IFERROR(IF(O98=\"N<10\",\"N<10\",VLOOKUP(VALUE($A98),'2013-14 BL Civics'!$A$14:$AG$500,29,FALSE)*100),\"Not Tested\")","v":47},3]
["6060",null,{"$f":"VLOOKUP(TEXT(A99,\"0000\"),SchList!$A$2:$C$483,2,FALSE)","v":"ASPIRA SOUTH YOUTH LEADERSHIP "},{"$f":"IFERROR(VLOOKUP(TEXT($A99,\"0000\"),'2012 BL Civics Enrollment'!$A$3:$C$500,3,FALSE),0)","v":100},{"$f":"IFERROR(VLOOKUP(TEXT($A99,\"0000\"),'2013 BL Civics Enrollment'!$A$3:$C$500,3,FALSE),\"\")","v":123},{"$f":"IFERROR(IF(VLOOKUP(VALUE(A99),'2012-13 BL Civics'!$A$14:$C$200,3,FALSE)<10,\"N<10\",IF(VLOOKUP(VALUE(A99),'2012-13 BL Civics'!$A$14:$C$200,3,FALSE)>D99,100,VLOOKUP(VALUE(A99),'2012-13 BL Civics'!$A$14:$C$200,3,FALSE)/D99%)),\"Not Tested\")","v":97},{"$f":"IFERROR(IF(VLOOKUP(VALUE(A99),'2013-14 BL Civics'!$A$14:$C$200,3,FALSE)<10,\"N<10\",IF(VLOOKUP(VALUE(A99),'2013-14 BL Civics'!$A$14:$C$200,3,FALSE)>E99,100,VLOOKUP(VALUE(A99),'2013-14 BL Civics'!$A$14:$C$200,3,FALSE)/E99%)),\"Not Tested\")","v":95.934959349593498},{"$f":"IFERROR(IF(F99=\"N<10\",\"N<10\",VLOOKUP(VALUE($A99),'2012-13 BL Civics'!$A$14:$AG$500,5,FALSE)*100),\"Not Tested\")","v":32},{"$f":"IFERROR(IF(G99=\"N<10\",\"N<10\",VLOOKUP(VALUE($A99),'2013-14 BL Civics'!$A$14:$AG$500,5,FALSE)*100),\"Not Tested\")","v":35},3,{"$f":"IFERROR(IF(H99=\"N<10\",\"N<10\",VLOOKUP(VALUE($A99),'2012-13 BL Civics'!$A$14:$AG$500,11,FALSE)*100),\"Not Tested\")","v":38},{"$f":"IFERROR(IF(I99=\"N<10\",\"N<10\",VLOOKUP(VALUE($A99),'2013-14 BL Civics'!$A$14:$AG$500,11,FALSE)*100),\"Not Tested\")","v":35},-3,{"$f":"IFERROR(IF(K99=\"N<10\",\"N<10\",VLOOKUP(VALUE($A99),'2012-13 BL Civics'!$A$14:$AG$500,17,FALSE)*100),\"Not Tested\")","v":27},{"$f":"IFERROR(IF(L99=\"N<10\",\"N<10\",VLOOKUP(VALUE($A99),'2013-14 BL Civics'!$A$14:$AG$500,17,FALSE)*100),\"Not Tested\")","v":33},6,{"$f":"IFERROR(IF(J99=\"N<10\",\"N<10\",VLOOKUP(VALUE($A99),'2012-13 BL Civics'!$A$14:$AG$500,23,FALSE)*100),\"Not Tested\")","v":30},{"$f":"IFERROR(IF(K99=\"N<10\",\"N<10\",VLOOKUP(VALUE($A99),'2013-14 BL Civics'!$A$14:$AG$500,23,FALSE)*100),\"Not Tested\")","v":34},4,{"$f":"IFERROR(IF(N99=\"N<10\",\"N<10\",VLOOKUP(VALUE($A99),'2012-13 BL Civics'!$A$14:$AG$500,29,FALSE)*100),\"Not Tested\")","v":33},{"$f":"IFERROR(IF(O99=\"N<10\",\"N<10\",VLOOKUP(VALUE($A99),'2013-14 BL Civics'!$A$14:$AG$500,29,FALSE)*100),\"Not Tested\")","v":40},7]
["6061",null,{"$f":"VLOOKUP(TEXT(A100,\"0000\"),SchList!$A$2:$C$483,2,FALSE)","v":"CAMPBELL DRIVE MIDDLE         "},{"$f":"IFERROR(VLOOKUP(TEXT($A100,\"0000\"),'2012 BL Civics Enrollment'!$A$3:$C$500,3,FALSE),0)","v":143},{"$f":"IFERROR(VLOOKUP(TEXT($A100,\"0000\"),'2013 BL Civics Enrollment'!$A$3:$C$500,3,FALSE),\"\")","v":149},{"$f":"IFERROR(IF(VLOOKUP(VALUE(A100),'2012-13 BL Civics'!$A$14:$C$200,3,FALSE)<10,\"N<10\",IF(VLOOKUP(VALUE(A100),'2012-13 BL Civics'!$A$14:$C$200,3,FALSE)>D100,100,VLOOKUP(VALUE(A100),'2012-13 BL Civics'!$A$14:$C$200,3,FALSE)/D100%)),\"Not Tested\")","v":91.608391608391614},{"$f":"IFERROR(IF(VLOOKUP(VALUE(A100),'2013-14 BL Civics'!$A$14:$C$200,3,FALSE)<10,\"N<10\",IF(VLOOKUP(VALUE(A100),'2013-14 BL Civics'!$A$14:$C$200,3,FALSE)>E100,100,VLOOKUP(VALUE(A100),'2013-14 BL Civics'!$A$14:$C$200,3,FALSE)/E100%)),\"Not Tested\")","v":95.973154362416111},{"$f":"IFERROR(IF(F100=\"N<10\",\"N<10\",VLOOKUP(VALUE($A100),'2012-13 BL Civics'!$A$14:$AG$500,5,FALSE)*100),\"Not Tested\")","v":31},{"$f":"IFERROR(IF(G100=\"N<10\",\"N<10\",VLOOKUP(VALUE($A100),'2013-14 BL Civics'!$A$14:$AG$500,5,FALSE)*100),\"Not Tested\")","v":32},1,{"$f":"IFERROR(IF(H100=\"N<10\",\"N<10\",VLOOKUP(VALUE($A100),'2012-13 BL Civics'!$A$14:$AG$500,11,FALSE)*100),\"Not Tested\")","v":34},{"$f":"IFERROR(IF(I100=\"N<10\",\"N<10\",VLOOKUP(VALUE($A100),'2013-14 BL Civics'!$A$14:$AG$500,11,FALSE)*100),\"Not Tested\")","v":30},-4,{"$f":"IFERROR(IF(K100=\"N<10\",\"N<10\",VLOOKUP(VALUE($A100),'2012-13 BL Civics'!$A$14:$AG$500,17,FALSE)*100),\"Not Tested\")","v":25},{"$f":"IFERROR(IF(L100=\"N<10\",\"N<10\",VLOOKUP(VALUE($A100),'2013-14 BL Civics'!$A$14:$AG$500,17,FALSE)*100),\"Not Tested\")","v":28.000000000000004},3.0000000000000036,{"$f":"IFERROR(IF(J100=\"N<10\",\"N<10\",VLOOKUP(VALUE($A100),'2012-13 BL Civics'!$A$14:$AG$500,23,FALSE)*100),\"Not Tested\")","v":30},{"$f":"IFERROR(IF(K100=\"N<10\",\"N<10\",VLOOKUP(VALUE($A100),'2013-14 BL Civics'!$A$14:$AG$500,23,FALSE)*100),\"Not Tested\")","v":33},3,{"$f":"IFERROR(IF(N100=\"N<10\",\"N<10\",VLOOKUP(VALUE($A100),'2012-13 BL Civics'!$A$14:$AG$500,29,FALSE)*100),\"Not Tested\")","v":35},{"$f":"IFERROR(IF(O100=\"N<10\",\"N<10\",VLOOKUP(VALUE($A100),'2013-14 BL Civics'!$A$14:$AG$500,29,FALSE)*100),\"Not Tested\")","v":39},4]
["6070",null,{"$f":"VLOOKUP(TEXT(A101,\"0000\"),SchList!$A$2:$C$483,2,FALSE)","v":"ASPIRA EUGENIO MARIA DE HOSTOS"},{"$f":"IFERROR(VLOOKUP(TEXT($A101,\"0000\"),'2012 BL Civics Enrollment'!$A$3:$C$500,3,FALSE),0)","v":190},{"$f":"IFERROR(VLOOKUP(TEXT($A101,\"0000\"),'2013 BL Civics Enrollment'!$A$3:$C$500,3,FALSE),\"\")","v":162},{"$f":"IFERROR(IF(VLOOKUP(VALUE(A101),'2012-13 BL Civics'!$A$14:$C$200,3,FALSE)<10,\"N<10\",IF(VLOOKUP(VALUE(A101),'2012-13 BL Civics'!$A$14:$C$200,3,FALSE)>D101,100,VLOOKUP(VALUE(A101),'2012-13 BL Civics'!$A$14:$C$200,3,FALSE)/D101%)),\"Not Tested\")","v":100},{"$f":"IFERROR(IF(VLOOKUP(VALUE(A101),'2013-14 BL Civics'!$A$14:$C$200,3,FALSE)<10,\"N<10\",IF(VLOOKUP(VALUE(A101),'2013-14 BL Civics'!$A$14:$C$200,3,FALSE)>E101,100,VLOOKUP(VALUE(A101),'2013-14 BL Civics'!$A$14:$C$200,3,FALSE)/E101%)),\"Not Tested\")","v":99.382716049382708},{"$f":"IFERROR(IF(F101=\"N<10\",\"N<10\",VLOOKUP(VALUE($A101),'2012-13 BL Civics'!$A$14:$AG$500,5,FALSE)*100),\"Not Tested\")","v":32},{"$f":"IFERROR(IF(G101=\"N<10\",\"N<10\",VLOOKUP(VALUE($A101),'2013-14 BL Civics'!$A$14:$AG$500,5,FALSE)*100),\"Not Tested\")","v":34},2,{"$f":"IFERROR(IF(H101=\"N<10\",\"N<10\",VLOOKUP(VALUE($A101),'2012-13 BL Civics'!$A$14:$AG$500,11,FALSE)*100),\"Not Tested\")","v":37},{"$f":"IFERROR(IF(I101=\"N<10\",\"N<10\",VLOOKUP(VALUE($A101),'2013-14 BL Civics'!$A$14:$AG$500,11,FALSE)*100),\"Not Tested\")","v":36},-1,{"$f":"IFERROR(IF(K101=\"N<10\",\"N<10\",VLOOKUP(VALUE($A101),'2012-13 BL Civics'!$A$14:$AG$500,17,FALSE)*100),\"Not Tested\")","v":27},{"$f":"IFERROR(IF(L101=\"N<10\",\"N<10\",VLOOKUP(VALUE($A101),'2013-14 BL Civics'!$A$14:$AG$500,17,FALSE)*100),\"Not Tested\")","v":28.999999999999996},1.9999999999999964,{"$f":"IFERROR(IF(J101=\"N<10\",\"N<10\",VLOOKUP(VALUE($A101),'2012-13 BL Civics'!$A$14:$AG$500,23,FALSE)*100),\"Not Tested\")","v":31},{"$f":"IFERROR(IF(K101=\"N<10\",\"N<10\",VLOOKUP(VALUE($A101),'2013-14 BL Civics'!$A$14:$AG$500,23,FALSE)*100),\"Not Tested\")","v":33},2,{"$f":"IFERROR(IF(N101=\"N<10\",\"N<10\",VLOOKUP(VALUE($A101),'2012-13 BL Civics'!$A$14:$AG$500,29,FALSE)*100),\"Not Tested\")","v":34},{"$f":"IFERROR(IF(O101=\"N<10\",\"N<10\",VLOOKUP(VALUE($A101),'2013-14 BL Civics'!$A$14:$AG$500,29,FALSE)*100),\"Not Tested\")","v":41},7]
["6071",null,{"$f":"VLOOKUP(TEXT(A102,\"0000\"),SchList!$A$2:$C$483,2,FALSE)","v":"GEORGE WASHINGTON CARVER      "},{"$f":"IFERROR(VLOOKUP(TEXT($A102,\"0000\"),'2012 BL Civics Enrollment'!$A$3:$C$500,3,FALSE),0)","v":308},{"$f":"IFERROR(VLOOKUP(TEXT($A102,\"0000\"),'2013 BL Civics Enrollment'!$A$3:$C$500,3,FALSE),\"\")","v":349},{"$f":"IFERROR(IF(VLOOKUP(VALUE(A102),'2012-13 BL Civics'!$A$14:$C$200,3,FALSE)<10,\"N<10\",IF(VLOOKUP(VALUE(A102),'2012-13 BL Civics'!$A$14:$C$200,3,FALSE)>D102,100,VLOOKUP(VALUE(A102),'2012-13 BL Civics'!$A$14:$C$200,3,FALSE)/D102%)),\"Not Tested\")","v":99.675324675324674},{"$f":"IFERROR(IF(VLOOKUP(VALUE(A102),'2013-14 BL Civics'!$A$14:$C$200,3,FALSE)<10,\"N<10\",IF(VLOOKUP(VALUE(A102),'2013-14 BL Civics'!$A$14:$C$200,3,FALSE)>E102,100,VLOOKUP(VALUE(A102),'2013-14 BL Civics'!$A$14:$C$200,3,FALSE)/E102%)),\"Not Tested\")","v":98.853868194842406},{"$f":"IFERROR(IF(F102=\"N<10\",\"N<10\",VLOOKUP(VALUE($A102),'2012-13 BL Civics'!$A$14:$AG$500,5,FALSE)*100),\"Not Tested\")","v":40},{"$f":"IFERROR(IF(G102=\"N<10\",\"N<10\",VLOOKUP(VALUE($A102),'2013-14 BL Civics'!$A$14:$AG$500,5,FALSE)*100),\"Not Tested\")","v":49},9,{"$f":"IFERROR(IF(H102=\"N<10\",\"N<10\",VLOOKUP(VALUE($A102),'2012-13 BL Civics'!$A$14:$AG$500,11,FALSE)*100),\"Not Tested\")","v":55.000000000000007},{"$f":"IFERROR(IF(I102=\"N<10\",\"N<10\",VLOOKUP(VALUE($A102),'2013-14 BL Civics'!$A$14:$AG$500,11,FALSE)*100),\"Not Tested\")","v":55.000000000000007},0,{"$f":"IFERROR(IF(K102=\"N<10\",\"N<10\",VLOOKUP(VALUE($A102),'2012-13 BL Civics'!$A$14:$AG$500,17,FALSE)*100),\"Not Tested\")","v":30},{"$f":"IFERROR(IF(L102=\"N<10\",\"N<10\",VLOOKUP(VALUE($A102),'2013-14 BL Civics'!$A$14:$AG$500,17,FALSE)*100),\"Not Tested\")","v":43},13,{"$f":"IFERROR(IF(J102=\"N<10\",\"N<10\",VLOOKUP(VALUE($A102),'2012-13 BL Civics'!$A$14:$AG$500,23,FALSE)*100),\"Not Tested\")","v":40},{"$f":"IFERROR(IF(K102=\"N<10\",\"N<10\",VLOOKUP(VALUE($A102),'2013-14 BL Civics'!$A$14:$AG$500,23,FALSE)*100),\"Not Tested\")","v":49},9,{"$f":"IFERROR(IF(N102=\"N<10\",\"N<10\",VLOOKUP(VALUE($A102),'2012-13 BL Civics'!$A$14:$AG$500,29,FALSE)*100),\"Not Tested\")","v":39},{"$f":"IFERROR(IF(O102=\"N<10\",\"N<10\",VLOOKUP(VALUE($A102),'2013-14 BL Civics'!$A$14:$AG$500,29,FALSE)*100),\"Not Tested\")","v":51},12]
["6082",null,{"$f":"VLOOKUP(TEXT(A103,\"0000\"),SchList!$A$2:$C$483,2,FALSE)","v":"ACADEMIR CHARTER SCHOOL MIDDLE"},{"$f":"IFERROR(VLOOKUP(TEXT($A103,\"0000\"),'2012 BL Civics Enrollment'!$A$3:$C$500,3,FALSE),0)","v":13},{"$f":"IFERROR(VLOOKUP(TEXT($A103,\"0000\"),'2013 BL Civics Enrollment'!$A$3:$C$500,3,FALSE),\"\")","v":22},{"$f":"IFERROR(IF(VLOOKUP(VALUE(A103),'2012-13 BL Civics'!$A$14:$C$200,3,FALSE)<10,\"N<10\",IF(VLOOKUP(VALUE(A103),'2012-13 BL Civics'!$A$14:$C$200,3,FALSE)>D103,100,VLOOKUP(VALUE(A103),'2012-13 BL Civics'!$A$14:$C$200,3,FALSE)/D103%)),\"Not Tested\")","v":100},{"$f":"IFERROR(IF(VLOOKUP(VALUE(A103),'2013-14 BL Civics'!$A$14:$C$200,3,FALSE)<10,\"N<10\",IF(VLOOKUP(VALUE(A103),'2013-14 BL Civics'!$A$14:$C$200,3,FALSE)>E103,100,VLOOKUP(VALUE(A103),'2013-14 BL Civics'!$A$14:$C$200,3,FALSE)/E103%)),\"Not Tested\")","v":"N<10"},{"$f":"IFERROR(IF(F103=\"N<10\",\"N<10\",VLOOKUP(VALUE($A103),'2012-13 BL Civics'!$A$14:$AG$500,5,FALSE)*100),\"Not Tested\")","v":34},{"$f":"IFERROR(IF(G103=\"N<10\",\"N<10\",VLOOKUP(VALUE($A103),'2013-14 BL Civics'!$A$14:$AG$500,5,FALSE)*100),\"Not Tested\")","v":"N<10"},"",{"$f":"IFERROR(IF(H103=\"N<10\",\"N<10\",VLOOKUP(VALUE($A103),'2012-13 BL Civics'!$A$14:$AG$500,11,FALSE)*100),\"Not Tested\")","v":49},{"$f":"IFERROR(IF(I103=\"N<10\",\"N<10\",VLOOKUP(VALUE($A103),'2013-14 BL Civics'!$A$14:$AG$500,11,FALSE)*100),\"Not Tested\")","v":"N<10"},"",{"$f":"IFERROR(IF(K103=\"N<10\",\"N<10\",VLOOKUP(VALUE($A103),'2012-13 BL Civics'!$A$14:$AG$500,17,FALSE)*100),\"Not Tested\")","v":27},{"$f":"IFERROR(IF(L103=\"N<10\",\"N<10\",VLOOKUP(VALUE($A103),'2013-14 BL Civics'!$A$14:$AG$500,17,FALSE)*100),\"Not Tested\")","v":"N<10"},"",{"$f":"IFERROR(IF(J103=\"N<10\",\"N<10\",VLOOKUP(VALUE($A103),'2012-13 BL Civics'!$A$14:$AG$500,23,FALSE)*100),\"Not Tested\")","v":31},{"$f":"IFERROR(IF(K103=\"N<10\",\"N<10\",VLOOKUP(VALUE($A103),'2013-14 BL Civics'!$A$14:$AG$500,23,FALSE)*100),\"Not Tested\")","v":23},-8,{"$f":"IFERROR(IF(N103=\"N<10\",\"N<10\",VLOOKUP(VALUE($A103),'2012-13 BL Civics'!$A$14:$AG$500,29,FALSE)*100),\"Not Tested\")","v":35},{"$f":"IFERROR(IF(O103=\"N<10\",\"N<10\",VLOOKUP(VALUE($A103),'2013-14 BL Civics'!$A$14:$AG$500,29,FALSE)*100),\"Not Tested\")","v":"N<10"},""]
["6091",null,{"$f":"VLOOKUP(TEXT(A104,\"0000\"),SchList!$A$2:$C$483,2,FALSE)","v":"CITRUS GROVE MIDDLE SCHOOL    "},{"$f":"IFERROR(VLOOKUP(TEXT($A104,\"0000\"),'2012 BL Civics Enrollment'!$A$3:$C$500,3,FALSE),0)","v":322},{"$f":"IFERROR(VLOOKUP(TEXT($A104,\"0000\"),'2013 BL Civics Enrollment'!$A$3:$C$500,3,FALSE),\"\")","v":282},{"$f":"IFERROR(IF(VLOOKUP(VALUE(A104),'2012-13 BL Civics'!$A$14:$C$200,3,FALSE)<10,\"N<10\",IF(VLOOKUP(VALUE(A104),'2012-13 BL Civics'!$A$14:$C$200,3,FALSE)>D104,100,VLOOKUP(VALUE(A104),'2012-13 BL Civics'!$A$14:$C$200,3,FALSE)/D104%)),\"Not Tested\")","v":88.81987577639751},{"$f":"IFERROR(IF(VLOOKUP(VALUE(A104),'2013-14 BL Civics'!$A$14:$C$200,3,FALSE)<10,\"N<10\",IF(VLOOKUP(VALUE(A104),'2013-14 BL Civics'!$A$14:$C$200,3,FALSE)>E104,100,VLOOKUP(VALUE(A104),'2013-14 BL Civics'!$A$14:$C$200,3,FALSE)/E104%)),\"Not Tested\")","v":93.262411347517741},{"$f":"IFERROR(IF(F104=\"N<10\",\"N<10\",VLOOKUP(VALUE($A104),'2012-13 BL Civics'!$A$14:$AG$500,5,FALSE)*100),\"Not Tested\")","v":30},{"$f":"IFERROR(IF(G104=\"N<10\",\"N<10\",VLOOKUP(VALUE($A104),'2013-14 BL Civics'!$A$14:$AG$500,5,FALSE)*100),\"Not Tested\")","v":31},1,{"$f":"IFERROR(IF(H104=\"N<10\",\"N<10\",VLOOKUP(VALUE($A104),'2012-13 BL Civics'!$A$14:$AG$500,11,FALSE)*100),\"Not Tested\")","v":33},{"$f":"IFERROR(IF(I104=\"N<10\",\"N<10\",VLOOKUP(VALUE($A104),'2013-14 BL Civics'!$A$14:$AG$500,11,FALSE)*100),\"Not Tested\")","v":31},-2,{"$f":"IFERROR(IF(K104=\"N<10\",\"N<10\",VLOOKUP(VALUE($A104),'2012-13 BL Civics'!$A$14:$AG$500,17,FALSE)*100),\"Not Tested\")","v":27},{"$f":"IFERROR(IF(L104=\"N<10\",\"N<10\",VLOOKUP(VALUE($A104),'2013-14 BL Civics'!$A$14:$AG$500,17,FALSE)*100),\"Not Tested\")","v":28.000000000000004},1.0000000000000036,{"$f":"IFERROR(IF(J104=\"N<10\",\"N<10\",VLOOKUP(VALUE($A104),'2012-13 BL Civics'!$A$14:$AG$500,23,FALSE)*100),\"Not Tested\")","v":28.999999999999996},{"$f":"IFERROR(IF(K104=\"N<10\",\"N<10\",VLOOKUP(VALUE($A104),'2013-14 BL Civics'!$A$14:$AG$500,23,FALSE)*100),\"Not Tested\")","v":30},1.0000000000000036,{"$f":"IFERROR(IF(N104=\"N<10\",\"N<10\",VLOOKUP(VALUE($A104),'2012-13 BL Civics'!$A$14:$AG$500,29,FALSE)*100),\"Not Tested\")","v":32},{"$f":"IFERROR(IF(O104=\"N<10\",\"N<10\",VLOOKUP(VALUE($A104),'2013-14 BL Civics'!$A$14:$AG$500,29,FALSE)*100),\"Not Tested\")","v":36},4]
["6111",null,{"$f":"VLOOKUP(TEXT(A105,\"0000\"),SchList!$A$2:$C$483,2,FALSE)","v":"CUTLER RIDGE MIDDLE           "},{"$f":"IFERROR(VLOOKUP(TEXT($A105,\"0000\"),'2012 BL Civics Enrollment'!$A$3:$C$500,3,FALSE),0)","v":265},{"$f":"IFERROR(VLOOKUP(TEXT($A105,\"0000\"),'2013 BL Civics Enrollment'!$A$3:$C$500,3,FALSE),\"\")","v":438},{"$f":"IFERROR(IF(VLOOKUP(VALUE(A105),'2012-13 BL Civics'!$A$14:$C$200,3,FALSE)<10,\"N<10\",IF(VLOOKUP(VALUE(A105),'2012-13 BL Civics'!$A$14:$C$200,3,FALSE)>D105,100,VLOOKUP(VALUE(A105),'2012-13 BL Civics'!$A$14:$C$200,3,FALSE)/D105%)),\"Not Tested\")","v":92.452830188679243},{"$f":"IFERROR(IF(VLOOKUP(VALUE(A105),'2013-14 BL Civics'!$A$14:$C$200,3,FALSE)<10,\"N<10\",IF(VLOOKUP(VALUE(A105),'2013-14 BL Civics'!$A$14:$C$200,3,FALSE)>E105,100,VLOOKUP(VALUE(A105),'2013-14 BL Civics'!$A$14:$C$200,3,FALSE)/E105%)),\"Not Tested\")","v":91.780821917808225},{"$f":"IFERROR(IF(F105=\"N<10\",\"N<10\",VLOOKUP(VALUE($A105),'2012-13 BL Civics'!$A$14:$AG$500,5,FALSE)*100),\"Not Tested\")","v":30},{"$f":"IFERROR(IF(G105=\"N<10\",\"N<10\",VLOOKUP(VALUE($A105),'2013-14 BL Civics'!$A$14:$AG$500,5,FALSE)*100),\"Not Tested\")","v":32},2,{"$f":"IFERROR(IF(H105=\"N<10\",\"N<10\",VLOOKUP(VALUE($A105),'2012-13 BL Civics'!$A$14:$AG$500,11,FALSE)*100),\"Not Tested\")","v":35},{"$f":"IFERROR(IF(I105=\"N<10\",\"N<10\",VLOOKUP(VALUE($A105),'2013-14 BL Civics'!$A$14:$AG$500,11,FALSE)*100),\"Not Tested\")","v":32},-3,{"$f":"IFERROR(IF(K105=\"N<10\",\"N<10\",VLOOKUP(VALUE($A105),'2012-13 BL Civics'!$A$14:$AG$500,17,FALSE)*100),\"Not Tested\")","v":27},{"$f":"IFERROR(IF(L105=\"N<10\",\"N<10\",VLOOKUP(VALUE($A105),'2013-14 BL Civics'!$A$14:$AG$500,17,FALSE)*100),\"Not Tested\")","v":28.999999999999996},1.9999999999999964,{"$f":"IFERROR(IF(J105=\"N<10\",\"N<10\",VLOOKUP(VALUE($A105),'2012-13 BL Civics'!$A$14:$AG$500,23,FALSE)*100),\"Not Tested\")","v":30},{"$f":"IFERROR(IF(K105=\"N<10\",\"N<10\",VLOOKUP(VALUE($A105),'2013-14 BL Civics'!$A$14:$AG$500,23,FALSE)*100),\"Not Tested\")","v":31},1,{"$f":"IFERROR(IF(N105=\"N<10\",\"N<10\",VLOOKUP(VALUE($A105),'2012-13 BL Civics'!$A$14:$AG$500,29,FALSE)*100),\"Not Tested\")","v":30},{"$f":"IFERROR(IF(O105=\"N<10\",\"N<10\",VLOOKUP(VALUE($A105),'2013-14 BL Civics'!$A$14:$AG$500,29,FALSE)*100),\"Not Tested\")","v":37},7]
["6121",null,{"$f":"VLOOKUP(TEXT(A106,\"0000\"),SchList!$A$2:$C$483,2,FALSE)","v":"RUBEN DARIO MIDDLE            "},{"$f":"IFERROR(VLOOKUP(TEXT($A106,\"0000\"),'2012 BL Civics Enrollment'!$A$3:$C$500,3,FALSE),0)","v":221},{"$f":"IFERROR(VLOOKUP(TEXT($A106,\"0000\"),'2013 BL Civics Enrollment'!$A$3:$C$500,3,FALSE),\"\")","v":210},{"$f":"IFERROR(IF(VLOOKUP(VALUE(A106),'2012-13 BL Civics'!$A$14:$C$200,3,FALSE)<10,\"N<10\",IF(VLOOKUP(VALUE(A106),'2012-13 BL Civics'!$A$14:$C$200,3,FALSE)>D106,100,VLOOKUP(VALUE(A106),'2012-13 BL Civics'!$A$14:$C$200,3,FALSE)/D106%)),\"Not Tested\")","v":82.352941176470594},{"$f":"IFERROR(IF(VLOOKUP(VALUE(A106),'2013-14 BL Civics'!$A$14:$C$200,3,FALSE)<10,\"N<10\",IF(VLOOKUP(VALUE(A106),'2013-14 BL Civics'!$A$14:$C$200,3,FALSE)>E106,100,VLOOKUP(VALUE(A106),'2013-14 BL Civics'!$A$14:$C$200,3,FALSE)/E106%)),\"Not Tested\")","v":95.238095238095241},{"$f":"IFERROR(IF(F106=\"N<10\",\"N<10\",VLOOKUP(VALUE($A106),'2012-13 BL Civics'!$A$14:$AG$500,5,FALSE)*100),\"Not Tested\")","v":32},{"$f":"IFERROR(IF(G106=\"N<10\",\"N<10\",VLOOKUP(VALUE($A106),'2013-14 BL Civics'!$A$14:$AG$500,5,FALSE)*100),\"Not Tested\")","v":32},0,{"$f":"IFERROR(IF(H106=\"N<10\",\"N<10\",VLOOKUP(VALUE($A106),'2012-13 BL Civics'!$A$14:$AG$500,11,FALSE)*100),\"Not Tested\")","v":39},{"$f":"IFERROR(IF(I106=\"N<10\",\"N<10\",VLOOKUP(VALUE($A106),'2013-14 BL Civics'!$A$14:$AG$500,11,FALSE)*100),\"Not Tested\")","v":34},-5,{"$f":"IFERROR(IF(K106=\"N<10\",\"N<10\",VLOOKUP(VALUE($A106),'2012-13 BL Civics'!$A$14:$AG$500,17,FALSE)*100),\"Not Tested\")","v":25},{"$f":"IFERROR(IF(L106=\"N<10\",\"N<10\",VLOOKUP(VALUE($A106),'2013-14 BL Civics'!$A$14:$AG$500,17,FALSE)*100),\"Not Tested\")","v":28.000000000000004},3.0000000000000036,{"$f":"IFERROR(IF(J106=\"N<10\",\"N<10\",VLOOKUP(VALUE($A106),'2012-13 BL Civics'!$A$14:$AG$500,23,FALSE)*100),\"Not Tested\")","v":32},{"$f":"IFERROR(IF(K106=\"N<10\",\"N<10\",VLOOKUP(VALUE($A106),'2013-14 BL Civics'!$A$14:$AG$500,23,FALSE)*100),\"Not Tested\")","v":32},0,{"$f":"IFERROR(IF(N106=\"N<10\",\"N<10\",VLOOKUP(VALUE($A106),'2012-13 BL Civics'!$A$14:$AG$500,29,FALSE)*100),\"Not Tested\")","v":35},{"$f":"IFERROR(IF(O106=\"N<10\",\"N<10\",VLOOKUP(VALUE($A106),'2013-14 BL Civics'!$A$14:$AG$500,29,FALSE)*100),\"Not Tested\")","v":38},3]
["6161",null,{"$f":"VLOOKUP(TEXT(A107,\"0000\"),SchList!$A$2:$C$483,2,FALSE)","v":"LAWTON CHILES MIDDLE SCHOOL   "},{"$f":"IFERROR(VLOOKUP(TEXT($A107,\"0000\"),'2012 BL Civics Enrollment'!$A$3:$C$500,3,FALSE),0)","v":244},{"$f":"IFERROR(VLOOKUP(TEXT($A107,\"0000\"),'2013 BL Civics Enrollment'!$A$3:$C$500,3,FALSE),\"\")","v":168},{"$f":"IFERROR(IF(VLOOKUP(VALUE(A107),'2012-13 BL Civics'!$A$14:$C$200,3,FALSE)<10,\"N<10\",IF(VLOOKUP(VALUE(A107),'2012-13 BL Civics'!$A$14:$C$200,3,FALSE)>D107,100,VLOOKUP(VALUE(A107),'2012-13 BL Civics'!$A$14:$C$200,3,FALSE)/D107%)),\"Not Tested\")","v":98.770491803278688},{"$f":"IFERROR(IF(VLOOKUP(VALUE(A107),'2013-14 BL Civics'!$A$14:$C$200,3,FALSE)<10,\"N<10\",IF(VLOOKUP(VALUE(A107),'2013-14 BL Civics'!$A$14:$C$200,3,FALSE)>E107,100,VLOOKUP(VALUE(A107),'2013-14 BL Civics'!$A$14:$C$200,3,FALSE)/E107%)),\"Not Tested\")","v":95.833333333333343},{"$f":"IFERROR(IF(F107=\"N<10\",\"N<10\",VLOOKUP(VALUE($A107),'2012-13 BL Civics'!$A$14:$AG$500,5,FALSE)*100),\"Not Tested\")","v":31},{"$f":"IFERROR(IF(G107=\"N<10\",\"N<10\",VLOOKUP(VALUE($A107),'2013-14 BL Civics'!$A$14:$AG$500,5,FALSE)*100),\"Not Tested\")","v":35},4,{"$f":"IFERROR(IF(H107=\"N<10\",\"N<10\",VLOOKUP(VALUE($A107),'2012-13 BL Civics'!$A$14:$AG$500,11,FALSE)*100),\"Not Tested\")","v":38},{"$f":"IFERROR(IF(I107=\"N<10\",\"N<10\",VLOOKUP(VALUE($A107),'2013-14 BL Civics'!$A$14:$AG$500,11,FALSE)*100),\"Not Tested\")","v":34},-4,{"$f":"IFERROR(IF(K107=\"N<10\",\"N<10\",VLOOKUP(VALUE($A107),'2012-13 BL Civics'!$A$14:$AG$500,17,FALSE)*100),\"Not Tested\")","v":28.000000000000004},{"$f":"IFERROR(IF(L107=\"N<10\",\"N<10\",VLOOKUP(VALUE($A107),'2013-14 BL Civics'!$A$14:$AG$500,17,FALSE)*100),\"Not Tested\")","v":32},3.9999999999999964,{"$f":"IFERROR(IF(J107=\"N<10\",\"N<10\",VLOOKUP(VALUE($A107),'2012-13 BL Civics'!$A$14:$AG$500,23,FALSE)*100),\"Not Tested\")","v":28.999999999999996},{"$f":"IFERROR(IF(K107=\"N<10\",\"N<10\",VLOOKUP(VALUE($A107),'2013-14 BL Civics'!$A$14:$AG$500,23,FALSE)*100),\"Not Tested\")","v":34},5.0000000000000036,{"$f":"IFERROR(IF(N107=\"N<10\",\"N<10\",VLOOKUP(VALUE($A107),'2012-13 BL Civics'!$A$14:$AG$500,29,FALSE)*100),\"Not Tested\")","v":34},{"$f":"IFERROR(IF(O107=\"N<10\",\"N<10\",VLOOKUP(VALUE($A107),'2013-14 BL Civics'!$A$14:$AG$500,29,FALSE)*100),\"Not Tested\")","v":40},6]
["6171",null,{"$f":"VLOOKUP(TEXT(A108,\"0000\"),SchList!$A$2:$C$483,2,FALSE)","v":"HENRY H. FILER MIDDLE         "},{"$f":"IFERROR(VLOOKUP(TEXT($A108,\"0000\"),'2012 BL Civics Enrollment'!$A$3:$C$500,3,FALSE),0)","v":389},{"$f":"IFERROR(VLOOKUP(TEXT($A108,\"0000\"),'2013 BL Civics Enrollment'!$A$3:$C$500,3,FALSE),\"\")","v":361},{"$f":"IFERROR(IF(VLOOKUP(VALUE(A108),'2012-13 BL Civics'!$A$14:$C$200,3,FALSE)<10,\"N<10\",IF(VLOOKUP(VALUE(A108),'2012-13 BL Civics'!$A$14:$C$200,3,FALSE)>D108,100,VLOOKUP(VALUE(A108),'2012-13 BL Civics'!$A$14:$C$200,3,FALSE)/D108%)),\"Not Tested\")","v":83.804627249357324},{"$f":"IFERROR(IF(VLOOKUP(VALUE(A108),'2013-14 BL Civics'!$A$14:$C$200,3,FALSE)<10,\"N<10\",IF(VLOOKUP(VALUE(A108),'2013-14 BL Civics'!$A$14:$C$200,3,FALSE)>E108,100,VLOOKUP(VALUE(A108),'2013-14 BL Civics'!$A$14:$C$200,3,FALSE)/E108%)),\"Not Tested\")","v":88.6426592797784},{"$f":"IFERROR(IF(F108=\"N<10\",\"N<10\",VLOOKUP(VALUE($A108),'2012-13 BL Civics'!$A$14:$AG$500,5,FALSE)*100),\"Not Tested\")","v":31},{"$f":"IFERROR(IF(G108=\"N<10\",\"N<10\",VLOOKUP(VALUE($A108),'2013-14 BL Civics'!$A$14:$AG$500,5,FALSE)*100),\"Not Tested\")","v":32},1,{"$f":"IFERROR(IF(H108=\"N<10\",\"N<10\",VLOOKUP(VALUE($A108),'2012-13 BL Civics'!$A$14:$AG$500,11,FALSE)*100),\"Not Tested\")","v":39},{"$f":"IFERROR(IF(I108=\"N<10\",\"N<10\",VLOOKUP(VALUE($A108),'2013-14 BL Civics'!$A$14:$AG$500,11,FALSE)*100),\"Not Tested\")","v":35},-4,{"$f":"IFERROR(IF(K108=\"N<10\",\"N<10\",VLOOKUP(VALUE($A108),'2012-13 BL Civics'!$A$14:$AG$500,17,FALSE)*100),\"Not Tested\")","v":25},{"$f":"IFERROR(IF(L108=\"N<10\",\"N<10\",VLOOKUP(VALUE($A108),'2013-14 BL Civics'!$A$14:$AG$500,17,FALSE)*100),\"Not Tested\")","v":28.000000000000004},3.0000000000000036,{"$f":"IFERROR(IF(J108=\"N<10\",\"N<10\",VLOOKUP(VALUE($A108),'2012-13 BL Civics'!$A$14:$AG$500,23,FALSE)*100),\"Not Tested\")","v":31},{"$f":"IFERROR(IF(K108=\"N<10\",\"N<10\",VLOOKUP(VALUE($A108),'2013-14 BL Civics'!$A$14:$AG$500,23,FALSE)*100),\"Not Tested\")","v":30},-1,{"$f":"IFERROR(IF(N108=\"N<10\",\"N<10\",VLOOKUP(VALUE($A108),'2012-13 BL Civics'!$A$14:$AG$500,29,FALSE)*100),\"Not Tested\")","v":33},{"$f":"IFERROR(IF(O108=\"N<10\",\"N<10\",VLOOKUP(VALUE($A108),'2013-14 BL Civics'!$A$14:$AG$500,29,FALSE)*100),\"Not Tested\")","v":38},5]
["6211",null,{"$f":"VLOOKUP(TEXT(A109,\"0000\"),SchList!$A$2:$C$483,2,FALSE)","v":"GLADES MIDDLE                 "},{"$f":"IFERROR(VLOOKUP(TEXT($A109,\"0000\"),'2012 BL Civics Enrollment'!$A$3:$C$500,3,FALSE),0)","v":376},{"$f":"IFERROR(VLOOKUP(TEXT($A109,\"0000\"),'2013 BL Civics Enrollment'!$A$3:$C$500,3,FALSE),\"\")","v":411},{"$f":"IFERROR(IF(VLOOKUP(VALUE(A109),'2012-13 BL Civics'!$A$14:$C$200,3,FALSE)<10,\"N<10\",IF(VLOOKUP(VALUE(A109),'2012-13 BL Civics'!$A$14:$C$200,3,FALSE)>D109,100,VLOOKUP(VALUE(A109),'2012-13 BL Civics'!$A$14:$C$200,3,FALSE)/D109%)),\"Not Tested\")","v":93.61702127659575},{"$f":"IFERROR(IF(VLOOKUP(VALUE(A109),'2013-14 BL Civics'!$A$14:$C$200,3,FALSE)<10,\"N<10\",IF(VLOOKUP(VALUE(A109),'2013-14 BL Civics'!$A$14:$C$200,3,FALSE)>E109,100,VLOOKUP(VALUE(A109),'2013-14 BL Civics'!$A$14:$C$200,3,FALSE)/E109%)),\"Not Tested\")","v":99.026763990267625},{"$f":"IFERROR(IF(F109=\"N<10\",\"N<10\",VLOOKUP(VALUE($A109),'2012-13 BL Civics'!$A$14:$AG$500,5,FALSE)*100),\"Not Tested\")","v":34},{"$f":"IFERROR(IF(G109=\"N<10\",\"N<10\",VLOOKUP(VALUE($A109),'2013-14 BL Civics'!$A$14:$AG$500,5,FALSE)*100),\"Not Tested\")","v":37},3,{"$f":"IFERROR(IF(H109=\"N<10\",\"N<10\",VLOOKUP(VALUE($A109),'2012-13 BL Civics'!$A$14:$AG$500,11,FALSE)*100),\"Not Tested\")","v":41},{"$f":"IFERROR(IF(I109=\"N<10\",\"N<10\",VLOOKUP(VALUE($A109),'2013-14 BL Civics'!$A$14:$AG$500,11,FALSE)*100),\"Not Tested\")","v":41},0,{"$f":"IFERROR(IF(K109=\"N<10\",\"N<10\",VLOOKUP(VALUE($A109),'2012-13 BL Civics'!$A$14:$AG$500,17,FALSE)*100),\"Not Tested\")","v":28.999999999999996},{"$f":"IFERROR(IF(L109=\"N<10\",\"N<10\",VLOOKUP(VALUE($A109),'2013-14 BL Civics'!$A$14:$AG$500,17,FALSE)*100),\"Not Tested\")","v":32},3.0000000000000036,{"$f":"IFERROR(IF(J109=\"N<10\",\"N<10\",VLOOKUP(VALUE($A109),'2012-13 BL Civics'!$A$14:$AG$500,23,FALSE)*100),\"Not Tested\")","v":33},{"$f":"IFERROR(IF(K109=\"N<10\",\"N<10\",VLOOKUP(VALUE($A109),'2013-14 BL Civics'!$A$14:$AG$500,23,FALSE)*100),\"Not Tested\")","v":35},2,{"$f":"IFERROR(IF(N109=\"N<10\",\"N<10\",VLOOKUP(VALUE($A109),'2012-13 BL Civics'!$A$14:$AG$500,29,FALSE)*100),\"Not Tested\")","v":35},{"$f":"IFERROR(IF(O109=\"N<10\",\"N<10\",VLOOKUP(VALUE($A109),'2013-14 BL Civics'!$A$14:$AG$500,29,FALSE)*100),\"Not Tested\")","v":42},7]
["6221",null,{"$f":"VLOOKUP(TEXT(A110,\"0000\"),SchList!$A$2:$C$483,2,FALSE)","v":"HAMMOCKS MIDDLE               "},{"$f":"IFERROR(VLOOKUP(TEXT($A110,\"0000\"),'2012 BL Civics Enrollment'!$A$3:$C$500,3,FALSE),0)","v":385},{"$f":"IFERROR(VLOOKUP(TEXT($A110,\"0000\"),'2013 BL Civics Enrollment'!$A$3:$C$500,3,FALSE),\"\")","v":398},{"$f":"IFERROR(IF(VLOOKUP(VALUE(A110),'2012-13 BL Civics'!$A$14:$C$200,3,FALSE)<10,\"N<10\",IF(VLOOKUP(VALUE(A110),'2012-13 BL Civics'!$A$14:$C$200,3,FALSE)>D110,100,VLOOKUP(VALUE(A110),'2012-13 BL Civics'!$A$14:$C$200,3,FALSE)/D110%)),\"Not Tested\")","v":95.324675324675326},{"$f":"IFERROR(IF(VLOOKUP(VALUE(A110),'2013-14 BL Civics'!$A$14:$C$200,3,FALSE)<10,\"N<10\",IF(VLOOKUP(VALUE(A110),'2013-14 BL Civics'!$A$14:$C$200,3,FALSE)>E110,100,VLOOKUP(VALUE(A110),'2013-14 BL Civics'!$A$14:$C$200,3,FALSE)/E110%)),\"Not Tested\")","v":91.959798994974875},{"$f":"IFERROR(IF(F110=\"N<10\",\"N<10\",VLOOKUP(VALUE($A110),'2012-13 BL Civics'!$A$14:$AG$500,5,FALSE)*100),\"Not Tested\")","v":34},{"$f":"IFERROR(IF(G110=\"N<10\",\"N<10\",VLOOKUP(VALUE($A110),'2013-14 BL Civics'!$A$14:$AG$500,5,FALSE)*100),\"Not Tested\")","v":38},4,{"$f":"IFERROR(IF(H110=\"N<10\",\"N<10\",VLOOKUP(VALUE($A110),'2012-13 BL Civics'!$A$14:$AG$500,11,FALSE)*100),\"Not Tested\")","v":42},{"$f":"IFERROR(IF(I110=\"N<10\",\"N<10\",VLOOKUP(VALUE($A110),'2013-14 BL Civics'!$A$14:$AG$500,11,FALSE)*100),\"Not Tested\")","v":40},-2,{"$f":"IFERROR(IF(K110=\"N<10\",\"N<10\",VLOOKUP(VALUE($A110),'2012-13 BL Civics'!$A$14:$AG$500,17,FALSE)*100),\"Not Tested\")","v":28.000000000000004},{"$f":"IFERROR(IF(L110=\"N<10\",\"N<10\",VLOOKUP(VALUE($A110),'2013-14 BL Civics'!$A$14:$AG$500,17,FALSE)*100),\"Not Tested\")","v":34},5.9999999999999964,{"$f":"IFERROR(IF(J110=\"N<10\",\"N<10\",VLOOKUP(VALUE($A110),'2012-13 BL Civics'!$A$14:$AG$500,23,FALSE)*100),\"Not Tested\")","v":34},{"$f":"IFERROR(IF(K110=\"N<10\",\"N<10\",VLOOKUP(VALUE($A110),'2013-14 BL Civics'!$A$14:$AG$500,23,FALSE)*100),\"Not Tested\")","v":36},2,{"$f":"IFERROR(IF(N110=\"N<10\",\"N<10\",VLOOKUP(VALUE($A110),'2012-13 BL Civics'!$A$14:$AG$500,29,FALSE)*100),\"Not Tested\")","v":38},{"$f":"IFERROR(IF(O110=\"N<10\",\"N<10\",VLOOKUP(VALUE($A110),'2013-14 BL Civics'!$A$14:$AG$500,29,FALSE)*100),\"Not Tested\")","v":44},6]
["6231",null,{"$f":"VLOOKUP(TEXT(A111,\"0000\"),SchList!$A$2:$C$483,2,FALSE)","v":"HIALEAH MIDDLE                "},{"$f":"IFERROR(VLOOKUP(TEXT($A111,\"0000\"),'2012 BL Civics Enrollment'!$A$3:$C$500,3,FALSE),0)","v":272},{"$f":"IFERROR(VLOOKUP(TEXT($A111,\"0000\"),'2013 BL Civics Enrollment'!$A$3:$C$500,3,FALSE),\"\")","v":276},{"$f":"IFERROR(IF(VLOOKUP(VALUE(A111),'2012-13 BL Civics'!$A$14:$C$200,3,FALSE)<10,\"N<10\",IF(VLOOKUP(VALUE(A111),'2012-13 BL Civics'!$A$14:$C$200,3,FALSE)>D111,100,VLOOKUP(VALUE(A111),'2012-13 BL Civics'!$A$14:$C$200,3,FALSE)/D111%)),\"Not Tested\")","v":97.058823529411754},{"$f":"IFERROR(IF(VLOOKUP(VALUE(A111),'2013-14 BL Civics'!$A$14:$C$200,3,FALSE)<10,\"N<10\",IF(VLOOKUP(VALUE(A111),'2013-14 BL Civics'!$A$14:$C$200,3,FALSE)>E111,100,VLOOKUP(VALUE(A111),'2013-14 BL Civics'!$A$14:$C$200,3,FALSE)/E111%)),\"Not Tested\")","v":90.217391304347828},{"$f":"IFERROR(IF(F111=\"N<10\",\"N<10\",VLOOKUP(VALUE($A111),'2012-13 BL Civics'!$A$14:$AG$500,5,FALSE)*100),\"Not Tested\")","v":32},{"$f":"IFERROR(IF(G111=\"N<10\",\"N<10\",VLOOKUP(VALUE($A111),'2013-14 BL Civics'!$A$14:$AG$500,5,FALSE)*100),\"Not Tested\")","v":33},1,{"$f":"IFERROR(IF(H111=\"N<10\",\"N<10\",VLOOKUP(VALUE($A111),'2012-13 BL Civics'!$A$14:$AG$500,11,FALSE)*100),\"Not Tested\")","v":38},{"$f":"IFERROR(IF(I111=\"N<10\",\"N<10\",VLOOKUP(VALUE($A111),'2013-14 BL Civics'!$A$14:$AG$500,11,FALSE)*100),\"Not Tested\")","v":33},-5,{"$f":"IFERROR(IF(K111=\"N<10\",\"N<10\",VLOOKUP(VALUE($A111),'2012-13 BL Civics'!$A$14:$AG$500,17,FALSE)*100),\"Not Tested\")","v":26},{"$f":"IFERROR(IF(L111=\"N<10\",\"N<10\",VLOOKUP(VALUE($A111),'2013-14 BL Civics'!$A$14:$AG$500,17,FALSE)*100),\"Not Tested\")","v":28.999999999999996},2.9999999999999964,{"$f":"IFERROR(IF(J111=\"N<10\",\"N<10\",VLOOKUP(VALUE($A111),'2012-13 BL Civics'!$A$14:$AG$500,23,FALSE)*100),\"Not Tested\")","v":32},{"$f":"IFERROR(IF(K111=\"N<10\",\"N<10\",VLOOKUP(VALUE($A111),'2013-14 BL Civics'!$A$14:$AG$500,23,FALSE)*100),\"Not Tested\")","v":32},0,{"$f":"IFERROR(IF(N111=\"N<10\",\"N<10\",VLOOKUP(VALUE($A111),'2012-13 BL Civics'!$A$14:$AG$500,29,FALSE)*100),\"Not Tested\")","v":34},{"$f":"IFERROR(IF(O111=\"N<10\",\"N<10\",VLOOKUP(VALUE($A111),'2013-14 BL Civics'!$A$14:$AG$500,29,FALSE)*100),\"Not Tested\")","v":39},5]
["6241",null,{"$f":"VLOOKUP(TEXT(A112,\"0000\"),SchList!$A$2:$C$483,2,FALSE)","v":"HIGHLAND OAKS MIDDLE          "},{"$f":"IFERROR(VLOOKUP(TEXT($A112,\"0000\"),'2012 BL Civics Enrollment'!$A$3:$C$500,3,FALSE),0)","v":423},{"$f":"IFERROR(VLOOKUP(TEXT($A112,\"0000\"),'2013 BL Civics Enrollment'!$A$3:$C$500,3,FALSE),\"\")","v":437},{"$f":"IFERROR(IF(VLOOKUP(VALUE(A112),'2012-13 BL Civics'!$A$14:$C$200,3,FALSE)<10,\"N<10\",IF(VLOOKUP(VALUE(A112),'2012-13 BL Civics'!$A$14:$C$200,3,FALSE)>D112,100,VLOOKUP(VALUE(A112),'2012-13 BL Civics'!$A$14:$C$200,3,FALSE)/D112%)),\"Not Tested\")","v":98.108747044917251},{"$f":"IFERROR(IF(VLOOKUP(VALUE(A112),'2013-14 BL Civics'!$A$14:$C$200,3,FALSE)<10,\"N<10\",IF(VLOOKUP(VALUE(A112),'2013-14 BL Civics'!$A$14:$C$200,3,FALSE)>E112,100,VLOOKUP(VALUE(A112),'2013-14 BL Civics'!$A$14:$C$200,3,FALSE)/E112%)),\"Not Tested\")","v":99.77116704805492},{"$f":"IFERROR(IF(F112=\"N<10\",\"N<10\",VLOOKUP(VALUE($A112),'2012-13 BL Civics'!$A$14:$AG$500,5,FALSE)*100),\"Not Tested\")","v":33},{"$f":"IFERROR(IF(G112=\"N<10\",\"N<10\",VLOOKUP(VALUE($A112),'2013-14 BL Civics'!$A$14:$AG$500,5,FALSE)*100),\"Not Tested\")","v":38},5,{"$f":"IFERROR(IF(H112=\"N<10\",\"N<10\",VLOOKUP(VALUE($A112),'2012-13 BL Civics'!$A$14:$AG$500,11,FALSE)*100),\"Not Tested\")","v":41},{"$f":"IFERROR(IF(I112=\"N<10\",\"N<10\",VLOOKUP(VALUE($A112),'2013-14 BL Civics'!$A$14:$AG$500,11,FALSE)*100),\"Not Tested\")","v":42},1,{"$f":"IFERROR(IF(K112=\"N<10\",\"N<10\",VLOOKUP(VALUE($A112),'2012-13 BL Civics'!$A$14:$AG$500,17,FALSE)*100),\"Not Tested\")","v":27},{"$f":"IFERROR(IF(L112=\"N<10\",\"N<10\",VLOOKUP(VALUE($A112),'2013-14 BL Civics'!$A$14:$AG$500,17,FALSE)*100),\"Not Tested\")","v":34},7,{"$f":"IFERROR(IF(J112=\"N<10\",\"N<10\",VLOOKUP(VALUE($A112),'2012-13 BL Civics'!$A$14:$AG$500,23,FALSE)*100),\"Not Tested\")","v":33},{"$f":"IFERROR(IF(K112=\"N<10\",\"N<10\",VLOOKUP(VALUE($A112),'2013-14 BL Civics'!$A$14:$AG$500,23,FALSE)*100),\"Not Tested\")","v":37},4,{"$f":"IFERROR(IF(N112=\"N<10\",\"N<10\",VLOOKUP(VALUE($A112),'2012-13 BL Civics'!$A$14:$AG$500,29,FALSE)*100),\"Not Tested\")","v":36},{"$f":"IFERROR(IF(O112=\"N<10\",\"N<10\",VLOOKUP(VALUE($A112),'2013-14 BL Civics'!$A$14:$AG$500,29,FALSE)*100),\"Not Tested\")","v":44},8]
["6251",null,{"$f":"VLOOKUP(TEXT(A113,\"0000\"),SchList!$A$2:$C$483,2,FALSE)","v":"HOMESTEAD MIDDLE              "},{"$f":"IFERROR(VLOOKUP(TEXT($A113,\"0000\"),'2012 BL Civics Enrollment'!$A$3:$C$500,3,FALSE),0)","v":173},{"$f":"IFERROR(VLOOKUP(TEXT($A113,\"0000\"),'2013 BL Civics Enrollment'!$A$3:$C$500,3,FALSE),\"\")","v":145},{"$f":"IFERROR(IF(VLOOKUP(VALUE(A113),'2012-13 BL Civics'!$A$14:$C$200,3,FALSE)<10,\"N<10\",IF(VLOOKUP(VALUE(A113),'2012-13 BL Civics'!$A$14:$C$200,3,FALSE)>D113,100,VLOOKUP(VALUE(A113),'2012-13 BL Civics'!$A$14:$C$200,3,FALSE)/D113%)),\"Not Tested\")","v":100},{"$f":"IFERROR(IF(VLOOKUP(VALUE(A113),'2013-14 BL Civics'!$A$14:$C$200,3,FALSE)<10,\"N<10\",IF(VLOOKUP(VALUE(A113),'2013-14 BL Civics'!$A$14:$C$200,3,FALSE)>E113,100,VLOOKUP(VALUE(A113),'2013-14 BL Civics'!$A$14:$C$200,3,FALSE)/E113%)),\"Not Tested\")","v":100},{"$f":"IFERROR(IF(F113=\"N<10\",\"N<10\",VLOOKUP(VALUE($A113),'2012-13 BL Civics'!$A$14:$AG$500,5,FALSE)*100),\"Not Tested\")","v":30},{"$f":"IFERROR(IF(G113=\"N<10\",\"N<10\",VLOOKUP(VALUE($A113),'2013-14 BL Civics'!$A$14:$AG$500,5,FALSE)*100),\"Not Tested\")","v":34},4,{"$f":"IFERROR(IF(H113=\"N<10\",\"N<10\",VLOOKUP(VALUE($A113),'2012-13 BL Civics'!$A$14:$AG$500,11,FALSE)*100),\"Not Tested\")","v":35},{"$f":"IFERROR(IF(I113=\"N<10\",\"N<10\",VLOOKUP(VALUE($A113),'2013-14 BL Civics'!$A$14:$AG$500,11,FALSE)*100),\"Not Tested\")","v":33},-2,{"$f":"IFERROR(IF(K113=\"N<10\",\"N<10\",VLOOKUP(VALUE($A113),'2012-13 BL Civics'!$A$14:$AG$500,17,FALSE)*100),\"Not Tested\")","v":25},{"$f":"IFERROR(IF(L113=\"N<10\",\"N<10\",VLOOKUP(VALUE($A113),'2013-14 BL Civics'!$A$14:$AG$500,17,FALSE)*100),\"Not Tested\")","v":30},5,{"$f":"IFERROR(IF(J113=\"N<10\",\"N<10\",VLOOKUP(VALUE($A113),'2012-13 BL Civics'!$A$14:$AG$500,23,FALSE)*100),\"Not Tested\")","v":30},{"$f":"IFERROR(IF(K113=\"N<10\",\"N<10\",VLOOKUP(VALUE($A113),'2013-14 BL Civics'!$A$14:$AG$500,23,FALSE)*100),\"Not Tested\")","v":34},4,{"$f":"IFERROR(IF(N113=\"N<10\",\"N<10\",VLOOKUP(VALUE($A113),'2012-13 BL Civics'!$A$14:$AG$500,29,FALSE)*100),\"Not Tested\")","v":33},{"$f":"IFERROR(IF(O113=\"N<10\",\"N<10\",VLOOKUP(VALUE($A113),'2013-14 BL Civics'!$A$14:$AG$500,29,FALSE)*100),\"Not Tested\")","v":40},7]
["6281",null,{"$f":"VLOOKUP(TEXT(A114,\"0000\"),SchList!$A$2:$C$483,2,FALSE)","v":"THOMAS JEFFERSON MIDDLE       "},{"$f":"IFERROR(VLOOKUP(TEXT($A114,\"0000\"),'2012 BL Civics Enrollment'!$A$3:$C$500,3,FALSE),0)","v":126},{"$f":"IFERROR(VLOOKUP(TEXT($A114,\"0000\"),'2013 BL Civics Enrollment'!$A$3:$C$500,3,FALSE),\"\")","v":123},{"$f":"IFERROR(IF(VLOOKUP(VALUE(A114),'2012-13 BL Civics'!$A$14:$C$200,3,FALSE)<10,\"N<10\",IF(VLOOKUP(VALUE(A114),'2012-13 BL Civics'!$A$14:$C$200,3,FALSE)>D114,100,VLOOKUP(VALUE(A114),'2012-13 BL Civics'!$A$14:$C$200,3,FALSE)/D114%)),\"Not Tested\")","v":100},{"$f":"IFERROR(IF(VLOOKUP(VALUE(A114),'2013-14 BL Civics'!$A$14:$C$200,3,FALSE)<10,\"N<10\",IF(VLOOKUP(VALUE(A114),'2013-14 BL Civics'!$A$14:$C$200,3,FALSE)>E114,100,VLOOKUP(VALUE(A114),'2013-14 BL Civics'!$A$14:$C$200,3,FALSE)/E114%)),\"Not Tested\")","v":100},{"$f":"IFERROR(IF(F114=\"N<10\",\"N<10\",VLOOKUP(VALUE($A114),'2012-13 BL Civics'!$A$14:$AG$500,5,FALSE)*100),\"Not Tested\")","v":30},{"$f":"IFERROR(IF(G114=\"N<10\",\"N<10\",VLOOKUP(VALUE($A114),'2013-14 BL Civics'!$A$14:$AG$500,5,FALSE)*100),\"Not Tested\")","v":31},1,{"$f":"IFERROR(IF(H114=\"N<10\",\"N<10\",VLOOKUP(VALUE($A114),'2012-13 BL Civics'!$A$14:$AG$500,11,FALSE)*100),\"Not Tested\")","v":37},{"$f":"IFERROR(IF(I114=\"N<10\",\"N<10\",VLOOKUP(VALUE($A114),'2013-14 BL Civics'!$A$14:$AG$500,11,FALSE)*100),\"Not Tested\")","v":31},-6,{"$f":"IFERROR(IF(K114=\"N<10\",\"N<10\",VLOOKUP(VALUE($A114),'2012-13 BL Civics'!$A$14:$AG$500,17,FALSE)*100),\"Not Tested\")","v":24},{"$f":"IFERROR(IF(L114=\"N<10\",\"N<10\",VLOOKUP(VALUE($A114),'2013-14 BL Civics'!$A$14:$AG$500,17,FALSE)*100),\"Not Tested\")","v":28.999999999999996},4.9999999999999964,{"$f":"IFERROR(IF(J114=\"N<10\",\"N<10\",VLOOKUP(VALUE($A114),'2012-13 BL Civics'!$A$14:$AG$500,23,FALSE)*100),\"Not Tested\")","v":28.999999999999996},{"$f":"IFERROR(IF(K114=\"N<10\",\"N<10\",VLOOKUP(VALUE($A114),'2013-14 BL Civics'!$A$14:$AG$500,23,FALSE)*100),\"Not Tested\")","v":31},2.0000000000000036,{"$f":"IFERROR(IF(N114=\"N<10\",\"N<10\",VLOOKUP(VALUE($A114),'2012-13 BL Civics'!$A$14:$AG$500,29,FALSE)*100),\"Not Tested\")","v":33},{"$f":"IFERROR(IF(O114=\"N<10\",\"N<10\",VLOOKUP(VALUE($A114),'2013-14 BL Civics'!$A$14:$AG$500,29,FALSE)*100),\"Not Tested\")","v":36},3]
["6301",null,{"$f":"VLOOKUP(TEXT(A115,\"0000\"),SchList!$A$2:$C$483,2,FALSE)","v":"JOHN F. KENNEDY MIDDLE        "},{"$f":"IFERROR(VLOOKUP(TEXT($A115,\"0000\"),'2012 BL Civics Enrollment'!$A$3:$C$500,3,FALSE),0)","v":434},{"$f":"IFERROR(VLOOKUP(TEXT($A115,\"0000\"),'2013 BL Civics Enrollment'!$A$3:$C$500,3,FALSE),\"\")","v":411},{"$f":"IFERROR(IF(VLOOKUP(VALUE(A115),'2012-13 BL Civics'!$A$14:$C$200,3,FALSE)<10,\"N<10\",IF(VLOOKUP(VALUE(A115),'2012-13 BL Civics'!$A$14:$C$200,3,FALSE)>D115,100,VLOOKUP(VALUE(A115),'2012-13 BL Civics'!$A$14:$C$200,3,FALSE)/D115%)),\"Not Tested\")","v":91.244239631336413},{"$f":"IFERROR(IF(VLOOKUP(VALUE(A115),'2013-14 BL Civics'!$A$14:$C$200,3,FALSE)<10,\"N<10\",IF(VLOOKUP(VALUE(A115),'2013-14 BL Civics'!$A$14:$C$200,3,FALSE)>E115,100,VLOOKUP(VALUE(A115),'2013-14 BL Civics'!$A$14:$C$200,3,FALSE)/E115%)),\"Not Tested\")","v":94.160583941605836},{"$f":"IFERROR(IF(F115=\"N<10\",\"N<10\",VLOOKUP(VALUE($A115),'2012-13 BL Civics'!$A$14:$AG$500,5,FALSE)*100),\"Not Tested\")","v":35},{"$f":"IFERROR(IF(G115=\"N<10\",\"N<10\",VLOOKUP(VALUE($A115),'2013-14 BL Civics'!$A$14:$AG$500,5,FALSE)*100),\"Not Tested\")","v":40},5,{"$f":"IFERROR(IF(H115=\"N<10\",\"N<10\",VLOOKUP(VALUE($A115),'2012-13 BL Civics'!$A$14:$AG$500,11,FALSE)*100),\"Not Tested\")","v":42},{"$f":"IFERROR(IF(I115=\"N<10\",\"N<10\",VLOOKUP(VALUE($A115),'2013-14 BL Civics'!$A$14:$AG$500,11,FALSE)*100),\"Not Tested\")","v":41},-1,{"$f":"IFERROR(IF(K115=\"N<10\",\"N<10\",VLOOKUP(VALUE($A115),'2012-13 BL Civics'!$A$14:$AG$500,17,FALSE)*100),\"Not Tested\")","v":28.999999999999996},{"$f":"IFERROR(IF(L115=\"N<10\",\"N<10\",VLOOKUP(VALUE($A115),'2013-14 BL Civics'!$A$14:$AG$500,17,FALSE)*100),\"Not Tested\")","v":35},6.0000000000000036,{"$f":"IFERROR(IF(J115=\"N<10\",\"N<10\",VLOOKUP(VALUE($A115),'2012-13 BL Civics'!$A$14:$AG$500,23,FALSE)*100),\"Not Tested\")","v":33},{"$f":"IFERROR(IF(K115=\"N<10\",\"N<10\",VLOOKUP(VALUE($A115),'2013-14 BL Civics'!$A$14:$AG$500,23,FALSE)*100),\"Not Tested\")","v":41},8,{"$f":"IFERROR(IF(N115=\"N<10\",\"N<10\",VLOOKUP(VALUE($A115),'2012-13 BL Civics'!$A$14:$AG$500,29,FALSE)*100),\"Not Tested\")","v":36},{"$f":"IFERROR(IF(O115=\"N<10\",\"N<10\",VLOOKUP(VALUE($A115),'2013-14 BL Civics'!$A$14:$AG$500,29,FALSE)*100),\"Not Tested\")","v":44},8]
["6331",null,{"$f":"VLOOKUP(TEXT(A116,\"0000\"),SchList!$A$2:$C$483,2,FALSE)","v":"KINLOCH PARK MIDDLE           "},{"$f":"IFERROR(VLOOKUP(TEXT($A116,\"0000\"),'2012 BL Civics Enrollment'!$A$3:$C$500,3,FALSE),0)","v":419},{"$f":"IFERROR(VLOOKUP(TEXT($A116,\"0000\"),'2013 BL Civics Enrollment'!$A$3:$C$500,3,FALSE),\"\")","v":384},{"$f":"IFERROR(IF(VLOOKUP(VALUE(A116),'2012-13 BL Civics'!$A$14:$C$200,3,FALSE)<10,\"N<10\",IF(VLOOKUP(VALUE(A116),'2012-13 BL Civics'!$A$14:$C$200,3,FALSE)>D116,100,VLOOKUP(VALUE(A116),'2012-13 BL Civics'!$A$14:$C$200,3,FALSE)/D116%)),\"Not Tested\")","v":96.897374701670628},{"$f":"IFERROR(IF(VLOOKUP(VALUE(A116),'2013-14 BL Civics'!$A$14:$C$200,3,FALSE)<10,\"N<10\",IF(VLOOKUP(VALUE(A116),'2013-14 BL Civics'!$A$14:$C$200,3,FALSE)>E116,100,VLOOKUP(VALUE(A116),'2013-14 BL Civics'!$A$14:$C$200,3,FALSE)/E116%)),\"Not Tested\")","v":94.791666666666671},{"$f":"IFERROR(IF(F116=\"N<10\",\"N<10\",VLOOKUP(VALUE($A116),'2012-13 BL Civics'!$A$14:$AG$500,5,FALSE)*100),\"Not Tested\")","v":32},{"$f":"IFERROR(IF(G116=\"N<10\",\"N<10\",VLOOKUP(VALUE($A116),'2013-14 BL Civics'!$A$14:$AG$500,5,FALSE)*100),\"Not Tested\")","v":32},0,{"$f":"IFERROR(IF(H116=\"N<10\",\"N<10\",VLOOKUP(VALUE($A116),'2012-13 BL Civics'!$A$14:$AG$500,11,FALSE)*100),\"Not Tested\")","v":37},{"$f":"IFERROR(IF(I116=\"N<10\",\"N<10\",VLOOKUP(VALUE($A116),'2013-14 BL Civics'!$A$14:$AG$500,11,FALSE)*100),\"Not Tested\")","v":34},-3,{"$f":"IFERROR(IF(K116=\"N<10\",\"N<10\",VLOOKUP(VALUE($A116),'2012-13 BL Civics'!$A$14:$AG$500,17,FALSE)*100),\"Not Tested\")","v":27},{"$f":"IFERROR(IF(L116=\"N<10\",\"N<10\",VLOOKUP(VALUE($A116),'2013-14 BL Civics'!$A$14:$AG$500,17,FALSE)*100),\"Not Tested\")","v":27},0,{"$f":"IFERROR(IF(J116=\"N<10\",\"N<10\",VLOOKUP(VALUE($A116),'2012-13 BL Civics'!$A$14:$AG$500,23,FALSE)*100),\"Not Tested\")","v":31},{"$f":"IFERROR(IF(K116=\"N<10\",\"N<10\",VLOOKUP(VALUE($A116),'2013-14 BL Civics'!$A$14:$AG$500,23,FALSE)*100),\"Not Tested\")","v":32},1,{"$f":"IFERROR(IF(N116=\"N<10\",\"N<10\",VLOOKUP(VALUE($A116),'2012-13 BL Civics'!$A$14:$AG$500,29,FALSE)*100),\"Not Tested\")","v":33},{"$f":"IFERROR(IF(O116=\"N<10\",\"N<10\",VLOOKUP(VALUE($A116),'2013-14 BL Civics'!$A$14:$AG$500,29,FALSE)*100),\"Not Tested\")","v":37},4]
["6351",null,{"$f":"VLOOKUP(TEXT(A117,\"0000\"),SchList!$A$2:$C$483,2,FALSE)","v":"LAKE STEVENS MIDDLE           "},{"$f":"IFERROR(VLOOKUP(TEXT($A117,\"0000\"),'2012 BL Civics Enrollment'!$A$3:$C$500,3,FALSE),0)","v":220},{"$f":"IFERROR(VLOOKUP(TEXT($A117,\"0000\"),'2013 BL Civics Enrollment'!$A$3:$C$500,3,FALSE),\"\")","v":214},{"$f":"IFERROR(IF(VLOOKUP(VALUE(A117),'2012-13 BL Civics'!$A$14:$C$200,3,FALSE)<10,\"N<10\",IF(VLOOKUP(VALUE(A117),'2012-13 BL Civics'!$A$14:$C$200,3,FALSE)>D117,100,VLOOKUP(VALUE(A117),'2012-13 BL Civics'!$A$14:$C$200,3,FALSE)/D117%)),\"Not Tested\")","v":88.636363636363626},{"$f":"IFERROR(IF(VLOOKUP(VALUE(A117),'2013-14 BL Civics'!$A$14:$C$200,3,FALSE)<10,\"N<10\",IF(VLOOKUP(VALUE(A117),'2013-14 BL Civics'!$A$14:$C$200,3,FALSE)>E117,100,VLOOKUP(VALUE(A117),'2013-14 BL Civics'!$A$14:$C$200,3,FALSE)/E117%)),\"Not Tested\")","v":93.457943925233636},{"$f":"IFERROR(IF(F117=\"N<10\",\"N<10\",VLOOKUP(VALUE($A117),'2012-13 BL Civics'!$A$14:$AG$500,5,FALSE)*100),\"Not Tested\")","v":32},{"$f":"IFERROR(IF(G117=\"N<10\",\"N<10\",VLOOKUP(VALUE($A117),'2013-14 BL Civics'!$A$14:$AG$500,5,FALSE)*100),\"Not Tested\")","v":34},2,{"$f":"IFERROR(IF(H117=\"N<10\",\"N<10\",VLOOKUP(VALUE($A117),'2012-13 BL Civics'!$A$14:$AG$500,11,FALSE)*100),\"Not Tested\")","v":38},{"$f":"IFERROR(IF(I117=\"N<10\",\"N<10\",VLOOKUP(VALUE($A117),'2013-14 BL Civics'!$A$14:$AG$500,11,FALSE)*100),\"Not Tested\")","v":36},-2,{"$f":"IFERROR(IF(K117=\"N<10\",\"N<10\",VLOOKUP(VALUE($A117),'2012-13 BL Civics'!$A$14:$AG$500,17,FALSE)*100),\"Not Tested\")","v":27},{"$f":"IFERROR(IF(L117=\"N<10\",\"N<10\",VLOOKUP(VALUE($A117),'2013-14 BL Civics'!$A$14:$AG$500,17,FALSE)*100),\"Not Tested\")","v":28.999999999999996},1.9999999999999964,{"$f":"IFERROR(IF(J117=\"N<10\",\"N<10\",VLOOKUP(VALUE($A117),'2012-13 BL Civics'!$A$14:$AG$500,23,FALSE)*100),\"Not Tested\")","v":28.999999999999996},{"$f":"IFERROR(IF(K117=\"N<10\",\"N<10\",VLOOKUP(VALUE($A117),'2013-14 BL Civics'!$A$14:$AG$500,23,FALSE)*100),\"Not Tested\")","v":33},4.0000000000000036,{"$f":"IFERROR(IF(N117=\"N<10\",\"N<10\",VLOOKUP(VALUE($A117),'2012-13 BL Civics'!$A$14:$AG$500,29,FALSE)*100),\"Not Tested\")","v":35},{"$f":"IFERROR(IF(O117=\"N<10\",\"N<10\",VLOOKUP(VALUE($A117),'2013-14 BL Civics'!$A$14:$AG$500,29,FALSE)*100),\"Not Tested\")","v":40},5]
["6361",null,{"$f":"VLOOKUP(TEXT(A118,\"0000\"),SchList!$A$2:$C$483,2,FALSE)","v":"JOSE DE DIEGO MIDDLE SCHOOL   "},{"$f":"IFERROR(VLOOKUP(TEXT($A118,\"0000\"),'2012 BL Civics Enrollment'!$A$3:$C$500,3,FALSE),0)","v":178},{"$f":"IFERROR(VLOOKUP(TEXT($A118,\"0000\"),'2013 BL Civics Enrollment'!$A$3:$C$500,3,FALSE),\"\")","v":227},{"$f":"IFERROR(IF(VLOOKUP(VALUE(A118),'2012-13 BL Civics'!$A$14:$C$200,3,FALSE)<10,\"N<10\",IF(VLOOKUP(VALUE(A118),'2012-13 BL Civics'!$A$14:$C$200,3,FALSE)>D118,100,VLOOKUP(VALUE(A118),'2012-13 BL Civics'!$A$14:$C$200,3,FALSE)/D118%)),\"Not Tested\")","v":80.898876404494388},{"$f":"IFERROR(IF(VLOOKUP(VALUE(A118),'2013-14 BL Civics'!$A$14:$C$200,3,FALSE)<10,\"N<10\",IF(VLOOKUP(VALUE(A118),'2013-14 BL Civics'!$A$14:$C$200,3,FALSE)>E118,100,VLOOKUP(VALUE(A118),'2013-14 BL Civics'!$A$14:$C$200,3,FALSE)/E118%)),\"Not Tested\")","v":87.224669603524234},{"$f":"IFERROR(IF(F118=\"N<10\",\"N<10\",VLOOKUP(VALUE($A118),'2012-13 BL Civics'!$A$14:$AG$500,5,FALSE)*100),\"Not Tested\")","v":28.000000000000004},{"$f":"IFERROR(IF(G118=\"N<10\",\"N<10\",VLOOKUP(VALUE($A118),'2013-14 BL Civics'!$A$14:$AG$500,5,FALSE)*100),\"Not Tested\")","v":27},-1.0000000000000036,{"$f":"IFERROR(IF(H118=\"N<10\",\"N<10\",VLOOKUP(VALUE($A118),'2012-13 BL Civics'!$A$14:$AG$500,11,FALSE)*100),\"Not Tested\")","v":30},{"$f":"IFERROR(IF(I118=\"N<10\",\"N<10\",VLOOKUP(VALUE($A118),'2013-14 BL Civics'!$A$14:$AG$500,11,FALSE)*100),\"Not Tested\")","v":28.000000000000004},-1.9999999999999964,{"$f":"IFERROR(IF(K118=\"N<10\",\"N<10\",VLOOKUP(VALUE($A118),'2012-13 BL Civics'!$A$14:$AG$500,17,FALSE)*100),\"Not Tested\")","v":24},{"$f":"IFERROR(IF(L118=\"N<10\",\"N<10\",VLOOKUP(VALUE($A118),'2013-14 BL Civics'!$A$14:$AG$500,17,FALSE)*100),\"Not Tested\")","v":24},0,{"$f":"IFERROR(IF(J118=\"N<10\",\"N<10\",VLOOKUP(VALUE($A118),'2012-13 BL Civics'!$A$14:$AG$500,23,FALSE)*100),\"Not Tested\")","v":28.000000000000004},{"$f":"IFERROR(IF(K118=\"N<10\",\"N<10\",VLOOKUP(VALUE($A118),'2013-14 BL Civics'!$A$14:$AG$500,23,FALSE)*100),\"Not Tested\")","v":26},-2.0000000000000036,{"$f":"IFERROR(IF(N118=\"N<10\",\"N<10\",VLOOKUP(VALUE($A118),'2012-13 BL Civics'!$A$14:$AG$500,29,FALSE)*100),\"Not Tested\")","v":32},{"$f":"IFERROR(IF(O118=\"N<10\",\"N<10\",VLOOKUP(VALUE($A118),'2013-14 BL Civics'!$A$14:$AG$500,29,FALSE)*100),\"Not Tested\")","v":33},1]
["6391",null,{"$f":"VLOOKUP(TEXT(A119,\"0000\"),SchList!$A$2:$C$483,2,FALSE)","v":"MADISON MIDDLE SCHOOL         "},{"$f":"IFERROR(VLOOKUP(TEXT($A119,\"0000\"),'2012 BL Civics Enrollment'!$A$3:$C$500,3,FALSE),0)","v":160},{"$f":"IFERROR(VLOOKUP(TEXT($A119,\"0000\"),'2013 BL Civics Enrollment'!$A$3:$C$500,3,FALSE),\"\")","v":158},{"$f":"IFERROR(IF(VLOOKUP(VALUE(A119),'2012-13 BL Civics'!$A$14:$C$200,3,FALSE)<10,\"N<10\",IF(VLOOKUP(VALUE(A119),'2012-13 BL Civics'!$A$14:$C$200,3,FALSE)>D119,100,VLOOKUP(VALUE(A119),'2012-13 BL Civics'!$A$14:$C$200,3,FALSE)/D119%)),\"Not Tested\")","v":"N<10"},{"$f":"IFERROR(IF(VLOOKUP(VALUE(A119),'2013-14 BL Civics'!$A$14:$C$200,3,FALSE)<10,\"N<10\",IF(VLOOKUP(VALUE(A119),'2013-14 BL Civics'!$A$14:$C$200,3,FALSE)>E119,100,VLOOKUP(VALUE(A119),'2013-14 BL Civics'!$A$14:$C$200,3,FALSE)/E119%)),\"Not Tested\")","v":92.405063291139243},{"$f":"IFERROR(IF(F119=\"N<10\",\"N<10\",VLOOKUP(VALUE($A119),'2012-13 BL Civics'!$A$14:$AG$500,5,FALSE)*100),\"Not Tested\")","v":"N<10"},{"$f":"IFERROR(IF(G119=\"N<10\",\"N<10\",VLOOKUP(VALUE($A119),'2013-14 BL Civics'!$A$14:$AG$500,5,FALSE)*100),\"Not Tested\")","v":33},"",{"$f":"IFERROR(IF(H119=\"N<10\",\"N<10\",VLOOKUP(VALUE($A119),'2012-13 BL Civics'!$A$14:$AG$500,11,FALSE)*100),\"Not Tested\")","v":"N<10"},{"$f":"IFERROR(IF(I119=\"N<10\",\"N<10\",VLOOKUP(VALUE($A119),'2013-14 BL Civics'!$A$14:$AG$500,11,FALSE)*100),\"Not Tested\")","v":33},"",{"$f":"IFERROR(IF(K119=\"N<10\",\"N<10\",VLOOKUP(VALUE($A119),'2012-13 BL Civics'!$A$14:$AG$500,17,FALSE)*100),\"Not Tested\")","v":"N<10"},{"$f":"IFERROR(IF(L119=\"N<10\",\"N<10\",VLOOKUP(VALUE($A119),'2013-14 BL Civics'!$A$14:$AG$500,17,FALSE)*100),\"Not Tested\")","v":27},"",{"$f":"IFERROR(IF(J119=\"N<10\",\"N<10\",VLOOKUP(VALUE($A119),'2012-13 BL Civics'!$A$14:$AG$500,23,FALSE)*100),\"Not Tested\")","v":31},{"$f":"IFERROR(IF(K119=\"N<10\",\"N<10\",VLOOKUP(VALUE($A119),'2013-14 BL Civics'!$A$14:$AG$500,23,FALSE)*100),\"Not Tested\")","v":"N<10"},"",{"$f":"IFERROR(IF(N119=\"N<10\",\"N<10\",VLOOKUP(VALUE($A119),'2012-13 BL Civics'!$A$14:$AG$500,29,FALSE)*100),\"Not Tested\")","v":"N<10"},{"$f":"IFERROR(IF(O119=\"N<10\",\"N<10\",VLOOKUP(VALUE($A119),'2013-14 BL Civics'!$A$14:$AG$500,29,FALSE)*100),\"Not Tested\")","v":42},""]
["6411",null,{"$f":"VLOOKUP(TEXT(A120,\"0000\"),SchList!$A$2:$C$483,2,FALSE)","v":"HORACE MANN MIDDLE            "},{"$f":"IFERROR(VLOOKUP(TEXT($A120,\"0000\"),'2012 BL Civics Enrollment'!$A$3:$C$500,3,FALSE),0)","v":221},{"$f":"IFERROR(VLOOKUP(TEXT($A120,\"0000\"),'2013 BL Civics Enrollment'!$A$3:$C$500,3,FALSE),\"\")","v":239},{"$f":"IFERROR(IF(VLOOKUP(VALUE(A120),'2012-13 BL Civics'!$A$14:$C$200,3,FALSE)<10,\"N<10\",IF(VLOOKUP(VALUE(A120),'2012-13 BL Civics'!$A$14:$C$200,3,FALSE)>D120,100,VLOOKUP(VALUE(A120),'2012-13 BL Civics'!$A$14:$C$200,3,FALSE)/D120%)),\"Not Tested\")","v":88.687782805429862},{"$f":"IFERROR(IF(VLOOKUP(VALUE(A120),'2013-14 BL Civics'!$A$14:$C$200,3,FALSE)<10,\"N<10\",IF(VLOOKUP(VALUE(A120),'2013-14 BL Civics'!$A$14:$C$200,3,FALSE)>E120,100,VLOOKUP(VALUE(A120),'2013-14 BL Civics'!$A$14:$C$200,3,FALSE)/E120%)),\"Not Tested\")","v":97.907949790794973},{"$f":"IFERROR(IF(F120=\"N<10\",\"N<10\",VLOOKUP(VALUE($A120),'2012-13 BL Civics'!$A$14:$AG$500,5,FALSE)*100),\"Not Tested\")","v":33},{"$f":"IFERROR(IF(G120=\"N<10\",\"N<10\",VLOOKUP(VALUE($A120),'2013-14 BL Civics'!$A$14:$AG$500,5,FALSE)*100),\"Not Tested\")","v":33},0,{"$f":"IFERROR(IF(H120=\"N<10\",\"N<10\",VLOOKUP(VALUE($A120),'2012-13 BL Civics'!$A$14:$AG$500,11,FALSE)*100),\"Not Tested\")","v":40},{"$f":"IFERROR(IF(I120=\"N<10\",\"N<10\",VLOOKUP(VALUE($A120),'2013-14 BL Civics'!$A$14:$AG$500,11,FALSE)*100),\"Not Tested\")","v":34},-6,{"$f":"IFERROR(IF(K120=\"N<10\",\"N<10\",VLOOKUP(VALUE($A120),'2012-13 BL Civics'!$A$14:$AG$500,17,FALSE)*100),\"Not Tested\")","v":27},{"$f":"IFERROR(IF(L120=\"N<10\",\"N<10\",VLOOKUP(VALUE($A120),'2013-14 BL Civics'!$A$14:$AG$500,17,FALSE)*100),\"Not Tested\")","v":28.999999999999996},1.9999999999999964,{"$f":"IFERROR(IF(J120=\"N<10\",\"N<10\",VLOOKUP(VALUE($A120),'2012-13 BL Civics'!$A$14:$AG$500,23,FALSE)*100),\"Not Tested\")","v":32},{"$f":"IFERROR(IF(K120=\"N<10\",\"N<10\",VLOOKUP(VALUE($A120),'2013-14 BL Civics'!$A$14:$AG$500,23,FALSE)*100),\"Not Tested\")","v":33},1,{"$f":"IFERROR(IF(N120=\"N<10\",\"N<10\",VLOOKUP(VALUE($A120),'2012-13 BL Civics'!$A$14:$AG$500,29,FALSE)*100),\"Not Tested\")","v":34},{"$f":"IFERROR(IF(O120=\"N<10\",\"N<10\",VLOOKUP(VALUE($A120),'2013-14 BL Civics'!$A$14:$AG$500,29,FALSE)*100),\"Not Tested\")","v":39},5]
["6441",null,{"$f":"VLOOKUP(TEXT(A121,\"0000\"),SchList!$A$2:$C$483,2,FALSE)","v":"HOWARD D. MCMILLAN MIDDLE     "},{"$f":"IFERROR(VLOOKUP(TEXT($A121,\"0000\"),'2012 BL Civics Enrollment'!$A$3:$C$500,3,FALSE),0)","v":245},{"$f":"IFERROR(VLOOKUP(TEXT($A121,\"0000\"),'2013 BL Civics Enrollment'!$A$3:$C$500,3,FALSE),\"\")","v":295},{"$f":"IFERROR(IF(VLOOKUP(VALUE(A121),'2012-13 BL Civics'!$A$14:$C$200,3,FALSE)<10,\"N<10\",IF(VLOOKUP(VALUE(A121),'2012-13 BL Civics'!$A$14:$C$200,3,FALSE)>D121,100,VLOOKUP(VALUE(A121),'2012-13 BL Civics'!$A$14:$C$200,3,FALSE)/D121%)),\"Not Tested\")","v":98.367346938775498},{"$f":"IFERROR(IF(VLOOKUP(VALUE(A121),'2013-14 BL Civics'!$A$14:$C$200,3,FALSE)<10,\"N<10\",IF(VLOOKUP(VALUE(A121),'2013-14 BL Civics'!$A$14:$C$200,3,FALSE)>E121,100,VLOOKUP(VALUE(A121),'2013-14 BL Civics'!$A$14:$C$200,3,FALSE)/E121%)),\"Not Tested\")","v":95.254237288135585},{"$f":"IFERROR(IF(F121=\"N<10\",\"N<10\",VLOOKUP(VALUE($A121),'2012-13 BL Civics'!$A$14:$AG$500,5,FALSE)*100),\"Not Tested\")","v":34},{"$f":"IFERROR(IF(G121=\"N<10\",\"N<10\",VLOOKUP(VALUE($A121),'2013-14 BL Civics'!$A$14:$AG$500,5,FALSE)*100),\"Not Tested\")","v":37},3,{"$f":"IFERROR(IF(H121=\"N<10\",\"N<10\",VLOOKUP(VALUE($A121),'2012-13 BL Civics'!$A$14:$AG$500,11,FALSE)*100),\"Not Tested\")","v":41},{"$f":"IFERROR(IF(I121=\"N<10\",\"N<10\",VLOOKUP(VALUE($A121),'2013-14 BL Civics'!$A$14:$AG$500,11,FALSE)*100),\"Not Tested\")","v":40},-1,{"$f":"IFERROR(IF(K121=\"N<10\",\"N<10\",VLOOKUP(VALUE($A121),'2012-13 BL Civics'!$A$14:$AG$500,17,FALSE)*100),\"Not Tested\")","v":28.000000000000004},{"$f":"IFERROR(IF(L121=\"N<10\",\"N<10\",VLOOKUP(VALUE($A121),'2013-14 BL Civics'!$A$14:$AG$500,17,FALSE)*100),\"Not Tested\")","v":32},3.9999999999999964,{"$f":"IFERROR(IF(J121=\"N<10\",\"N<10\",VLOOKUP(VALUE($A121),'2012-13 BL Civics'!$A$14:$AG$500,23,FALSE)*100),\"Not Tested\")","v":33},{"$f":"IFERROR(IF(K121=\"N<10\",\"N<10\",VLOOKUP(VALUE($A121),'2013-14 BL Civics'!$A$14:$AG$500,23,FALSE)*100),\"Not Tested\")","v":37},4,{"$f":"IFERROR(IF(N121=\"N<10\",\"N<10\",VLOOKUP(VALUE($A121),'2012-13 BL Civics'!$A$14:$AG$500,29,FALSE)*100),\"Not Tested\")","v":37},{"$f":"IFERROR(IF(O121=\"N<10\",\"N<10\",VLOOKUP(VALUE($A121),'2013-14 BL Civics'!$A$14:$AG$500,29,FALSE)*100),\"Not Tested\")","v":44},7]
["6501",null,{"$f":"VLOOKUP(TEXT(A122,\"0000\"),SchList!$A$2:$C$483,2,FALSE)","v":"MIAMI LAKES MIDDLE            "},{"$f":"IFERROR(VLOOKUP(TEXT($A122,\"0000\"),'2012 BL Civics Enrollment'!$A$3:$C$500,3,FALSE),0)","v":296},{"$f":"IFERROR(VLOOKUP(TEXT($A122,\"0000\"),'2013 BL Civics Enrollment'!$A$3:$C$500,3,FALSE),\"\")","v":293},{"$f":"IFERROR(IF(VLOOKUP(VALUE(A122),'2012-13 BL Civics'!$A$14:$C$200,3,FALSE)<10,\"N<10\",IF(VLOOKUP(VALUE(A122),'2012-13 BL Civics'!$A$14:$C$200,3,FALSE)>D122,100,VLOOKUP(VALUE(A122),'2012-13 BL Civics'!$A$14:$C$200,3,FALSE)/D122%)),\"Not Tested\")","v":88.513513513513516},{"$f":"IFERROR(IF(VLOOKUP(VALUE(A122),'2013-14 BL Civics'!$A$14:$C$200,3,FALSE)<10,\"N<10\",IF(VLOOKUP(VALUE(A122),'2013-14 BL Civics'!$A$14:$C$200,3,FALSE)>E122,100,VLOOKUP(VALUE(A122),'2013-14 BL Civics'!$A$14:$C$200,3,FALSE)/E122%)),\"Not Tested\")","v":89.419795221843003},{"$f":"IFERROR(IF(F122=\"N<10\",\"N<10\",VLOOKUP(VALUE($A122),'2012-13 BL Civics'!$A$14:$AG$500,5,FALSE)*100),\"Not Tested\")","v":32},{"$f":"IFERROR(IF(G122=\"N<10\",\"N<10\",VLOOKUP(VALUE($A122),'2013-14 BL Civics'!$A$14:$AG$500,5,FALSE)*100),\"Not Tested\")","v":35},3,{"$f":"IFERROR(IF(H122=\"N<10\",\"N<10\",VLOOKUP(VALUE($A122),'2012-13 BL Civics'!$A$14:$AG$500,11,FALSE)*100),\"Not Tested\")","v":39},{"$f":"IFERROR(IF(I122=\"N<10\",\"N<10\",VLOOKUP(VALUE($A122),'2013-14 BL Civics'!$A$14:$AG$500,11,FALSE)*100),\"Not Tested\")","v":36},-3,{"$f":"IFERROR(IF(K122=\"N<10\",\"N<10\",VLOOKUP(VALUE($A122),'2012-13 BL Civics'!$A$14:$AG$500,17,FALSE)*100),\"Not Tested\")","v":27},{"$f":"IFERROR(IF(L122=\"N<10\",\"N<10\",VLOOKUP(VALUE($A122),'2013-14 BL Civics'!$A$14:$AG$500,17,FALSE)*100),\"Not Tested\")","v":31},4,{"$f":"IFERROR(IF(J122=\"N<10\",\"N<10\",VLOOKUP(VALUE($A122),'2012-13 BL Civics'!$A$14:$AG$500,23,FALSE)*100),\"Not Tested\")","v":30},{"$f":"IFERROR(IF(K122=\"N<10\",\"N<10\",VLOOKUP(VALUE($A122),'2013-14 BL Civics'!$A$14:$AG$500,23,FALSE)*100),\"Not Tested\")","v":34},4,{"$f":"IFERROR(IF(N122=\"N<10\",\"N<10\",VLOOKUP(VALUE($A122),'2012-13 BL Civics'!$A$14:$AG$500,29,FALSE)*100),\"Not Tested\")","v":34},{"$f":"IFERROR(IF(O122=\"N<10\",\"N<10\",VLOOKUP(VALUE($A122),'2013-14 BL Civics'!$A$14:$AG$500,29,FALSE)*100),\"Not Tested\")","v":41},7]
["6521",null,{"$f":"VLOOKUP(TEXT(A123,\"0000\"),SchList!$A$2:$C$483,2,FALSE)","v":"MIAMI SPRINGS MIDDLE          "},{"$f":"IFERROR(VLOOKUP(TEXT($A123,\"0000\"),'2012 BL Civics Enrollment'!$A$3:$C$500,3,FALSE),0)","v":521},{"$f":"IFERROR(VLOOKUP(TEXT($A123,\"0000\"),'2013 BL Civics Enrollment'!$A$3:$C$500,3,FALSE),\"\")","v":493},{"$f":"IFERROR(IF(VLOOKUP(VALUE(A123),'2012-13 BL Civics'!$A$14:$C$200,3,FALSE)<10,\"N<10\",IF(VLOOKUP(VALUE(A123),'2012-13 BL Civics'!$A$14:$C$200,3,FALSE)>D123,100,VLOOKUP(VALUE(A123),'2012-13 BL Civics'!$A$14:$C$200,3,FALSE)/D123%)),\"Not Tested\")","v":98.0806142034549},{"$f":"IFERROR(IF(VLOOKUP(VALUE(A123),'2013-14 BL Civics'!$A$14:$C$200,3,FALSE)<10,\"N<10\",IF(VLOOKUP(VALUE(A123),'2013-14 BL Civics'!$A$14:$C$200,3,FALSE)>E123,100,VLOOKUP(VALUE(A123),'2013-14 BL Civics'!$A$14:$C$200,3,FALSE)/E123%)),\"Not Tested\")","v":92.494929006085201},{"$f":"IFERROR(IF(F123=\"N<10\",\"N<10\",VLOOKUP(VALUE($A123),'2012-13 BL Civics'!$A$14:$AG$500,5,FALSE)*100),\"Not Tested\")","v":32},{"$f":"IFERROR(IF(G123=\"N<10\",\"N<10\",VLOOKUP(VALUE($A123),'2013-14 BL Civics'!$A$14:$AG$500,5,FALSE)*100),\"Not Tested\")","v":34},2,{"$f":"IFERROR(IF(H123=\"N<10\",\"N<10\",VLOOKUP(VALUE($A123),'2012-13 BL Civics'!$A$14:$AG$500,11,FALSE)*100),\"Not Tested\")","v":39},{"$f":"IFERROR(IF(I123=\"N<10\",\"N<10\",VLOOKUP(VALUE($A123),'2013-14 BL Civics'!$A$14:$AG$500,11,FALSE)*100),\"Not Tested\")","v":35},-4,{"$f":"IFERROR(IF(K123=\"N<10\",\"N<10\",VLOOKUP(VALUE($A123),'2012-13 BL Civics'!$A$14:$AG$500,17,FALSE)*100),\"Not Tested\")","v":27},{"$f":"IFERROR(IF(L123=\"N<10\",\"N<10\",VLOOKUP(VALUE($A123),'2013-14 BL Civics'!$A$14:$AG$500,17,FALSE)*100),\"Not Tested\")","v":31},4,{"$f":"IFERROR(IF(J123=\"N<10\",\"N<10\",VLOOKUP(VALUE($A123),'2012-13 BL Civics'!$A$14:$AG$500,23,FALSE)*100),\"Not Tested\")","v":31},{"$f":"IFERROR(IF(K123=\"N<10\",\"N<10\",VLOOKUP(VALUE($A123),'2013-14 BL Civics'!$A$14:$AG$500,23,FALSE)*100),\"Not Tested\")","v":34},3,{"$f":"IFERROR(IF(N123=\"N<10\",\"N<10\",VLOOKUP(VALUE($A123),'2012-13 BL Civics'!$A$14:$AG$500,29,FALSE)*100),\"Not Tested\")","v":35},{"$f":"IFERROR(IF(O123=\"N<10\",\"N<10\",VLOOKUP(VALUE($A123),'2013-14 BL Civics'!$A$14:$AG$500,29,FALSE)*100),\"Not Tested\")","v":39},4]
["6541",null,{"$f":"VLOOKUP(TEXT(A124,\"0000\"),SchList!$A$2:$C$483,2,FALSE)","v":"NAUTILUS MIDDLE               "},{"$f":"IFERROR(VLOOKUP(TEXT($A124,\"0000\"),'2012 BL Civics Enrollment'!$A$3:$C$500,3,FALSE),0)","v":361},{"$f":"IFERROR(VLOOKUP(TEXT($A124,\"0000\"),'2013 BL Civics Enrollment'!$A$3:$C$500,3,FALSE),\"\")","v":351},{"$f":"IFERROR(IF(VLOOKUP(VALUE(A124),'2012-13 BL Civics'!$A$14:$C$200,3,FALSE)<10,\"N<10\",IF(VLOOKUP(VALUE(A124),'2012-13 BL Civics'!$A$14:$C$200,3,FALSE)>D124,100,VLOOKUP(VALUE(A124),'2012-13 BL Civics'!$A$14:$C$200,3,FALSE)/D124%)),\"Not Tested\")","v":92.520775623268705},{"$f":"IFERROR(IF(VLOOKUP(VALUE(A124),'2013-14 BL Civics'!$A$14:$C$200,3,FALSE)<10,\"N<10\",IF(VLOOKUP(VALUE(A124),'2013-14 BL Civics'!$A$14:$C$200,3,FALSE)>E124,100,VLOOKUP(VALUE(A124),'2013-14 BL Civics'!$A$14:$C$200,3,FALSE)/E124%)),\"Not Tested\")","v":98.005698005698008},{"$f":"IFERROR(IF(F124=\"N<10\",\"N<10\",VLOOKUP(VALUE($A124),'2012-13 BL Civics'!$A$14:$AG$500,5,FALSE)*100),\"Not Tested\")","v":34},{"$f":"IFERROR(IF(G124=\"N<10\",\"N<10\",VLOOKUP(VALUE($A124),'2013-14 BL Civics'!$A$14:$AG$500,5,FALSE)*100),\"Not Tested\")","v":36},2,{"$f":"IFERROR(IF(H124=\"N<10\",\"N<10\",VLOOKUP(VALUE($A124),'2012-13 BL Civics'!$A$14:$AG$500,11,FALSE)*100),\"Not Tested\")","v":41},{"$f":"IFERROR(IF(I124=\"N<10\",\"N<10\",VLOOKUP(VALUE($A124),'2013-14 BL Civics'!$A$14:$AG$500,11,FALSE)*100),\"Not Tested\")","v":41},0,{"$f":"IFERROR(IF(K124=\"N<10\",\"N<10\",VLOOKUP(VALUE($A124),'2012-13 BL Civics'!$A$14:$AG$500,17,FALSE)*100),\"Not Tested\")","v":27},{"$f":"IFERROR(IF(L124=\"N<10\",\"N<10\",VLOOKUP(VALUE($A124),'2013-14 BL Civics'!$A$14:$AG$500,17,FALSE)*100),\"Not Tested\")","v":32},5,{"$f":"IFERROR(IF(J124=\"N<10\",\"N<10\",VLOOKUP(VALUE($A124),'2012-13 BL Civics'!$A$14:$AG$500,23,FALSE)*100),\"Not Tested\")","v":34},{"$f":"IFERROR(IF(K124=\"N<10\",\"N<10\",VLOOKUP(VALUE($A124),'2013-14 BL Civics'!$A$14:$AG$500,23,FALSE)*100),\"Not Tested\")","v":35},1,{"$f":"IFERROR(IF(N124=\"N<10\",\"N<10\",VLOOKUP(VALUE($A124),'2012-13 BL Civics'!$A$14:$AG$500,29,FALSE)*100),\"Not Tested\")","v":35},{"$f":"IFERROR(IF(O124=\"N<10\",\"N<10\",VLOOKUP(VALUE($A124),'2013-14 BL Civics'!$A$14:$AG$500,29,FALSE)*100),\"Not Tested\")","v":41},6]
["6571",null,{"$f":"VLOOKUP(TEXT(A125,\"0000\"),SchList!$A$2:$C$483,2,FALSE)","v":"NORLAND MIDDLE                "},{"$f":"IFERROR(VLOOKUP(TEXT($A125,\"0000\"),'2012 BL Civics Enrollment'!$A$3:$C$500,3,FALSE),0)","v":240},{"$f":"IFERROR(VLOOKUP(TEXT($A125,\"0000\"),'2013 BL Civics Enrollment'!$A$3:$C$500,3,FALSE),\"\")","v":343},{"$f":"IFERROR(IF(VLOOKUP(VALUE(A125),'2012-13 BL Civics'!$A$14:$C$200,3,FALSE)<10,\"N<10\",IF(VLOOKUP(VALUE(A125),'2012-13 BL Civics'!$A$14:$C$200,3,FALSE)>D125,100,VLOOKUP(VALUE(A125),'2012-13 BL Civics'!$A$14:$C$200,3,FALSE)/D125%)),\"Not Tested\")","v":94.166666666666671},{"$f":"IFERROR(IF(VLOOKUP(VALUE(A125),'2013-14 BL Civics'!$A$14:$C$200,3,FALSE)<10,\"N<10\",IF(VLOOKUP(VALUE(A125),'2013-14 BL Civics'!$A$14:$C$200,3,FALSE)>E125,100,VLOOKUP(VALUE(A125),'2013-14 BL Civics'!$A$14:$C$200,3,FALSE)/E125%)),\"Not Tested\")","v":82.507288629737602},{"$f":"IFERROR(IF(F125=\"N<10\",\"N<10\",VLOOKUP(VALUE($A125),'2012-13 BL Civics'!$A$14:$AG$500,5,FALSE)*100),\"Not Tested\")","v":31},{"$f":"IFERROR(IF(G125=\"N<10\",\"N<10\",VLOOKUP(VALUE($A125),'2013-14 BL Civics'!$A$14:$AG$500,5,FALSE)*100),\"Not Tested\")","v":34},3,{"$f":"IFERROR(IF(H125=\"N<10\",\"N<10\",VLOOKUP(VALUE($A125),'2012-13 BL Civics'!$A$14:$AG$500,11,FALSE)*100),\"Not Tested\")","v":38},{"$f":"IFERROR(IF(I125=\"N<10\",\"N<10\",VLOOKUP(VALUE($A125),'2013-14 BL Civics'!$A$14:$AG$500,11,FALSE)*100),\"Not Tested\")","v":35},-3,{"$f":"IFERROR(IF(K125=\"N<10\",\"N<10\",VLOOKUP(VALUE($A125),'2012-13 BL Civics'!$A$14:$AG$500,17,FALSE)*100),\"Not Tested\")","v":25},{"$f":"IFERROR(IF(L125=\"N<10\",\"N<10\",VLOOKUP(VALUE($A125),'2013-14 BL Civics'!$A$14:$AG$500,17,FALSE)*100),\"Not Tested\")","v":28.999999999999996},3.9999999999999964,{"$f":"IFERROR(IF(J125=\"N<10\",\"N<10\",VLOOKUP(VALUE($A125),'2012-13 BL Civics'!$A$14:$AG$500,23,FALSE)*100),\"Not Tested\")","v":28.000000000000004},{"$f":"IFERROR(IF(K125=\"N<10\",\"N<10\",VLOOKUP(VALUE($A125),'2013-14 BL Civics'!$A$14:$AG$500,23,FALSE)*100),\"Not Tested\")","v":32},3.9999999999999964,{"$f":"IFERROR(IF(N125=\"N<10\",\"N<10\",VLOOKUP(VALUE($A125),'2012-13 BL Civics'!$A$14:$AG$500,29,FALSE)*100),\"Not Tested\")","v":34},{"$f":"IFERROR(IF(O125=\"N<10\",\"N<10\",VLOOKUP(VALUE($A125),'2013-14 BL Civics'!$A$14:$AG$500,29,FALSE)*100),\"Not Tested\")","v":41},7]
["6591",null,{"$f":"VLOOKUP(TEXT(A126,\"0000\"),SchList!$A$2:$C$483,2,FALSE)","v":"NORTH DADE MIDDLE             "},{"$f":"IFERROR(VLOOKUP(TEXT($A126,\"0000\"),'2012 BL Civics Enrollment'!$A$3:$C$500,3,FALSE),0)","v":252},{"$f":"IFERROR(VLOOKUP(TEXT($A126,\"0000\"),'2013 BL Civics Enrollment'!$A$3:$C$500,3,FALSE),\"\")","v":286},{"$f":"IFERROR(IF(VLOOKUP(VALUE(A126),'2012-13 BL Civics'!$A$14:$C$200,3,FALSE)<10,\"N<10\",IF(VLOOKUP(VALUE(A126),'2012-13 BL Civics'!$A$14:$C$200,3,FALSE)>D126,100,VLOOKUP(VALUE(A126),'2012-13 BL Civics'!$A$14:$C$200,3,FALSE)/D126%)),\"Not Tested\")","v":96.031746031746025},{"$f":"IFERROR(IF(VLOOKUP(VALUE(A126),'2013-14 BL Civics'!$A$14:$C$200,3,FALSE)<10,\"N<10\",IF(VLOOKUP(VALUE(A126),'2013-14 BL Civics'!$A$14:$C$200,3,FALSE)>E126,100,VLOOKUP(VALUE(A126),'2013-14 BL Civics'!$A$14:$C$200,3,FALSE)/E126%)),\"Not Tested\")","v":91.95804195804196},{"$f":"IFERROR(IF(F126=\"N<10\",\"N<10\",VLOOKUP(VALUE($A126),'2012-13 BL Civics'!$A$14:$AG$500,5,FALSE)*100),\"Not Tested\")","v":32},{"$f":"IFERROR(IF(G126=\"N<10\",\"N<10\",VLOOKUP(VALUE($A126),'2013-14 BL Civics'!$A$14:$AG$500,5,FALSE)*100),\"Not Tested\")","v":33},1,{"$f":"IFERROR(IF(H126=\"N<10\",\"N<10\",VLOOKUP(VALUE($A126),'2012-13 BL Civics'!$A$14:$AG$500,11,FALSE)*100),\"Not Tested\")","v":38},{"$f":"IFERROR(IF(I126=\"N<10\",\"N<10\",VLOOKUP(VALUE($A126),'2013-14 BL Civics'!$A$14:$AG$500,11,FALSE)*100),\"Not Tested\")","v":35},-3,{"$f":"IFERROR(IF(K126=\"N<10\",\"N<10\",VLOOKUP(VALUE($A126),'2012-13 BL Civics'!$A$14:$AG$500,17,FALSE)*100),\"Not Tested\")","v":25},{"$f":"IFERROR(IF(L126=\"N<10\",\"N<10\",VLOOKUP(VALUE($A126),'2013-14 BL Civics'!$A$14:$AG$500,17,FALSE)*100),\"Not Tested\")","v":30},5,{"$f":"IFERROR(IF(J126=\"N<10\",\"N<10\",VLOOKUP(VALUE($A126),'2012-13 BL Civics'!$A$14:$AG$500,23,FALSE)*100),\"Not Tested\")","v":31},{"$f":"IFERROR(IF(K126=\"N<10\",\"N<10\",VLOOKUP(VALUE($A126),'2013-14 BL Civics'!$A$14:$AG$500,23,FALSE)*100),\"Not Tested\")","v":31},0,{"$f":"IFERROR(IF(N126=\"N<10\",\"N<10\",VLOOKUP(VALUE($A126),'2012-13 BL Civics'!$A$14:$AG$500,29,FALSE)*100),\"Not Tested\")","v":35},{"$f":"IFERROR(IF(O126=\"N<10\",\"N<10\",VLOOKUP(VALUE($A126),'2013-14 BL Civics'!$A$14:$AG$500,29,FALSE)*100),\"Not Tested\")","v":40},5]
["6611",null,{"$f":"VLOOKUP(TEXT(A127,\"0000\"),SchList!$A$2:$C$483,2,FALSE)","v":"COUNTRY CLUB MIDDLE SCHOOL    "},{"$f":"IFERROR(VLOOKUP(TEXT($A127,\"0000\"),'2012 BL Civics Enrollment'!$A$3:$C$500,3,FALSE),0)","v":460},{"$f":"IFERROR(VLOOKUP(TEXT($A127,\"0000\"),'2013 BL Civics Enrollment'!$A$3:$C$500,3,FALSE),\"\")","v":392},{"$f":"IFERROR(IF(VLOOKUP(VALUE(A127),'2012-13 BL Civics'!$A$14:$C$200,3,FALSE)<10,\"N<10\",IF(VLOOKUP(VALUE(A127),'2012-13 BL Civics'!$A$14:$C$200,3,FALSE)>D127,100,VLOOKUP(VALUE(A127),'2012-13 BL Civics'!$A$14:$C$200,3,FALSE)/D127%)),\"Not Tested\")","v":94.782608695652186},{"$f":"IFERROR(IF(VLOOKUP(VALUE(A127),'2013-14 BL Civics'!$A$14:$C$200,3,FALSE)<10,\"N<10\",IF(VLOOKUP(VALUE(A127),'2013-14 BL Civics'!$A$14:$C$200,3,FALSE)>E127,100,VLOOKUP(VALUE(A127),'2013-14 BL Civics'!$A$14:$C$200,3,FALSE)/E127%)),\"Not Tested\")","v":94.642857142857139},{"$f":"IFERROR(IF(F127=\"N<10\",\"N<10\",VLOOKUP(VALUE($A127),'2012-13 BL Civics'!$A$14:$AG$500,5,FALSE)*100),\"Not Tested\")","v":32},{"$f":"IFERROR(IF(G127=\"N<10\",\"N<10\",VLOOKUP(VALUE($A127),'2013-14 BL Civics'!$A$14:$AG$500,5,FALSE)*100),\"Not Tested\")","v":32},0,{"$f":"IFERROR(IF(H127=\"N<10\",\"N<10\",VLOOKUP(VALUE($A127),'2012-13 BL Civics'!$A$14:$AG$500,11,FALSE)*100),\"Not Tested\")","v":40},{"$f":"IFERROR(IF(I127=\"N<10\",\"N<10\",VLOOKUP(VALUE($A127),'2013-14 BL Civics'!$A$14:$AG$500,11,FALSE)*100),\"Not Tested\")","v":32},-8,{"$f":"IFERROR(IF(K127=\"N<10\",\"N<10\",VLOOKUP(VALUE($A127),'2012-13 BL Civics'!$A$14:$AG$500,17,FALSE)*100),\"Not Tested\")","v":27},{"$f":"IFERROR(IF(L127=\"N<10\",\"N<10\",VLOOKUP(VALUE($A127),'2013-14 BL Civics'!$A$14:$AG$500,17,FALSE)*100),\"Not Tested\")","v":28.000000000000004},1.0000000000000036,{"$f":"IFERROR(IF(J127=\"N<10\",\"N<10\",VLOOKUP(VALUE($A127),'2012-13 BL Civics'!$A$14:$AG$500,23,FALSE)*100),\"Not Tested\")","v":30},{"$f":"IFERROR(IF(K127=\"N<10\",\"N<10\",VLOOKUP(VALUE($A127),'2013-14 BL Civics'!$A$14:$AG$500,23,FALSE)*100),\"Not Tested\")","v":31},1,{"$f":"IFERROR(IF(N127=\"N<10\",\"N<10\",VLOOKUP(VALUE($A127),'2012-13 BL Civics'!$A$14:$AG$500,29,FALSE)*100),\"Not Tested\")","v":34},{"$f":"IFERROR(IF(O127=\"N<10\",\"N<10\",VLOOKUP(VALUE($A127),'2013-14 BL Civics'!$A$14:$AG$500,29,FALSE)*100),\"Not Tested\")","v":38},4]
["6631",null,{"$f":"VLOOKUP(TEXT(A128,\"0000\"),SchList!$A$2:$C$483,2,FALSE)","v":"NORTH MIAMI MIDDLE            "},{"$f":"IFERROR(VLOOKUP(TEXT($A128,\"0000\"),'2012 BL Civics Enrollment'!$A$3:$C$500,3,FALSE),0)","v":350},{"$f":"IFERROR(VLOOKUP(TEXT($A128,\"0000\"),'2013 BL Civics Enrollment'!$A$3:$C$500,3,FALSE),\"\")","v":344},{"$f":"IFERROR(IF(VLOOKUP(VALUE(A128),'2012-13 BL Civics'!$A$14:$C$200,3,FALSE)<10,\"N<10\",IF(VLOOKUP(VALUE(A128),'2012-13 BL Civics'!$A$14:$C$200,3,FALSE)>D128,100,VLOOKUP(VALUE(A128),'2012-13 BL Civics'!$A$14:$C$200,3,FALSE)/D128%)),\"Not Tested\")","v":92.571428571428569},{"$f":"IFERROR(IF(VLOOKUP(VALUE(A128),'2013-14 BL Civics'!$A$14:$C$200,3,FALSE)<10,\"N<10\",IF(VLOOKUP(VALUE(A128),'2013-14 BL Civics'!$A$14:$C$200,3,FALSE)>E128,100,VLOOKUP(VALUE(A128),'2013-14 BL Civics'!$A$14:$C$200,3,FALSE)/E128%)),\"Not Tested\")","v":95.058139534883722},{"$f":"IFERROR(IF(F128=\"N<10\",\"N<10\",VLOOKUP(VALUE($A128),'2012-13 BL Civics'!$A$14:$AG$500,5,FALSE)*100),\"Not Tested\")","v":30},{"$f":"IFERROR(IF(G128=\"N<10\",\"N<10\",VLOOKUP(VALUE($A128),'2013-14 BL Civics'!$A$14:$AG$500,5,FALSE)*100),\"Not Tested\")","v":33},3,{"$f":"IFERROR(IF(H128=\"N<10\",\"N<10\",VLOOKUP(VALUE($A128),'2012-13 BL Civics'!$A$14:$AG$500,11,FALSE)*100),\"Not Tested\")","v":36},{"$f":"IFERROR(IF(I128=\"N<10\",\"N<10\",VLOOKUP(VALUE($A128),'2013-14 BL Civics'!$A$14:$AG$500,11,FALSE)*100),\"Not Tested\")","v":34},-2,{"$f":"IFERROR(IF(K128=\"N<10\",\"N<10\",VLOOKUP(VALUE($A128),'2012-13 BL Civics'!$A$14:$AG$500,17,FALSE)*100),\"Not Tested\")","v":25},{"$f":"IFERROR(IF(L128=\"N<10\",\"N<10\",VLOOKUP(VALUE($A128),'2013-14 BL Civics'!$A$14:$AG$500,17,FALSE)*100),\"Not Tested\")","v":28.999999999999996},3.9999999999999964,{"$f":"IFERROR(IF(J128=\"N<10\",\"N<10\",VLOOKUP(VALUE($A128),'2012-13 BL Civics'!$A$14:$AG$500,23,FALSE)*100),\"Not Tested\")","v":28.999999999999996},{"$f":"IFERROR(IF(K128=\"N<10\",\"N<10\",VLOOKUP(VALUE($A128),'2013-14 BL Civics'!$A$14:$AG$500,23,FALSE)*100),\"Not Tested\")","v":32},3.0000000000000036,{"$f":"IFERROR(IF(N128=\"N<10\",\"N<10\",VLOOKUP(VALUE($A128),'2012-13 BL Civics'!$A$14:$AG$500,29,FALSE)*100),\"Not Tested\")","v":31},{"$f":"IFERROR(IF(O128=\"N<10\",\"N<10\",VLOOKUP(VALUE($A128),'2013-14 BL Civics'!$A$14:$AG$500,29,FALSE)*100),\"Not Tested\")","v":39},8]
["6681",null,{"$f":"VLOOKUP(TEXT(A129,\"0000\"),SchList!$A$2:$C$483,2,FALSE)","v":"PALM SPRINGS MIDDLE           "},{"$f":"IFERROR(VLOOKUP(TEXT($A129,\"0000\"),'2012 BL Civics Enrollment'!$A$3:$C$500,3,FALSE),0)","v":443},{"$f":"IFERROR(VLOOKUP(TEXT($A129,\"0000\"),'2013 BL Civics Enrollment'!$A$3:$C$500,3,FALSE),\"\")","v":429},{"$f":"IFERROR(IF(VLOOKUP(VALUE(A129),'2012-13 BL Civics'!$A$14:$C$200,3,FALSE)<10,\"N<10\",IF(VLOOKUP(VALUE(A129),'2012-13 BL Civics'!$A$14:$C$200,3,FALSE)>D129,100,VLOOKUP(VALUE(A129),'2012-13 BL Civics'!$A$14:$C$200,3,FALSE)/D129%)),\"Not Tested\")","v":93.227990970654631},{"$f":"IFERROR(IF(VLOOKUP(VALUE(A129),'2013-14 BL Civics'!$A$14:$C$200,3,FALSE)<10,\"N<10\",IF(VLOOKUP(VALUE(A129),'2013-14 BL Civics'!$A$14:$C$200,3,FALSE)>E129,100,VLOOKUP(VALUE(A129),'2013-14 BL Civics'!$A$14:$C$200,3,FALSE)/E129%)),\"Not Tested\")","v":89.976689976689983},{"$f":"IFERROR(IF(F129=\"N<10\",\"N<10\",VLOOKUP(VALUE($A129),'2012-13 BL Civics'!$A$14:$AG$500,5,FALSE)*100),\"Not Tested\")","v":33},{"$f":"IFERROR(IF(G129=\"N<10\",\"N<10\",VLOOKUP(VALUE($A129),'2013-14 BL Civics'!$A$14:$AG$500,5,FALSE)*100),\"Not Tested\")","v":33},0,{"$f":"IFERROR(IF(H129=\"N<10\",\"N<10\",VLOOKUP(VALUE($A129),'2012-13 BL Civics'!$A$14:$AG$500,11,FALSE)*100),\"Not Tested\")","v":39},{"$f":"IFERROR(IF(I129=\"N<10\",\"N<10\",VLOOKUP(VALUE($A129),'2013-14 BL Civics'!$A$14:$AG$500,11,FALSE)*100),\"Not Tested\")","v":34},-5,{"$f":"IFERROR(IF(K129=\"N<10\",\"N<10\",VLOOKUP(VALUE($A129),'2012-13 BL Civics'!$A$14:$AG$500,17,FALSE)*100),\"Not Tested\")","v":28.000000000000004},{"$f":"IFERROR(IF(L129=\"N<10\",\"N<10\",VLOOKUP(VALUE($A129),'2013-14 BL Civics'!$A$14:$AG$500,17,FALSE)*100),\"Not Tested\")","v":28.999999999999996},0.99999999999999289,{"$f":"IFERROR(IF(J129=\"N<10\",\"N<10\",VLOOKUP(VALUE($A129),'2012-13 BL Civics'!$A$14:$AG$500,23,FALSE)*100),\"Not Tested\")","v":33},{"$f":"IFERROR(IF(K129=\"N<10\",\"N<10\",VLOOKUP(VALUE($A129),'2013-14 BL Civics'!$A$14:$AG$500,23,FALSE)*100),\"Not Tested\")","v":33},0,{"$f":"IFERROR(IF(N129=\"N<10\",\"N<10\",VLOOKUP(VALUE($A129),'2012-13 BL Civics'!$A$14:$AG$500,29,FALSE)*100),\"Not Tested\")","v":34},{"$f":"IFERROR(IF(O129=\"N<10\",\"N<10\",VLOOKUP(VALUE($A129),'2013-14 BL Civics'!$A$14:$AG$500,29,FALSE)*100),\"Not Tested\")","v":39},5]
["6701",null,{"$f":"VLOOKUP(TEXT(A130,\"0000\"),SchList!$A$2:$C$483,2,FALSE)","v":"PALMETTO MIDDLE               "},{"$f":"IFERROR(VLOOKUP(TEXT($A130,\"0000\"),'2012 BL Civics Enrollment'!$A$3:$C$500,3,FALSE),0)","v":384},{"$f":"IFERROR(VLOOKUP(TEXT($A130,\"0000\"),'2013 BL Civics Enrollment'!$A$3:$C$500,3,FALSE),\"\")","v":362},{"$f":"IFERROR(IF(VLOOKUP(VALUE(A130),'2012-13 BL Civics'!$A$14:$C$200,3,FALSE)<10,\"N<10\",IF(VLOOKUP(VALUE(A130),'2012-13 BL Civics'!$A$14:$C$200,3,FALSE)>D130,100,VLOOKUP(VALUE(A130),'2012-13 BL Civics'!$A$14:$C$200,3,FALSE)/D130%)),\"Not Tested\")","v":96.875},{"$f":"IFERROR(IF(VLOOKUP(VALUE(A130),'2013-14 BL Civics'!$A$14:$C$200,3,FALSE)<10,\"N<10\",IF(VLOOKUP(VALUE(A130),'2013-14 BL Civics'!$A$14:$C$200,3,FALSE)>E130,100,VLOOKUP(VALUE(A130),'2013-14 BL Civics'!$A$14:$C$200,3,FALSE)/E130%)),\"Not Tested\")","v":92.817679558011051},{"$f":"IFERROR(IF(F130=\"N<10\",\"N<10\",VLOOKUP(VALUE($A130),'2012-13 BL Civics'!$A$14:$AG$500,5,FALSE)*100),\"Not Tested\")","v":38},{"$f":"IFERROR(IF(G130=\"N<10\",\"N<10\",VLOOKUP(VALUE($A130),'2013-14 BL Civics'!$A$14:$AG$500,5,FALSE)*100),\"Not Tested\")","v":38},0,{"$f":"IFERROR(IF(H130=\"N<10\",\"N<10\",VLOOKUP(VALUE($A130),'2012-13 BL Civics'!$A$14:$AG$500,11,FALSE)*100),\"Not Tested\")","v":48},{"$f":"IFERROR(IF(I130=\"N<10\",\"N<10\",VLOOKUP(VALUE($A130),'2013-14 BL Civics'!$A$14:$AG$500,11,FALSE)*100),\"Not Tested\")","v":41},-7,{"$f":"IFERROR(IF(K130=\"N<10\",\"N<10\",VLOOKUP(VALUE($A130),'2012-13 BL Civics'!$A$14:$AG$500,17,FALSE)*100),\"Not Tested\")","v":28.999999999999996},{"$f":"IFERROR(IF(L130=\"N<10\",\"N<10\",VLOOKUP(VALUE($A130),'2013-14 BL Civics'!$A$14:$AG$500,17,FALSE)*100),\"Not Tested\")","v":31},2.0000000000000036,{"$f":"IFERROR(IF(J130=\"N<10\",\"N<10\",VLOOKUP(VALUE($A130),'2012-13 BL Civics'!$A$14:$AG$500,23,FALSE)*100),\"Not Tested\")","v":39},{"$f":"IFERROR(IF(K130=\"N<10\",\"N<10\",VLOOKUP(VALUE($A130),'2013-14 BL Civics'!$A$14:$AG$500,23,FALSE)*100),\"Not Tested\")","v":39},0,{"$f":"IFERROR(IF(N130=\"N<10\",\"N<10\",VLOOKUP(VALUE($A130),'2012-13 BL Civics'!$A$14:$AG$500,29,FALSE)*100),\"Not Tested\")","v":40},{"$f":"IFERROR(IF(O130=\"N<10\",\"N<10\",VLOOKUP(VALUE($A130),'2013-14 BL Civics'!$A$14:$AG$500,29,FALSE)*100),\"Not Tested\")","v":43},3]
["6741",null,{"$f":"VLOOKUP(TEXT(A131,\"0000\"),SchList!$A$2:$C$483,2,FALSE)","v":"PONCE DE LEON MIDDLE          "},{"$f":"IFERROR(VLOOKUP(TEXT($A131,\"0000\"),'2012 BL Civics Enrollment'!$A$3:$C$500,3,FALSE),0)","v":260},{"$f":"IFERROR(VLOOKUP(TEXT($A131,\"0000\"),'2013 BL Civics Enrollment'!$A$3:$C$500,3,FALSE),\"\")","v":269},{"$f":"IFERROR(IF(VLOOKUP(VALUE(A131),'2012-13 BL Civics'!$A$14:$C$200,3,FALSE)<10,\"N<10\",IF(VLOOKUP(VALUE(A131),'2012-13 BL Civics'!$A$14:$C$200,3,FALSE)>D131,100,VLOOKUP(VALUE(A131),'2012-13 BL Civics'!$A$14:$C$200,3,FALSE)/D131%)),\"Not Tested\")","v":100},{"$f":"IFERROR(IF(VLOOKUP(VALUE(A131),'2013-14 BL Civics'!$A$14:$C$200,3,FALSE)<10,\"N<10\",IF(VLOOKUP(VALUE(A131),'2013-14 BL Civics'!$A$14:$C$200,3,FALSE)>E131,100,VLOOKUP(VALUE(A131),'2013-14 BL Civics'!$A$14:$C$200,3,FALSE)/E131%)),\"Not Tested\")","v":100},{"$f":"IFERROR(IF(F131=\"N<10\",\"N<10\",VLOOKUP(VALUE($A131),'2012-13 BL Civics'!$A$14:$AG$500,5,FALSE)*100),\"Not Tested\")","v":36},{"$f":"IFERROR(IF(G131=\"N<10\",\"N<10\",VLOOKUP(VALUE($A131),'2013-14 BL Civics'!$A$14:$AG$500,5,FALSE)*100),\"Not Tested\")","v":35},-1,{"$f":"IFERROR(IF(H131=\"N<10\",\"N<10\",VLOOKUP(VALUE($A131),'2012-13 BL Civics'!$A$14:$AG$500,11,FALSE)*100),\"Not Tested\")","v":43},{"$f":"IFERROR(IF(I131=\"N<10\",\"N<10\",VLOOKUP(VALUE($A131),'2013-14 BL Civics'!$A$14:$AG$500,11,FALSE)*100),\"Not Tested\")","v":38},-5,{"$f":"IFERROR(IF(K131=\"N<10\",\"N<10\",VLOOKUP(VALUE($A131),'2012-13 BL Civics'!$A$14:$AG$500,17,FALSE)*100),\"Not Tested\")","v":28.999999999999996},{"$f":"IFERROR(IF(L131=\"N<10\",\"N<10\",VLOOKUP(VALUE($A131),'2013-14 BL Civics'!$A$14:$AG$500,17,FALSE)*100),\"Not Tested\")","v":31},2.0000000000000036,{"$f":"IFERROR(IF(J131=\"N<10\",\"N<10\",VLOOKUP(VALUE($A131),'2012-13 BL Civics'!$A$14:$AG$500,23,FALSE)*100),\"Not Tested\")","v":36},{"$f":"IFERROR(IF(K131=\"N<10\",\"N<10\",VLOOKUP(VALUE($A131),'2013-14 BL Civics'!$A$14:$AG$500,23,FALSE)*100),\"Not Tested\")","v":36},0,{"$f":"IFERROR(IF(N131=\"N<10\",\"N<10\",VLOOKUP(VALUE($A131),'2012-13 BL Civics'!$A$14:$AG$500,29,FALSE)*100),\"Not Tested\")","v":38},{"$f":"IFERROR(IF(O131=\"N<10\",\"N<10\",VLOOKUP(VALUE($A131),'2013-14 BL Civics'!$A$14:$AG$500,29,FALSE)*100),\"Not Tested\")","v":39},1]
["6751",null,{"$f":"VLOOKUP(TEXT(A132,\"0000\"),SchList!$A$2:$C$483,2,FALSE)","v":"HIALEAH GARDENS MIDDLE SCHOOL "},{"$f":"IFERROR(VLOOKUP(TEXT($A132,\"0000\"),'2012 BL Civics Enrollment'!$A$3:$C$500,3,FALSE),0)","v":608},{"$f":"IFERROR(VLOOKUP(TEXT($A132,\"0000\"),'2013 BL Civics Enrollment'!$A$3:$C$500,3,FALSE),\"\")","v":598},{"$f":"IFERROR(IF(VLOOKUP(VALUE(A132),'2012-13 BL Civics'!$A$14:$C$200,3,FALSE)<10,\"N<10\",IF(VLOOKUP(VALUE(A132),'2012-13 BL Civics'!$A$14:$C$200,3,FALSE)>D132,100,VLOOKUP(VALUE(A132),'2012-13 BL Civics'!$A$14:$C$200,3,FALSE)/D132%)),\"Not Tested\")","v":94.901315789473685},{"$f":"IFERROR(IF(VLOOKUP(VALUE(A132),'2013-14 BL Civics'!$A$14:$C$200,3,FALSE)<10,\"N<10\",IF(VLOOKUP(VALUE(A132),'2013-14 BL Civics'!$A$14:$C$200,3,FALSE)>E132,100,VLOOKUP(VALUE(A132),'2013-14 BL Civics'!$A$14:$C$200,3,FALSE)/E132%)),\"Not Tested\")","v":97.324414715719058},{"$f":"IFERROR(IF(F132=\"N<10\",\"N<10\",VLOOKUP(VALUE($A132),'2012-13 BL Civics'!$A$14:$AG$500,5,FALSE)*100),\"Not Tested\")","v":32},{"$f":"IFERROR(IF(G132=\"N<10\",\"N<10\",VLOOKUP(VALUE($A132),'2013-14 BL Civics'!$A$14:$AG$500,5,FALSE)*100),\"Not Tested\")","v":37},{"$f":"IFERROR(I132-H132,\"\")","v":5},{"$f":"IFERROR(IF(H132=\"N<10\",\"N<10\",VLOOKUP(VALUE($A132),'2012-13 BL Civics'!$A$14:$AG$500,11,FALSE)*100),\"Not Tested\")","v":39},{"$f":"IFERROR(IF(I132=\"N<10\",\"N<10\",VLOOKUP(VALUE($A132),'2013-14 BL Civics'!$A$14:$AG$500,11,FALSE)*100),\"Not Tested\")","v":40},{"$f":"IFERROR(L132-K132,\"\")","v":1},{"$f":"IFERROR(IF(K132=\"N<10\",\"N<10\",VLOOKUP(VALUE($A132),'2012-13 BL Civics'!$A$14:$AG$500,17,FALSE)*100),\"Not Tested\")","v":27},{"$f":"IFERROR(IF(L132=\"N<10\",\"N<10\",VLOOKUP(VALUE($A132),'2013-14 BL Civics'!$A$14:$AG$500,17,FALSE)*100),\"Not Tested\")","v":32},{"$f":"IFERROR(O132-N132,\"\")","v":5},{"$f":"IFERROR(IF(J132=\"N<10\",\"N<10\",VLOOKUP(VALUE($A132),'2012-13 BL Civics'!$A$14:$AG$500,23,FALSE)*100),\"Not Tested\")","v":31},{"$f":"IFERROR(IF(K132=\"N<10\",\"N<10\",VLOOKUP(VALUE($A132),'2013-14 BL Civics'!$A$14:$AG$500,23,FALSE)*100),\"Not Tested\")","v":36},{"$f":"IFERROR(R132-Q132,\"\")","v":5},{"$f":"IFERROR(IF(N132=\"N<10\",\"N<10\",VLOOKUP(VALUE($A132),'2012-13 BL Civics'!$A$14:$AG$500,29,FALSE)*100),\"Not Tested\")","v":34},{"$f":"IFERROR(IF(O132=\"N<10\",\"N<10\",VLOOKUP(VALUE($A132),'2013-14 BL Civics'!$A$14:$AG$500,29,FALSE)*100),\"Not Tested\")","v":44},{"$f":"IFERROR(U132-T132,\"\")","v":10}]
["6761",null,{"$f":"VLOOKUP(TEXT(A133,\"0000\"),SchList!$A$2:$C$483,2,FALSE)","v":"REDLAND MIDDLE                "},{"$f":"IFERROR(VLOOKUP(TEXT($A133,\"0000\"),'2012 BL Civics Enrollment'!$A$3:$C$500,3,FALSE),0)","v":164},{"$f":"IFERROR(VLOOKUP(TEXT($A133,\"0000\"),'2013 BL Civics Enrollment'!$A$3:$C$500,3,FALSE),\"\")","v":157},{"$f":"IFERROR(IF(VLOOKUP(VALUE(A133),'2012-13 BL Civics'!$A$14:$C$200,3,FALSE)<10,\"N<10\",IF(VLOOKUP(VALUE(A133),'2012-13 BL Civics'!$A$14:$C$200,3,FALSE)>D133,100,VLOOKUP(VALUE(A133),'2012-13 BL Civics'!$A$14:$C$200,3,FALSE)/D133%)),\"Not Tested\")","v":87.195121951219519},{"$f":"IFERROR(IF(VLOOKUP(VALUE(A133),'2013-14 BL Civics'!$A$14:$C$200,3,FALSE)<10,\"N<10\",IF(VLOOKUP(VALUE(A133),'2013-14 BL Civics'!$A$14:$C$200,3,FALSE)>E133,100,VLOOKUP(VALUE(A133),'2013-14 BL Civics'!$A$14:$C$200,3,FALSE)/E133%)),\"Not Tested\")","v":98.089171974522287},{"$f":"IFERROR(IF(F133=\"N<10\",\"N<10\",VLOOKUP(VALUE($A133),'2012-13 BL Civics'!$A$14:$AG$500,5,FALSE)*100),\"Not Tested\")","v":32},{"$f":"IFERROR(IF(G133=\"N<10\",\"N<10\",VLOOKUP(VALUE($A133),'2013-14 BL Civics'!$A$14:$AG$500,5,FALSE)*100),\"Not Tested\")","v":34},2,{"$f":"IFERROR(IF(H133=\"N<10\",\"N<10\",VLOOKUP(VALUE($A133),'2012-13 BL Civics'!$A$14:$AG$500,11,FALSE)*100),\"Not Tested\")","v":37},{"$f":"IFERROR(IF(I133=\"N<10\",\"N<10\",VLOOKUP(VALUE($A133),'2013-14 BL Civics'!$A$14:$AG$500,11,FALSE)*100),\"Not Tested\")","v":34},-3,{"$f":"IFERROR(IF(K133=\"N<10\",\"N<10\",VLOOKUP(VALUE($A133),'2012-13 BL Civics'!$A$14:$AG$500,17,FALSE)*100),\"Not Tested\")","v":27},{"$f":"IFERROR(IF(L133=\"N<10\",\"N<10\",VLOOKUP(VALUE($A133),'2013-14 BL Civics'!$A$14:$AG$500,17,FALSE)*100),\"Not Tested\")","v":31},4,{"$f":"IFERROR(IF(J133=\"N<10\",\"N<10\",VLOOKUP(VALUE($A133),'2012-13 BL Civics'!$A$14:$AG$500,23,FALSE)*100),\"Not Tested\")","v":33},{"$f":"IFERROR(IF(K133=\"N<10\",\"N<10\",VLOOKUP(VALUE($A133),'2013-14 BL Civics'!$A$14:$AG$500,23,FALSE)*100),\"Not Tested\")","v":33},0,{"$f":"IFERROR(IF(N133=\"N<10\",\"N<10\",VLOOKUP(VALUE($A133),'2012-13 BL Civics'!$A$14:$AG$500,29,FALSE)*100),\"Not Tested\")","v":34},{"$f":"IFERROR(IF(O133=\"N<10\",\"N<10\",VLOOKUP(VALUE($A133),'2013-14 BL Civics'!$A$14:$AG$500,29,FALSE)*100),\"Not Tested\")","v":38},4]
["6771",null,{"$f":"VLOOKUP(TEXT(A134,\"0000\"),SchList!$A$2:$C$483,2,FALSE)","v":"JORGE MAS CANOSA MIDDLE       "},{"$f":"IFERROR(VLOOKUP(TEXT($A134,\"0000\"),'2012 BL Civics Enrollment'!$A$3:$C$500,3,FALSE),0)","v":723},{"$f":"IFERROR(VLOOKUP(TEXT($A134,\"0000\"),'2013 BL Civics Enrollment'!$A$3:$C$500,3,FALSE),\"\")","v":661},{"$f":"IFERROR(IF(VLOOKUP(VALUE(A134),'2012-13 BL Civics'!$A$14:$C$200,3,FALSE)<10,\"N<10\",IF(VLOOKUP(VALUE(A134),'2012-13 BL Civics'!$A$14:$C$200,3,FALSE)>D134,100,VLOOKUP(VALUE(A134),'2012-13 BL Civics'!$A$14:$C$200,3,FALSE)/D134%)),\"Not Tested\")","v":97.786998616874129},{"$f":"IFERROR(IF(VLOOKUP(VALUE(A134),'2013-14 BL Civics'!$A$14:$C$200,3,FALSE)<10,\"N<10\",IF(VLOOKUP(VALUE(A134),'2013-14 BL Civics'!$A$14:$C$200,3,FALSE)>E134,100,VLOOKUP(VALUE(A134),'2013-14 BL Civics'!$A$14:$C$200,3,FALSE)/E134%)),\"Not Tested\")","v":96.671709531013605},{"$f":"IFERROR(IF(F134=\"N<10\",\"N<10\",VLOOKUP(VALUE($A134),'2012-13 BL Civics'!$A$14:$AG$500,5,FALSE)*100),\"Not Tested\")","v":34},{"$f":"IFERROR(IF(G134=\"N<10\",\"N<10\",VLOOKUP(VALUE($A134),'2013-14 BL Civics'!$A$14:$AG$500,5,FALSE)*100),\"Not Tested\")","v":37},3,{"$f":"IFERROR(IF(H134=\"N<10\",\"N<10\",VLOOKUP(VALUE($A134),'2012-13 BL Civics'!$A$14:$AG$500,11,FALSE)*100),\"Not Tested\")","v":41},{"$f":"IFERROR(IF(I134=\"N<10\",\"N<10\",VLOOKUP(VALUE($A134),'2013-14 BL Civics'!$A$14:$AG$500,11,FALSE)*100),\"Not Tested\")","v":41},0,{"$f":"IFERROR(IF(K134=\"N<10\",\"N<10\",VLOOKUP(VALUE($A134),'2012-13 BL Civics'!$A$14:$AG$500,17,FALSE)*100),\"Not Tested\")","v":28.000000000000004},{"$f":"IFERROR(IF(L134=\"N<10\",\"N<10\",VLOOKUP(VALUE($A134),'2013-14 BL Civics'!$A$14:$AG$500,17,FALSE)*100),\"Not Tested\")","v":31},2.9999999999999964,{"$f":"IFERROR(IF(J134=\"N<10\",\"N<10\",VLOOKUP(VALUE($A134),'2012-13 BL Civics'!$A$14:$AG$500,23,FALSE)*100),\"Not Tested\")","v":33},{"$f":"IFERROR(IF(K134=\"N<10\",\"N<10\",VLOOKUP(VALUE($A134),'2013-14 BL Civics'!$A$14:$AG$500,23,FALSE)*100),\"Not Tested\")","v":35},2,{"$f":"IFERROR(IF(N134=\"N<10\",\"N<10\",VLOOKUP(VALUE($A134),'2012-13 BL Civics'!$A$14:$AG$500,29,FALSE)*100),\"Not Tested\")","v":36},{"$f":"IFERROR(IF(O134=\"N<10\",\"N<10\",VLOOKUP(VALUE($A134),'2013-14 BL Civics'!$A$14:$AG$500,29,FALSE)*100),\"Not Tested\")","v":44},8]
["6781",null,{"$f":"VLOOKUP(TEXT(A135,\"0000\"),SchList!$A$2:$C$483,2,FALSE)","v":"RICHMOND HEIGHTS MIDDLE       "},{"$f":"IFERROR(VLOOKUP(TEXT($A135,\"0000\"),'2012 BL Civics Enrollment'!$A$3:$C$500,3,FALSE),0)","v":153},{"$f":"IFERROR(VLOOKUP(TEXT($A135,\"0000\"),'2013 BL Civics Enrollment'!$A$3:$C$500,3,FALSE),\"\")","v":176},{"$f":"IFERROR(IF(VLOOKUP(VALUE(A135),'2012-13 BL Civics'!$A$14:$C$200,3,FALSE)<10,\"N<10\",IF(VLOOKUP(VALUE(A135),'2012-13 BL Civics'!$A$14:$C$200,3,FALSE)>D135,100,VLOOKUP(VALUE(A135),'2012-13 BL Civics'!$A$14:$C$200,3,FALSE)/D135%)),\"Not Tested\")","v":100},{"$f":"IFERROR(IF(VLOOKUP(VALUE(A135),'2013-14 BL Civics'!$A$14:$C$200,3,FALSE)<10,\"N<10\",IF(VLOOKUP(VALUE(A135),'2013-14 BL Civics'!$A$14:$C$200,3,FALSE)>E135,100,VLOOKUP(VALUE(A135),'2013-14 BL Civics'!$A$14:$C$200,3,FALSE)/E135%)),\"Not Tested\")","v":81.818181818181813},{"$f":"IFERROR(IF(F135=\"N<10\",\"N<10\",VLOOKUP(VALUE($A135),'2012-13 BL Civics'!$A$14:$AG$500,5,FALSE)*100),\"Not Tested\")","v":33},{"$f":"IFERROR(IF(G135=\"N<10\",\"N<10\",VLOOKUP(VALUE($A135),'2013-14 BL Civics'!$A$14:$AG$500,5,FALSE)*100),\"Not Tested\")","v":32},-1,{"$f":"IFERROR(IF(H135=\"N<10\",\"N<10\",VLOOKUP(VALUE($A135),'2012-13 BL Civics'!$A$14:$AG$500,11,FALSE)*100),\"Not Tested\")","v":38},{"$f":"IFERROR(IF(I135=\"N<10\",\"N<10\",VLOOKUP(VALUE($A135),'2013-14 BL Civics'!$A$14:$AG$500,11,FALSE)*100),\"Not Tested\")","v":32},-6,{"$f":"IFERROR(IF(K135=\"N<10\",\"N<10\",VLOOKUP(VALUE($A135),'2012-13 BL Civics'!$A$14:$AG$500,17,FALSE)*100),\"Not Tested\")","v":28.000000000000004},{"$f":"IFERROR(IF(L135=\"N<10\",\"N<10\",VLOOKUP(VALUE($A135),'2013-14 BL Civics'!$A$14:$AG$500,17,FALSE)*100),\"Not Tested\")","v":30},1.9999999999999964,{"$f":"IFERROR(IF(J135=\"N<10\",\"N<10\",VLOOKUP(VALUE($A135),'2012-13 BL Civics'!$A$14:$AG$500,23,FALSE)*100),\"Not Tested\")","v":33},{"$f":"IFERROR(IF(K135=\"N<10\",\"N<10\",VLOOKUP(VALUE($A135),'2013-14 BL Civics'!$A$14:$AG$500,23,FALSE)*100),\"Not Tested\")","v":31},-2,{"$f":"IFERROR(IF(N135=\"N<10\",\"N<10\",VLOOKUP(VALUE($A135),'2012-13 BL Civics'!$A$14:$AG$500,29,FALSE)*100),\"Not Tested\")","v":33},{"$f":"IFERROR(IF(O135=\"N<10\",\"N<10\",VLOOKUP(VALUE($A135),'2013-14 BL Civics'!$A$14:$AG$500,29,FALSE)*100),\"Not Tested\")","v":39},6]
["6801",null,{"$f":"VLOOKUP(TEXT(A136,\"0000\"),SchList!$A$2:$C$483,2,FALSE)","v":"RIVIERA MIDDLE                "},{"$f":"IFERROR(VLOOKUP(TEXT($A136,\"0000\"),'2012 BL Civics Enrollment'!$A$3:$C$500,3,FALSE),0)","v":257},{"$f":"IFERROR(VLOOKUP(TEXT($A136,\"0000\"),'2013 BL Civics Enrollment'!$A$3:$C$500,3,FALSE),\"\")","v":266},{"$f":"IFERROR(IF(VLOOKUP(VALUE(A136),'2012-13 BL Civics'!$A$14:$C$200,3,FALSE)<10,\"N<10\",IF(VLOOKUP(VALUE(A136),'2012-13 BL Civics'!$A$14:$C$200,3,FALSE)>D136,100,VLOOKUP(VALUE(A136),'2012-13 BL Civics'!$A$14:$C$200,3,FALSE)/D136%)),\"Not Tested\")","v":100},{"$f":"IFERROR(IF(VLOOKUP(VALUE(A136),'2013-14 BL Civics'!$A$14:$C$200,3,FALSE)<10,\"N<10\",IF(VLOOKUP(VALUE(A136),'2013-14 BL Civics'!$A$14:$C$200,3,FALSE)>E136,100,VLOOKUP(VALUE(A136),'2013-14 BL Civics'!$A$14:$C$200,3,FALSE)/E136%)),\"Not Tested\")","v":97.368421052631575},{"$f":"IFERROR(IF(F136=\"N<10\",\"N<10\",VLOOKUP(VALUE($A136),'2012-13 BL Civics'!$A$14:$AG$500,5,FALSE)*100),\"Not Tested\")","v":32},{"$f":"IFERROR(IF(G136=\"N<10\",\"N<10\",VLOOKUP(VALUE($A136),'2013-14 BL Civics'!$A$14:$AG$500,5,FALSE)*100),\"Not Tested\")","v":37},5,{"$f":"IFERROR(IF(H136=\"N<10\",\"N<10\",VLOOKUP(VALUE($A136),'2012-13 BL Civics'!$A$14:$AG$500,11,FALSE)*100),\"Not Tested\")","v":36},{"$f":"IFERROR(IF(I136=\"N<10\",\"N<10\",VLOOKUP(VALUE($A136),'2013-14 BL Civics'!$A$14:$AG$500,11,FALSE)*100),\"Not Tested\")","v":40},4,{"$f":"IFERROR(IF(K136=\"N<10\",\"N<10\",VLOOKUP(VALUE($A136),'2012-13 BL Civics'!$A$14:$AG$500,17,FALSE)*100),\"Not Tested\")","v":27},{"$f":"IFERROR(IF(L136=\"N<10\",\"N<10\",VLOOKUP(VALUE($A136),'2013-14 BL Civics'!$A$14:$AG$500,17,FALSE)*100),\"Not Tested\")","v":33},6,{"$f":"IFERROR(IF(J136=\"N<10\",\"N<10\",VLOOKUP(VALUE($A136),'2012-13 BL Civics'!$A$14:$AG$500,23,FALSE)*100),\"Not Tested\")","v":31},{"$f":"IFERROR(IF(K136=\"N<10\",\"N<10\",VLOOKUP(VALUE($A136),'2013-14 BL Civics'!$A$14:$AG$500,23,FALSE)*100),\"Not Tested\")","v":38},7,{"$f":"IFERROR(IF(N136=\"N<10\",\"N<10\",VLOOKUP(VALUE($A136),'2012-13 BL Civics'!$A$14:$AG$500,29,FALSE)*100),\"Not Tested\")","v":34},{"$f":"IFERROR(IF(O136=\"N<10\",\"N<10\",VLOOKUP(VALUE($A136),'2013-14 BL Civics'!$A$14:$AG$500,29,FALSE)*100),\"Not Tested\")","v":41},7]
["6821",null,{"$f":"VLOOKUP(TEXT(A137,\"0000\"),SchList!$A$2:$C$483,2,FALSE)","v":"ROCKWAY MIDDLE                "},{"$f":"IFERROR(VLOOKUP(TEXT($A137,\"0000\"),'2012 BL Civics Enrollment'!$A$3:$C$500,3,FALSE),0)","v":409},{"$f":"IFERROR(VLOOKUP(TEXT($A137,\"0000\"),'2013 BL Civics Enrollment'!$A$3:$C$500,3,FALSE),\"\")","v":304},{"$f":"IFERROR(IF(VLOOKUP(VALUE(A137),'2012-13 BL Civics'!$A$14:$C$200,3,FALSE)<10,\"N<10\",IF(VLOOKUP(VALUE(A137),'2012-13 BL Civics'!$A$14:$C$200,3,FALSE)>D137,100,VLOOKUP(VALUE(A137),'2012-13 BL Civics'!$A$14:$C$200,3,FALSE)/D137%)),\"Not Tested\")","v":98.044009779951097},{"$f":"IFERROR(IF(VLOOKUP(VALUE(A137),'2013-14 BL Civics'!$A$14:$C$200,3,FALSE)<10,\"N<10\",IF(VLOOKUP(VALUE(A137),'2013-14 BL Civics'!$A$14:$C$200,3,FALSE)>E137,100,VLOOKUP(VALUE(A137),'2013-14 BL Civics'!$A$14:$C$200,3,FALSE)/E137%)),\"Not Tested\")","v":99.34210526315789},{"$f":"IFERROR(IF(F137=\"N<10\",\"N<10\",VLOOKUP(VALUE($A137),'2012-13 BL Civics'!$A$14:$AG$500,5,FALSE)*100),\"Not Tested\")","v":33},{"$f":"IFERROR(IF(G137=\"N<10\",\"N<10\",VLOOKUP(VALUE($A137),'2013-14 BL Civics'!$A$14:$AG$500,5,FALSE)*100),\"Not Tested\")","v":35},2,{"$f":"IFERROR(IF(H137=\"N<10\",\"N<10\",VLOOKUP(VALUE($A137),'2012-13 BL Civics'!$A$14:$AG$500,11,FALSE)*100),\"Not Tested\")","v":41},{"$f":"IFERROR(IF(I137=\"N<10\",\"N<10\",VLOOKUP(VALUE($A137),'2013-14 BL Civics'!$A$14:$AG$500,11,FALSE)*100),\"Not Tested\")","v":37},-4,{"$f":"IFERROR(IF(K137=\"N<10\",\"N<10\",VLOOKUP(VALUE($A137),'2012-13 BL Civics'!$A$14:$AG$500,17,FALSE)*100),\"Not Tested\")","v":26},{"$f":"IFERROR(IF(L137=\"N<10\",\"N<10\",VLOOKUP(VALUE($A137),'2013-14 BL Civics'!$A$14:$AG$500,17,FALSE)*100),\"Not Tested\")","v":28.999999999999996},2.9999999999999964,{"$f":"IFERROR(IF(J137=\"N<10\",\"N<10\",VLOOKUP(VALUE($A137),'2012-13 BL Civics'!$A$14:$AG$500,23,FALSE)*100),\"Not Tested\")","v":33},{"$f":"IFERROR(IF(K137=\"N<10\",\"N<10\",VLOOKUP(VALUE($A137),'2013-14 BL Civics'!$A$14:$AG$500,23,FALSE)*100),\"Not Tested\")","v":34},1,{"$f":"IFERROR(IF(N137=\"N<10\",\"N<10\",VLOOKUP(VALUE($A137),'2012-13 BL Civics'!$A$14:$AG$500,29,FALSE)*100),\"Not Tested\")","v":35},{"$f":"IFERROR(IF(O137=\"N<10\",\"N<10\",VLOOKUP(VALUE($A137),'2013-14 BL Civics'!$A$14:$AG$500,29,FALSE)*100),\"Not Tested\")","v":42},7]
["6841",null,{"$f":"VLOOKUP(TEXT(A138,\"0000\"),SchList!$A$2:$C$483,2,FALSE)","v":"SHENANDOAH MIDDLE             "},{"$f":"IFERROR(VLOOKUP(TEXT($A138,\"0000\"),'2012 BL Civics Enrollment'!$A$3:$C$500,3,FALSE),0)","v":412},{"$f":"IFERROR(VLOOKUP(TEXT($A138,\"0000\"),'2013 BL Civics Enrollment'!$A$3:$C$500,3,FALSE),\"\")","v":377},{"$f":"IFERROR(IF(VLOOKUP(VALUE(A138),'2012-13 BL Civics'!$A$14:$C$200,3,FALSE)<10,\"N<10\",IF(VLOOKUP(VALUE(A138),'2012-13 BL Civics'!$A$14:$C$200,3,FALSE)>D138,100,VLOOKUP(VALUE(A138),'2012-13 BL Civics'!$A$14:$C$200,3,FALSE)/D138%)),\"Not Tested\")","v":98.05825242718447},{"$f":"IFERROR(IF(VLOOKUP(VALUE(A138),'2013-14 BL Civics'!$A$14:$C$200,3,FALSE)<10,\"N<10\",IF(VLOOKUP(VALUE(A138),'2013-14 BL Civics'!$A$14:$C$200,3,FALSE)>E138,100,VLOOKUP(VALUE(A138),'2013-14 BL Civics'!$A$14:$C$200,3,FALSE)/E138%)),\"Not Tested\")","v":98.938992042440319},{"$f":"IFERROR(IF(F138=\"N<10\",\"N<10\",VLOOKUP(VALUE($A138),'2012-13 BL Civics'!$A$14:$AG$500,5,FALSE)*100),\"Not Tested\")","v":31},{"$f":"IFERROR(IF(G138=\"N<10\",\"N<10\",VLOOKUP(VALUE($A138),'2013-14 BL Civics'!$A$14:$AG$500,5,FALSE)*100),\"Not Tested\")","v":33},2,{"$f":"IFERROR(IF(H138=\"N<10\",\"N<10\",VLOOKUP(VALUE($A138),'2012-13 BL Civics'!$A$14:$AG$500,11,FALSE)*100),\"Not Tested\")","v":37},{"$f":"IFERROR(IF(I138=\"N<10\",\"N<10\",VLOOKUP(VALUE($A138),'2013-14 BL Civics'!$A$14:$AG$500,11,FALSE)*100),\"Not Tested\")","v":35},-2,{"$f":"IFERROR(IF(K138=\"N<10\",\"N<10\",VLOOKUP(VALUE($A138),'2012-13 BL Civics'!$A$14:$AG$500,17,FALSE)*100),\"Not Tested\")","v":26},{"$f":"IFERROR(IF(L138=\"N<10\",\"N<10\",VLOOKUP(VALUE($A138),'2013-14 BL Civics'!$A$14:$AG$500,17,FALSE)*100),\"Not Tested\")","v":30},4,{"$f":"IFERROR(IF(J138=\"N<10\",\"N<10\",VLOOKUP(VALUE($A138),'2012-13 BL Civics'!$A$14:$AG$500,23,FALSE)*100),\"Not Tested\")","v":31},{"$f":"IFERROR(IF(K138=\"N<10\",\"N<10\",VLOOKUP(VALUE($A138),'2013-14 BL Civics'!$A$14:$AG$500,23,FALSE)*100),\"Not Tested\")","v":33},2,{"$f":"IFERROR(IF(N138=\"N<10\",\"N<10\",VLOOKUP(VALUE($A138),'2012-13 BL Civics'!$A$14:$AG$500,29,FALSE)*100),\"Not Tested\")","v":34},{"$f":"IFERROR(IF(O138=\"N<10\",\"N<10\",VLOOKUP(VALUE($A138),'2013-14 BL Civics'!$A$14:$AG$500,29,FALSE)*100),\"Not Tested\")","v":38},4]
["6861",null,{"$f":"VLOOKUP(TEXT(A139,\"0000\"),SchList!$A$2:$C$483,2,FALSE)","v":"SOUTHWOOD MIDDLE              "},{"$f":"IFERROR(VLOOKUP(TEXT($A139,\"0000\"),'2012 BL Civics Enrollment'!$A$3:$C$500,3,FALSE),0)","v":485},{"$f":"IFERROR(VLOOKUP(TEXT($A139,\"0000\"),'2013 BL Civics Enrollment'!$A$3:$C$500,3,FALSE),\"\")","v":425},{"$f":"IFERROR(IF(VLOOKUP(VALUE(A139),'2012-13 BL Civics'!$A$14:$C$200,3,FALSE)<10,\"N<10\",IF(VLOOKUP(VALUE(A139),'2012-13 BL Civics'!$A$14:$C$200,3,FALSE)>D139,100,VLOOKUP(VALUE(A139),'2012-13 BL Civics'!$A$14:$C$200,3,FALSE)/D139%)),\"Not Tested\")","v":98.969072164948457},{"$f":"IFERROR(IF(VLOOKUP(VALUE(A139),'2013-14 BL Civics'!$A$14:$C$200,3,FALSE)<10,\"N<10\",IF(VLOOKUP(VALUE(A139),'2013-14 BL Civics'!$A$14:$C$200,3,FALSE)>E139,100,VLOOKUP(VALUE(A139),'2013-14 BL Civics'!$A$14:$C$200,3,FALSE)/E139%)),\"Not Tested\")","v":96.235294117647058},{"$f":"IFERROR(IF(F139=\"N<10\",\"N<10\",VLOOKUP(VALUE($A139),'2012-13 BL Civics'!$A$14:$AG$500,5,FALSE)*100),\"Not Tested\")","v":36},{"$f":"IFERROR(IF(G139=\"N<10\",\"N<10\",VLOOKUP(VALUE($A139),'2013-14 BL Civics'!$A$14:$AG$500,5,FALSE)*100),\"Not Tested\")","v":40},4,{"$f":"IFERROR(IF(H139=\"N<10\",\"N<10\",VLOOKUP(VALUE($A139),'2012-13 BL Civics'!$A$14:$AG$500,11,FALSE)*100),\"Not Tested\")","v":44},{"$f":"IFERROR(IF(I139=\"N<10\",\"N<10\",VLOOKUP(VALUE($A139),'2013-14 BL Civics'!$A$14:$AG$500,11,FALSE)*100),\"Not Tested\")","v":43},-1,{"$f":"IFERROR(IF(K139=\"N<10\",\"N<10\",VLOOKUP(VALUE($A139),'2012-13 BL Civics'!$A$14:$AG$500,17,FALSE)*100),\"Not Tested\")","v":28.999999999999996},{"$f":"IFERROR(IF(L139=\"N<10\",\"N<10\",VLOOKUP(VALUE($A139),'2013-14 BL Civics'!$A$14:$AG$500,17,FALSE)*100),\"Not Tested\")","v":34},5.0000000000000036,{"$f":"IFERROR(IF(J139=\"N<10\",\"N<10\",VLOOKUP(VALUE($A139),'2012-13 BL Civics'!$A$14:$AG$500,23,FALSE)*100),\"Not Tested\")","v":36},{"$f":"IFERROR(IF(K139=\"N<10\",\"N<10\",VLOOKUP(VALUE($A139),'2013-14 BL Civics'!$A$14:$AG$500,23,FALSE)*100),\"Not Tested\")","v":40},4,{"$f":"IFERROR(IF(N139=\"N<10\",\"N<10\",VLOOKUP(VALUE($A139),'2012-13 BL Civics'!$A$14:$AG$500,29,FALSE)*100),\"Not Tested\")","v":38},{"$f":"IFERROR(IF(O139=\"N<10\",\"N<10\",VLOOKUP(VALUE($A139),'2013-14 BL Civics'!$A$14:$AG$500,29,FALSE)*100),\"Not Tested\")","v":45},7]
["6881",null,{"$f":"VLOOKUP(TEXT(A140,\"0000\"),SchList!$A$2:$C$483,2,FALSE)","v":"SOUTH MIAMI MIDDLE SCHOOL     "},{"$f":"IFERROR(VLOOKUP(TEXT($A140,\"0000\"),'2012 BL Civics Enrollment'!$A$3:$C$500,3,FALSE),0)","v":344},{"$f":"IFERROR(VLOOKUP(TEXT($A140,\"0000\"),'2013 BL Civics Enrollment'!$A$3:$C$500,3,FALSE),\"\")","v":349},{"$f":"IFERROR(IF(VLOOKUP(VALUE(A140),'2012-13 BL Civics'!$A$14:$C$200,3,FALSE)<10,\"N<10\",IF(VLOOKUP(VALUE(A140),'2012-13 BL Civics'!$A$14:$C$200,3,FALSE)>D140,100,VLOOKUP(VALUE(A140),'2012-13 BL Civics'!$A$14:$C$200,3,FALSE)/D140%)),\"Not Tested\")","v":98.83720930232559},{"$f":"IFERROR(IF(VLOOKUP(VALUE(A140),'2013-14 BL Civics'!$A$14:$C$200,3,FALSE)<10,\"N<10\",IF(VLOOKUP(VALUE(A140),'2013-14 BL Civics'!$A$14:$C$200,3,FALSE)>E140,100,VLOOKUP(VALUE(A140),'2013-14 BL Civics'!$A$14:$C$200,3,FALSE)/E140%)),\"Not Tested\")","v":99.713467048710598},{"$f":"IFERROR(IF(F140=\"N<10\",\"N<10\",VLOOKUP(VALUE($A140),'2012-13 BL Civics'!$A$14:$AG$500,5,FALSE)*100),\"Not Tested\")","v":37},{"$f":"IFERROR(IF(G140=\"N<10\",\"N<10\",VLOOKUP(VALUE($A140),'2013-14 BL Civics'!$A$14:$AG$500,5,FALSE)*100),\"Not Tested\")","v":43},6,{"$f":"IFERROR(IF(H140=\"N<10\",\"N<10\",VLOOKUP(VALUE($A140),'2012-13 BL Civics'!$A$14:$AG$500,11,FALSE)*100),\"Not Tested\")","v":49},{"$f":"IFERROR(IF(I140=\"N<10\",\"N<10\",VLOOKUP(VALUE($A140),'2013-14 BL Civics'!$A$14:$AG$500,11,FALSE)*100),\"Not Tested\")","v":49},0,{"$f":"IFERROR(IF(K140=\"N<10\",\"N<10\",VLOOKUP(VALUE($A140),'2012-13 BL Civics'!$A$14:$AG$500,17,FALSE)*100),\"Not Tested\")","v":28.999999999999996},{"$f":"IFERROR(IF(L140=\"N<10\",\"N<10\",VLOOKUP(VALUE($A140),'2013-14 BL Civics'!$A$14:$AG$500,17,FALSE)*100),\"Not Tested\")","v":36},7.0000000000000036,{"$f":"IFERROR(IF(J140=\"N<10\",\"N<10\",VLOOKUP(VALUE($A140),'2012-13 BL Civics'!$A$14:$AG$500,23,FALSE)*100),\"Not Tested\")","v":37},{"$f":"IFERROR(IF(K140=\"N<10\",\"N<10\",VLOOKUP(VALUE($A140),'2013-14 BL Civics'!$A$14:$AG$500,23,FALSE)*100),\"Not Tested\")","v":42},5,{"$f":"IFERROR(IF(N140=\"N<10\",\"N<10\",VLOOKUP(VALUE($A140),'2012-13 BL Civics'!$A$14:$AG$500,29,FALSE)*100),\"Not Tested\")","v":36},{"$f":"IFERROR(IF(O140=\"N<10\",\"N<10\",VLOOKUP(VALUE($A140),'2013-14 BL Civics'!$A$14:$AG$500,29,FALSE)*100),\"Not Tested\")","v":48},12]
["6901",null,{"$f":"VLOOKUP(TEXT(A141,\"0000\"),SchList!$A$2:$C$483,2,FALSE)","v":"W. R. THOMAS MIDDLE           "},{"$f":"IFERROR(VLOOKUP(TEXT($A141,\"0000\"),'2012 BL Civics Enrollment'!$A$3:$C$500,3,FALSE),0)","v":309},{"$f":"IFERROR(VLOOKUP(TEXT($A141,\"0000\"),'2013 BL Civics Enrollment'!$A$3:$C$500,3,FALSE),\"\")","v":391},{"$f":"IFERROR(IF(VLOOKUP(VALUE(A141),'2012-13 BL Civics'!$A$14:$C$200,3,FALSE)<10,\"N<10\",IF(VLOOKUP(VALUE(A141),'2012-13 BL Civics'!$A$14:$C$200,3,FALSE)>D141,100,VLOOKUP(VALUE(A141),'2012-13 BL Civics'!$A$14:$C$200,3,FALSE)/D141%)),\"Not Tested\")","v":99.676375404530745},{"$f":"IFERROR(IF(VLOOKUP(VALUE(A141),'2013-14 BL Civics'!$A$14:$C$200,3,FALSE)<10,\"N<10\",IF(VLOOKUP(VALUE(A141),'2013-14 BL Civics'!$A$14:$C$200,3,FALSE)>E141,100,VLOOKUP(VALUE(A141),'2013-14 BL Civics'!$A$14:$C$200,3,FALSE)/E141%)),\"Not Tested\")","v":97.186700767263417},{"$f":"IFERROR(IF(F141=\"N<10\",\"N<10\",VLOOKUP(VALUE($A141),'2012-13 BL Civics'!$A$14:$AG$500,5,FALSE)*100),\"Not Tested\")","v":37},{"$f":"IFERROR(IF(G141=\"N<10\",\"N<10\",VLOOKUP(VALUE($A141),'2013-14 BL Civics'!$A$14:$AG$500,5,FALSE)*100),\"Not Tested\")","v":40},3,{"$f":"IFERROR(IF(H141=\"N<10\",\"N<10\",VLOOKUP(VALUE($A141),'2012-13 BL Civics'!$A$14:$AG$500,11,FALSE)*100),\"Not Tested\")","v":45},{"$f":"IFERROR(IF(I141=\"N<10\",\"N<10\",VLOOKUP(VALUE($A141),'2013-14 BL Civics'!$A$14:$AG$500,11,FALSE)*100),\"Not Tested\")","v":45},0,{"$f":"IFERROR(IF(K141=\"N<10\",\"N<10\",VLOOKUP(VALUE($A141),'2012-13 BL Civics'!$A$14:$AG$500,17,FALSE)*100),\"Not Tested\")","v":31},{"$f":"IFERROR(IF(L141=\"N<10\",\"N<10\",VLOOKUP(VALUE($A141),'2013-14 BL Civics'!$A$14:$AG$500,17,FALSE)*100),\"Not Tested\")","v":34},3,{"$f":"IFERROR(IF(J141=\"N<10\",\"N<10\",VLOOKUP(VALUE($A141),'2012-13 BL Civics'!$A$14:$AG$500,23,FALSE)*100),\"Not Tested\")","v":38},{"$f":"IFERROR(IF(K141=\"N<10\",\"N<10\",VLOOKUP(VALUE($A141),'2013-14 BL Civics'!$A$14:$AG$500,23,FALSE)*100),\"Not Tested\")","v":39},1,{"$f":"IFERROR(IF(N141=\"N<10\",\"N<10\",VLOOKUP(VALUE($A141),'2012-13 BL Civics'!$A$14:$AG$500,29,FALSE)*100),\"Not Tested\")","v":37},{"$f":"IFERROR(IF(O141=\"N<10\",\"N<10\",VLOOKUP(VALUE($A141),'2013-14 BL Civics'!$A$14:$AG$500,29,FALSE)*100),\"Not Tested\")","v":44},7]
["6921",null,{"$f":"VLOOKUP(TEXT(A142,\"0000\"),SchList!$A$2:$C$483,2,FALSE)","v":"LAMAR LOUISE CURRY MIDDLE SCH "},{"$f":"IFERROR(VLOOKUP(TEXT($A142,\"0000\"),'2012 BL Civics Enrollment'!$A$3:$C$500,3,FALSE),0)","v":390},{"$f":"IFERROR(VLOOKUP(TEXT($A142,\"0000\"),'2013 BL Civics Enrollment'!$A$3:$C$500,3,FALSE),\"\")","v":367},{"$f":"IFERROR(IF(VLOOKUP(VALUE(A142),'2012-13 BL Civics'!$A$14:$C$200,3,FALSE)<10,\"N<10\",IF(VLOOKUP(VALUE(A142),'2012-13 BL Civics'!$A$14:$C$200,3,FALSE)>D142,100,VLOOKUP(VALUE(A142),'2012-13 BL Civics'!$A$14:$C$200,3,FALSE)/D142%)),\"Not Tested\")","v":97.948717948717956},{"$f":"IFERROR(IF(VLOOKUP(VALUE(A142),'2013-14 BL Civics'!$A$14:$C$200,3,FALSE)<10,\"N<10\",IF(VLOOKUP(VALUE(A142),'2013-14 BL Civics'!$A$14:$C$200,3,FALSE)>E142,100,VLOOKUP(VALUE(A142),'2013-14 BL Civics'!$A$14:$C$200,3,FALSE)/E142%)),\"Not Tested\")","v":97.820163487738427},{"$f":"IFERROR(IF(F142=\"N<10\",\"N<10\",VLOOKUP(VALUE($A142),'2012-13 BL Civics'!$A$14:$AG$500,5,FALSE)*100),\"Not Tested\")","v":37},{"$f":"IFERROR(IF(G142=\"N<10\",\"N<10\",VLOOKUP(VALUE($A142),'2013-14 BL Civics'!$A$14:$AG$500,5,FALSE)*100),\"Not Tested\")","v":42},5,{"$f":"IFERROR(IF(H142=\"N<10\",\"N<10\",VLOOKUP(VALUE($A142),'2012-13 BL Civics'!$A$14:$AG$500,11,FALSE)*100),\"Not Tested\")","v":47},{"$f":"IFERROR(IF(I142=\"N<10\",\"N<10\",VLOOKUP(VALUE($A142),'2013-14 BL Civics'!$A$14:$AG$500,11,FALSE)*100),\"Not Tested\")","v":46},-1,{"$f":"IFERROR(IF(K142=\"N<10\",\"N<10\",VLOOKUP(VALUE($A142),'2012-13 BL Civics'!$A$14:$AG$500,17,FALSE)*100),\"Not Tested\")","v":30},{"$f":"IFERROR(IF(L142=\"N<10\",\"N<10\",VLOOKUP(VALUE($A142),'2013-14 BL Civics'!$A$14:$AG$500,17,FALSE)*100),\"Not Tested\")","v":36},6,{"$f":"IFERROR(IF(J142=\"N<10\",\"N<10\",VLOOKUP(VALUE($A142),'2012-13 BL Civics'!$A$14:$AG$500,23,FALSE)*100),\"Not Tested\")","v":36},{"$f":"IFERROR(IF(K142=\"N<10\",\"N<10\",VLOOKUP(VALUE($A142),'2013-14 BL Civics'!$A$14:$AG$500,23,FALSE)*100),\"Not Tested\")","v":43},7,{"$f":"IFERROR(IF(N142=\"N<10\",\"N<10\",VLOOKUP(VALUE($A142),'2012-13 BL Civics'!$A$14:$AG$500,29,FALSE)*100),\"Not Tested\")","v":40},{"$f":"IFERROR(IF(O142=\"N<10\",\"N<10\",VLOOKUP(VALUE($A142),'2013-14 BL Civics'!$A$14:$AG$500,29,FALSE)*100),\"Not Tested\")","v":48},8]
["6961",null,{"$f":"VLOOKUP(TEXT(A143,\"0000\"),SchList!$A$2:$C$483,2,FALSE)","v":"WEST MIAMI MIDDLE             "},{"$f":"IFERROR(VLOOKUP(TEXT($A143,\"0000\"),'2012 BL Civics Enrollment'!$A$3:$C$500,3,FALSE),0)","v":325},{"$f":"IFERROR(VLOOKUP(TEXT($A143,\"0000\"),'2013 BL Civics Enrollment'!$A$3:$C$500,3,FALSE),\"\")","v":329},{"$f":"IFERROR(IF(VLOOKUP(VALUE(A143),'2012-13 BL Civics'!$A$14:$C$200,3,FALSE)<10,\"N<10\",IF(VLOOKUP(VALUE(A143),'2012-13 BL Civics'!$A$14:$C$200,3,FALSE)>D143,100,VLOOKUP(VALUE(A143),'2012-13 BL Civics'!$A$14:$C$200,3,FALSE)/D143%)),\"Not Tested\")","v":99.692307692307693},{"$f":"IFERROR(IF(VLOOKUP(VALUE(A143),'2013-14 BL Civics'!$A$14:$C$200,3,FALSE)<10,\"N<10\",IF(VLOOKUP(VALUE(A143),'2013-14 BL Civics'!$A$14:$C$200,3,FALSE)>E143,100,VLOOKUP(VALUE(A143),'2013-14 BL Civics'!$A$14:$C$200,3,FALSE)/E143%)),\"Not Tested\")","v":96.656534954407292},{"$f":"IFERROR(IF(F143=\"N<10\",\"N<10\",VLOOKUP(VALUE($A143),'2012-13 BL Civics'!$A$14:$AG$500,5,FALSE)*100),\"Not Tested\")","v":32},{"$f":"IFERROR(IF(G143=\"N<10\",\"N<10\",VLOOKUP(VALUE($A143),'2013-14 BL Civics'!$A$14:$AG$500,5,FALSE)*100),\"Not Tested\")","v":34},2,{"$f":"IFERROR(IF(H143=\"N<10\",\"N<10\",VLOOKUP(VALUE($A143),'2012-13 BL Civics'!$A$14:$AG$500,11,FALSE)*100),\"Not Tested\")","v":36},{"$f":"IFERROR(IF(I143=\"N<10\",\"N<10\",VLOOKUP(VALUE($A143),'2013-14 BL Civics'!$A$14:$AG$500,11,FALSE)*100),\"Not Tested\")","v":35},-1,{"$f":"IFERROR(IF(K143=\"N<10\",\"N<10\",VLOOKUP(VALUE($A143),'2012-13 BL Civics'!$A$14:$AG$500,17,FALSE)*100),\"Not Tested\")","v":27},{"$f":"IFERROR(IF(L143=\"N<10\",\"N<10\",VLOOKUP(VALUE($A143),'2013-14 BL Civics'!$A$14:$AG$500,17,FALSE)*100),\"Not Tested\")","v":30},3,{"$f":"IFERROR(IF(J143=\"N<10\",\"N<10\",VLOOKUP(VALUE($A143),'2012-13 BL Civics'!$A$14:$AG$500,23,FALSE)*100),\"Not Tested\")","v":33},{"$f":"IFERROR(IF(K143=\"N<10\",\"N<10\",VLOOKUP(VALUE($A143),'2013-14 BL Civics'!$A$14:$AG$500,23,FALSE)*100),\"Not Tested\")","v":33},0,{"$f":"IFERROR(IF(N143=\"N<10\",\"N<10\",VLOOKUP(VALUE($A143),'2012-13 BL Civics'!$A$14:$AG$500,29,FALSE)*100),\"Not Tested\")","v":32},{"$f":"IFERROR(IF(O143=\"N<10\",\"N<10\",VLOOKUP(VALUE($A143),'2013-14 BL Civics'!$A$14:$AG$500,29,FALSE)*100),\"Not Tested\")","v":41},9]
["7001",null,{"$f":"VLOOKUP(TEXT(A144,\"0000\"),SchList!$A$2:$C$483,2,FALSE)","v":"MIAMI-DADE ONLINE ACADEMY"},{"$f":"IFERROR(VLOOKUP(TEXT($A144,\"0000\"),'2012 BL Civics Enrollment'!$A$3:$C$500,3,FALSE),0)","v":28},{"$f":"IFERROR(VLOOKUP(TEXT($A144,\"0000\"),'2013 BL Civics Enrollment'!$A$3:$C$500,3,FALSE),\"\")","v":17},{"$f":"IFERROR(IF(VLOOKUP(VALUE(A144),'2012-13 BL Civics'!$A$14:$C$200,3,FALSE)<10,\"N<10\",IF(VLOOKUP(VALUE(A144),'2012-13 BL Civics'!$A$14:$C$200,3,FALSE)>D144,100,VLOOKUP(VALUE(A144),'2012-13 BL Civics'!$A$14:$C$200,3,FALSE)/D144%)),\"Not Tested\")","v":"Not Tested"},{"$f":"IFERROR(IF(VLOOKUP(VALUE(A144),'2013-14 BL Civics'!$A$14:$C$200,3,FALSE)<10,\"N<10\",IF(VLOOKUP(VALUE(A144),'2013-14 BL Civics'!$A$14:$C$200,3,FALSE)>E144,100,VLOOKUP(VALUE(A144),'2013-14 BL Civics'!$A$14:$C$200,3,FALSE)/E144%)),\"Not Tested\")","v":"Not Tested"},{"$f":"IFERROR(IF(F144=\"N<10\",\"N<10\",VLOOKUP(VALUE($A144),'2012-13 BL Civics'!$A$14:$AG$500,5,FALSE)*100),\"Not Tested\")","v":"Not Tested"},{"$f":"IFERROR(IF(G144=\"N<10\",\"N<10\",VLOOKUP(VALUE($A144),'2013-14 BL Civics'!$A$14:$AG$500,5,FALSE)*100),\"Not Tested\")","v":"Not Tested"},"",{"$f":"IFERROR(IF(H144=\"N<10\",\"N<10\",VLOOKUP(VALUE($A144),'2012-13 BL Civics'!$A$14:$AG$500,11,FALSE)*100),\"Not Tested\")","v":"Not Tested"},{"$f":"IFERROR(IF(I144=\"N<10\",\"N<10\",VLOOKUP(VALUE($A144),'2013-14 BL Civics'!$A$14:$AG$500,11,FALSE)*100),\"Not Tested\")","v":"Not Tested"},"",{"$f":"IFERROR(IF(K144=\"N<10\",\"N<10\",VLOOKUP(VALUE($A144),'2012-13 BL Civics'!$A$14:$AG$500,17,FALSE)*100),\"Not Tested\")","v":"Not Tested"},{"$f":"IFERROR(IF(L144=\"N<10\",\"N<10\",VLOOKUP(VALUE($A144),'2013-14 BL Civics'!$A$14:$AG$500,17,FALSE)*100),\"Not Tested\")","v":"Not Tested"},"",{"$f":"IFERROR(IF(J144=\"N<10\",\"N<10\",VLOOKUP(VALUE($A144),'2012-13 BL Civics'!$A$14:$AG$500,23,FALSE)*100),\"Not Tested\")","v":"Not Tested"},{"$f":"IFERROR(IF(K144=\"N<10\",\"N<10\",VLOOKUP(VALUE($A144),'2013-14 BL Civics'!$A$14:$AG$500,23,FALSE)*100),\"Not Tested\")","v":"Not Tested"},"",{"$f":"IFERROR(IF(N144=\"N<10\",\"N<10\",VLOOKUP(VALUE($A144),'2012-13 BL Civics'!$A$14:$AG$500,29,FALSE)*100),\"Not Tested\")","v":"Not Tested"},{"$f":"IFERROR(IF(O144=\"N<10\",\"N<10\",VLOOKUP(VALUE($A144),'2013-14 BL Civics'!$A$14:$AG$500,29,FALSE)*100),\"Not Tested\")","v":"Not Tested"},""]
["7055",null,{"$f":"VLOOKUP(TEXT(A145,\"0000\"),SchList!$A$2:$C$483,2,FALSE)","v":"YOUNG WOMEN'S PREPARATORY ACAD"},{"$f":"IFERROR(VLOOKUP(TEXT($A145,\"0000\"),'2012 BL Civics Enrollment'!$A$3:$C$500,3,FALSE),0)","v":79},{"$f":"IFERROR(VLOOKUP(TEXT($A145,\"0000\"),'2013 BL Civics Enrollment'!$A$3:$C$500,3,FALSE),\"\")","v":79},{"$f":"IFERROR(IF(VLOOKUP(VALUE(A145),'2012-13 BL Civics'!$A$14:$C$200,3,FALSE)<10,\"N<10\",IF(VLOOKUP(VALUE(A145),'2012-13 BL Civics'!$A$14:$C$200,3,FALSE)>D145,100,VLOOKUP(VALUE(A145),'2012-13 BL Civics'!$A$14:$C$200,3,FALSE)/D145%)),\"Not Tested\")","v":100},{"$f":"IFERROR(IF(VLOOKUP(VALUE(A145),'2013-14 BL Civics'!$A$14:$C$200,3,FALSE)<10,\"N<10\",IF(VLOOKUP(VALUE(A145),'2013-14 BL Civics'!$A$14:$C$200,3,FALSE)>E145,100,VLOOKUP(VALUE(A145),'2013-14 BL Civics'!$A$14:$C$200,3,FALSE)/E145%)),\"Not Tested\")","v":100},{"$f":"IFERROR(IF(F145=\"N<10\",\"N<10\",VLOOKUP(VALUE($A145),'2012-13 BL Civics'!$A$14:$AG$500,5,FALSE)*100),\"Not Tested\")","v":39},{"$f":"IFERROR(IF(G145=\"N<10\",\"N<10\",VLOOKUP(VALUE($A145),'2013-14 BL Civics'!$A$14:$AG$500,5,FALSE)*100),\"Not Tested\")","v":41},2,{"$f":"IFERROR(IF(H145=\"N<10\",\"N<10\",VLOOKUP(VALUE($A145),'2012-13 BL Civics'!$A$14:$AG$500,11,FALSE)*100),\"Not Tested\")","v":51},{"$f":"IFERROR(IF(I145=\"N<10\",\"N<10\",VLOOKUP(VALUE($A145),'2013-14 BL Civics'!$A$14:$AG$500,11,FALSE)*100),\"Not Tested\")","v":47},-4,{"$f":"IFERROR(IF(K145=\"N<10\",\"N<10\",VLOOKUP(VALUE($A145),'2012-13 BL Civics'!$A$14:$AG$500,17,FALSE)*100),\"Not Tested\")","v":28.999999999999996},{"$f":"IFERROR(IF(L145=\"N<10\",\"N<10\",VLOOKUP(VALUE($A145),'2013-14 BL Civics'!$A$14:$AG$500,17,FALSE)*100),\"Not Tested\")","v":33},4.0000000000000036,{"$f":"IFERROR(IF(J145=\"N<10\",\"N<10\",VLOOKUP(VALUE($A145),'2012-13 BL Civics'!$A$14:$AG$500,23,FALSE)*100),\"Not Tested\")","v":41},{"$f":"IFERROR(IF(K145=\"N<10\",\"N<10\",VLOOKUP(VALUE($A145),'2013-14 BL Civics'!$A$14:$AG$500,23,FALSE)*100),\"Not Tested\")","v":41},0,{"$f":"IFERROR(IF(N145=\"N<10\",\"N<10\",VLOOKUP(VALUE($A145),'2012-13 BL Civics'!$A$14:$AG$500,29,FALSE)*100),\"Not Tested\")","v":39},{"$f":"IFERROR(IF(O145=\"N<10\",\"N<10\",VLOOKUP(VALUE($A145),'2013-14 BL Civics'!$A$14:$AG$500,29,FALSE)*100),\"Not Tested\")","v":47},8]
["7056",null,{"$f":"VLOOKUP(TEXT(A146,\"0000\"),SchList!$A$2:$C$483,2,FALSE)","v":"YOUNG MENS PREPARATORY ACADEMY"},{"$f":"IFERROR(VLOOKUP(TEXT($A146,\"0000\"),'2012 BL Civics Enrollment'!$A$3:$C$500,3,FALSE),0)","v":0},{"$f":"IFERROR(VLOOKUP(TEXT($A146,\"0000\"),'2013 BL Civics Enrollment'!$A$3:$C$500,3,FALSE),\"\")","v":53},{"$f":"IFERROR(IF(VLOOKUP(VALUE(A146),'2012-13 BL Civics'!$A$14:$C$200,3,FALSE)<10,\"N<10\",IF(VLOOKUP(VALUE(A146),'2012-13 BL Civics'!$A$14:$C$200,3,FALSE)>D146,100,VLOOKUP(VALUE(A146),'2012-13 BL Civics'!$A$14:$C$200,3,FALSE)/D146%)),\"Not Tested\")","v":"Not Tested"},{"$f":"IFERROR(IF(VLOOKUP(VALUE(A146),'2013-14 BL Civics'!$A$14:$C$200,3,FALSE)<10,\"N<10\",IF(VLOOKUP(VALUE(A146),'2013-14 BL Civics'!$A$14:$C$200,3,FALSE)>E146,100,VLOOKUP(VALUE(A146),'2013-14 BL Civics'!$A$14:$C$200,3,FALSE)/E146%)),\"Not Tested\")","v":100},{"$f":"IFERROR(IF(F146=\"N<10\",\"N<10\",VLOOKUP(VALUE($A146),'2012-13 BL Civics'!$A$14:$AG$500,5,FALSE)*100),\"Not Tested\")","v":"Not Tested"},{"$f":"IFERROR(IF(G146=\"N<10\",\"N<10\",VLOOKUP(VALUE($A146),'2013-14 BL Civics'!$A$14:$AG$500,5,FALSE)*100),\"Not Tested\")","v":33},"",{"$f":"IFERROR(IF(H146=\"N<10\",\"N<10\",VLOOKUP(VALUE($A146),'2012-13 BL Civics'!$A$14:$AG$500,11,FALSE)*100),\"Not Tested\")","v":"Not Tested"},{"$f":"IFERROR(IF(I146=\"N<10\",\"N<10\",VLOOKUP(VALUE($A146),'2013-14 BL Civics'!$A$14:$AG$500,11,FALSE)*100),\"Not Tested\")","v":33},"",{"$f":"IFERROR(IF(K146=\"N<10\",\"N<10\",VLOOKUP(VALUE($A146),'2012-13 BL Civics'!$A$14:$AG$500,17,FALSE)*100),\"Not Tested\")","v":"Not Tested"},{"$f":"IFERROR(IF(L146=\"N<10\",\"N<10\",VLOOKUP(VALUE($A146),'2013-14 BL Civics'!$A$14:$AG$500,17,FALSE)*100),\"Not Tested\")","v":35},"",{"$f":"IFERROR(IF(J146=\"N<10\",\"N<10\",VLOOKUP(VALUE($A146),'2012-13 BL Civics'!$A$14:$AG$500,23,FALSE)*100),\"Not Tested\")","v":"Not Tested"},{"$f":"IFERROR(IF(K146=\"N<10\",\"N<10\",VLOOKUP(VALUE($A146),'2013-14 BL Civics'!$A$14:$AG$500,23,FALSE)*100),\"Not Tested\")","v":25},"",{"$f":"IFERROR(IF(N146=\"N<10\",\"N<10\",VLOOKUP(VALUE($A146),'2012-13 BL Civics'!$A$14:$AG$500,29,FALSE)*100),\"Not Tested\")","v":"Not Tested"},{"$f":"IFERROR(IF(O146=\"N<10\",\"N<10\",VLOOKUP(VALUE($A146),'2013-14 BL Civics'!$A$14:$AG$500,29,FALSE)*100),\"Not Tested\")","v":40},""]
["7059",null,{"$f":"VLOOKUP(TEXT(A147,\"0000\"),SchList!$A$2:$C$483,2,FALSE)","v":"MIAMI ARTS CHARTER            "},{"$f":"IFERROR(VLOOKUP(TEXT($A147,\"0000\"),'2012 BL Civics Enrollment'!$A$3:$C$500,3,FALSE),0)","v":125},{"$f":"IFERROR(VLOOKUP(TEXT($A147,\"0000\"),'2013 BL Civics Enrollment'!$A$3:$C$500,3,FALSE),\"\")","v":122},{"$f":"IFERROR(IF(VLOOKUP(VALUE(A147),'2012-13 BL Civics'!$A$14:$C$200,3,FALSE)<10,\"N<10\",IF(VLOOKUP(VALUE(A147),'2012-13 BL Civics'!$A$14:$C$200,3,FALSE)>D147,100,VLOOKUP(VALUE(A147),'2012-13 BL Civics'!$A$14:$C$200,3,FALSE)/D147%)),\"Not Tested\")","v":96},{"$f":"IFERROR(IF(VLOOKUP(VALUE(A147),'2013-14 BL Civics'!$A$14:$C$200,3,FALSE)<10,\"N<10\",IF(VLOOKUP(VALUE(A147),'2013-14 BL Civics'!$A$14:$C$200,3,FALSE)>E147,100,VLOOKUP(VALUE(A147),'2013-14 BL Civics'!$A$14:$C$200,3,FALSE)/E147%)),\"Not Tested\")","v":95.901639344262293},{"$f":"IFERROR(IF(F147=\"N<10\",\"N<10\",VLOOKUP(VALUE($A147),'2012-13 BL Civics'!$A$14:$AG$500,5,FALSE)*100),\"Not Tested\")","v":39},{"$f":"IFERROR(IF(G147=\"N<10\",\"N<10\",VLOOKUP(VALUE($A147),'2013-14 BL Civics'!$A$14:$AG$500,5,FALSE)*100),\"Not Tested\")","v":43},4,{"$f":"IFERROR(IF(H147=\"N<10\",\"N<10\",VLOOKUP(VALUE($A147),'2012-13 BL Civics'!$A$14:$AG$500,11,FALSE)*100),\"Not Tested\")","v":51},{"$f":"IFERROR(IF(I147=\"N<10\",\"N<10\",VLOOKUP(VALUE($A147),'2013-14 BL Civics'!$A$14:$AG$500,11,FALSE)*100),\"Not Tested\")","v":49},-2,{"$f":"IFERROR(IF(K147=\"N<10\",\"N<10\",VLOOKUP(VALUE($A147),'2012-13 BL Civics'!$A$14:$AG$500,17,FALSE)*100),\"Not Tested\")","v":31},{"$f":"IFERROR(IF(L147=\"N<10\",\"N<10\",VLOOKUP(VALUE($A147),'2013-14 BL Civics'!$A$14:$AG$500,17,FALSE)*100),\"Not Tested\")","v":38},7,{"$f":"IFERROR(IF(J147=\"N<10\",\"N<10\",VLOOKUP(VALUE($A147),'2012-13 BL Civics'!$A$14:$AG$500,23,FALSE)*100),\"Not Tested\")","v":40},{"$f":"IFERROR(IF(K147=\"N<10\",\"N<10\",VLOOKUP(VALUE($A147),'2013-14 BL Civics'!$A$14:$AG$500,23,FALSE)*100),\"Not Tested\")","v":43},3,{"$f":"IFERROR(IF(N147=\"N<10\",\"N<10\",VLOOKUP(VALUE($A147),'2012-13 BL Civics'!$A$14:$AG$500,29,FALSE)*100),\"Not Tested\")","v":40},{"$f":"IFERROR(IF(O147=\"N<10\",\"N<10\",VLOOKUP(VALUE($A147),'2013-14 BL Civics'!$A$14:$AG$500,29,FALSE)*100),\"Not Tested\")","v":46},6]
["7262",null,{"$f":"VLOOKUP(TEXT(A148,\"0000\"),SchList!$A$2:$C$483,2,FALSE)","v":"CITY OF HIALEAH EDUCATION ACAD"},{"$f":"IFERROR(VLOOKUP(TEXT($A148,\"0000\"),'2012 BL Civics Enrollment'!$A$3:$C$500,3,FALSE),0)","v":0},{"$f":"IFERROR(VLOOKUP(TEXT($A148,\"0000\"),'2013 BL Civics Enrollment'!$A$3:$C$500,3,FALSE),\"\")","v":39},{"$f":"IFERROR(IF(VLOOKUP(VALUE(A148),'2012-13 BL Civics'!$A$14:$C$200,3,FALSE)<10,\"N<10\",IF(VLOOKUP(VALUE(A148),'2012-13 BL Civics'!$A$14:$C$200,3,FALSE)>D148,100,VLOOKUP(VALUE(A148),'2012-13 BL Civics'!$A$14:$C$200,3,FALSE)/D148%)),\"Not Tested\")","v":"Not Tested"},{"$f":"IFERROR(IF(VLOOKUP(VALUE(A148),'2013-14 BL Civics'!$A$14:$C$200,3,FALSE)<10,\"N<10\",IF(VLOOKUP(VALUE(A148),'2013-14 BL Civics'!$A$14:$C$200,3,FALSE)>E148,100,VLOOKUP(VALUE(A148),'2013-14 BL Civics'!$A$14:$C$200,3,FALSE)/E148%)),\"Not Tested\")","v":100},{"$f":"IFERROR(IF(F148=\"N<10\",\"N<10\",VLOOKUP(VALUE($A148),'2012-13 BL Civics'!$A$14:$AG$500,5,FALSE)*100),\"Not Tested\")","v":"Not Tested"},{"$f":"IFERROR(IF(G148=\"N<10\",\"N<10\",VLOOKUP(VALUE($A148),'2013-14 BL Civics'!$A$14:$AG$500,5,FALSE)*100),\"Not Tested\")","v":35},"",{"$f":"IFERROR(IF(H148=\"N<10\",\"N<10\",VLOOKUP(VALUE($A148),'2012-13 BL Civics'!$A$14:$AG$500,11,FALSE)*100),\"Not Tested\")","v":"Not Tested"},{"$f":"IFERROR(IF(I148=\"N<10\",\"N<10\",VLOOKUP(VALUE($A148),'2013-14 BL Civics'!$A$14:$AG$500,11,FALSE)*100),\"Not Tested\")","v":34},"",{"$f":"IFERROR(IF(K148=\"N<10\",\"N<10\",VLOOKUP(VALUE($A148),'2012-13 BL Civics'!$A$14:$AG$500,17,FALSE)*100),\"Not Tested\")","v":"Not Tested"},{"$f":"IFERROR(IF(L148=\"N<10\",\"N<10\",VLOOKUP(VALUE($A148),'2013-14 BL Civics'!$A$14:$AG$500,17,FALSE)*100),\"Not Tested\")","v":28.000000000000004},"",{"$f":"IFERROR(IF(J148=\"N<10\",\"N<10\",VLOOKUP(VALUE($A148),'2012-13 BL Civics'!$A$14:$AG$500,23,FALSE)*100),\"Not Tested\")","v":"Not Tested"},{"$f":"IFERROR(IF(K148=\"N<10\",\"N<10\",VLOOKUP(VALUE($A148),'2013-14 BL Civics'!$A$14:$AG$500,23,FALSE)*100),\"Not Tested\")","v":37},"",{"$f":"IFERROR(IF(N148=\"N<10\",\"N<10\",VLOOKUP(VALUE($A148),'2012-13 BL Civics'!$A$14:$AG$500,29,FALSE)*100),\"Not Tested\")","v":"Not Tested"},{"$f":"IFERROR(IF(O148=\"N<10\",\"N<10\",VLOOKUP(VALUE($A148),'2013-14 BL Civics'!$A$14:$AG$500,29,FALSE)*100),\"Not Tested\")","v":43},""]
["7291",null,{"$f":"VLOOKUP(TEXT(A149,\"0000\"),SchList!$A$2:$C$483,2,FALSE)","v":"JOSE MARTI MAST 6-12 ACADEMY  "},{"$f":"IFERROR(VLOOKUP(TEXT($A149,\"0000\"),'2012 BL Civics Enrollment'!$A$3:$C$500,3,FALSE),0)","v":135},{"$f":"IFERROR(VLOOKUP(TEXT($A149,\"0000\"),'2013 BL Civics Enrollment'!$A$3:$C$500,3,FALSE),\"\")","v":153},{"$f":"IFERROR(IF(VLOOKUP(VALUE(A149),'2012-13 BL Civics'!$A$14:$C$200,3,FALSE)<10,\"N<10\",IF(VLOOKUP(VALUE(A149),'2012-13 BL Civics'!$A$14:$C$200,3,FALSE)>D149,100,VLOOKUP(VALUE(A149),'2012-13 BL Civics'!$A$14:$C$200,3,FALSE)/D149%)),\"Not Tested\")","v":99.259259259259252},{"$f":"IFERROR(IF(VLOOKUP(VALUE(A149),'2013-14 BL Civics'!$A$14:$C$200,3,FALSE)<10,\"N<10\",IF(VLOOKUP(VALUE(A149),'2013-14 BL Civics'!$A$14:$C$200,3,FALSE)>E149,100,VLOOKUP(VALUE(A149),'2013-14 BL Civics'!$A$14:$C$200,3,FALSE)/E149%)),\"Not Tested\")","v":98.039215686274503},{"$f":"IFERROR(IF(F149=\"N<10\",\"N<10\",VLOOKUP(VALUE($A149),'2012-13 BL Civics'!$A$14:$AG$500,5,FALSE)*100),\"Not Tested\")","v":37},{"$f":"IFERROR(IF(G149=\"N<10\",\"N<10\",VLOOKUP(VALUE($A149),'2013-14 BL Civics'!$A$14:$AG$500,5,FALSE)*100),\"Not Tested\")","v":44},7,{"$f":"IFERROR(IF(H149=\"N<10\",\"N<10\",VLOOKUP(VALUE($A149),'2012-13 BL Civics'!$A$14:$AG$500,11,FALSE)*100),\"Not Tested\")","v":47},{"$f":"IFERROR(IF(I149=\"N<10\",\"N<10\",VLOOKUP(VALUE($A149),'2013-14 BL Civics'!$A$14:$AG$500,11,FALSE)*100),\"Not Tested\")","v":49},2,{"$f":"IFERROR(IF(K149=\"N<10\",\"N<10\",VLOOKUP(VALUE($A149),'2012-13 BL Civics'!$A$14:$AG$500,17,FALSE)*100),\"Not Tested\")","v":28.000000000000004},{"$f":"IFERROR(IF(L149=\"N<10\",\"N<10\",VLOOKUP(VALUE($A149),'2013-14 BL Civics'!$A$14:$AG$500,17,FALSE)*100),\"Not Tested\")","v":38},9.9999999999999964,{"$f":"IFERROR(IF(J149=\"N<10\",\"N<10\",VLOOKUP(VALUE($A149),'2012-13 BL Civics'!$A$14:$AG$500,23,FALSE)*100),\"Not Tested\")","v":37},{"$f":"IFERROR(IF(K149=\"N<10\",\"N<10\",VLOOKUP(VALUE($A149),'2013-14 BL Civics'!$A$14:$AG$500,23,FALSE)*100),\"Not Tested\")","v":45},8,{"$f":"IFERROR(IF(N149=\"N<10\",\"N<10\",VLOOKUP(VALUE($A149),'2012-13 BL Civics'!$A$14:$AG$500,29,FALSE)*100),\"Not Tested\")","v":39},{"$f":"IFERROR(IF(O149=\"N<10\",\"N<10\",VLOOKUP(VALUE($A149),'2013-14 BL Civics'!$A$14:$AG$500,29,FALSE)*100),\"Not Tested\")","v":49},10]
["7351",null,{"$f":"VLOOKUP(TEXT(A150,\"0000\"),SchList!$A$2:$C$483,2,FALSE)","v":"ARTHUR AND POLLY MAYS CONSERVA"},{"$f":"IFERROR(VLOOKUP(TEXT($A150,\"0000\"),'2012 BL Civics Enrollment'!$A$3:$C$500,3,FALSE),0)","v":79},{"$f":"IFERROR(VLOOKUP(TEXT($A150,\"0000\"),'2013 BL Civics Enrollment'!$A$3:$C$500,3,FALSE),\"\")","v":126},{"$f":"IFERROR(IF(VLOOKUP(VALUE(A150),'2012-13 BL Civics'!$A$14:$C$200,3,FALSE)<10,\"N<10\",IF(VLOOKUP(VALUE(A150),'2012-13 BL Civics'!$A$14:$C$200,3,FALSE)>D150,100,VLOOKUP(VALUE(A150),'2012-13 BL Civics'!$A$14:$C$200,3,FALSE)/D150%)),\"Not Tested\")","v":88.60759493670885},{"$f":"IFERROR(IF(VLOOKUP(VALUE(A150),'2013-14 BL Civics'!$A$14:$C$200,3,FALSE)<10,\"N<10\",IF(VLOOKUP(VALUE(A150),'2013-14 BL Civics'!$A$14:$C$200,3,FALSE)>E150,100,VLOOKUP(VALUE(A150),'2013-14 BL Civics'!$A$14:$C$200,3,FALSE)/E150%)),\"Not Tested\")","v":88.095238095238088},{"$f":"IFERROR(IF(F150=\"N<10\",\"N<10\",VLOOKUP(VALUE($A150),'2012-13 BL Civics'!$A$14:$AG$500,5,FALSE)*100),\"Not Tested\")","v":31},{"$f":"IFERROR(IF(G150=\"N<10\",\"N<10\",VLOOKUP(VALUE($A150),'2013-14 BL Civics'!$A$14:$AG$500,5,FALSE)*100),\"Not Tested\")","v":36},{"$f":"IFERROR(I150-H150,\"\")","v":5},{"$f":"IFERROR(IF(H150=\"N<10\",\"N<10\",VLOOKUP(VALUE($A150),'2012-13 BL Civics'!$A$14:$AG$500,11,FALSE)*100),\"Not Tested\")","v":39},{"$f":"IFERROR(IF(I150=\"N<10\",\"N<10\",VLOOKUP(VALUE($A150),'2013-14 BL Civics'!$A$14:$AG$500,11,FALSE)*100),\"Not Tested\")","v":36},{"$f":"IFERROR(L150-K150,\"\")","v":-3},{"$f":"IFERROR(IF(K150=\"N<10\",\"N<10\",VLOOKUP(VALUE($A150),'2012-13 BL Civics'!$A$14:$AG$500,17,FALSE)*100),\"Not Tested\")","v":26},{"$f":"IFERROR(IF(L150=\"N<10\",\"N<10\",VLOOKUP(VALUE($A150),'2013-14 BL Civics'!$A$14:$AG$500,17,FALSE)*100),\"Not Tested\")","v":31},{"$f":"IFERROR(O150-N150,\"\")","v":5},{"$f":"IFERROR(IF(J150=\"N<10\",\"N<10\",VLOOKUP(VALUE($A150),'2012-13 BL Civics'!$A$14:$AG$500,23,FALSE)*100),\"Not Tested\")","v":28.000000000000004},{"$f":"IFERROR(IF(K150=\"N<10\",\"N<10\",VLOOKUP(VALUE($A150),'2013-14 BL Civics'!$A$14:$AG$500,23,FALSE)*100),\"Not Tested\")","v":35},6.9999999999999964,{"$f":"IFERROR(IF(N150=\"N<10\",\"N<10\",VLOOKUP(VALUE($A150),'2012-13 BL Civics'!$A$14:$AG$500,29,FALSE)*100),\"Not Tested\")","v":36},{"$f":"IFERROR(IF(O150=\"N<10\",\"N<10\",VLOOKUP(VALUE($A150),'2013-14 BL Civics'!$A$14:$AG$500,29,FALSE)*100),\"Not Tested\")","v":44},{"$f":"IFERROR(U150-T150,\"\")","v":8}]
["7631",null,{"$f":"VLOOKUP(TEXT(A151,\"0000\"),SchList!$A$2:$C$483,2,FALSE)","v":"MIAMI MACARTHUR SOUTH         "},{"$f":"IFERROR(VLOOKUP(TEXT($A151,\"0000\"),'2012 BL Civics Enrollment'!$A$3:$C$500,3,FALSE),0)","v":15},{"$f":"IFERROR(VLOOKUP(TEXT($A151,\"0000\"),'2013 BL Civics Enrollment'!$A$3:$C$500,3,FALSE),\"\")","v":10},{"$f":"IFERROR(IF(VLOOKUP(VALUE(A151),'2012-13 BL Civics'!$A$14:$C$200,3,FALSE)<10,\"N<10\",IF(VLOOKUP(VALUE(A151),'2012-13 BL Civics'!$A$14:$C$200,3,FALSE)>D151,100,VLOOKUP(VALUE(A151),'2012-13 BL Civics'!$A$14:$C$200,3,FALSE)/D151%)),\"Not Tested\")","v":73.333333333333343},{"$f":"IFERROR(IF(VLOOKUP(VALUE(A151),'2013-14 BL Civics'!$A$14:$C$200,3,FALSE)<10,\"N<10\",IF(VLOOKUP(VALUE(A151),'2013-14 BL Civics'!$A$14:$C$200,3,FALSE)>E151,100,VLOOKUP(VALUE(A151),'2013-14 BL Civics'!$A$14:$C$200,3,FALSE)/E151%)),\"Not Tested\")","v":"N<10"},{"$f":"IFERROR(IF(F151=\"N<10\",\"N<10\",VLOOKUP(VALUE($A151),'2012-13 BL Civics'!$A$14:$AG$500,5,FALSE)*100),\"Not Tested\")","v":27},{"$f":"IFERROR(IF(G151=\"N<10\",\"N<10\",VLOOKUP(VALUE($A151),'2013-14 BL Civics'!$A$14:$AG$500,5,FALSE)*100),\"Not Tested\")","v":"N<10"},"",{"$f":"IFERROR(IF(H151=\"N<10\",\"N<10\",VLOOKUP(VALUE($A151),'2012-13 BL Civics'!$A$14:$AG$500,11,FALSE)*100),\"Not Tested\")","v":28.999999999999996},{"$f":"IFERROR(IF(I151=\"N<10\",\"N<10\",VLOOKUP(VALUE($A151),'2013-14 BL Civics'!$A$14:$AG$500,11,FALSE)*100),\"Not Tested\")","v":"N<10"},"",{"$f":"IFERROR(IF(K151=\"N<10\",\"N<10\",VLOOKUP(VALUE($A151),'2012-13 BL Civics'!$A$14:$AG$500,17,FALSE)*100),\"Not Tested\")","v":20},{"$f":"IFERROR(IF(L151=\"N<10\",\"N<10\",VLOOKUP(VALUE($A151),'2013-14 BL Civics'!$A$14:$AG$500,17,FALSE)*100),\"Not Tested\")","v":"N<10"},"",{"$f":"IFERROR(IF(J151=\"N<10\",\"N<10\",VLOOKUP(VALUE($A151),'2012-13 BL Civics'!$A$14:$AG$500,23,FALSE)*100),\"Not Tested\")","v":30},{"$f":"IFERROR(IF(K151=\"N<10\",\"N<10\",VLOOKUP(VALUE($A151),'2013-14 BL Civics'!$A$14:$AG$500,23,FALSE)*100),\"Not Tested\")","v":18},-12,{"$f":"IFERROR(IF(N151=\"N<10\",\"N<10\",VLOOKUP(VALUE($A151),'2012-13 BL Civics'!$A$14:$AG$500,29,FALSE)*100),\"Not Tested\")","v":32},{"$f":"IFERROR(IF(O151=\"N<10\",\"N<10\",VLOOKUP(VALUE($A151),'2013-14 BL Civics'!$A$14:$AG$500,29,FALSE)*100),\"Not Tested\")","v":"N<10"},""]
["8014",null,{"$f":"VLOOKUP(TEXT(A152,\"0000\"),SchList!$A$2:$C$483,2,FALSE)","v":"ALTERNATIVE OUTREACH-EXT. YR  "},{"$f":"IFERROR(VLOOKUP(TEXT($A152,\"0000\"),'2012 BL Civics Enrollment'!$A$3:$C$500,3,FALSE),0)","v":12},{"$f":"IFERROR(VLOOKUP(TEXT($A152,\"0000\"),'2013 BL Civics Enrollment'!$A$3:$C$500,3,FALSE),\"\")","v":15},{"$f":"IFERROR(IF(VLOOKUP(VALUE(A152),'2012-13 BL Civics'!$A$14:$C$200,3,FALSE)<10,\"N<10\",IF(VLOOKUP(VALUE(A152),'2012-13 BL Civics'!$A$14:$C$200,3,FALSE)>D152,100,VLOOKUP(VALUE(A152),'2012-13 BL Civics'!$A$14:$C$200,3,FALSE)/D152%)),\"Not Tested\")","v":"N<10"},{"$f":"IFERROR(IF(VLOOKUP(VALUE(A152),'2013-14 BL Civics'!$A$14:$C$200,3,FALSE)<10,\"N<10\",IF(VLOOKUP(VALUE(A152),'2013-14 BL Civics'!$A$14:$C$200,3,FALSE)>E152,100,VLOOKUP(VALUE(A152),'2013-14 BL Civics'!$A$14:$C$200,3,FALSE)/E152%)),\"Not Tested\")","v":"N<10"},{"$f":"IFERROR(IF(F152=\"N<10\",\"N<10\",VLOOKUP(VALUE($A152),'2012-13 BL Civics'!$A$14:$AG$500,5,FALSE)*100),\"Not Tested\")","v":"N<10"},{"$f":"IFERROR(IF(G152=\"N<10\",\"N<10\",VLOOKUP(VALUE($A152),'2013-14 BL Civics'!$A$14:$AG$500,5,FALSE)*100),\"Not Tested\")","v":"N<10"},"",{"$f":"IFERROR(IF(H152=\"N<10\",\"N<10\",VLOOKUP(VALUE($A152),'2012-13 BL Civics'!$A$14:$AG$500,11,FALSE)*100),\"Not Tested\")","v":"N<10"},{"$f":"IFERROR(IF(I152=\"N<10\",\"N<10\",VLOOKUP(VALUE($A152),'2013-14 BL Civics'!$A$14:$AG$500,11,FALSE)*100),\"Not Tested\")","v":"N<10"},"",{"$f":"IFERROR(IF(K152=\"N<10\",\"N<10\",VLOOKUP(VALUE($A152),'2012-13 BL Civics'!$A$14:$AG$500,17,FALSE)*100),\"Not Tested\")","v":"N<10"},{"$f":"IFERROR(IF(L152=\"N<10\",\"N<10\",VLOOKUP(VALUE($A152),'2013-14 BL Civics'!$A$14:$AG$500,17,FALSE)*100),\"Not Tested\")","v":"N<10"},"",{"$f":"IFERROR(IF(J152=\"N<10\",\"N<10\",VLOOKUP(VALUE($A152),'2012-13 BL Civics'!$A$14:$AG$500,23,FALSE)*100),\"Not Tested\")","v":20},{"$f":"IFERROR(IF(K152=\"N<10\",\"N<10\",VLOOKUP(VALUE($A152),'2013-14 BL Civics'!$A$14:$AG$500,23,FALSE)*100),\"Not Tested\")","v":"N<10"},"",{"$f":"IFERROR(IF(N152=\"N<10\",\"N<10\",VLOOKUP(VALUE($A152),'2012-13 BL Civics'!$A$14:$AG$500,29,FALSE)*100),\"Not Tested\")","v":"N<10"},{"$f":"IFERROR(IF(O152=\"N<10\",\"N<10\",VLOOKUP(VALUE($A152),'2013-14 BL Civics'!$A$14:$AG$500,29,FALSE)*100),\"Not Tested\")","v":"N<10"},""]
["8017",null,{"$f":"VLOOKUP(TEXT(A153,\"0000\"),SchList!$A$2:$C$483,2,FALSE)","v":"ALTERNATIVE OUTREACH PROGRAM  "},{"$f":"IFERROR(VLOOKUP(TEXT($A153,\"0000\"),'2012 BL Civics Enrollment'!$A$3:$C$500,3,FALSE),0)","v":31},{"$f":"IFERROR(VLOOKUP(TEXT($A153,\"0000\"),'2013 BL Civics Enrollment'!$A$3:$C$500,3,FALSE),\"\")","v":33},{"$f":"IFERROR(IF(VLOOKUP(VALUE(A153),'2012-13 BL Civics'!$A$14:$C$200,3,FALSE)<10,\"N<10\",IF(VLOOKUP(VALUE(A153),'2012-13 BL Civics'!$A$14:$C$200,3,FALSE)>D153,100,VLOOKUP(VALUE(A153),'2012-13 BL Civics'!$A$14:$C$200,3,FALSE)/D153%)),\"Not Tested\")","v":67.741935483870975},{"$f":"IFERROR(IF(VLOOKUP(VALUE(A153),'2013-14 BL Civics'!$A$14:$C$200,3,FALSE)<10,\"N<10\",IF(VLOOKUP(VALUE(A153),'2013-14 BL Civics'!$A$14:$C$200,3,FALSE)>E153,100,VLOOKUP(VALUE(A153),'2013-14 BL Civics'!$A$14:$C$200,3,FALSE)/E153%)),\"Not Tested\")","v":51.515151515151516},{"$f":"IFERROR(IF(F153=\"N<10\",\"N<10\",VLOOKUP(VALUE($A153),'2012-13 BL Civics'!$A$14:$AG$500,5,FALSE)*100),\"Not Tested\")","v":28.999999999999996},{"$f":"IFERROR(IF(G153=\"N<10\",\"N<10\",VLOOKUP(VALUE($A153),'2013-14 BL Civics'!$A$14:$AG$500,5,FALSE)*100),\"Not Tested\")","v":25},-3.9999999999999964,{"$f":"IFERROR(IF(H153=\"N<10\",\"N<10\",VLOOKUP(VALUE($A153),'2012-13 BL Civics'!$A$14:$AG$500,11,FALSE)*100),\"Not Tested\")","v":32},{"$f":"IFERROR(IF(I153=\"N<10\",\"N<10\",VLOOKUP(VALUE($A153),'2013-14 BL Civics'!$A$14:$AG$500,11,FALSE)*100),\"Not Tested\")","v":22},-10,{"$f":"IFERROR(IF(K153=\"N<10\",\"N<10\",VLOOKUP(VALUE($A153),'2012-13 BL Civics'!$A$14:$AG$500,17,FALSE)*100),\"Not Tested\")","v":26},{"$f":"IFERROR(IF(L153=\"N<10\",\"N<10\",VLOOKUP(VALUE($A153),'2013-14 BL Civics'!$A$14:$AG$500,17,FALSE)*100),\"Not Tested\")","v":23},-3,{"$f":"IFERROR(IF(J153=\"N<10\",\"N<10\",VLOOKUP(VALUE($A153),'2012-13 BL Civics'!$A$14:$AG$500,23,FALSE)*100),\"Not Tested\")","v":31},{"$f":"IFERROR(IF(K153=\"N<10\",\"N<10\",VLOOKUP(VALUE($A153),'2013-14 BL Civics'!$A$14:$AG$500,23,FALSE)*100),\"Not Tested\")","v":25},-6,{"$f":"IFERROR(IF(N153=\"N<10\",\"N<10\",VLOOKUP(VALUE($A153),'2012-13 BL Civics'!$A$14:$AG$500,29,FALSE)*100),\"Not Tested\")","v":30},{"$f":"IFERROR(IF(O153=\"N<10\",\"N<10\",VLOOKUP(VALUE($A153),'2013-14 BL Civics'!$A$14:$AG$500,29,FALSE)*100),\"Not Tested\")","v":32},2]
["8101",null,{"$f":"VLOOKUP(TEXT(A154,\"0000\"),SchList!$A$2:$C$483,2,FALSE)","v":"JAN MANN OPPORTUNITY SCHOOL   "},{"$f":"IFERROR(VLOOKUP(TEXT($A154,\"0000\"),'2012 BL Civics Enrollment'!$A$3:$C$500,3,FALSE),0)","v":21},{"$f":"IFERROR(VLOOKUP(TEXT($A154,\"0000\"),'2013 BL Civics Enrollment'!$A$3:$C$500,3,FALSE),\"\")","v":9},{"$f":"IFERROR(IF(VLOOKUP(VALUE(A154),'2012-13 BL Civics'!$A$14:$C$200,3,FALSE)<10,\"N<10\",IF(VLOOKUP(VALUE(A154),'2012-13 BL Civics'!$A$14:$C$200,3,FALSE)>D154,100,VLOOKUP(VALUE(A154),'2012-13 BL Civics'!$A$14:$C$200,3,FALSE)/D154%)),\"Not Tested\")","v":90.476190476190482},{"$f":"IFERROR(IF(VLOOKUP(VALUE(A154),'2013-14 BL Civics'!$A$14:$C$200,3,FALSE)<10,\"N<10\",IF(VLOOKUP(VALUE(A154),'2013-14 BL Civics'!$A$14:$C$200,3,FALSE)>E154,100,VLOOKUP(VALUE(A154),'2013-14 BL Civics'!$A$14:$C$200,3,FALSE)/E154%)),\"Not Tested\")","v":"N<10"},{"$f":"IFERROR(IF(F154=\"N<10\",\"N<10\",VLOOKUP(VALUE($A154),'2012-13 BL Civics'!$A$14:$AG$500,5,FALSE)*100),\"Not Tested\")","v":26},{"$f":"IFERROR(IF(G154=\"N<10\",\"N<10\",VLOOKUP(VALUE($A154),'2013-14 BL Civics'!$A$14:$AG$500,5,FALSE)*100),\"Not Tested\")","v":"N<10"},"",{"$f":"IFERROR(IF(H154=\"N<10\",\"N<10\",VLOOKUP(VALUE($A154),'2012-13 BL Civics'!$A$14:$AG$500,11,FALSE)*100),\"Not Tested\")","v":30},{"$f":"IFERROR(IF(I154=\"N<10\",\"N<10\",VLOOKUP(VALUE($A154),'2013-14 BL Civics'!$A$14:$AG$500,11,FALSE)*100),\"Not Tested\")","v":"N<10"},"",{"$f":"IFERROR(IF(K154=\"N<10\",\"N<10\",VLOOKUP(VALUE($A154),'2012-13 BL Civics'!$A$14:$AG$500,17,FALSE)*100),\"Not Tested\")","v":25},{"$f":"IFERROR(IF(L154=\"N<10\",\"N<10\",VLOOKUP(VALUE($A154),'2013-14 BL Civics'!$A$14:$AG$500,17,FALSE)*100),\"Not Tested\")","v":"N<10"},"",{"$f":"IFERROR(IF(J154=\"N<10\",\"N<10\",VLOOKUP(VALUE($A154),'2012-13 BL Civics'!$A$14:$AG$500,23,FALSE)*100),\"Not Tested\")","v":24},{"$f":"IFERROR(IF(K154=\"N<10\",\"N<10\",VLOOKUP(VALUE($A154),'2013-14 BL Civics'!$A$14:$AG$500,23,FALSE)*100),\"Not Tested\")","v":22},-2,{"$f":"IFERROR(IF(N154=\"N<10\",\"N<10\",VLOOKUP(VALUE($A154),'2012-13 BL Civics'!$A$14:$AG$500,29,FALSE)*100),\"Not Tested\")","v":25},{"$f":"IFERROR(IF(O154=\"N<10\",\"N<10\",VLOOKUP(VALUE($A154),'2013-14 BL Civics'!$A$14:$AG$500,29,FALSE)*100),\"Not Tested\")","v":"N<10"},""]
["8121",null,{"$f":"VLOOKUP(TEXT(A155,\"0000\"),SchList!$A$2:$C$483,2,FALSE)","v":"COPE CENTER NORTH             "},{"$f":"IFERROR(VLOOKUP(TEXT($A155,\"0000\"),'2012 BL Civics Enrollment'!$A$3:$C$500,3,FALSE),0)","v":4},{"$f":"IFERROR(VLOOKUP(TEXT($A155,\"0000\"),'2013 BL Civics Enrollment'!$A$3:$C$500,3,FALSE),\"\")","v":2},{"$f":"IFERROR(IF(VLOOKUP(VALUE(A155),'2012-13 BL Civics'!$A$14:$C$200,3,FALSE)<10,\"N<10\",IF(VLOOKUP(VALUE(A155),'2012-13 BL Civics'!$A$14:$C$200,3,FALSE)>D155,100,VLOOKUP(VALUE(A155),'2012-13 BL Civics'!$A$14:$C$200,3,FALSE)/D155%)),\"Not Tested\")","v":"N<10"},{"$f":"IFERROR(IF(VLOOKUP(VALUE(A155),'2013-14 BL Civics'!$A$14:$C$200,3,FALSE)<10,\"N<10\",IF(VLOOKUP(VALUE(A155),'2013-14 BL Civics'!$A$14:$C$200,3,FALSE)>E155,100,VLOOKUP(VALUE(A155),'2013-14 BL Civics'!$A$14:$C$200,3,FALSE)/E155%)),\"Not Tested\")","v":"N<10"},{"$f":"IFERROR(IF(F155=\"N<10\",\"N<10\",VLOOKUP(VALUE($A155),'2012-13 BL Civics'!$A$14:$AG$500,5,FALSE)*100),\"Not Tested\")","v":"N<10"},{"$f":"IFERROR(IF(G155=\"N<10\",\"N<10\",VLOOKUP(VALUE($A155),'2013-14 BL Civics'!$A$14:$AG$500,5,FALSE)*100),\"Not Tested\")","v":"N<10"},"",{"$f":"IFERROR(IF(H155=\"N<10\",\"N<10\",VLOOKUP(VALUE($A155),'2012-13 BL Civics'!$A$14:$AG$500,11,FALSE)*100),\"Not Tested\")","v":"N<10"},{"$f":"IFERROR(IF(I155=\"N<10\",\"N<10\",VLOOKUP(VALUE($A155),'2013-14 BL Civics'!$A$14:$AG$500,11,FALSE)*100),\"Not Tested\")","v":"N<10"},"",{"$f":"IFERROR(IF(K155=\"N<10\",\"N<10\",VLOOKUP(VALUE($A155),'2012-13 BL Civics'!$A$14:$AG$500,17,FALSE)*100),\"Not Tested\")","v":"N<10"},{"$f":"IFERROR(IF(L155=\"N<10\",\"N<10\",VLOOKUP(VALUE($A155),'2013-14 BL Civics'!$A$14:$AG$500,17,FALSE)*100),\"Not Tested\")","v":"N<10"},"",{"$f":"IFERROR(IF(J155=\"N<10\",\"N<10\",VLOOKUP(VALUE($A155),'2012-13 BL Civics'!$A$14:$AG$500,23,FALSE)*100),\"Not Tested\")","v":15},{"$f":"IFERROR(IF(K155=\"N<10\",\"N<10\",VLOOKUP(VALUE($A155),'2013-14 BL Civics'!$A$14:$AG$500,23,FALSE)*100),\"Not Tested\")","v":"N<10"},"",{"$f":"IFERROR(IF(N155=\"N<10\",\"N<10\",VLOOKUP(VALUE($A155),'2012-13 BL Civics'!$A$14:$AG$500,29,FALSE)*100),\"Not Tested\")","v":"N<10"},{"$f":"IFERROR(IF(O155=\"N<10\",\"N<10\",VLOOKUP(VALUE($A155),'2013-14 BL Civics'!$A$14:$AG$500,29,FALSE)*100),\"Not Tested\")","v":"N<10"},""]
["8131",null,{"$f":"VLOOKUP(TEXT(A156,\"0000\"),SchList!$A$2:$C$483,2,FALSE)","v":"DOROTHY M WALLACE COPE CENTER "},{"$f":"IFERROR(VLOOKUP(TEXT($A156,\"0000\"),'2012 BL Civics Enrollment'!$A$3:$C$500,3,FALSE),0)","v":1},{"$f":"IFERROR(VLOOKUP(TEXT($A156,\"0000\"),'2013 BL Civics Enrollment'!$A$3:$C$500,3,FALSE),\"\")","v":2},{"$f":"IFERROR(IF(VLOOKUP(VALUE(A156),'2012-13 BL Civics'!$A$14:$C$200,3,FALSE)<10,\"N<10\",IF(VLOOKUP(VALUE(A156),'2012-13 BL Civics'!$A$14:$C$200,3,FALSE)>D156,100,VLOOKUP(VALUE(A156),'2012-13 BL Civics'!$A$14:$C$200,3,FALSE)/D156%)),\"Not Tested\")","v":"Not Tested"},{"$f":"IFERROR(IF(VLOOKUP(VALUE(A156),'2013-14 BL Civics'!$A$14:$C$200,3,FALSE)<10,\"N<10\",IF(VLOOKUP(VALUE(A156),'2013-14 BL Civics'!$A$14:$C$200,3,FALSE)>E156,100,VLOOKUP(VALUE(A156),'2013-14 BL Civics'!$A$14:$C$200,3,FALSE)/E156%)),\"Not Tested\")","v":"N<10"},{"$f":"IFERROR(IF(F156=\"N<10\",\"N<10\",VLOOKUP(VALUE($A156),'2012-13 BL Civics'!$A$14:$AG$500,5,FALSE)*100),\"Not Tested\")","v":"Not Tested"},{"$f":"IFERROR(IF(G156=\"N<10\",\"N<10\",VLOOKUP(VALUE($A156),'2013-14 BL Civics'!$A$14:$AG$500,5,FALSE)*100),\"Not Tested\")","v":"N<10"},"",{"$f":"IFERROR(IF(H156=\"N<10\",\"N<10\",VLOOKUP(VALUE($A156),'2012-13 BL Civics'!$A$14:$AG$500,11,FALSE)*100),\"Not Tested\")","v":"Not Tested"},{"$f":"IFERROR(IF(I156=\"N<10\",\"N<10\",VLOOKUP(VALUE($A156),'2013-14 BL Civics'!$A$14:$AG$500,11,FALSE)*100),\"Not Tested\")","v":"N<10"},"",{"$f":"IFERROR(IF(K156=\"N<10\",\"N<10\",VLOOKUP(VALUE($A156),'2012-13 BL Civics'!$A$14:$AG$500,17,FALSE)*100),\"Not Tested\")","v":"Not Tested"},{"$f":"IFERROR(IF(L156=\"N<10\",\"N<10\",VLOOKUP(VALUE($A156),'2013-14 BL Civics'!$A$14:$AG$500,17,FALSE)*100),\"Not Tested\")","v":"N<10"},"",{"$f":"IFERROR(IF(J156=\"N<10\",\"N<10\",VLOOKUP(VALUE($A156),'2012-13 BL Civics'!$A$14:$AG$500,23,FALSE)*100),\"Not Tested\")","v":"Not Tested"},{"$f":"IFERROR(IF(K156=\"N<10\",\"N<10\",VLOOKUP(VALUE($A156),'2013-14 BL Civics'!$A$14:$AG$500,23,FALSE)*100),\"Not Tested\")","v":18},"",{"$f":"IFERROR(IF(N156=\"N<10\",\"N<10\",VLOOKUP(VALUE($A156),'2012-13 BL Civics'!$A$14:$AG$500,29,FALSE)*100),\"Not Tested\")","v":"Not Tested"},{"$f":"IFERROR(IF(O156=\"N<10\",\"N<10\",VLOOKUP(VALUE($A156),'2013-14 BL Civics'!$A$14:$AG$500,29,FALSE)*100),\"Not Tested\")","v":"N<10"},""]
["8141",null,{"$f":"VLOOKUP(TEXT(A157,\"0000\"),SchList!$A$2:$C$483,2,FALSE)","v":"JUVENILE JUSTICE CENTER       "},{"$f":"IFERROR(VLOOKUP(TEXT($A157,\"0000\"),'2012 BL Civics Enrollment'!$A$3:$C$500,3,FALSE),0)","v":10},{"$f":"IFERROR(VLOOKUP(TEXT($A157,\"0000\"),'2013 BL Civics Enrollment'!$A$3:$C$500,3,FALSE),\"\")","v":4},{"$f":"IFERROR(IF(VLOOKUP(VALUE(A157),'2012-13 BL Civics'!$A$14:$C$200,3,FALSE)<10,\"N<10\",IF(VLOOKUP(VALUE(A157),'2012-13 BL Civics'!$A$14:$C$200,3,FALSE)>D157,100,VLOOKUP(VALUE(A157),'2012-13 BL Civics'!$A$14:$C$200,3,FALSE)/D157%)),\"Not Tested\")","v":"N<10"},{"$f":"IFERROR(IF(VLOOKUP(VALUE(A157),'2013-14 BL Civics'!$A$14:$C$200,3,FALSE)<10,\"N<10\",IF(VLOOKUP(VALUE(A157),'2013-14 BL Civics'!$A$14:$C$200,3,FALSE)>E157,100,VLOOKUP(VALUE(A157),'2013-14 BL Civics'!$A$14:$C$200,3,FALSE)/E157%)),\"Not Tested\")","v":"Not Tested"},{"$f":"IFERROR(IF(F157=\"N<10\",\"N<10\",VLOOKUP(VALUE($A157),'2012-13 BL Civics'!$A$14:$AG$500,5,FALSE)*100),\"Not Tested\")","v":"N<10"},{"$f":"IFERROR(IF(G157=\"N<10\",\"N<10\",VLOOKUP(VALUE($A157),'2013-14 BL Civics'!$A$14:$AG$500,5,FALSE)*100),\"Not Tested\")","v":"Not Tested"},"",{"$f":"IFERROR(IF(H157=\"N<10\",\"N<10\",VLOOKUP(VALUE($A157),'2012-13 BL Civics'!$A$14:$AG$500,11,FALSE)*100),\"Not Tested\")","v":"N<10"},{"$f":"IFERROR(IF(I157=\"N<10\",\"N<10\",VLOOKUP(VALUE($A157),'2013-14 BL Civics'!$A$14:$AG$500,11,FALSE)*100),\"Not Tested\")","v":"Not Tested"},"",{"$f":"IFERROR(IF(K157=\"N<10\",\"N<10\",VLOOKUP(VALUE($A157),'2012-13 BL Civics'!$A$14:$AG$500,17,FALSE)*100),\"Not Tested\")","v":"N<10"},{"$f":"IFERROR(IF(L157=\"N<10\",\"N<10\",VLOOKUP(VALUE($A157),'2013-14 BL Civics'!$A$14:$AG$500,17,FALSE)*100),\"Not Tested\")","v":"Not Tested"},"",{"$f":"IFERROR(IF(J157=\"N<10\",\"N<10\",VLOOKUP(VALUE($A157),'2012-13 BL Civics'!$A$14:$AG$500,23,FALSE)*100),\"Not Tested\")","v":16},{"$f":"IFERROR(IF(K157=\"N<10\",\"N<10\",VLOOKUP(VALUE($A157),'2013-14 BL Civics'!$A$14:$AG$500,23,FALSE)*100),\"Not Tested\")","v":"N<10"},"",{"$f":"IFERROR(IF(N157=\"N<10\",\"N<10\",VLOOKUP(VALUE($A157),'2012-13 BL Civics'!$A$14:$AG$500,29,FALSE)*100),\"Not Tested\")","v":"N<10"},{"$f":"IFERROR(IF(O157=\"N<10\",\"N<10\",VLOOKUP(VALUE($A157),'2013-14 BL Civics'!$A$14:$AG$500,29,FALSE)*100),\"Not Tested\")","v":"Not Tested"},""]
["8151",null,{"$f":"VLOOKUP(TEXT(A158,\"0000\"),SchList!$A$2:$C$483,2,FALSE)","v":"ROBERT RENICK EDUCATION CTR   "},{"$f":"IFERROR(VLOOKUP(TEXT($A158,\"0000\"),'2012 BL Civics Enrollment'!$A$3:$C$500,3,FALSE),0)","v":10},{"$f":"IFERROR(VLOOKUP(TEXT($A158,\"0000\"),'2013 BL Civics Enrollment'!$A$3:$C$500,3,FALSE),\"\")","v":7},{"$f":"IFERROR(IF(VLOOKUP(VALUE(A158),'2012-13 BL Civics'!$A$14:$C$200,3,FALSE)<10,\"N<10\",IF(VLOOKUP(VALUE(A158),'2012-13 BL Civics'!$A$14:$C$200,3,FALSE)>D158,100,VLOOKUP(VALUE(A158),'2012-13 BL Civics'!$A$14:$C$200,3,FALSE)/D158%)),\"Not Tested\")","v":"N<10"},{"$f":"IFERROR(IF(VLOOKUP(VALUE(A158),'2013-14 BL Civics'!$A$14:$C$200,3,FALSE)<10,\"N<10\",IF(VLOOKUP(VALUE(A158),'2013-14 BL Civics'!$A$14:$C$200,3,FALSE)>E158,100,VLOOKUP(VALUE(A158),'2013-14 BL Civics'!$A$14:$C$200,3,FALSE)/E158%)),\"Not Tested\")","v":"N<10"},{"$f":"IFERROR(IF(F158=\"N<10\",\"N<10\",VLOOKUP(VALUE($A158),'2012-13 BL Civics'!$A$14:$AG$500,5,FALSE)*100),\"Not Tested\")","v":"N<10"},{"$f":"IFERROR(IF(G158=\"N<10\",\"N<10\",VLOOKUP(VALUE($A158),'2013-14 BL Civics'!$A$14:$AG$500,5,FALSE)*100),\"Not Tested\")","v":"N<10"},"",{"$f":"IFERROR(IF(H158=\"N<10\",\"N<10\",VLOOKUP(VALUE($A158),'2012-13 BL Civics'!$A$14:$AG$500,11,FALSE)*100),\"Not Tested\")","v":"N<10"},{"$f":"IFERROR(IF(I158=\"N<10\",\"N<10\",VLOOKUP(VALUE($A158),'2013-14 BL Civics'!$A$14:$AG$500,11,FALSE)*100),\"Not Tested\")","v":"N<10"},"",{"$f":"IFERROR(IF(K158=\"N<10\",\"N<10\",VLOOKUP(VALUE($A158),'2012-13 BL Civics'!$A$14:$AG$500,17,FALSE)*100),\"Not Tested\")","v":"N<10"},{"$f":"IFERROR(IF(L158=\"N<10\",\"N<10\",VLOOKUP(VALUE($A158),'2013-14 BL Civics'!$A$14:$AG$500,17,FALSE)*100),\"Not Tested\")","v":"N<10"},"",{"$f":"IFERROR(IF(J158=\"N<10\",\"N<10\",VLOOKUP(VALUE($A158),'2012-13 BL Civics'!$A$14:$AG$500,23,FALSE)*100),\"Not Tested\")","v":42},{"$f":"IFERROR(IF(K158=\"N<10\",\"N<10\",VLOOKUP(VALUE($A158),'2013-14 BL Civics'!$A$14:$AG$500,23,FALSE)*100),\"Not Tested\")","v":"N<10"},"",{"$f":"IFERROR(IF(N158=\"N<10\",\"N<10\",VLOOKUP(VALUE($A158),'2012-13 BL Civics'!$A$14:$AG$500,29,FALSE)*100),\"Not Tested\")","v":"N<10"},{"$f":"IFERROR(IF(O158=\"N<10\",\"N<10\",VLOOKUP(VALUE($A158),'2013-14 BL Civics'!$A$14:$AG$500,29,FALSE)*100),\"Not Tested\")","v":"N<10"},""]
["8181",null,{"$f":"VLOOKUP(TEXT(A159,\"0000\"),SchList!$A$2:$C$483,2,FALSE)","v":"RUTH OWENS KRUSE' EDUC CENTER "},{"$f":"IFERROR(VLOOKUP(TEXT($A159,\"0000\"),'2012 BL Civics Enrollment'!$A$3:$C$500,3,FALSE),0)","v":8},{"$f":"IFERROR(VLOOKUP(TEXT($A159,\"0000\"),'2013 BL Civics Enrollment'!$A$3:$C$500,3,FALSE),\"\")","v":17},{"$f":"IFERROR(IF(VLOOKUP(VALUE(A159),'2012-13 BL Civics'!$A$14:$C$200,3,FALSE)<10,\"N<10\",IF(VLOOKUP(VALUE(A159),'2012-13 BL Civics'!$A$14:$C$200,3,FALSE)>D159,100,VLOOKUP(VALUE(A159),'2012-13 BL Civics'!$A$14:$C$200,3,FALSE)/D159%)),\"Not Tested\")","v":"N<10"},{"$f":"IFERROR(IF(VLOOKUP(VALUE(A159),'2013-14 BL Civics'!$A$14:$C$200,3,FALSE)<10,\"N<10\",IF(VLOOKUP(VALUE(A159),'2013-14 BL Civics'!$A$14:$C$200,3,FALSE)>E159,100,VLOOKUP(VALUE(A159),'2013-14 BL Civics'!$A$14:$C$200,3,FALSE)/E159%)),\"Not Tested\")","v":58.823529411764703},{"$f":"IFERROR(IF(F159=\"N<10\",\"N<10\",VLOOKUP(VALUE($A159),'2012-13 BL Civics'!$A$14:$AG$500,5,FALSE)*100),\"Not Tested\")","v":"N<10"},{"$f":"IFERROR(IF(G159=\"N<10\",\"N<10\",VLOOKUP(VALUE($A159),'2013-14 BL Civics'!$A$14:$AG$500,5,FALSE)*100),\"Not Tested\")","v":32},"",{"$f":"IFERROR(IF(H159=\"N<10\",\"N<10\",VLOOKUP(VALUE($A159),'2012-13 BL Civics'!$A$14:$AG$500,11,FALSE)*100),\"Not Tested\")","v":"N<10"},{"$f":"IFERROR(IF(I159=\"N<10\",\"N<10\",VLOOKUP(VALUE($A159),'2013-14 BL Civics'!$A$14:$AG$500,11,FALSE)*100),\"Not Tested\")","v":30},"",{"$f":"IFERROR(IF(K159=\"N<10\",\"N<10\",VLOOKUP(VALUE($A159),'2012-13 BL Civics'!$A$14:$AG$500,17,FALSE)*100),\"Not Tested\")","v":"N<10"},{"$f":"IFERROR(IF(L159=\"N<10\",\"N<10\",VLOOKUP(VALUE($A159),'2013-14 BL Civics'!$A$14:$AG$500,17,FALSE)*100),\"Not Tested\")","v":31},"",{"$f":"IFERROR(IF(J159=\"N<10\",\"N<10\",VLOOKUP(VALUE($A159),'2012-13 BL Civics'!$A$14:$AG$500,23,FALSE)*100),\"Not Tested\")","v":18},{"$f":"IFERROR(IF(K159=\"N<10\",\"N<10\",VLOOKUP(VALUE($A159),'2013-14 BL Civics'!$A$14:$AG$500,23,FALSE)*100),\"Not Tested\")","v":"N<10"},"",{"$f":"IFERROR(IF(N159=\"N<10\",\"N<10\",VLOOKUP(VALUE($A159),'2012-13 BL Civics'!$A$14:$AG$500,29,FALSE)*100),\"Not Tested\")","v":"N<10"},{"$f":"IFERROR(IF(O159=\"N<10\",\"N<10\",VLOOKUP(VALUE($A159),'2013-14 BL Civics'!$A$14:$AG$500,29,FALSE)*100),\"Not Tested\")","v":38},""]
["9732",null,{"$f":"VLOOKUP(TEXT(A160,\"0000\"),SchList!$A$2:$C$483,2,FALSE)","v":"MERRICK EDUCATIONAL CENTER    "},{"$f":"IFERROR(VLOOKUP(TEXT($A160,\"0000\"),'2012 BL Civics Enrollment'!$A$3:$C$500,3,FALSE),0)","v":11},{"$f":"IFERROR(VLOOKUP(TEXT($A160,\"0000\"),'2013 BL Civics Enrollment'!$A$3:$C$500,3,FALSE),\"\")","v":17},{"$f":"IFERROR(IF(VLOOKUP(VALUE(A160),'2012-13 BL Civics'!$A$14:$C$200,3,FALSE)<10,\"N<10\",IF(VLOOKUP(VALUE(A160),'2012-13 BL Civics'!$A$14:$C$200,3,FALSE)>D160,100,VLOOKUP(VALUE(A160),'2012-13 BL Civics'!$A$14:$C$200,3,FALSE)/D160%)),\"Not Tested\")","v":"N<10"},{"$f":"IFERROR(IF(VLOOKUP(VALUE(A160),'2013-14 BL Civics'!$A$14:$C$200,3,FALSE)<10,\"N<10\",IF(VLOOKUP(VALUE(A160),'2013-14 BL Civics'!$A$14:$C$200,3,FALSE)>E160,100,VLOOKUP(VALUE(A160),'2013-14 BL Civics'!$A$14:$C$200,3,FALSE)/E160%)),\"Not Tested\")","v":58.823529411764703},{"$f":"IFERROR(IF(F160=\"N<10\",\"N<10\",VLOOKUP(VALUE($A160),'2012-13 BL Civics'!$A$14:$AG$500,5,FALSE)*100),\"Not Tested\")","v":"N<10"},{"$f":"IFERROR(IF(G160=\"N<10\",\"N<10\",VLOOKUP(VALUE($A160),'2013-14 BL Civics'!$A$14:$AG$500,5,FALSE)*100),\"Not Tested\")","v":27},"",{"$f":"IFERROR(IF(H160=\"N<10\",\"N<10\",VLOOKUP(VALUE($A160),'2012-13 BL Civics'!$A$14:$AG$500,11,FALSE)*100),\"Not Tested\")","v":"N<10"},{"$f":"IFERROR(IF(I160=\"N<10\",\"N<10\",VLOOKUP(VALUE($A160),'2013-14 BL Civics'!$A$14:$AG$500,11,FALSE)*100),\"Not Tested\")","v":30},"",{"$f":"IFERROR(IF(K160=\"N<10\",\"N<10\",VLOOKUP(VALUE($A160),'2012-13 BL Civics'!$A$14:$AG$500,17,FALSE)*100),\"Not Tested\")","v":"N<10"},{"$f":"IFERROR(IF(L160=\"N<10\",\"N<10\",VLOOKUP(VALUE($A160),'2013-14 BL Civics'!$A$14:$AG$500,17,FALSE)*100),\"Not Tested\")","v":22},"",{"$f":"IFERROR(IF(J160=\"N<10\",\"N<10\",VLOOKUP(VALUE($A160),'2012-13 BL Civics'!$A$14:$AG$500,23,FALSE)*100),\"Not Tested\")","v":40},{"$f":"IFERROR(IF(K160=\"N<10\",\"N<10\",VLOOKUP(VALUE($A160),'2013-14 BL Civics'!$A$14:$AG$500,23,FALSE)*100),\"Not Tested\")","v":"N<10"},"",{"$f":"IFERROR(IF(N160=\"N<10\",\"N<10\",VLOOKUP(VALUE($A160),'2012-13 BL Civics'!$A$14:$AG$500,29,FALSE)*100),\"Not Tested\")","v":"N<10"},{"$f":"IFERROR(IF(O160=\"N<10\",\"N<10\",VLOOKUP(VALUE($A160),'2013-14 BL Civics'!$A$14:$AG$500,29,FALSE)*100),\"Not Tested\")","v":28.999999999999996},""]

{"sheet":"USH All Schools","index":1,"n_rows":94,"n_cols":19,"rows_kept":94,"cut":false,"hidden":true,"merged":[[0,10,0,12],[0,13,0,15],[0,16,0,18],[0,0,1,0],[0,1,1,1],[0,2,1,2],[0,3,0,4],[0,5,0,6],[0,7,0,9]]}
["Location","Region","School Name","U.S. History Course Enrollment",null,"% Tested",null,{"$f":"'RT Matrix'!C6","v":"Overall"},null,null,{"$f":"'RT Matrix'!D6","v":"Late Nineteenth and Early Twentieth Century, 1860-1910"},null,null,{"$f":"'RT Matrix'!E6","v":"Global Military, Political, & Econ. Challenges"},null,null,{"$f":"'RT Matrix'!F6","v":"The U.S. & Defense of the International Peace"}]
[null,null,null,"2012 Baseline","2013 Baseline","2012 Baseline","2013 Baseline","2012 Baseline","2013 Baseline","Change","2012 Baseline","2013 Baseline","Change","2012 Baseline","2013 Baseline","Change","2012 Baseline","2013 Baseline","Change"]
["9999",{"$f":"VLOOKUP(A3,'Sch-Region'!$A$2:$C$476,2,FALSE)","v":"9"},{"$f":"VLOOKUP(A3,'Sch-Region'!$A$2:$C$476,3,FALSE)","v":"District"},{"$f":"IFERROR(VLOOKUP($A3,'2012 BL USH Enrollment'!$A$3:$C$500,3,FALSE),0)","v":20752},{"$f":"IFERROR(VLOOKUP($A3,'2013 BL USH Enrollment'!$A$3:$C$500,3,FALSE),0)","v":20996},{"$f":"IFERROR(IF(VLOOKUP(VALUE(A3),'2012-13 BL USH'!$A$14:$C$200,3,FALSE)<10,\"N<10\",IF(VLOOKUP(VALUE(A3),'2012-13 BL USH'!$A$14:$C$200,3,FALSE)>D3,100,VLOOKUP(VALUE(A3),'2012-13 BL USH'!$A$14:$C$200,3,FALSE)/D3%)),\"Not Tested\")","v":91.711642251349261},{"$f":"IFERROR(IF(VLOOKUP(VALUE(A3),'2013-14 BL USH'!$A$14:$C$200,3,FALSE)<10,\"N<10\",IF(VLOOKUP(VALUE(A3),'2013-14 BL USH'!$A$14:$C$200,3,FALSE)>E3,100,VLOOKUP(VALUE(A3),'2013-14 BL USH'!$A$14:$C$200,3,FALSE)/E3%)),\"Not Tested\")","v":92.927224233187275},{"$f":"IFERROR(IF(F3=\"N<10\",\"N<10\",VLOOKUP(VALUE($A3),'2012-13 BL USH'!$A$14:$AG$500,5,FALSE)*100),\"Not Tested\")","v":31.143033299039217},{"$f":"IFERROR(IF(G3=\"N<10\",\"N<10\",VLOOKUP(VALUE($A3),'2012-13 BL USH'!$A$14:$AG$500,5,FALSE)*100),\"Not Tested\")","v":31.143033299039217},{"$f":"IFERROR(I3-H3,\"\")","v":0},{"$f":"IFERROR(IF(H3=\"N<10\",\"N<10\",VLOOKUP(VALUE($A3),'2012-13 BL USH'!$A$14:$AG$500,11,FALSE)*100),\"Not Tested\")","v":34.983010779864252},{"$f":"IFERROR(IF(J3=\"N<10\",\"N<10\",VLOOKUP(VALUE($A3),'2013-14 BL USH'!$A$14:$AA$500,11,FALSE)*100),\"Not Tested\")","v":32.758330607193074},{"$f":"IFERROR(L3-K3,\"\")","v":-2.224680172671178},{"$f":"IFERROR(IF(K3=\"N<10\",\"N<10\",VLOOKUP(VALUE($A3),'2012-13 BL USH'!$A$14:$AG$500,17,FALSE)*100),\"Not Tested\")","v":30.255110475706378},{"$f":"IFERROR(IF(J3=\"N<10\",\"N<10\",VLOOKUP(VALUE($A3),'2013-14 BL USH'!$A$14:$AA$500,17,FALSE)*100),\"Not Tested\")","v":32.359208231118494},{"$f":"IFERROR(O3-N3,\"\")","v":2.1040977554121163},{"$f":"IFERROR(IF(N3=\"N<10\",\"N<10\",VLOOKUP(VALUE($A3),'2012-13 BL USH'!$A$14:$AG$500,23,FALSE)*100),\"Not Tested\")","v":30.365917931153742},{"$f":"IFERROR(IF(P3=\"N<10\",\"N<10\",VLOOKUP(VALUE($A3),'2013-14 BL USH'!$A$14:$AA$500,23,FALSE)*100),\"Not Tested\")","v":30.701726487724518},{"$f":"IFERROR(R3-Q3,\"\")","v":0.33580855657077535}]
["8019","JAN MANN OPPORTUNITY SCHOOL",{"$f":"VLOOKUP(A4,SchList!$A$2:$C$483,2,FALSE)","v":"ACADEMY FOR COMMUNITY ED      "},{"$f":"IFERROR(VLOOKUP($A4,'2012 BL USH Enrollment'!$A$3:$C$500,3,FALSE),0)","v":27},{"$f":"IFERROR(VLOOKUP($A4,'2013 BL USH Enrollment'!$A$3:$C$500,3,FALSE),0)","v":25},{"$f":"IFERROR(IF(VLOOKUP(VALUE(A4),'2012-13 BL USH'!$A$14:$C$200,3,FALSE)<10,\"N<10\",IF(VLOOKUP(VALUE(A4),'2012-13 BL USH'!$A$14:$C$200,3,FALSE)>D4,100,VLOOKUP(VALUE(A4),'2012-13 BL USH'!$A$14:$C$200,3,FALSE)/D4%)),\"Not Tested\")","v":88.888888888888886},{"$f":"IFERROR(IF(VLOOKUP(VALUE(A4),'2013-14 BL USH'!$A$14:$C$200,3,FALSE)<10,\"N<10\",IF(VLOOKUP(VALUE(A4),'2013-14 BL USH'!$A$14:$C$200,3,FALSE)>E4,100,VLOOKUP(VALUE(A4),'2013-14 BL USH'!$A$14:$C$200,3,FALSE)/E4%)),\"Not Tested\")","v":88},{"$f":"IFERROR(IF(F4=\"N<10\",\"N<10\",VLOOKUP(VALUE($A4),'2012-13 BL USH'!$A$14:$AG$500,5,FALSE)*100),\"Not Tested\")","v":30},{"$f":"IFERROR(IF(G4=\"N<10\",\"N<10\",VLOOKUP(VALUE($A4),'2013-14 BL USH'!$A$14:$AG$500,5,FALSE)*100),\"Not Tested\")","v":27},-3,{"$f":"IFERROR(IF(H4=\"N<10\",\"N<10\",VLOOKUP(VALUE($A4),'2012-13 BL USH'!$A$14:$AG$500,11,FALSE)*100),\"Not Tested\")","v":34},{"$f":"IFERROR(IF(J4=\"N<10\",\"N<10\",VLOOKUP(VALUE($A4),'2013-14 BL USH'!$A$14:$AA$500,11,FALSE)*100),\"Not Tested\")","v":30},-4,{"$f":"IFERROR(IF(K4=\"N<10\",\"N<10\",VLOOKUP(VALUE($A4),'2012-13 BL USH'!$A$14:$AG$500,17,FALSE)*100),\"Not Tested\")","v":28.000000000000004},{"$f":"IFERROR(IF(J4=\"N<10\",\"N<10\",VLOOKUP(VALUE($A4),'2013-14 BL USH'!$A$14:$AA$500,17,FALSE)*100),\"Not Tested\")","v":26},-2.0000000000000036,{"$f":"IFERROR(IF(N4=\"N<10\",\"N<10\",VLOOKUP(VALUE($A4),'2012-13 BL USH'!$A$14:$AG$500,23,FALSE)*100),\"Not Tested\")","v":28.999999999999996},{"$f":"IFERROR(IF(P4=\"N<10\",\"N<10\",VLOOKUP(VALUE($A4),'2013-14 BL USH'!$A$14:$AA$500,23,FALSE)*100),\"Not Tested\")","v":26},-2.9999999999999964]
["7022","TERRA ENVIRONMENTAL RESEARCH",{"$f":"VLOOKUP(A5,SchList!$A$2:$C$483,2,FALSE)","v":"ACADEMY OF ARTS AND MINDS     "},{"$f":"IFERROR(VLOOKUP($A5,'2012 BL USH Enrollment'!$A$3:$C$500,3,FALSE),0)","v":89},{"$f":"IFERROR(VLOOKUP($A5,'2013 BL USH Enrollment'!$A$3:$C$500,3,FALSE),0)","v":96},{"$f":"IFERROR(IF(VLOOKUP(VALUE(A5),'2012-13 BL USH'!$A$14:$C$200,3,FALSE)<10,\"N<10\",IF(VLOOKUP(VALUE(A5),'2012-13 BL USH'!$A$14:$C$200,3,FALSE)>D5,100,VLOOKUP(VALUE(A5),'2012-13 BL USH'!$A$14:$C$200,3,FALSE)/D5%)),\"Not Tested\")","v":93.258426966292134},{"$f":"IFERROR(IF(VLOOKUP(VALUE(A5),'2013-14 BL USH'!$A$14:$C$200,3,FALSE)<10,\"N<10\",IF(VLOOKUP(VALUE(A5),'2013-14 BL USH'!$A$14:$C$200,3,FALSE)>E5,100,VLOOKUP(VALUE(A5),'2013-14 BL USH'!$A$14:$C$200,3,FALSE)/E5%)),\"Not Tested\")","v":98.958333333333343},{"$f":"IFERROR(IF(F5=\"N<10\",\"N<10\",VLOOKUP(VALUE($A5),'2012-13 BL USH'!$A$14:$AG$500,5,FALSE)*100),\"Not Tested\")","v":36},{"$f":"IFERROR(IF(G5=\"N<10\",\"N<10\",VLOOKUP(VALUE($A5),'2013-14 BL USH'!$A$14:$AG$500,5,FALSE)*100),\"Not Tested\")","v":34},-2,{"$f":"IFERROR(IF(H5=\"N<10\",\"N<10\",VLOOKUP(VALUE($A5),'2012-13 BL USH'!$A$14:$AG$500,11,FALSE)*100),\"Not Tested\")","v":43},{"$f":"IFERROR(IF(J5=\"N<10\",\"N<10\",VLOOKUP(VALUE($A5),'2013-14 BL USH'!$A$14:$AA$500,11,FALSE)*100),\"Not Tested\")","v":35},-8,{"$f":"IFERROR(IF(K5=\"N<10\",\"N<10\",VLOOKUP(VALUE($A5),'2012-13 BL USH'!$A$14:$AG$500,17,FALSE)*100),\"Not Tested\")","v":35},{"$f":"IFERROR(IF(J5=\"N<10\",\"N<10\",VLOOKUP(VALUE($A5),'2013-14 BL USH'!$A$14:$AA$500,17,FALSE)*100),\"Not Tested\")","v":35},0,{"$f":"IFERROR(IF(N5=\"N<10\",\"N<10\",VLOOKUP(VALUE($A5),'2012-13 BL USH'!$A$14:$AG$500,23,FALSE)*100),\"Not Tested\")","v":34},{"$f":"IFERROR(IF(P5=\"N<10\",\"N<10\",VLOOKUP(VALUE($A5),'2013-14 BL USH'!$A$14:$AA$500,23,FALSE)*100),\"Not Tested\")","v":33},-1]
["7048","WESTLAND HIALEAH SENIOR HIGH",{"$f":"VLOOKUP(A6,SchList!$A$2:$C$483,2,FALSE)","v":"ALONZO & TRACY MOURNING SH    "},{"$f":"IFERROR(VLOOKUP($A6,'2012 BL USH Enrollment'!$A$3:$C$500,3,FALSE),0)","v":413},{"$f":"IFERROR(VLOOKUP($A6,'2013 BL USH Enrollment'!$A$3:$C$500,3,FALSE),0)","v":420},{"$f":"IFERROR(IF(VLOOKUP(VALUE(A6),'2012-13 BL USH'!$A$14:$C$200,3,FALSE)<10,\"N<10\",IF(VLOOKUP(VALUE(A6),'2012-13 BL USH'!$A$14:$C$200,3,FALSE)>D6,100,VLOOKUP(VALUE(A6),'2012-13 BL USH'!$A$14:$C$200,3,FALSE)/D6%)),\"Not Tested\")","v":89.104116222760297},{"$f":"IFERROR(IF(VLOOKUP(VALUE(A6),'2013-14 BL USH'!$A$14:$C$200,3,FALSE)<10,\"N<10\",IF(VLOOKUP(VALUE(A6),'2013-14 BL USH'!$A$14:$C$200,3,FALSE)>E6,100,VLOOKUP(VALUE(A6),'2013-14 BL USH'!$A$14:$C$200,3,FALSE)/E6%)),\"Not Tested\")","v":96.904761904761898},{"$f":"IFERROR(IF(F6=\"N<10\",\"N<10\",VLOOKUP(VALUE($A6),'2012-13 BL USH'!$A$14:$AG$500,5,FALSE)*100),\"Not Tested\")","v":33},{"$f":"IFERROR(IF(G6=\"N<10\",\"N<10\",VLOOKUP(VALUE($A6),'2013-14 BL USH'!$A$14:$AG$500,5,FALSE)*100),\"Not Tested\")","v":34},1,{"$f":"IFERROR(IF(H6=\"N<10\",\"N<10\",VLOOKUP(VALUE($A6),'2012-13 BL USH'!$A$14:$AG$500,11,FALSE)*100),\"Not Tested\")","v":37},{"$f":"IFERROR(IF(J6=\"N<10\",\"N<10\",VLOOKUP(VALUE($A6),'2013-14 BL USH'!$A$14:$AA$500,11,FALSE)*100),\"Not Tested\")","v":36},-1,{"$f":"IFERROR(IF(K6=\"N<10\",\"N<10\",VLOOKUP(VALUE($A6),'2012-13 BL USH'!$A$14:$AG$500,17,FALSE)*100),\"Not Tested\")","v":32},{"$f":"IFERROR(IF(J6=\"N<10\",\"N<10\",VLOOKUP(VALUE($A6),'2013-14 BL USH'!$A$14:$AA$500,17,FALSE)*100),\"Not Tested\")","v":35},3,{"$f":"IFERROR(IF(N6=\"N<10\",\"N<10\",VLOOKUP(VALUE($A6),'2012-13 BL USH'!$A$14:$AG$500,23,FALSE)*100),\"Not Tested\")","v":32},{"$f":"IFERROR(IF(P6=\"N<10\",\"N<10\",VLOOKUP(VALUE($A6),'2013-14 BL USH'!$A$14:$AA$500,23,FALSE)*100),\"Not Tested\")","v":32},0]
["8017","ACADEMY FOR COMMUNITY ED",{"$f":"VLOOKUP(A7,SchList!$A$2:$C$483,2,FALSE)","v":"ALTERNATIVE OUTREACH PROGRAM  "},{"$f":"IFERROR(VLOOKUP($A7,'2012 BL USH Enrollment'!$A$3:$C$500,3,FALSE),0)","v":48},{"$f":"IFERROR(VLOOKUP($A7,'2013 BL USH Enrollment'!$A$3:$C$500,3,FALSE),0)","v":79},{"$f":"IFERROR(IF(VLOOKUP(VALUE(A7),'2012-13 BL USH'!$A$14:$C$200,3,FALSE)<10,\"N<10\",IF(VLOOKUP(VALUE(A7),'2012-13 BL USH'!$A$14:$C$200,3,FALSE)>D7,100,VLOOKUP(VALUE(A7),'2012-13 BL USH'!$A$14:$C$200,3,FALSE)/D7%)),\"Not Tested\")","v":52.083333333333336},{"$f":"IFERROR(IF(VLOOKUP(VALUE(A7),'2013-14 BL USH'!$A$14:$C$200,3,FALSE)<10,\"N<10\",IF(VLOOKUP(VALUE(A7),'2013-14 BL USH'!$A$14:$C$200,3,FALSE)>E7,100,VLOOKUP(VALUE(A7),'2013-14 BL USH'!$A$14:$C$200,3,FALSE)/E7%)),\"Not Tested\")","v":51.898734177215189},{"$f":"IFERROR(IF(F7=\"N<10\",\"N<10\",VLOOKUP(VALUE($A7),'2012-13 BL USH'!$A$14:$AG$500,5,FALSE)*100),\"Not Tested\")","v":28.000000000000004},{"$f":"IFERROR(IF(G7=\"N<10\",\"N<10\",VLOOKUP(VALUE($A7),'2013-14 BL USH'!$A$14:$AG$500,5,FALSE)*100),\"Not Tested\")","v":26},-2.0000000000000036,{"$f":"IFERROR(IF(H7=\"N<10\",\"N<10\",VLOOKUP(VALUE($A7),'2012-13 BL USH'!$A$14:$AG$500,11,FALSE)*100),\"Not Tested\")","v":27},{"$f":"IFERROR(IF(J7=\"N<10\",\"N<10\",VLOOKUP(VALUE($A7),'2013-14 BL USH'!$A$14:$AA$500,11,FALSE)*100),\"Not Tested\")","v":25},-2,{"$f":"IFERROR(IF(K7=\"N<10\",\"N<10\",VLOOKUP(VALUE($A7),'2012-13 BL USH'!$A$14:$AG$500,17,FALSE)*100),\"Not Tested\")","v":31},{"$f":"IFERROR(IF(J7=\"N<10\",\"N<10\",VLOOKUP(VALUE($A7),'2013-14 BL USH'!$A$14:$AA$500,17,FALSE)*100),\"Not Tested\")","v":26},-5,{"$f":"IFERROR(IF(N7=\"N<10\",\"N<10\",VLOOKUP(VALUE($A7),'2012-13 BL USH'!$A$14:$AG$500,23,FALSE)*100),\"Not Tested\")","v":26},{"$f":"IFERROR(IF(P7=\"N<10\",\"N<10\",VLOOKUP(VALUE($A7),'2013-14 BL USH'!$A$14:$AA$500,23,FALSE)*100),\"Not Tested\")","v":26},0]
["8014","ALTERNATIVE OUTREACH PROGRAM",{"$f":"VLOOKUP(A8,SchList!$A$2:$C$483,2,FALSE)","v":"ALTERNATIVE OUTREACH-EXT. YR  "},{"$f":"IFERROR(VLOOKUP($A8,'2012 BL USH Enrollment'!$A$3:$C$500,3,FALSE),0)","v":59},{"$f":"IFERROR(VLOOKUP($A8,'2013 BL USH Enrollment'!$A$3:$C$500,3,FALSE),0)","v":47},{"$f":"IFERROR(IF(VLOOKUP(VALUE(A8),'2012-13 BL USH'!$A$14:$C$200,3,FALSE)<10,\"N<10\",IF(VLOOKUP(VALUE(A8),'2012-13 BL USH'!$A$14:$C$200,3,FALSE)>D8,100,VLOOKUP(VALUE(A8),'2012-13 BL USH'!$A$14:$C$200,3,FALSE)/D8%)),\"Not Tested\")","v":42.372881355932208},{"$f":"IFERROR(IF(VLOOKUP(VALUE(A8),'2013-14 BL USH'!$A$14:$C$200,3,FALSE)<10,\"N<10\",IF(VLOOKUP(VALUE(A8),'2013-14 BL USH'!$A$14:$C$200,3,FALSE)>E8,100,VLOOKUP(VALUE(A8),'2013-14 BL USH'!$A$14:$C$200,3,FALSE)/E8%)),\"Not Tested\")","v":42.553191489361701},{"$f":"IFERROR(IF(F8=\"N<10\",\"N<10\",VLOOKUP(VALUE($A8),'2012-13 BL USH'!$A$14:$AG$500,5,FALSE)*100),\"Not Tested\")","v":27},{"$f":"IFERROR(IF(G8=\"N<10\",\"N<10\",VLOOKUP(VALUE($A8),'2013-14 BL USH'!$A$14:$AG$500,5,FALSE)*100),\"Not Tested\")","v":25},-2,{"$f":"IFERROR(IF(H8=\"N<10\",\"N<10\",VLOOKUP(VALUE($A8),'2012-13 BL USH'!$A$14:$AG$500,11,FALSE)*100),\"Not Tested\")","v":30},{"$f":"IFERROR(IF(J8=\"N<10\",\"N<10\",VLOOKUP(VALUE($A8),'2013-14 BL USH'!$A$14:$AA$500,11,FALSE)*100),\"Not Tested\")","v":22},-8,{"$f":"IFERROR(IF(K8=\"N<10\",\"N<10\",VLOOKUP(VALUE($A8),'2012-13 BL USH'!$A$14:$AG$500,17,FALSE)*100),\"Not Tested\")","v":24},{"$f":"IFERROR(IF(J8=\"N<10\",\"N<10\",VLOOKUP(VALUE($A8),'2013-14 BL USH'!$A$14:$AA$500,17,FALSE)*100),\"Not Tested\")","v":27},3,{"$f":"IFERROR(IF(N8=\"N<10\",\"N<10\",VLOOKUP(VALUE($A8),'2012-13 BL USH'!$A$14:$AG$500,23,FALSE)*100),\"Not Tested\")","v":28.000000000000004},{"$f":"IFERROR(IF(P8=\"N<10\",\"N<10\",VLOOKUP(VALUE($A8),'2013-14 BL USH'!$A$14:$AA$500,23,FALSE)*100),\"Not Tested\")","v":25},-3.0000000000000036]
["7011","MATER PERFORMING ARTS ACADEMY",{"$f":"VLOOKUP(A9,SchList!$A$2:$C$483,2,FALSE)","v":"AMERICAN SENIOR               "},{"$f":"IFERROR(VLOOKUP($A9,'2012 BL USH Enrollment'!$A$3:$C$500,3,FALSE),0)","v":424},{"$f":"IFERROR(VLOOKUP($A9,'2013 BL USH Enrollment'!$A$3:$C$500,3,FALSE),0)","v":378},{"$f":"IFERROR(IF(VLOOKUP(VALUE(A9),'2012-13 BL USH'!$A$14:$C$200,3,FALSE)<10,\"N<10\",IF(VLOOKUP(VALUE(A9),'2012-13 BL USH'!$A$14:$C$200,3,FALSE)>D9,100,VLOOKUP(VALUE(A9),'2012-13 BL USH'!$A$14:$C$200,3,FALSE)/D9%)),\"Not Tested\")","v":94.811320754716974},{"$f":"IFERROR(IF(VLOOKUP(VALUE(A9),'2013-14 BL USH'!$A$14:$C$200,3,FALSE)<10,\"N<10\",IF(VLOOKUP(VALUE(A9),'2013-14 BL USH'!$A$14:$C$200,3,FALSE)>E9,100,VLOOKUP(VALUE(A9),'2013-14 BL USH'!$A$14:$C$200,3,FALSE)/E9%)),\"Not Tested\")","v":92.328042328042329},{"$f":"IFERROR(IF(F9=\"N<10\",\"N<10\",VLOOKUP(VALUE($A9),'2012-13 BL USH'!$A$14:$AG$500,5,FALSE)*100),\"Not Tested\")","v":30},{"$f":"IFERROR(IF(G9=\"N<10\",\"N<10\",VLOOKUP(VALUE($A9),'2013-14 BL USH'!$A$14:$AG$500,5,FALSE)*100),\"Not Tested\")","v":28.999999999999996},-1.0000000000000036,{"$f":"IFERROR(IF(H9=\"N<10\",\"N<10\",VLOOKUP(VALUE($A9),'2012-13 BL USH'!$A$14:$AG$500,11,FALSE)*100),\"Not Tested\")","v":34},{"$f":"IFERROR(IF(J9=\"N<10\",\"N<10\",VLOOKUP(VALUE($A9),'2013-14 BL USH'!$A$14:$AA$500,11,FALSE)*100),\"Not Tested\")","v":28.000000000000004},-5.9999999999999964,{"$f":"IFERROR(IF(K9=\"N<10\",\"N<10\",VLOOKUP(VALUE($A9),'2012-13 BL USH'!$A$14:$AG$500,17,FALSE)*100),\"Not Tested\")","v":28.999999999999996},{"$f":"IFERROR(IF(J9=\"N<10\",\"N<10\",VLOOKUP(VALUE($A9),'2013-14 BL USH'!$A$14:$AA$500,17,FALSE)*100),\"Not Tested\")","v":30},1.0000000000000036,{"$f":"IFERROR(IF(N9=\"N<10\",\"N<10\",VLOOKUP(VALUE($A9),'2012-13 BL USH'!$A$14:$AG$500,23,FALSE)*100),\"Not Tested\")","v":30},{"$f":"IFERROR(IF(P9=\"N<10\",\"N<10\",VLOOKUP(VALUE($A9),'2013-14 BL USH'!$A$14:$AA$500,23,FALSE)*100),\"Not Tested\")","v":28.999999999999996},-1.0000000000000036]
["7265","MIAMI CORAL PARK SENIOR HIGH",{"$f":"VLOOKUP(A10,SchList!$A$2:$C$483,2,FALSE)","v":"ARCHIMEDEAN UPPER CONSERV CHAR"},{"$f":"IFERROR(VLOOKUP($A10,'2012 BL USH Enrollment'!$A$3:$C$500,3,FALSE),0)","v":18},{"$f":"IFERROR(VLOOKUP($A10,'2013 BL USH Enrollment'!$A$3:$C$500,3,FALSE),0)","v":18},{"$f":"IFERROR(IF(VLOOKUP(VALUE(A10),'2012-13 BL USH'!$A$14:$C$200,3,FALSE)<10,\"N<10\",IF(VLOOKUP(VALUE(A10),'2012-13 BL USH'!$A$14:$C$200,3,FALSE)>D10,100,VLOOKUP(VALUE(A10),'2012-13 BL USH'!$A$14:$C$200,3,FALSE)/D10%)),\"Not Tested\")","v":"Not Tested"},{"$f":"IFERROR(IF(VLOOKUP(VALUE(A10),'2013-14 BL USH'!$A$14:$C$200,3,FALSE)<10,\"N<10\",IF(VLOOKUP(VALUE(A10),'2013-14 BL USH'!$A$14:$C$200,3,FALSE)>E10,100,VLOOKUP(VALUE(A10),'2013-14 BL USH'!$A$14:$C$200,3,FALSE)/E10%)),\"Not Tested\")","v":100},{"$f":"IFERROR(IF(F10=\"N<10\",\"N<10\",VLOOKUP(VALUE($A10),'2012-13 BL USH'!$A$14:$AG$500,5,FALSE)*100),\"Not Tested\")","v":"Not Tested"},{"$f":"IFERROR(IF(G10=\"N<10\",\"N<10\",VLOOKUP(VALUE($A10),'2013-14 BL USH'!$A$14:$AG$500,5,FALSE)*100),\"Not Tested\")","v":50},"",{"$f":"IFERROR(IF(H10=\"N<10\",\"N<10\",VLOOKUP(VALUE($A10),'2012-13 BL USH'!$A$14:$AG$500,11,FALSE)*100),\"Not Tested\")","v":"Not Tested"},{"$f":"IFERROR(IF(J10=\"N<10\",\"N<10\",VLOOKUP(VALUE($A10),'2013-14 BL USH'!$A$14:$AA$500,11,FALSE)*100),\"Not Tested\")","v":51},"",{"$f":"IFERROR(IF(K10=\"N<10\",\"N<10\",VLOOKUP(VALUE($A10),'2012-13 BL USH'!$A$14:$AG$500,17,FALSE)*100),\"Not Tested\")","v":"Not Tested"},{"$f":"IFERROR(IF(J10=\"N<10\",\"N<10\",VLOOKUP(VALUE($A10),'2013-14 BL USH'!$A$14:$AA$500,17,FALSE)*100),\"Not Tested\")","v":48},"",{"$f":"IFERROR(IF(N10=\"N<10\",\"N<10\",VLOOKUP(VALUE($A10),'2012-13 BL USH'!$A$14:$AG$500,23,FALSE)*100),\"Not Tested\")","v":"Not Tested"},{"$f":"IFERROR(IF(P10=\"N<10\",\"N<10\",VLOOKUP(VALUE($A10),'2013-14 BL USH'!$A$14:$AA$500,23,FALSE)*100),\"Not Tested\")","v":51},""]
["7351","MIAMI KILLIAN SENIOR HIGH",{"$f":"VLOOKUP(A11,SchList!$A$2:$C$483,2,FALSE)","v":"ARTHUR AND POLLY MAYS CONSERVA"},{"$f":"IFERROR(VLOOKUP($A11,'2012 BL USH Enrollment'!$A$3:$C$500,3,FALSE),0)","v":61},{"$f":"IFERROR(VLOOKUP($A11,'2013 BL USH Enrollment'!$A$3:$C$500,3,FALSE),0)","v":87},{"$f":"IFERROR(IF(VLOOKUP(VALUE(A11),'2012-13 BL USH'!$A$14:$C$200,3,FALSE)<10,\"N<10\",IF(VLOOKUP(VALUE(A11),'2012-13 BL USH'!$A$14:$C$200,3,FALSE)>D11,100,VLOOKUP(VALUE(A11),'2012-13 BL USH'!$A$14:$C$200,3,FALSE)/D11%)),\"Not Tested\")","v":"Not Tested"},{"$f":"IFERROR(IF(VLOOKUP(VALUE(A11),'2013-14 BL USH'!$A$14:$C$200,3,FALSE)<10,\"N<10\",IF(VLOOKUP(VALUE(A11),'2013-14 BL USH'!$A$14:$C$200,3,FALSE)>E11,100,VLOOKUP(VALUE(A11),'2013-14 BL USH'!$A$14:$C$200,3,FALSE)/E11%)),\"Not Tested\")","v":94.252873563218387},{"$f":"IFERROR(IF(F11=\"N<10\",\"N<10\",VLOOKUP(VALUE($A11),'2012-13 BL USH'!$A$14:$AG$500,5,FALSE)*100),\"Not Tested\")","v":"Not Tested"},{"$f":"IFERROR(IF(G11=\"N<10\",\"N<10\",VLOOKUP(VALUE($A11),'2013-14 BL USH'!$A$14:$AG$500,5,FALSE)*100),\"Not Tested\")","v":28.999999999999996},"",{"$f":"IFERROR(IF(H11=\"N<10\",\"N<10\",VLOOKUP(VALUE($A11),'2012-13 BL USH'!$A$14:$AG$500,11,FALSE)*100),\"Not Tested\")","v":"Not Tested"},{"$f":"IFERROR(IF(J11=\"N<10\",\"N<10\",VLOOKUP(VALUE($A11),'2013-14 BL USH'!$A$14:$AA$500,11,FALSE)*100),\"Not Tested\")","v":25},"",{"$f":"IFERROR(IF(K11=\"N<10\",\"N<10\",VLOOKUP(VALUE($A11),'2012-13 BL USH'!$A$14:$AG$500,17,FALSE)*100),\"Not Tested\")","v":"Not Tested"},{"$f":"IFERROR(IF(J11=\"N<10\",\"N<10\",VLOOKUP(VALUE($A11),'2013-14 BL USH'!$A$14:$AA$500,17,FALSE)*100),\"Not Tested\")","v":30},"",{"$f":"IFERROR(IF(N11=\"N<10\",\"N<10\",VLOOKUP(VALUE($A11),'2012-13 BL USH'!$A$14:$AG$500,23,FALSE)*100),\"Not Tested\")","v":"Not Tested"},{"$f":"IFERROR(IF(P11=\"N<10\",\"N<10\",VLOOKUP(VALUE($A11),'2013-14 BL USH'!$A$14:$AA$500,23,FALSE)*100),\"Not Tested\")","v":28.000000000000004},""]
["6020","ASPIRA RAUL A. MARTINEZ CHTR",{"$f":"VLOOKUP(A12,SchList!$A$2:$C$483,2,FALSE)","v":"ASPIRA RAUL A. MARTINEZ CHTR  "},{"$f":"IFERROR(VLOOKUP($A12,'2012 BL USH Enrollment'!$A$3:$C$500,3,FALSE),0)","v":0},{"$f":"IFERROR(VLOOKUP($A12,'2013 BL USH Enrollment'!$A$3:$C$500,3,FALSE),0)","v":207},{"$f":"IFERROR(IF(VLOOKUP(VALUE(A12),'2012-13 BL USH'!$A$14:$C$200,3,FALSE)<10,\"N<10\",IF(VLOOKUP(VALUE(A12),'2012-13 BL USH'!$A$14:$C$200,3,FALSE)>D12,100,VLOOKUP(VALUE(A12),'2012-13 BL USH'!$A$14:$C$200,3,FALSE)/D12%)),\"Not Tested\")","v":"Not Tested"},{"$f":"IFERROR(IF(VLOOKUP(VALUE(A12),'2013-14 BL USH'!$A$14:$C$200,3,FALSE)<10,\"N<10\",IF(VLOOKUP(VALUE(A12),'2013-14 BL USH'!$A$14:$C$200,3,FALSE)>E12,100,VLOOKUP(VALUE(A12),'2013-14 BL USH'!$A$14:$C$200,3,FALSE)/E12%)),\"Not Tested\")","v":"Not Tested"},{"$f":"IFERROR(IF(F12=\"N<10\",\"N<10\",VLOOKUP(VALUE($A12),'2012-13 BL USH'!$A$14:$AG$500,5,FALSE)*100),\"Not Tested\")","v":"Not Tested"},{"$f":"IFERROR(IF(G12=\"N<10\",\"N<10\",VLOOKUP(VALUE($A12),'2013-14 BL USH'!$A$14:$AG$500,5,FALSE)*100),\"Not Tested\")","v":"Not Tested"},"",{"$f":"IFERROR(IF(H12=\"N<10\",\"N<10\",VLOOKUP(VALUE($A12),'2012-13 BL USH'!$A$14:$AG$500,11,FALSE)*100),\"Not Tested\")","v":"Not Tested"},{"$f":"IFERROR(IF(J12=\"N<10\",\"N<10\",VLOOKUP(VALUE($A12),'2013-14 BL USH'!$A$14:$AA$500,11,FALSE)*100),\"Not Tested\")","v":"Not Tested"},"",{"$f":"IFERROR(IF(K12=\"N<10\",\"N<10\",VLOOKUP(VALUE($A12),'2012-13 BL USH'!$A$14:$AG$500,17,FALSE)*100),\"Not Tested\")","v":"Not Tested"},{"$f":"IFERROR(IF(J12=\"N<10\",\"N<10\",VLOOKUP(VALUE($A12),'2013-14 BL USH'!$A$14:$AA$500,17,FALSE)*100),\"Not Tested\")","v":"Not Tested"},"",{"$f":"IFERROR(IF(N12=\"N<10\",\"N<10\",VLOOKUP(VALUE($A12),'2012-13 BL USH'!$A$14:$AG$500,23,FALSE)*100),\"Not Tested\")","v":"Not Tested"},{"$f":"IFERROR(IF(P12=\"N<10\",\"N<10\",VLOOKUP(VALUE($A12),'2013-14 BL USH'!$A$14:$AA$500,23,FALSE)*100),\"Not Tested\")","v":"Not Tested"},""]
["7751","FELIX VARELA SENIOR HIGH",{"$f":"VLOOKUP(A13,SchList!$A$2:$C$483,2,FALSE)","v":"BARBARA GOLEMAN SENIOR HIGH   "},{"$f":"IFERROR(VLOOKUP($A13,'2012 BL USH Enrollment'!$A$3:$C$500,3,FALSE),0)","v":354},{"$f":"IFERROR(VLOOKUP($A13,'2013 BL USH Enrollment'!$A$3:$C$500,3,FALSE),0)","v":393},{"$f":"IFERROR(IF(VLOOKUP(VALUE(A13),'2012-13 BL USH'!$A$14:$C$200,3,FALSE)<10,\"N<10\",IF(VLOOKUP(VALUE(A13),'2012-13 BL USH'!$A$14:$C$200,3,FALSE)>D13,100,VLOOKUP(VALUE(A13),'2012-13 BL USH'!$A$14:$C$200,3,FALSE)/D13%)),\"Not Tested\")","v":94.350282485875709},{"$f":"IFERROR(IF(VLOOKUP(VALUE(A13),'2013-14 BL USH'!$A$14:$C$200,3,FALSE)<10,\"N<10\",IF(VLOOKUP(VALUE(A13),'2013-14 BL USH'!$A$14:$C$200,3,FALSE)>E13,100,VLOOKUP(VALUE(A13),'2013-14 BL USH'!$A$14:$C$200,3,FALSE)/E13%)),\"Not Tested\")","v":95.165394402035616},{"$f":"IFERROR(IF(F13=\"N<10\",\"N<10\",VLOOKUP(VALUE($A13),'2012-13 BL USH'!$A$14:$AG$500,5,FALSE)*100),\"Not Tested\")","v":30},{"$f":"IFERROR(IF(G13=\"N<10\",\"N<10\",VLOOKUP(VALUE($A13),'2013-14 BL USH'!$A$14:$AG$500,5,FALSE)*100),\"Not Tested\")","v":30},0,{"$f":"IFERROR(IF(H13=\"N<10\",\"N<10\",VLOOKUP(VALUE($A13),'2012-13 BL USH'!$A$14:$AG$500,11,FALSE)*100),\"Not Tested\")","v":34},{"$f":"IFERROR(IF(J13=\"N<10\",\"N<10\",VLOOKUP(VALUE($A13),'2013-14 BL USH'!$A$14:$AA$500,11,FALSE)*100),\"Not Tested\")","v":30},-4,{"$f":"IFERROR(IF(K13=\"N<10\",\"N<10\",VLOOKUP(VALUE($A13),'2012-13 BL USH'!$A$14:$AG$500,17,FALSE)*100),\"Not Tested\")","v":28.000000000000004},{"$f":"IFERROR(IF(J13=\"N<10\",\"N<10\",VLOOKUP(VALUE($A13),'2013-14 BL USH'!$A$14:$AA$500,17,FALSE)*100),\"Not Tested\")","v":31},2.9999999999999964,{"$f":"IFERROR(IF(N13=\"N<10\",\"N<10\",VLOOKUP(VALUE($A13),'2012-13 BL USH'!$A$14:$AG$500,23,FALSE)*100),\"Not Tested\")","v":31},{"$f":"IFERROR(IF(P13=\"N<10\",\"N<10\",VLOOKUP(VALUE($A13),'2013-14 BL USH'!$A$14:$AA$500,23,FALSE)*100),\"Not Tested\")","v":28.999999999999996},-2.0000000000000036]
["7791","NEW WORLD SCHOOL OF THE ARTS",{"$f":"VLOOKUP(A14,SchList!$A$2:$C$483,2,FALSE)","v":"BOOKER T. WASHINGTON SR. HIGH "},{"$f":"IFERROR(VLOOKUP($A14,'2012 BL USH Enrollment'!$A$3:$C$500,3,FALSE),0)","v":194},{"$f":"IFERROR(VLOOKUP($A14,'2013 BL USH Enrollment'!$A$3:$C$500,3,FALSE),0)","v":207},{"$f":"IFERROR(IF(VLOOKUP(VALUE(A14),'2012-13 BL USH'!$A$14:$C$200,3,FALSE)<10,\"N<10\",IF(VLOOKUP(VALUE(A14),'2012-13 BL USH'!$A$14:$C$200,3,FALSE)>D14,100,VLOOKUP(VALUE(A14),'2012-13 BL USH'!$A$14:$C$200,3,FALSE)/D14%)),\"Not Tested\")","v":100},{"$f":"IFERROR(IF(VLOOKUP(VALUE(A14),'2013-14 BL USH'!$A$14:$C$200,3,FALSE)<10,\"N<10\",IF(VLOOKUP(VALUE(A14),'2013-14 BL USH'!$A$14:$C$200,3,FALSE)>E14,100,VLOOKUP(VALUE(A14),'2013-14 BL USH'!$A$14:$C$200,3,FALSE)/E14%)),\"Not Tested\")","v":92.270531400966192},{"$f":"IFERROR(IF(F14=\"N<10\",\"N<10\",VLOOKUP(VALUE($A14),'2012-13 BL USH'!$A$14:$AG$500,5,FALSE)*100),\"Not Tested\")","v":28.000000000000004},{"$f":"IFERROR(IF(G14=\"N<10\",\"N<10\",VLOOKUP(VALUE($A14),'2013-14 BL USH'!$A$14:$AG$500,5,FALSE)*100),\"Not Tested\")","v":31},2.9999999999999964,{"$f":"IFERROR(IF(H14=\"N<10\",\"N<10\",VLOOKUP(VALUE($A14),'2012-13 BL USH'!$A$14:$AG$500,11,FALSE)*100),\"Not Tested\")","v":30},{"$f":"IFERROR(IF(J14=\"N<10\",\"N<10\",VLOOKUP(VALUE($A14),'2013-14 BL USH'!$A$14:$AA$500,11,FALSE)*100),\"Not Tested\")","v":30},0,{"$f":"IFERROR(IF(K14=\"N<10\",\"N<10\",VLOOKUP(VALUE($A14),'2012-13 BL USH'!$A$14:$AG$500,17,FALSE)*100),\"Not Tested\")","v":28.000000000000004},{"$f":"IFERROR(IF(J14=\"N<10\",\"N<10\",VLOOKUP(VALUE($A14),'2013-14 BL USH'!$A$14:$AA$500,17,FALSE)*100),\"Not Tested\")","v":31},2.9999999999999964,{"$f":"IFERROR(IF(N14=\"N<10\",\"N<10\",VLOOKUP(VALUE($A14),'2012-13 BL USH'!$A$14:$AG$500,23,FALSE)*100),\"Not Tested\")","v":28.000000000000004},{"$f":"IFERROR(IF(P14=\"N<10\",\"N<10\",VLOOKUP(VALUE($A14),'2013-14 BL USH'!$A$14:$AA$500,23,FALSE)*100),\"Not Tested\")","v":30},1.9999999999999964]
["7262","ARCHIMEDEAN UPPER CONSERV CHAR",{"$f":"VLOOKUP(A15,SchList!$A$2:$C$483,2,FALSE)","v":"CITY OF HIALEAH EDUCATION ACAD"},{"$f":"IFERROR(VLOOKUP($A15,'2012 BL USH Enrollment'!$A$3:$C$500,3,FALSE),0)","v":103},{"$f":"IFERROR(VLOOKUP($A15,'2013 BL USH Enrollment'!$A$3:$C$500,3,FALSE),0)","v":60},{"$f":"IFERROR(IF(VLOOKUP(VALUE(A15),'2012-13 BL USH'!$A$14:$C$200,3,FALSE)<10,\"N<10\",IF(VLOOKUP(VALUE(A15),'2012-13 BL USH'!$A$14:$C$200,3,FALSE)>D15,100,VLOOKUP(VALUE(A15),'2012-13 BL USH'!$A$14:$C$200,3,FALSE)/D15%)),\"Not Tested\")","v":100},{"$f":"IFERROR(IF(VLOOKUP(VALUE(A15),'2013-14 BL USH'!$A$14:$C$200,3,FALSE)<10,\"N<10\",IF(VLOOKUP(VALUE(A15),'2013-14 BL USH'!$A$14:$C$200,3,FALSE)>E15,100,VLOOKUP(VALUE(A15),'2013-14 BL USH'!$A$14:$C$200,3,FALSE)/E15%)),\"Not Tested\")","v":98.333333333333343},{"$f":"IFERROR(IF(F15=\"N<10\",\"N<10\",VLOOKUP(VALUE($A15),'2012-13 BL USH'!$A$14:$AG$500,5,FALSE)*100),\"Not Tested\")","v":31},{"$f":"IFERROR(IF(G15=\"N<10\",\"N<10\",VLOOKUP(VALUE($A15),'2013-14 BL USH'!$A$14:$AG$500,5,FALSE)*100),\"Not Tested\")","v":35},4,{"$f":"IFERROR(IF(H15=\"N<10\",\"N<10\",VLOOKUP(VALUE($A15),'2012-13 BL USH'!$A$14:$AG$500,11,FALSE)*100),\"Not Tested\")","v":40},{"$f":"IFERROR(IF(J15=\"N<10\",\"N<10\",VLOOKUP(VALUE($A15),'2013-14 BL USH'!$A$14:$AA$500,11,FALSE)*100),\"Not Tested\")","v":43},3,{"$f":"IFERROR(IF(K15=\"N<10\",\"N<10\",VLOOKUP(VALUE($A15),'2012-13 BL USH'!$A$14:$AG$500,17,FALSE)*100),\"Not Tested\")","v":28.999999999999996},{"$f":"IFERROR(IF(J15=\"N<10\",\"N<10\",VLOOKUP(VALUE($A15),'2013-14 BL USH'!$A$14:$AA$500,17,FALSE)*100),\"Not Tested\")","v":36},7.0000000000000036,{"$f":"IFERROR(IF(N15=\"N<10\",\"N<10\",VLOOKUP(VALUE($A15),'2012-13 BL USH'!$A$14:$AG$500,23,FALSE)*100),\"Not Tested\")","v":30},{"$f":"IFERROR(IF(P15=\"N<10\",\"N<10\",VLOOKUP(VALUE($A15),'2013-14 BL USH'!$A$14:$AA$500,23,FALSE)*100),\"Not Tested\")","v":32},2]
["8121","DOROTHY M WALLACE COPE CENTER",{"$f":"VLOOKUP(A16,SchList!$A$2:$C$483,2,FALSE)","v":"COPE CENTER NORTH             "},{"$f":"IFERROR(VLOOKUP($A16,'2012 BL USH Enrollment'!$A$3:$C$500,3,FALSE),0)","v":44},{"$f":"IFERROR(VLOOKUP($A16,'2013 BL USH Enrollment'!$A$3:$C$500,3,FALSE),0)","v":33},{"$f":"IFERROR(IF(VLOOKUP(VALUE(A16),'2012-13 BL USH'!$A$14:$C$200,3,FALSE)<10,\"N<10\",IF(VLOOKUP(VALUE(A16),'2012-13 BL USH'!$A$14:$C$200,3,FALSE)>D16,100,VLOOKUP(VALUE(A16),'2012-13 BL USH'!$A$14:$C$200,3,FALSE)/D16%)),\"Not Tested\")","v":79.545454545454547},{"$f":"IFERROR(IF(VLOOKUP(VALUE(A16),'2013-14 BL USH'!$A$14:$C$200,3,FALSE)<10,\"N<10\",IF(VLOOKUP(VALUE(A16),'2013-14 BL USH'!$A$14:$C$200,3,FALSE)>E16,100,VLOOKUP(VALUE(A16),'2013-14 BL USH'!$A$14:$C$200,3,FALSE)/E16%)),\"Not Tested\")","v":72.72727272727272},{"$f":"IFERROR(IF(F16=\"N<10\",\"N<10\",VLOOKUP(VALUE($A16),'2012-13 BL USH'!$A$14:$AG$500,5,FALSE)*100),\"Not Tested\")","v":32},{"$f":"IFERROR(IF(G16=\"N<10\",\"N<10\",VLOOKUP(VALUE($A16),'2013-14 BL USH'!$A$14:$AG$500,5,FALSE)*100),\"Not Tested\")","v":33},1,{"$f":"IFERROR(IF(H16=\"N<10\",\"N<10\",VLOOKUP(VALUE($A16),'2012-13 BL USH'!$A$14:$AG$500,11,FALSE)*100),\"Not Tested\")","v":32},{"$f":"IFERROR(IF(J16=\"N<10\",\"N<10\",VLOOKUP(VALUE($A16),'2013-14 BL USH'!$A$14:$AA$500,11,FALSE)*100),\"Not Tested\")","v":34},2,{"$f":"IFERROR(IF(K16=\"N<10\",\"N<10\",VLOOKUP(VALUE($A16),'2012-13 BL USH'!$A$14:$AG$500,17,FALSE)*100),\"Not Tested\")","v":32},{"$f":"IFERROR(IF(J16=\"N<10\",\"N<10\",VLOOKUP(VALUE($A16),'2013-14 BL USH'!$A$14:$AA$500,17,FALSE)*100),\"Not Tested\")","v":38},6,{"$f":"IFERROR(IF(N16=\"N<10\",\"N<10\",VLOOKUP(VALUE($A16),'2012-13 BL USH'!$A$14:$AG$500,23,FALSE)*100),\"Not Tested\")","v":31},{"$f":"IFERROR(IF(P16=\"N<10\",\"N<10\",VLOOKUP(VALUE($A16),'2013-14 BL USH'!$A$14:$AA$500,23,FALSE)*100),\"Not Tested\")","v":28.999999999999996},-2.0000000000000036]
["7071","DESIGN & ARCHITECTURE SENIOR",{"$f":"VLOOKUP(A17,SchList!$A$2:$C$483,2,FALSE)","v":"CORAL GABLES SENIOR HIGH      "},{"$f":"IFERROR(VLOOKUP($A17,'2012 BL USH Enrollment'!$A$3:$C$500,3,FALSE),0)","v":582},{"$f":"IFERROR(VLOOKUP($A17,'2013 BL USH Enrollment'!$A$3:$C$500,3,FALSE),0)","v":643},{"$f":"IFERROR(IF(VLOOKUP(VALUE(A17),'2012-13 BL USH'!$A$14:$C$200,3,FALSE)<10,\"N<10\",IF(VLOOKUP(VALUE(A17),'2012-13 BL USH'!$A$14:$C$200,3,FALSE)>D17,100,VLOOKUP(VALUE(A17),'2012-13 BL USH'!$A$14:$C$200,3,FALSE)/D17%)),\"Not Tested\")","v":100},{"$f":"IFERROR(IF(VLOOKUP(VALUE(A17),'2013-14 BL USH'!$A$14:$C$200,3,FALSE)<10,\"N<10\",IF(VLOOKUP(VALUE(A17),'2013-14 BL USH'!$A$14:$C$200,3,FALSE)>E17,100,VLOOKUP(VALUE(A17),'2013-14 BL USH'!$A$14:$C$200,3,FALSE)/E17%)),\"Not Tested\")","v":94.090202177293932},{"$f":"IFERROR(IF(F17=\"N<10\",\"N<10\",VLOOKUP(VALUE($A17),'2012-13 BL USH'!$A$14:$AG$500,5,FALSE)*100),\"Not Tested\")","v":28.999999999999996},{"$f":"IFERROR(IF(G17=\"N<10\",\"N<10\",VLOOKUP(VALUE($A17),'2013-14 BL USH'!$A$14:$AG$500,5,FALSE)*100),\"Not Tested\")","v":28.999999999999996},0,{"$f":"IFERROR(IF(H17=\"N<10\",\"N<10\",VLOOKUP(VALUE($A17),'2012-13 BL USH'!$A$14:$AG$500,11,FALSE)*100),\"Not Tested\")","v":32},{"$f":"IFERROR(IF(J17=\"N<10\",\"N<10\",VLOOKUP(VALUE($A17),'2013-14 BL USH'!$A$14:$AA$500,11,FALSE)*100),\"Not Tested\")","v":28.000000000000004},-3.9999999999999964,{"$f":"IFERROR(IF(K17=\"N<10\",\"N<10\",VLOOKUP(VALUE($A17),'2012-13 BL USH'!$A$14:$AG$500,17,FALSE)*100),\"Not Tested\")","v":28.000000000000004},{"$f":"IFERROR(IF(J17=\"N<10\",\"N<10\",VLOOKUP(VALUE($A17),'2013-14 BL USH'!$A$14:$AA$500,17,FALSE)*100),\"Not Tested\")","v":30},1.9999999999999964,{"$f":"IFERROR(IF(N17=\"N<10\",\"N<10\",VLOOKUP(VALUE($A17),'2012-13 BL USH'!$A$14:$AG$500,23,FALSE)*100),\"Not Tested\")","v":28.999999999999996},{"$f":"IFERROR(IF(P17=\"N<10\",\"N<10\",VLOOKUP(VALUE($A17),'2013-14 BL USH'!$A$14:$AA$500,23,FALSE)*100),\"Not Tested\")","v":28.000000000000004},-0.99999999999999289]
["7101","HIALEAH SENIOR",{"$f":"VLOOKUP(A18,SchList!$A$2:$C$483,2,FALSE)","v":"CORAL REEF SENIOR HIGH        "},{"$f":"IFERROR(VLOOKUP($A18,'2012 BL USH Enrollment'!$A$3:$C$500,3,FALSE),0)","v":439},{"$f":"IFERROR(VLOOKUP($A18,'2013 BL USH Enrollment'!$A$3:$C$500,3,FALSE),0)","v":370},{"$f":"IFERROR(IF(VLOOKUP(VALUE(A18),'2012-13 BL USH'!$A$14:$C$200,3,FALSE)<10,\"N<10\",IF(VLOOKUP(VALUE(A18),'2012-13 BL USH'!$A$14:$C$200,3,FALSE)>D18,100,VLOOKUP(VALUE(A18),'2012-13 BL USH'!$A$14:$C$200,3,FALSE)/D18%)),\"Not Tested\")","v":99.772209567198189},{"$f":"IFERROR(IF(VLOOKUP(VALUE(A18),'2013-14 BL USH'!$A$14:$C$200,3,FALSE)<10,\"N<10\",IF(VLOOKUP(VALUE(A18),'2013-14 BL USH'!$A$14:$C$200,3,FALSE)>E18,100,VLOOKUP(VALUE(A18),'2013-14 BL USH'!$A$14:$C$200,3,FALSE)/E18%)),\"Not Tested\")","v":87.027027027027017},{"$f":"IFERROR(IF(F18=\"N<10\",\"N<10\",VLOOKUP(VALUE($A18),'2012-13 BL USH'!$A$14:$AG$500,5,FALSE)*100),\"Not Tested\")","v":33},{"$f":"IFERROR(IF(G18=\"N<10\",\"N<10\",VLOOKUP(VALUE($A18),'2013-14 BL USH'!$A$14:$AG$500,5,FALSE)*100),\"Not Tested\")","v":36},3,{"$f":"IFERROR(IF(H18=\"N<10\",\"N<10\",VLOOKUP(VALUE($A18),'2012-13 BL USH'!$A$14:$AG$500,11,FALSE)*100),\"Not Tested\")","v":38},{"$f":"IFERROR(IF(J18=\"N<10\",\"N<10\",VLOOKUP(VALUE($A18),'2013-14 BL USH'!$A$14:$AA$500,11,FALSE)*100),\"Not Tested\")","v":39},1,{"$f":"IFERROR(IF(K18=\"N<10\",\"N<10\",VLOOKUP(VALUE($A18),'2012-13 BL USH'!$A$14:$AG$500,17,FALSE)*100),\"Not Tested\")","v":32},{"$f":"IFERROR(IF(J18=\"N<10\",\"N<10\",VLOOKUP(VALUE($A18),'2013-14 BL USH'!$A$14:$AA$500,17,FALSE)*100),\"Not Tested\")","v":37},5,{"$f":"IFERROR(IF(N18=\"N<10\",\"N<10\",VLOOKUP(VALUE($A18),'2012-13 BL USH'!$A$14:$AG$500,23,FALSE)*100),\"Not Tested\")","v":31},{"$f":"IFERROR(IF(P18=\"N<10\",\"N<10\",VLOOKUP(VALUE($A18),'2013-14 BL USH'!$A$14:$AA$500,23,FALSE)*100),\"Not Tested\")","v":35},4]
["7081","CORAL REEF SENIOR HIGH",{"$f":"VLOOKUP(A19,SchList!$A$2:$C$483,2,FALSE)","v":"DESIGN & ARCHITECTURE SENIOR  "},{"$f":"IFERROR(VLOOKUP($A19,'2012 BL USH Enrollment'!$A$3:$C$500,3,FALSE),0)","v":93},{"$f":"IFERROR(VLOOKUP($A19,'2013 BL USH Enrollment'!$A$3:$C$500,3,FALSE),0)","v":99},{"$f":"IFERROR(IF(VLOOKUP(VALUE(A19),'2012-13 BL USH'!$A$14:$C$200,3,FALSE)<10,\"N<10\",IF(VLOOKUP(VALUE(A19),'2012-13 BL USH'!$A$14:$C$200,3,FALSE)>D19,100,VLOOKUP(VALUE(A19),'2012-13 BL USH'!$A$14:$C$200,3,FALSE)/D19%)),\"Not Tested\")","v":100},{"$f":"IFERROR(IF(VLOOKUP(VALUE(A19),'2013-14 BL USH'!$A$14:$C$200,3,FALSE)<10,\"N<10\",IF(VLOOKUP(VALUE(A19),'2013-14 BL USH'!$A$14:$C$200,3,FALSE)>E19,100,VLOOKUP(VALUE(A19),'2013-14 BL USH'!$A$14:$C$200,3,FALSE)/E19%)),\"Not Tested\")","v":97.979797979797979},{"$f":"IFERROR(IF(F19=\"N<10\",\"N<10\",VLOOKUP(VALUE($A19),'2012-13 BL USH'!$A$14:$AG$500,5,FALSE)*100),\"Not Tested\")","v":42},{"$f":"IFERROR(IF(G19=\"N<10\",\"N<10\",VLOOKUP(VALUE($A19),'2013-14 BL USH'!$A$14:$AG$500,5,FALSE)*100),\"Not Tested\")","v":41},-1,{"$f":"IFERROR(IF(H19=\"N<10\",\"N<10\",VLOOKUP(VALUE($A19),'2012-13 BL USH'!$A$14:$AG$500,11,FALSE)*100),\"Not Tested\")","v":49},{"$f":"IFERROR(IF(J19=\"N<10\",\"N<10\",VLOOKUP(VALUE($A19),'2013-14 BL USH'!$A$14:$AA$500,11,FALSE)*100),\"Not Tested\")","v":46},-3,{"$f":"IFERROR(IF(K19=\"N<10\",\"N<10\",VLOOKUP(VALUE($A19),'2012-13 BL USH'!$A$14:$AG$500,17,FALSE)*100),\"Not Tested\")","v":43},{"$f":"IFERROR(IF(J19=\"N<10\",\"N<10\",VLOOKUP(VALUE($A19),'2013-14 BL USH'!$A$14:$AA$500,17,FALSE)*100),\"Not Tested\")","v":41},-2,{"$f":"IFERROR(IF(N19=\"N<10\",\"N<10\",VLOOKUP(VALUE($A19),'2012-13 BL USH'!$A$14:$AG$500,23,FALSE)*100),\"Not Tested\")","v":39},{"$f":"IFERROR(IF(P19=\"N<10\",\"N<10\",VLOOKUP(VALUE($A19),'2013-14 BL USH'!$A$14:$AA$500,23,FALSE)*100),\"Not Tested\")","v":39},0]
["6040","DOCTORS CHARTER/MIAMI SHORES",{"$f":"VLOOKUP(A20,SchList!$A$2:$C$483,2,FALSE)","v":"DOCTORS CHARTER/MIAMI SHORES  "},{"$f":"IFERROR(VLOOKUP($A20,'2012 BL USH Enrollment'!$A$3:$C$500,3,FALSE),0)","v":64},{"$f":"IFERROR(VLOOKUP($A20,'2013 BL USH Enrollment'!$A$3:$C$500,3,FALSE),0)","v":50},{"$f":"IFERROR(IF(VLOOKUP(VALUE(A20),'2012-13 BL USH'!$A$14:$C$200,3,FALSE)<10,\"N<10\",IF(VLOOKUP(VALUE(A20),'2012-13 BL USH'!$A$14:$C$200,3,FALSE)>D20,100,VLOOKUP(VALUE(A20),'2012-13 BL USH'!$A$14:$C$200,3,FALSE)/D20%)),\"Not Tested\")","v":98.4375},{"$f":"IFERROR(IF(VLOOKUP(VALUE(A20),'2013-14 BL USH'!$A$14:$C$200,3,FALSE)<10,\"N<10\",IF(VLOOKUP(VALUE(A20),'2013-14 BL USH'!$A$14:$C$200,3,FALSE)>E20,100,VLOOKUP(VALUE(A20),'2013-14 BL USH'!$A$14:$C$200,3,FALSE)/E20%)),\"Not Tested\")","v":100},{"$f":"IFERROR(IF(F20=\"N<10\",\"N<10\",VLOOKUP(VALUE($A20),'2012-13 BL USH'!$A$14:$AG$500,5,FALSE)*100),\"Not Tested\")","v":38},{"$f":"IFERROR(IF(G20=\"N<10\",\"N<10\",VLOOKUP(VALUE($A20),'2013-14 BL USH'!$A$14:$AG$500,5,FALSE)*100),\"Not Tested\")","v":37},-1,{"$f":"IFERROR(IF(H20=\"N<10\",\"N<10\",VLOOKUP(VALUE($A20),'2012-13 BL USH'!$A$14:$AG$500,11,FALSE)*100),\"Not Tested\")","v":45},{"$f":"IFERROR(IF(J20=\"N<10\",\"N<10\",VLOOKUP(VALUE($A20),'2013-14 BL USH'!$A$14:$AA$500,11,FALSE)*100),\"Not Tested\")","v":38},-7,{"$f":"IFERROR(IF(K20=\"N<10\",\"N<10\",VLOOKUP(VALUE($A20),'2012-13 BL USH'!$A$14:$AG$500,17,FALSE)*100),\"Not Tested\")","v":38},{"$f":"IFERROR(IF(J20=\"N<10\",\"N<10\",VLOOKUP(VALUE($A20),'2013-14 BL USH'!$A$14:$AA$500,17,FALSE)*100),\"Not Tested\")","v":38},0,{"$f":"IFERROR(IF(N20=\"N<10\",\"N<10\",VLOOKUP(VALUE($A20),'2012-13 BL USH'!$A$14:$AG$500,23,FALSE)*100),\"Not Tested\")","v":36},{"$f":"IFERROR(IF(P20=\"N<10\",\"N<10\",VLOOKUP(VALUE($A20),'2013-14 BL USH'!$A$14:$AA$500,23,FALSE)*100),\"Not Tested\")","v":35},-1]
["7020","ACADEMY OF ARTS AND MINDS",{"$f":"VLOOKUP(A21,SchList!$A$2:$C$483,2,FALSE)","v":"DORAL ACADEMY HIGH SCHOOL     "},{"$f":"IFERROR(VLOOKUP($A21,'2012 BL USH Enrollment'!$A$3:$C$500,3,FALSE),0)","v":205},{"$f":"IFERROR(VLOOKUP($A21,'2013 BL USH Enrollment'!$A$3:$C$500,3,FALSE),0)","v":266},{"$f":"IFERROR(IF(VLOOKUP(VALUE(A21),'2012-13 BL USH'!$A$14:$C$200,3,FALSE)<10,\"N<10\",IF(VLOOKUP(VALUE(A21),'2012-13 BL USH'!$A$14:$C$200,3,FALSE)>D21,100,VLOOKUP(VALUE(A21),'2012-13 BL USH'!$A$14:$C$200,3,FALSE)/D21%)),\"Not Tested\")","v":99.512195121951223},{"$f":"IFERROR(IF(VLOOKUP(VALUE(A21),'2013-14 BL USH'!$A$14:$C$200,3,FALSE)<10,\"N<10\",IF(VLOOKUP(VALUE(A21),'2013-14 BL USH'!$A$14:$C$200,3,FALSE)>E21,100,VLOOKUP(VALUE(A21),'2013-14 BL USH'!$A$14:$C$200,3,FALSE)/E21%)),\"Not Tested\")","v":100},{"$f":"IFERROR(IF(F21=\"N<10\",\"N<10\",VLOOKUP(VALUE($A21),'2012-13 BL USH'!$A$14:$AG$500,5,FALSE)*100),\"Not Tested\")","v":33},{"$f":"IFERROR(IF(G21=\"N<10\",\"N<10\",VLOOKUP(VALUE($A21),'2013-14 BL USH'!$A$14:$AG$500,5,FALSE)*100),\"Not Tested\")","v":36},3,{"$f":"IFERROR(IF(H21=\"N<10\",\"N<10\",VLOOKUP(VALUE($A21),'2012-13 BL USH'!$A$14:$AG$500,11,FALSE)*100),\"Not Tested\")","v":39},{"$f":"IFERROR(IF(J21=\"N<10\",\"N<10\",VLOOKUP(VALUE($A21),'2013-14 BL USH'!$A$14:$AA$500,11,FALSE)*100),\"Not Tested\")","v":37},-2,{"$f":"IFERROR(IF(K21=\"N<10\",\"N<10\",VLOOKUP(VALUE($A21),'2012-13 BL USH'!$A$14:$AG$500,17,FALSE)*100),\"Not Tested\")","v":33},{"$f":"IFERROR(IF(J21=\"N<10\",\"N<10\",VLOOKUP(VALUE($A21),'2013-14 BL USH'!$A$14:$AA$500,17,FALSE)*100),\"Not Tested\")","v":37},4,{"$f":"IFERROR(IF(N21=\"N<10\",\"N<10\",VLOOKUP(VALUE($A21),'2012-13 BL USH'!$A$14:$AG$500,23,FALSE)*100),\"Not Tested\")","v":31},{"$f":"IFERROR(IF(P21=\"N<10\",\"N<10\",VLOOKUP(VALUE($A21),'2013-14 BL USH'!$A$14:$AA$500,23,FALSE)*100),\"Not Tested\")","v":34},3]
["7009","AMERICAN SENIOR",{"$f":"VLOOKUP(A22,SchList!$A$2:$C$483,2,FALSE)","v":"DORAL PERFORMING ARTS ACADEMY "},{"$f":"IFERROR(VLOOKUP($A22,'2012 BL USH Enrollment'!$A$3:$C$500,3,FALSE),0)","v":38},{"$f":"IFERROR(VLOOKUP($A22,'2013 BL USH Enrollment'!$A$3:$C$500,3,FALSE),0)","v":51},{"$f":"IFERROR(IF(VLOOKUP(VALUE(A22),'2012-13 BL USH'!$A$14:$C$200,3,FALSE)<10,\"N<10\",IF(VLOOKUP(VALUE(A22),'2012-13 BL USH'!$A$14:$C$200,3,FALSE)>D22,100,VLOOKUP(VALUE(A22),'2012-13 BL USH'!$A$14:$C$200,3,FALSE)/D22%)),\"Not Tested\")","v":94.73684210526315},{"$f":"IFERROR(IF(VLOOKUP(VALUE(A22),'2013-14 BL USH'!$A$14:$C$200,3,FALSE)<10,\"N<10\",IF(VLOOKUP(VALUE(A22),'2013-14 BL USH'!$A$14:$C$200,3,FALSE)>E22,100,VLOOKUP(VALUE(A22),'2013-14 BL USH'!$A$14:$C$200,3,FALSE)/E22%)),\"Not Tested\")","v":100},{"$f":"IFERROR(IF(F22=\"N<10\",\"N<10\",VLOOKUP(VALUE($A22),'2012-13 BL USH'!$A$14:$AG$500,5,FALSE)*100),\"Not Tested\")","v":36},{"$f":"IFERROR(IF(G22=\"N<10\",\"N<10\",VLOOKUP(VALUE($A22),'2013-14 BL USH'!$A$14:$AG$500,5,FALSE)*100),\"Not Tested\")","v":37},1,{"$f":"IFERROR(IF(H22=\"N<10\",\"N<10\",VLOOKUP(VALUE($A22),'2012-13 BL USH'!$A$14:$AG$500,11,FALSE)*100),\"Not Tested\")","v":41},{"$f":"IFERROR(IF(J22=\"N<10\",\"N<10\",VLOOKUP(VALUE($A22),'2013-14 BL USH'!$A$14:$AA$500,11,FALSE)*100),\"Not Tested\")","v":42},1,{"$f":"IFERROR(IF(K22=\"N<10\",\"N<10\",VLOOKUP(VALUE($A22),'2012-13 BL USH'!$A$14:$AG$500,17,FALSE)*100),\"Not Tested\")","v":38},{"$f":"IFERROR(IF(J22=\"N<10\",\"N<10\",VLOOKUP(VALUE($A22),'2013-14 BL USH'!$A$14:$AA$500,17,FALSE)*100),\"Not Tested\")","v":38},0,{"$f":"IFERROR(IF(N22=\"N<10\",\"N<10\",VLOOKUP(VALUE($A22),'2012-13 BL USH'!$A$14:$AG$500,23,FALSE)*100),\"Not Tested\")","v":32},{"$f":"IFERROR(IF(P22=\"N<10\",\"N<10\",VLOOKUP(VALUE($A22),'2013-14 BL USH'!$A$14:$AA$500,23,FALSE)*100),\"Not Tested\")","v":34},2]
["8131","JUVENILE JUSTICE CENTER",{"$f":"VLOOKUP(A23,SchList!$A$2:$C$483,2,FALSE)","v":"DOROTHY M WALLACE COPE CENTER "},{"$f":"IFERROR(VLOOKUP($A23,'2012 BL USH Enrollment'!$A$3:$C$500,3,FALSE),0)","v":26},{"$f":"IFERROR(VLOOKUP($A23,'2013 BL USH Enrollment'!$A$3:$C$500,3,FALSE),0)","v":31},{"$f":"IFERROR(IF(VLOOKUP(VALUE(A23),'2012-13 BL USH'!$A$14:$C$200,3,FALSE)<10,\"N<10\",IF(VLOOKUP(VALUE(A23),'2012-13 BL USH'!$A$14:$C$200,3,FALSE)>D23,100,VLOOKUP(VALUE(A23),'2012-13 BL USH'!$A$14:$C$200,3,FALSE)/D23%)),\"Not Tested\")","v":80.769230769230759},{"$f":"IFERROR(IF(VLOOKUP(VALUE(A23),'2013-14 BL USH'!$A$14:$C$200,3,FALSE)<10,\"N<10\",IF(VLOOKUP(VALUE(A23),'2013-14 BL USH'!$A$14:$C$200,3,FALSE)>E23,100,VLOOKUP(VALUE(A23),'2013-14 BL USH'!$A$14:$C$200,3,FALSE)/E23%)),\"Not Tested\")","v":74.193548387096769},{"$f":"IFERROR(IF(F23=\"N<10\",\"N<10\",VLOOKUP(VALUE($A23),'2012-13 BL USH'!$A$14:$AG$500,5,FALSE)*100),\"Not Tested\")","v":32},{"$f":"IFERROR(IF(G23=\"N<10\",\"N<10\",VLOOKUP(VALUE($A23),'2013-14 BL USH'!$A$14:$AG$500,5,FALSE)*100),\"Not Tested\")","v":28.000000000000004},-3.9999999999999964,{"$f":"IFERROR(IF(H23=\"N<10\",\"N<10\",VLOOKUP(VALUE($A23),'2012-13 BL USH'!$A$14:$AG$500,11,FALSE)*100),\"Not Tested\")","v":37},{"$f":"IFERROR(IF(J23=\"N<10\",\"N<10\",VLOOKUP(VALUE($A23),'2013-14 BL USH'!$A$14:$AA$500,11,FALSE)*100),\"Not Tested\")","v":30},-7,{"$f":"IFERROR(IF(K23=\"N<10\",\"N<10\",VLOOKUP(VALUE($A23),'2012-13 BL USH'!$A$14:$AG$500,17,FALSE)*100),\"Not Tested\")","v":33},{"$f":"IFERROR(IF(J23=\"N<10\",\"N<10\",VLOOKUP(VALUE($A23),'2013-14 BL USH'!$A$14:$AA$500,17,FALSE)*100),\"Not Tested\")","v":33},0,{"$f":"IFERROR(IF(N23=\"N<10\",\"N<10\",VLOOKUP(VALUE($A23),'2012-13 BL USH'!$A$14:$AG$500,23,FALSE)*100),\"Not Tested\")","v":30},{"$f":"IFERROR(IF(P23=\"N<10\",\"N<10\",VLOOKUP(VALUE($A23),'2013-14 BL USH'!$A$14:$AA$500,23,FALSE)*100),\"Not Tested\")","v":24},-6]
["7141","HOMESTEAD SENIOR HIGH",{"$f":"VLOOKUP(A24,SchList!$A$2:$C$483,2,FALSE)","v":"DR MICHAEL M KROP SENIOR HIGH "},{"$f":"IFERROR(VLOOKUP($A24,'2012 BL USH Enrollment'!$A$3:$C$500,3,FALSE),0)","v":557},{"$f":"IFERROR(VLOOKUP($A24,'2013 BL USH Enrollment'!$A$3:$C$500,3,FALSE),0)","v":549},{"$f":"IFERROR(IF(VLOOKUP(VALUE(A24),'2012-13 BL USH'!$A$14:$C$200,3,FALSE)<10,\"N<10\",IF(VLOOKUP(VALUE(A24),'2012-13 BL USH'!$A$14:$C$200,3,FALSE)>D24,100,VLOOKUP(VALUE(A24),'2012-13 BL USH'!$A$14:$C$200,3,FALSE)/D24%)),\"Not Tested\")","v":98.025134649910228},{"$f":"IFERROR(IF(VLOOKUP(VALUE(A24),'2013-14 BL USH'!$A$14:$C$200,3,FALSE)<10,\"N<10\",IF(VLOOKUP(VALUE(A24),'2013-14 BL USH'!$A$14:$C$200,3,FALSE)>E24,100,VLOOKUP(VALUE(A24),'2013-14 BL USH'!$A$14:$C$200,3,FALSE)/E24%)),\"Not Tested\")","v":95.264116575591984},{"$f":"IFERROR(IF(F24=\"N<10\",\"N<10\",VLOOKUP(VALUE($A24),'2012-13 BL USH'!$A$14:$AG$500,5,FALSE)*100),\"Not Tested\")","v":35},{"$f":"IFERROR(IF(G24=\"N<10\",\"N<10\",VLOOKUP(VALUE($A24),'2013-14 BL USH'!$A$14:$AG$500,5,FALSE)*100),\"Not Tested\")","v":35},0,{"$f":"IFERROR(IF(H24=\"N<10\",\"N<10\",VLOOKUP(VALUE($A24),'2012-13 BL USH'!$A$14:$AG$500,11,FALSE)*100),\"Not Tested\")","v":42},{"$f":"IFERROR(IF(J24=\"N<10\",\"N<10\",VLOOKUP(VALUE($A24),'2013-14 BL USH'!$A$14:$AA$500,11,FALSE)*100),\"Not Tested\")","v":37},-5,{"$f":"IFERROR(IF(K24=\"N<10\",\"N<10\",VLOOKUP(VALUE($A24),'2012-13 BL USH'!$A$14:$AG$500,17,FALSE)*100),\"Not Tested\")","v":35},{"$f":"IFERROR(IF(J24=\"N<10\",\"N<10\",VLOOKUP(VALUE($A24),'2013-14 BL USH'!$A$14:$AA$500,17,FALSE)*100),\"Not Tested\")","v":36},1,{"$f":"IFERROR(IF(N24=\"N<10\",\"N<10\",VLOOKUP(VALUE($A24),'2012-13 BL USH'!$A$14:$AG$500,23,FALSE)*100),\"Not Tested\")","v":32},{"$f":"IFERROR(IF(P24=\"N<10\",\"N<10\",VLOOKUP(VALUE($A24),'2013-14 BL USH'!$A$14:$AA$500,23,FALSE)*100),\"Not Tested\")","v":34},2]
["7060","MAVERICKS HIGH OF NORTH M-DADE",{"$f":"VLOOKUP(A25,SchList!$A$2:$C$483,2,FALSE)","v":"EVERGLADES PREP ACADEMY HIGH  "},{"$f":"IFERROR(VLOOKUP($A25,'2012 BL USH Enrollment'!$A$3:$C$500,3,FALSE),0)","v":0},{"$f":"IFERROR(VLOOKUP($A25,'2013 BL USH Enrollment'!$A$3:$C$500,3,FALSE),0)","v":30},{"$f":"IFERROR(IF(VLOOKUP(VALUE(A25),'2012-13 BL USH'!$A$14:$C$200,3,FALSE)<10,\"N<10\",IF(VLOOKUP(VALUE(A25),'2012-13 BL USH'!$A$14:$C$200,3,FALSE)>D25,100,VLOOKUP(VALUE(A25),'2012-13 BL USH'!$A$14:$C$200,3,FALSE)/D25%)),\"Not Tested\")","v":"Not Tested"},{"$f":"IFERROR(IF(VLOOKUP(VALUE(A25),'2013-14 BL USH'!$A$14:$C$200,3,FALSE)<10,\"N<10\",IF(VLOOKUP(VALUE(A25),'2013-14 BL USH'!$A$14:$C$200,3,FALSE)>E25,100,VLOOKUP(VALUE(A25),'2013-14 BL USH'!$A$14:$C$200,3,FALSE)/E25%)),\"Not Tested\")","v":93.333333333333343},{"$f":"IFERROR(IF(F25=\"N<10\",\"N<10\",VLOOKUP(VALUE($A25),'2012-13 BL USH'!$A$14:$AG$500,5,FALSE)*100),\"Not Tested\")","v":"Not Tested"},{"$f":"IFERROR(IF(G25=\"N<10\",\"N<10\",VLOOKUP(VALUE($A25),'2013-14 BL USH'!$A$14:$AG$500,5,FALSE)*100),\"Not Tested\")","v":26},"",{"$f":"IFERROR(IF(H25=\"N<10\",\"N<10\",VLOOKUP(VALUE($A25),'2012-13 BL USH'!$A$14:$AG$500,11,FALSE)*100),\"Not Tested\")","v":"Not Tested"},{"$f":"IFERROR(IF(J25=\"N<10\",\"N<10\",VLOOKUP(VALUE($A25),'2013-14 BL USH'!$A$14:$AA$500,11,FALSE)*100),\"Not Tested\")","v":22},"",{"$f":"IFERROR(IF(K25=\"N<10\",\"N<10\",VLOOKUP(VALUE($A25),'2012-13 BL USH'!$A$14:$AG$500,17,FALSE)*100),\"Not Tested\")","v":"Not Tested"},{"$f":"IFERROR(IF(J25=\"N<10\",\"N<10\",VLOOKUP(VALUE($A25),'2013-14 BL USH'!$A$14:$AA$500,17,FALSE)*100),\"Not Tested\")","v":28.000000000000004},"",{"$f":"IFERROR(IF(N25=\"N<10\",\"N<10\",VLOOKUP(VALUE($A25),'2012-13 BL USH'!$A$14:$AG$500,23,FALSE)*100),\"Not Tested\")","v":"Not Tested"},{"$f":"IFERROR(IF(P25=\"N<10\",\"N<10\",VLOOKUP(VALUE($A25),'2013-14 BL USH'!$A$14:$AA$500,23,FALSE)*100),\"Not Tested\")","v":26},""]
["5006","EVERGLADES PREPARATORY ACADEMY",{"$f":"VLOOKUP(A26,SchList!$A$2:$C$483,2,FALSE)","v":"EVERGLADES PREPARATORY ACADEMY"},{"$f":"IFERROR(VLOOKUP($A26,'2012 BL USH Enrollment'!$A$3:$C$500,3,FALSE),0)","v":88},{"$f":"IFERROR(VLOOKUP($A26,'2013 BL USH Enrollment'!$A$3:$C$500,3,FALSE),0)","v":69},{"$f":"IFERROR(IF(VLOOKUP(VALUE(A26),'2012-13 BL USH'!$A$14:$C$200,3,FALSE)<10,\"N<10\",IF(VLOOKUP(VALUE(A26),'2012-13 BL USH'!$A$14:$C$200,3,FALSE)>D26,100,VLOOKUP(VALUE(A26),'2012-13 BL USH'!$A$14:$C$200,3,FALSE)/D26%)),\"Not Tested\")","v":"Not Tested"},{"$f":"IFERROR(IF(VLOOKUP(VALUE(A26),'2013-14 BL USH'!$A$14:$C$200,3,FALSE)<10,\"N<10\",IF(VLOOKUP(VALUE(A26),'2013-14 BL USH'!$A$14:$C$200,3,FALSE)>E26,100,VLOOKUP(VALUE(A26),'2013-14 BL USH'!$A$14:$C$200,3,FALSE)/E26%)),\"Not Tested\")","v":"Not Tested"},{"$f":"IFERROR(IF(F26=\"N<10\",\"N<10\",VLOOKUP(VALUE($A26),'2012-13 BL USH'!$A$14:$AG$500,5,FALSE)*100),\"Not Tested\")","v":"Not Tested"},{"$f":"IFERROR(IF(G26=\"N<10\",\"N<10\",VLOOKUP(VALUE($A26),'2013-14 BL USH'!$A$14:$AG$500,5,FALSE)*100),\"Not Tested\")","v":"Not Tested"},"",{"$f":"IFERROR(IF(H26=\"N<10\",\"N<10\",VLOOKUP(VALUE($A26),'2012-13 BL USH'!$A$14:$AG$500,11,FALSE)*100),\"Not Tested\")","v":"Not Tested"},{"$f":"IFERROR(IF(J26=\"N<10\",\"N<10\",VLOOKUP(VALUE($A26),'2013-14 BL USH'!$A$14:$AA$500,11,FALSE)*100),\"Not Tested\")","v":"Not Tested"},"",{"$f":"IFERROR(IF(K26=\"N<10\",\"N<10\",VLOOKUP(VALUE($A26),'2012-13 BL USH'!$A$14:$AG$500,17,FALSE)*100),\"Not Tested\")","v":"Not Tested"},{"$f":"IFERROR(IF(J26=\"N<10\",\"N<10\",VLOOKUP(VALUE($A26),'2013-14 BL USH'!$A$14:$AA$500,17,FALSE)*100),\"Not Tested\")","v":"Not Tested"},"",{"$f":"IFERROR(IF(N26=\"N<10\",\"N<10\",VLOOKUP(VALUE($A26),'2012-13 BL USH'!$A$14:$AG$500,23,FALSE)*100),\"Not Tested\")","v":"Not Tested"},{"$f":"IFERROR(IF(P26=\"N<10\",\"N<10\",VLOOKUP(VALUE($A26),'2013-14 BL USH'!$A$14:$AA$500,23,FALSE)*100),\"Not Tested\")","v":"Not Tested"},""]
["7781","BOOKER T. WASHINGTON SR. HIGH",{"$f":"VLOOKUP(A27,SchList!$A$2:$C$483,2,FALSE)","v":"FELIX VARELA SENIOR HIGH      "},{"$f":"IFERROR(VLOOKUP($A27,'2012 BL USH Enrollment'!$A$3:$C$500,3,FALSE),0)","v":597},{"$f":"IFERROR(VLOOKUP($A27,'2013 BL USH Enrollment'!$A$3:$C$500,3,FALSE),0)","v":707},{"$f":"IFERROR(IF(VLOOKUP(VALUE(A27),'2012-13 BL USH'!$A$14:$C$200,3,FALSE)<10,\"N<10\",IF(VLOOKUP(VALUE(A27),'2012-13 BL USH'!$A$14:$C$200,3,FALSE)>D27,100,VLOOKUP(VALUE(A27),'2012-13 BL USH'!$A$14:$C$200,3,FALSE)/D27%)),\"Not Tested\")","v":95.309882747068684},{"$f":"IFERROR(IF(VLOOKUP(VALUE(A27),'2013-14 BL USH'!$A$14:$C$200,3,FALSE)<10,\"N<10\",IF(VLOOKUP(VALUE(A27),'2013-14 BL USH'!$A$14:$C$200,3,FALSE)>E27,100,VLOOKUP(VALUE(A27),'2013-14 BL USH'!$A$14:$C$200,3,FALSE)/E27%)),\"Not Tested\")","v":94.483734087694486},{"$f":"IFERROR(IF(F27=\"N<10\",\"N<10\",VLOOKUP(VALUE($A27),'2012-13 BL USH'!$A$14:$AG$500,5,FALSE)*100),\"Not Tested\")","v":31},{"$f":"IFERROR(IF(G27=\"N<10\",\"N<10\",VLOOKUP(VALUE($A27),'2013-14 BL USH'!$A$14:$AG$500,5,FALSE)*100),\"Not Tested\")","v":33},2,{"$f":"IFERROR(IF(H27=\"N<10\",\"N<10\",VLOOKUP(VALUE($A27),'2012-13 BL USH'!$A$14:$AG$500,11,FALSE)*100),\"Not Tested\")","v":36},{"$f":"IFERROR(IF(J27=\"N<10\",\"N<10\",VLOOKUP(VALUE($A27),'2013-14 BL USH'!$A$14:$AA$500,11,FALSE)*100),\"Not Tested\")","v":34},-2,{"$f":"IFERROR(IF(K27=\"N<10\",\"N<10\",VLOOKUP(VALUE($A27),'2012-13 BL USH'!$A$14:$AG$500,17,FALSE)*100),\"Not Tested\")","v":30},{"$f":"IFERROR(IF(J27=\"N<10\",\"N<10\",VLOOKUP(VALUE($A27),'2013-14 BL USH'!$A$14:$AA$500,17,FALSE)*100),\"Not Tested\")","v":34},4,{"$f":"IFERROR(IF(N27=\"N<10\",\"N<10\",VLOOKUP(VALUE($A27),'2012-13 BL USH'!$A$14:$AG$500,23,FALSE)*100),\"Not Tested\")","v":30},{"$f":"IFERROR(IF(P27=\"N<10\",\"N<10\",VLOOKUP(VALUE($A27),'2013-14 BL USH'!$A$14:$AA$500,23,FALSE)*100),\"Not Tested\")","v":32},2]
["7051","PINECREST ACADEMY CHARTER HIGH",{"$f":"VLOOKUP(A28,SchList!$A$2:$C$483,2,FALSE)","v":"G. HOLMES BRADDOCK SENIOR HIGH"},{"$f":"IFERROR(VLOOKUP($A28,'2012 BL USH Enrollment'!$A$3:$C$500,3,FALSE),0)","v":616},{"$f":"IFERROR(VLOOKUP($A28,'2013 BL USH Enrollment'!$A$3:$C$500,3,FALSE),0)","v":643},{"$f":"IFERROR(IF(VLOOKUP(VALUE(A28),'2012-13 BL USH'!$A$14:$C$200,3,FALSE)<10,\"N<10\",IF(VLOOKUP(VALUE(A28),'2012-13 BL USH'!$A$14:$C$200,3,FALSE)>D28,100,VLOOKUP(VALUE(A28),'2012-13 BL USH'!$A$14:$C$200,3,FALSE)/D28%)),\"Not Tested\")","v":91.396103896103895},{"$f":"IFERROR(IF(VLOOKUP(VALUE(A28),'2013-14 BL USH'!$A$14:$C$200,3,FALSE)<10,\"N<10\",IF(VLOOKUP(VALUE(A28),'2013-14 BL USH'!$A$14:$C$200,3,FALSE)>E28,100,VLOOKUP(VALUE(A28),'2013-14 BL USH'!$A$14:$C$200,3,FALSE)/E28%)),\"Not Tested\")","v":98.600311041990679},{"$f":"IFERROR(IF(F28=\"N<10\",\"N<10\",VLOOKUP(VALUE($A28),'2012-13 BL USH'!$A$14:$AG$500,5,FALSE)*100),\"Not Tested\")","v":31},{"$f":"IFERROR(IF(G28=\"N<10\",\"N<10\",VLOOKUP(VALUE($A28),'2013-14 BL USH'!$A$14:$AG$500,5,FALSE)*100),\"Not Tested\")","v":30},-1,{"$f":"IFERROR(IF(H28=\"N<10\",\"N<10\",VLOOKUP(VALUE($A28),'2012-13 BL USH'!$A$14:$AG$500,11,FALSE)*100),\"Not Tested\")","v":35},{"$f":"IFERROR(IF(J28=\"N<10\",\"N<10\",VLOOKUP(VALUE($A28),'2013-14 BL USH'!$A$14:$AA$500,11,FALSE)*100),\"Not Tested\")","v":31},-4,{"$f":"IFERROR(IF(K28=\"N<10\",\"N<10\",VLOOKUP(VALUE($A28),'2012-13 BL USH'!$A$14:$AG$500,17,FALSE)*100),\"Not Tested\")","v":30},{"$f":"IFERROR(IF(J28=\"N<10\",\"N<10\",VLOOKUP(VALUE($A28),'2013-14 BL USH'!$A$14:$AA$500,17,FALSE)*100),\"Not Tested\")","v":31},1,{"$f":"IFERROR(IF(N28=\"N<10\",\"N<10\",VLOOKUP(VALUE($A28),'2012-13 BL USH'!$A$14:$AG$500,23,FALSE)*100),\"Not Tested\")","v":31},{"$f":"IFERROR(IF(P28=\"N<10\",\"N<10\",VLOOKUP(VALUE($A28),'2013-14 BL USH'!$A$14:$AA$500,23,FALSE)*100),\"Not Tested\")","v":30},-1]
["7067","NORTH GARDENS HIGH SCHOOL",{"$f":"VLOOKUP(A29,SchList!$A$2:$C$483,2,FALSE)","v":"GREEN SPRINGS HIGH SCHOOL     "},{"$f":"IFERROR(VLOOKUP($A29,'2012 BL USH Enrollment'!$A$3:$C$500,3,FALSE),0)","v":78},{"$f":"IFERROR(VLOOKUP($A29,'2013 BL USH Enrollment'!$A$3:$C$500,3,FALSE),0)","v":39},{"$f":"IFERROR(IF(VLOOKUP(VALUE(A29),'2012-13 BL USH'!$A$14:$C$200,3,FALSE)<10,\"N<10\",IF(VLOOKUP(VALUE(A29),'2012-13 BL USH'!$A$14:$C$200,3,FALSE)>D29,100,VLOOKUP(VALUE(A29),'2012-13 BL USH'!$A$14:$C$200,3,FALSE)/D29%)),\"Not Tested\")","v":65.384615384615387},{"$f":"IFERROR(IF(VLOOKUP(VALUE(A29),'2013-14 BL USH'!$A$14:$C$200,3,FALSE)<10,\"N<10\",IF(VLOOKUP(VALUE(A29),'2013-14 BL USH'!$A$14:$C$200,3,FALSE)>E29,100,VLOOKUP(VALUE(A29),'2013-14 BL USH'!$A$14:$C$200,3,FALSE)/E29%)),\"Not Tested\")","v":64.102564102564102},{"$f":"IFERROR(IF(F29=\"N<10\",\"N<10\",VLOOKUP(VALUE($A29),'2012-13 BL USH'!$A$14:$AG$500,5,FALSE)*100),\"Not Tested\")","v":26},{"$f":"IFERROR(IF(G29=\"N<10\",\"N<10\",VLOOKUP(VALUE($A29),'2013-14 BL USH'!$A$14:$AG$500,5,FALSE)*100),\"Not Tested\")","v":27},1,{"$f":"IFERROR(IF(H29=\"N<10\",\"N<10\",VLOOKUP(VALUE($A29),'2012-13 BL USH'!$A$14:$AG$500,11,FALSE)*100),\"Not Tested\")","v":27},{"$f":"IFERROR(IF(J29=\"N<10\",\"N<10\",VLOOKUP(VALUE($A29),'2013-14 BL USH'!$A$14:$AA$500,11,FALSE)*100),\"Not Tested\")","v":21},-6,{"$f":"IFERROR(IF(K29=\"N<10\",\"N<10\",VLOOKUP(VALUE($A29),'2012-13 BL USH'!$A$14:$AG$500,17,FALSE)*100),\"Not Tested\")","v":23},{"$f":"IFERROR(IF(J29=\"N<10\",\"N<10\",VLOOKUP(VALUE($A29),'2013-14 BL USH'!$A$14:$AA$500,17,FALSE)*100),\"Not Tested\")","v":30},7,{"$f":"IFERROR(IF(N29=\"N<10\",\"N<10\",VLOOKUP(VALUE($A29),'2012-13 BL USH'!$A$14:$AG$500,23,FALSE)*100),\"Not Tested\")","v":28.999999999999996},{"$f":"IFERROR(IF(P29=\"N<10\",\"N<10\",VLOOKUP(VALUE($A29),'2013-14 BL USH'!$A$14:$AA$500,23,FALSE)*100),\"Not Tested\")","v":26},-2.9999999999999964]
["7191","MIAMI BEACH SENIOR HIGH",{"$f":"VLOOKUP(A30,SchList!$A$2:$C$483,2,FALSE)","v":"HIALEAH GARDENS SENIOR        "},{"$f":"IFERROR(VLOOKUP($A30,'2012 BL USH Enrollment'!$A$3:$C$500,3,FALSE),0)","v":541},{"$f":"IFERROR(VLOOKUP($A30,'2013 BL USH Enrollment'!$A$3:$C$500,3,FALSE),0)","v":533},{"$f":"IFERROR(IF(VLOOKUP(VALUE(A30),'2012-13 BL USH'!$A$14:$C$200,3,FALSE)<10,\"N<10\",IF(VLOOKUP(VALUE(A30),'2012-13 BL USH'!$A$14:$C$200,3,FALSE)>D30,100,VLOOKUP(VALUE(A30),'2012-13 BL USH'!$A$14:$C$200,3,FALSE)/D30%)),\"Not Tested\")","v":97.781885397412196},{"$f":"IFERROR(IF(VLOOKUP(VALUE(A30),'2013-14 BL USH'!$A$14:$C$200,3,FALSE)<10,\"N<10\",IF(VLOOKUP(VALUE(A30),'2013-14 BL USH'!$A$14:$C$200,3,FALSE)>E30,100,VLOOKUP(VALUE(A30),'2013-14 BL USH'!$A$14:$C$200,3,FALSE)/E30%)),\"Not Tested\")","v":100},{"$f":"IFERROR(IF(F30=\"N<10\",\"N<10\",VLOOKUP(VALUE($A30),'2012-13 BL USH'!$A$14:$AG$500,5,FALSE)*100),\"Not Tested\")","v":28.999999999999996},{"$f":"IFERROR(IF(G30=\"N<10\",\"N<10\",VLOOKUP(VALUE($A30),'2013-14 BL USH'!$A$14:$AG$500,5,FALSE)*100),\"Not Tested\")","v":30},1.0000000000000036,{"$f":"IFERROR(IF(H30=\"N<10\",\"N<10\",VLOOKUP(VALUE($A30),'2012-13 BL USH'!$A$14:$AG$500,11,FALSE)*100),\"Not Tested\")","v":32},{"$f":"IFERROR(IF(J30=\"N<10\",\"N<10\",VLOOKUP(VALUE($A30),'2013-14 BL USH'!$A$14:$AA$500,11,FALSE)*100),\"Not Tested\")","v":28.999999999999996},-3.0000000000000036,{"$f":"IFERROR(IF(K30=\"N<10\",\"N<10\",VLOOKUP(VALUE($A30),'2012-13 BL USH'!$A$14:$AG$500,17,FALSE)*100),\"Not Tested\")","v":28.000000000000004},{"$f":"IFERROR(IF(J30=\"N<10\",\"N<10\",VLOOKUP(VALUE($A30),'2013-14 BL USH'!$A$14:$AA$500,17,FALSE)*100),\"Not Tested\")","v":30},1.9999999999999964,{"$f":"IFERROR(IF(N30=\"N<10\",\"N<10\",VLOOKUP(VALUE($A30),'2012-13 BL USH'!$A$14:$AG$500,23,FALSE)*100),\"Not Tested\")","v":28.999999999999996},{"$f":"IFERROR(IF(P30=\"N<10\",\"N<10\",VLOOKUP(VALUE($A30),'2013-14 BL USH'!$A$14:$AA$500,23,FALSE)*100),\"Not Tested\")","v":28.999999999999996},0]
["7111","JOHN A FERGUSON SENIOR HIGH",{"$f":"VLOOKUP(A31,SchList!$A$2:$C$483,2,FALSE)","v":"HIALEAH SENIOR                "},{"$f":"IFERROR(VLOOKUP($A31,'2012 BL USH Enrollment'!$A$3:$C$500,3,FALSE),0)","v":748},{"$f":"IFERROR(VLOOKUP($A31,'2013 BL USH Enrollment'!$A$3:$C$500,3,FALSE),0)","v":730},{"$f":"IFERROR(IF(VLOOKUP(VALUE(A31),'2012-13 BL USH'!$A$14:$C$200,3,FALSE)<10,\"N<10\",IF(VLOOKUP(VALUE(A31),'2012-13 BL USH'!$A$14:$C$200,3,FALSE)>D31,100,VLOOKUP(VALUE(A31),'2012-13 BL USH'!$A$14:$C$200,3,FALSE)/D31%)),\"Not Tested\")","v":79.545454545454547},{"$f":"IFERROR(IF(VLOOKUP(VALUE(A31),'2013-14 BL USH'!$A$14:$C$200,3,FALSE)<10,\"N<10\",IF(VLOOKUP(VALUE(A31),'2013-14 BL USH'!$A$14:$C$200,3,FALSE)>E31,100,VLOOKUP(VALUE(A31),'2013-14 BL USH'!$A$14:$C$200,3,FALSE)/E31%)),\"Not Tested\")","v":84.794520547945211},{"$f":"IFERROR(IF(F31=\"N<10\",\"N<10\",VLOOKUP(VALUE($A31),'2012-13 BL USH'!$A$14:$AG$500,5,FALSE)*100),\"Not Tested\")","v":28.999999999999996},{"$f":"IFERROR(IF(G31=\"N<10\",\"N<10\",VLOOKUP(VALUE($A31),'2013-14 BL USH'!$A$14:$AG$500,5,FALSE)*100),\"Not Tested\")","v":28.000000000000004},-0.99999999999999289,{"$f":"IFERROR(IF(H31=\"N<10\",\"N<10\",VLOOKUP(VALUE($A31),'2012-13 BL USH'!$A$14:$AG$500,11,FALSE)*100),\"Not Tested\")","v":31},{"$f":"IFERROR(IF(J31=\"N<10\",\"N<10\",VLOOKUP(VALUE($A31),'2013-14 BL USH'!$A$14:$AA$500,11,FALSE)*100),\"Not Tested\")","v":26},-5,{"$f":"IFERROR(IF(K31=\"N<10\",\"N<10\",VLOOKUP(VALUE($A31),'2012-13 BL USH'!$A$14:$AG$500,17,FALSE)*100),\"Not Tested\")","v":27},{"$f":"IFERROR(IF(J31=\"N<10\",\"N<10\",VLOOKUP(VALUE($A31),'2013-14 BL USH'!$A$14:$AA$500,17,FALSE)*100),\"Not Tested\")","v":27},0,{"$f":"IFERROR(IF(N31=\"N<10\",\"N<10\",VLOOKUP(VALUE($A31),'2012-13 BL USH'!$A$14:$AG$500,23,FALSE)*100),\"Not Tested\")","v":28.999999999999996},{"$f":"IFERROR(IF(P31=\"N<10\",\"N<10\",VLOOKUP(VALUE($A31),'2013-14 BL USH'!$A$14:$AA$500,23,FALSE)*100),\"Not Tested\")","v":28.000000000000004},-0.99999999999999289]
["7131","DR MICHAEL M KROP SENIOR HIGH",{"$f":"VLOOKUP(A32,SchList!$A$2:$C$483,2,FALSE)","v":"HIALEAH-MIAMI LAKES SENIOR    "},{"$f":"IFERROR(VLOOKUP($A32,'2012 BL USH Enrollment'!$A$3:$C$500,3,FALSE),0)","v":347},{"$f":"IFERROR(VLOOKUP($A32,'2013 BL USH Enrollment'!$A$3:$C$500,3,FALSE),0)","v":360},{"$f":"IFERROR(IF(VLOOKUP(VALUE(A32),'2012-13 BL USH'!$A$14:$C$200,3,FALSE)<10,\"N<10\",IF(VLOOKUP(VALUE(A32),'2012-13 BL USH'!$A$14:$C$200,3,FALSE)>D32,100,VLOOKUP(VALUE(A32),'2012-13 BL USH'!$A$14:$C$200,3,FALSE)/D32%)),\"Not Tested\")","v":98.559077809798268},{"$f":"IFERROR(IF(VLOOKUP(VALUE(A32),'2013-14 BL USH'!$A$14:$C$200,3,FALSE)<10,\"N<10\",IF(VLOOKUP(VALUE(A32),'2013-14 BL USH'!$A$14:$C$200,3,FALSE)>E32,100,VLOOKUP(VALUE(A32),'2013-14 BL USH'!$A$14:$C$200,3,FALSE)/E32%)),\"Not Tested\")","v":99.166666666666657},{"$f":"IFERROR(IF(F32=\"N<10\",\"N<10\",VLOOKUP(VALUE($A32),'2012-13 BL USH'!$A$14:$AG$500,5,FALSE)*100),\"Not Tested\")","v":28.999999999999996},{"$f":"IFERROR(IF(G32=\"N<10\",\"N<10\",VLOOKUP(VALUE($A32),'2013-14 BL USH'!$A$14:$AG$500,5,FALSE)*100),\"Not Tested\")","v":32},3.0000000000000036,{"$f":"IFERROR(IF(H32=\"N<10\",\"N<10\",VLOOKUP(VALUE($A32),'2012-13 BL USH'!$A$14:$AG$500,11,FALSE)*100),\"Not Tested\")","v":30},{"$f":"IFERROR(IF(J32=\"N<10\",\"N<10\",VLOOKUP(VALUE($A32),'2013-14 BL USH'!$A$14:$AA$500,11,FALSE)*100),\"Not Tested\")","v":33},3,{"$f":"IFERROR(IF(K32=\"N<10\",\"N<10\",VLOOKUP(VALUE($A32),'2012-13 BL USH'!$A$14:$AG$500,17,FALSE)*100),\"Not Tested\")","v":28.000000000000004},{"$f":"IFERROR(IF(J32=\"N<10\",\"N<10\",VLOOKUP(VALUE($A32),'2013-14 BL USH'!$A$14:$AA$500,17,FALSE)*100),\"Not Tested\")","v":32},3.9999999999999964,{"$f":"IFERROR(IF(N32=\"N<10\",\"N<10\",VLOOKUP(VALUE($A32),'2012-13 BL USH'!$A$14:$AG$500,23,FALSE)*100),\"Not Tested\")","v":30},{"$f":"IFERROR(IF(P32=\"N<10\",\"N<10\",VLOOKUP(VALUE($A32),'2013-14 BL USH'!$A$14:$AA$500,23,FALSE)*100),\"Not Tested\")","v":31},1]
["7151","MATER ACADEMY CHARTER HIGH",{"$f":"VLOOKUP(A33,SchList!$A$2:$C$483,2,FALSE)","v":"HOMESTEAD SENIOR HIGH         "},{"$f":"IFERROR(VLOOKUP($A33,'2012 BL USH Enrollment'!$A$3:$C$500,3,FALSE),0)","v":407},{"$f":"IFERROR(VLOOKUP($A33,'2013 BL USH Enrollment'!$A$3:$C$500,3,FALSE),0)","v":367},{"$f":"IFERROR(IF(VLOOKUP(VALUE(A33),'2012-13 BL USH'!$A$14:$C$200,3,FALSE)<10,\"N<10\",IF(VLOOKUP(VALUE(A33),'2012-13 BL USH'!$A$14:$C$200,3,FALSE)>D33,100,VLOOKUP(VALUE(A33),'2012-13 BL USH'!$A$14:$C$200,3,FALSE)/D33%)),\"Not Tested\")","v":95.577395577395578},{"$f":"IFERROR(IF(VLOOKUP(VALUE(A33),'2013-14 BL USH'!$A$14:$C$200,3,FALSE)<10,\"N<10\",IF(VLOOKUP(VALUE(A33),'2013-14 BL USH'!$A$14:$C$200,3,FALSE)>E33,100,VLOOKUP(VALUE(A33),'2013-14 BL USH'!$A$14:$C$200,3,FALSE)/E33%)),\"Not Tested\")","v":86.103542234332423},{"$f":"IFERROR(IF(F33=\"N<10\",\"N<10\",VLOOKUP(VALUE($A33),'2012-13 BL USH'!$A$14:$AG$500,5,FALSE)*100),\"Not Tested\")","v":30},{"$f":"IFERROR(IF(G33=\"N<10\",\"N<10\",VLOOKUP(VALUE($A33),'2013-14 BL USH'!$A$14:$AG$500,5,FALSE)*100),\"Not Tested\")","v":30},0,{"$f":"IFERROR(IF(H33=\"N<10\",\"N<10\",VLOOKUP(VALUE($A33),'2012-13 BL USH'!$A$14:$AG$500,11,FALSE)*100),\"Not Tested\")","v":32},{"$f":"IFERROR(IF(J33=\"N<10\",\"N<10\",VLOOKUP(VALUE($A33),'2013-14 BL USH'!$A$14:$AA$500,11,FALSE)*100),\"Not Tested\")","v":32},0,{"$f":"IFERROR(IF(K33=\"N<10\",\"N<10\",VLOOKUP(VALUE($A33),'2012-13 BL USH'!$A$14:$AG$500,17,FALSE)*100),\"Not Tested\")","v":28.999999999999996},{"$f":"IFERROR(IF(J33=\"N<10\",\"N<10\",VLOOKUP(VALUE($A33),'2013-14 BL USH'!$A$14:$AA$500,17,FALSE)*100),\"Not Tested\")","v":28.999999999999996},0,{"$f":"IFERROR(IF(N33=\"N<10\",\"N<10\",VLOOKUP(VALUE($A33),'2012-13 BL USH'!$A$14:$AG$500,23,FALSE)*100),\"Not Tested\")","v":28.999999999999996},{"$f":"IFERROR(IF(P33=\"N<10\",\"N<10\",VLOOKUP(VALUE($A33),'2013-14 BL USH'!$A$14:$AA$500,23,FALSE)*100),\"Not Tested\")","v":28.999999999999996},0]
["7030","PALM GLADES PREP HIGH SCHOOL",{"$f":"VLOOKUP(A34,SchList!$A$2:$C$483,2,FALSE)","v":"INTEGRATED ACADEMICS (SIATECH)"},{"$f":"IFERROR(VLOOKUP($A34,'2012 BL USH Enrollment'!$A$3:$C$500,3,FALSE),0)","v":46},{"$f":"IFERROR(VLOOKUP($A34,'2013 BL USH Enrollment'!$A$3:$C$500,3,FALSE),0)","v":18},{"$f":"IFERROR(IF(VLOOKUP(VALUE(A34),'2012-13 BL USH'!$A$14:$C$200,3,FALSE)<10,\"N<10\",IF(VLOOKUP(VALUE(A34),'2012-13 BL USH'!$A$14:$C$200,3,FALSE)>D34,100,VLOOKUP(VALUE(A34),'2012-13 BL USH'!$A$14:$C$200,3,FALSE)/D34%)),\"Not Tested\")","v":"Not Tested"},{"$f":"IFERROR(IF(VLOOKUP(VALUE(A34),'2013-14 BL USH'!$A$14:$C$200,3,FALSE)<10,\"N<10\",IF(VLOOKUP(VALUE(A34),'2013-14 BL USH'!$A$14:$C$200,3,FALSE)>E34,100,VLOOKUP(VALUE(A34),'2013-14 BL USH'!$A$14:$C$200,3,FALSE)/E34%)),\"Not Tested\")","v":"Not Tested"},{"$f":"IFERROR(IF(F34=\"N<10\",\"N<10\",VLOOKUP(VALUE($A34),'2012-13 BL USH'!$A$14:$AG$500,5,FALSE)*100),\"Not Tested\")","v":"Not Tested"},{"$f":"IFERROR(IF(G34=\"N<10\",\"N<10\",VLOOKUP(VALUE($A34),'2013-14 BL USH'!$A$14:$AG$500,5,FALSE)*100),\"Not Tested\")","v":"Not Tested"},"",{"$f":"IFERROR(IF(H34=\"N<10\",\"N<10\",VLOOKUP(VALUE($A34),'2012-13 BL USH'!$A$14:$AG$500,11,FALSE)*100),\"Not Tested\")","v":"Not Tested"},{"$f":"IFERROR(IF(J34=\"N<10\",\"N<10\",VLOOKUP(VALUE($A34),'2013-14 BL USH'!$A$14:$AA$500,11,FALSE)*100),\"Not Tested\")","v":"Not Tested"},"",{"$f":"IFERROR(IF(K34=\"N<10\",\"N<10\",VLOOKUP(VALUE($A34),'2012-13 BL USH'!$A$14:$AG$500,17,FALSE)*100),\"Not Tested\")","v":"Not Tested"},{"$f":"IFERROR(IF(J34=\"N<10\",\"N<10\",VLOOKUP(VALUE($A34),'2013-14 BL USH'!$A$14:$AA$500,17,FALSE)*100),\"Not Tested\")","v":"Not Tested"},"",{"$f":"IFERROR(IF(N34=\"N<10\",\"N<10\",VLOOKUP(VALUE($A34),'2012-13 BL USH'!$A$14:$AG$500,23,FALSE)*100),\"Not Tested\")","v":"Not Tested"},{"$f":"IFERROR(IF(P34=\"N<10\",\"N<10\",VLOOKUP(VALUE($A34),'2013-14 BL USH'!$A$14:$AA$500,23,FALSE)*100),\"Not Tested\")","v":"Not Tested"},""]
["7571","IPREPARATORY ACADEMY",{"$f":"VLOOKUP(A35,SchList!$A$2:$C$483,2,FALSE)","v":"INTL STUDIES PREP ACADEMY     "},{"$f":"IFERROR(VLOOKUP($A35,'2012 BL USH Enrollment'!$A$3:$C$500,3,FALSE),0)","v":25},{"$f":"IFERROR(VLOOKUP($A35,'2013 BL USH Enrollment'!$A$3:$C$500,3,FALSE),0)","v":3},{"$f":"IFERROR(IF(VLOOKUP(VALUE(A35),'2012-13 BL USH'!$A$14:$C$200,3,FALSE)<10,\"N<10\",IF(VLOOKUP(VALUE(A35),'2012-13 BL USH'!$A$14:$C$200,3,FALSE)>D35,100,VLOOKUP(VALUE(A35),'2012-13 BL USH'!$A$14:$C$200,3,FALSE)/D35%)),\"Not Tested\")","v":96},{"$f":"IFERROR(IF(VLOOKUP(VALUE(A35),'2013-14 BL USH'!$A$14:$C$200,3,FALSE)<10,\"N<10\",IF(VLOOKUP(VALUE(A35),'2013-14 BL USH'!$A$14:$C$200,3,FALSE)>E35,100,VLOOKUP(VALUE(A35),'2013-14 BL USH'!$A$14:$C$200,3,FALSE)/E35%)),\"Not Tested\")","v":100},{"$f":"IFERROR(IF(F35=\"N<10\",\"N<10\",VLOOKUP(VALUE($A35),'2012-13 BL USH'!$A$14:$AG$500,5,FALSE)*100),\"Not Tested\")","v":35},{"$f":"IFERROR(IF(G35=\"N<10\",\"N<10\",VLOOKUP(VALUE($A35),'2013-14 BL USH'!$A$14:$AG$500,5,FALSE)*100),\"Not Tested\")","v":38},{"$f":"IFERROR(I35-H35,\"\")","v":3},{"$f":"IFERROR(IF(H35=\"N<10\",\"N<10\",VLOOKUP(VALUE($A35),'2012-13 BL USH'!$A$14:$AG$500,11,FALSE)*100),\"Not Tested\")","v":40},{"$f":"IFERROR(IF(J35=\"N<10\",\"N<10\",VLOOKUP(VALUE($A35),'2013-14 BL USH'!$A$14:$AA$500,11,FALSE)*100),\"Not Tested\")","v":42},{"$f":"IFERROR(L35-K35,\"\")","v":2},{"$f":"IFERROR(IF(K35=\"N<10\",\"N<10\",VLOOKUP(VALUE($A35),'2012-13 BL USH'!$A$14:$AG$500,17,FALSE)*100),\"Not Tested\")","v":33},{"$f":"IFERROR(IF(J35=\"N<10\",\"N<10\",VLOOKUP(VALUE($A35),'2013-14 BL USH'!$A$14:$AA$500,17,FALSE)*100),\"Not Tested\")","v":39},{"$f":"IFERROR(O35-N35,\"\")","v":6},{"$f":"IFERROR(IF(N35=\"N<10\",\"N<10\",VLOOKUP(VALUE($A35),'2012-13 BL USH'!$A$14:$AG$500,23,FALSE)*100),\"Not Tested\")","v":35},{"$f":"IFERROR(IF(P35=\"N<10\",\"N<10\",VLOOKUP(VALUE($A35),'2013-14 BL USH'!$A$14:$AA$500,23,FALSE)*100),\"Not Tested\")","v":37},{"$f":"IFERROR(R35-Q35,\"\")","v":2}]
["7007","DORAL PERFORMING ARTS ACADEMY",{"$f":"VLOOKUP(A36,SchList!$A$2:$C$483,2,FALSE)","v":"INTL. STUDIES CHARTER SENIOR  "},{"$f":"IFERROR(VLOOKUP($A36,'2012 BL USH Enrollment'!$A$3:$C$500,3,FALSE),0)","v":94},{"$f":"IFERROR(VLOOKUP($A36,'2013 BL USH Enrollment'!$A$3:$C$500,3,FALSE),0)","v":83},{"$f":"IFERROR(IF(VLOOKUP(VALUE(A36),'2012-13 BL USH'!$A$14:$C$200,3,FALSE)<10,\"N<10\",IF(VLOOKUP(VALUE(A36),'2012-13 BL USH'!$A$14:$C$200,3,FALSE)>D36,100,VLOOKUP(VALUE(A36),'2012-13 BL USH'!$A$14:$C$200,3,FALSE)/D36%)),\"Not Tested\")","v":100},{"$f":"IFERROR(IF(VLOOKUP(VALUE(A36),'2013-14 BL USH'!$A$14:$C$200,3,FALSE)<10,\"N<10\",IF(VLOOKUP(VALUE(A36),'2013-14 BL USH'!$A$14:$C$200,3,FALSE)>E36,100,VLOOKUP(VALUE(A36),'2013-14 BL USH'!$A$14:$C$200,3,FALSE)/E36%)),\"Not Tested\")","v":96.385542168674704},{"$f":"IFERROR(IF(F36=\"N<10\",\"N<10\",VLOOKUP(VALUE($A36),'2012-13 BL USH'!$A$14:$AG$500,5,FALSE)*100),\"Not Tested\")","v":35},{"$f":"IFERROR(IF(G36=\"N<10\",\"N<10\",VLOOKUP(VALUE($A36),'2013-14 BL USH'!$A$14:$AG$500,5,FALSE)*100),\"Not Tested\")","v":37},2,{"$f":"IFERROR(IF(H36=\"N<10\",\"N<10\",VLOOKUP(VALUE($A36),'2012-13 BL USH'!$A$14:$AG$500,11,FALSE)*100),\"Not Tested\")","v":45},{"$f":"IFERROR(IF(J36=\"N<10\",\"N<10\",VLOOKUP(VALUE($A36),'2013-14 BL USH'!$A$14:$AA$500,11,FALSE)*100),\"Not Tested\")","v":40},-5,{"$f":"IFERROR(IF(K36=\"N<10\",\"N<10\",VLOOKUP(VALUE($A36),'2012-13 BL USH'!$A$14:$AG$500,17,FALSE)*100),\"Not Tested\")","v":35},{"$f":"IFERROR(IF(J36=\"N<10\",\"N<10\",VLOOKUP(VALUE($A36),'2013-14 BL USH'!$A$14:$AA$500,17,FALSE)*100),\"Not Tested\")","v":40},5,{"$f":"IFERROR(IF(N36=\"N<10\",\"N<10\",VLOOKUP(VALUE($A36),'2012-13 BL USH'!$A$14:$AG$500,23,FALSE)*100),\"Not Tested\")","v":33},{"$f":"IFERROR(IF(P36=\"N<10\",\"N<10\",VLOOKUP(VALUE($A36),'2013-14 BL USH'!$A$14:$AA$500,23,FALSE)*100),\"Not Tested\")","v":35},2]
["7581","NORTH MIAMI SENIOR HIGH",{"$f":"VLOOKUP(A37,SchList!$A$2:$C$483,2,FALSE)","v":"IPREPARATORY ACADEMY          "},{"$f":"IFERROR(VLOOKUP($A37,'2012 BL USH Enrollment'!$A$3:$C$500,3,FALSE),0)","v":0},{"$f":"IFERROR(VLOOKUP($A37,'2013 BL USH Enrollment'!$A$3:$C$500,3,FALSE),0)","v":24},{"$f":"IFERROR(IF(VLOOKUP(VALUE(A37),'2012-13 BL USH'!$A$14:$C$200,3,FALSE)<10,\"N<10\",IF(VLOOKUP(VALUE(A37),'2012-13 BL USH'!$A$14:$C$200,3,FALSE)>D37,100,VLOOKUP(VALUE(A37),'2012-13 BL USH'!$A$14:$C$200,3,FALSE)/D37%)),\"Not Tested\")","v":"Not Tested"},{"$f":"IFERROR(IF(VLOOKUP(VALUE(A37),'2013-14 BL USH'!$A$14:$C$200,3,FALSE)<10,\"N<10\",IF(VLOOKUP(VALUE(A37),'2013-14 BL USH'!$A$14:$C$200,3,FALSE)>E37,100,VLOOKUP(VALUE(A37),'2013-14 BL USH'!$A$14:$C$200,3,FALSE)/E37%)),\"Not Tested\")","v":100},{"$f":"IFERROR(IF(F37=\"N<10\",\"N<10\",VLOOKUP(VALUE($A37),'2012-13 BL USH'!$A$14:$AG$500,5,FALSE)*100),\"Not Tested\")","v":"Not Tested"},{"$f":"IFERROR(IF(G37=\"N<10\",\"N<10\",VLOOKUP(VALUE($A37),'2013-14 BL USH'!$A$14:$AG$500,5,FALSE)*100),\"Not Tested\")","v":40},"",{"$f":"IFERROR(IF(H37=\"N<10\",\"N<10\",VLOOKUP(VALUE($A37),'2012-13 BL USH'!$A$14:$AG$500,11,FALSE)*100),\"Not Tested\")","v":"Not Tested"},{"$f":"IFERROR(IF(J37=\"N<10\",\"N<10\",VLOOKUP(VALUE($A37),'2013-14 BL USH'!$A$14:$AA$500,11,FALSE)*100),\"Not Tested\")","v":46},"",{"$f":"IFERROR(IF(K37=\"N<10\",\"N<10\",VLOOKUP(VALUE($A37),'2012-13 BL USH'!$A$14:$AG$500,17,FALSE)*100),\"Not Tested\")","v":"Not Tested"},{"$f":"IFERROR(IF(J37=\"N<10\",\"N<10\",VLOOKUP(VALUE($A37),'2013-14 BL USH'!$A$14:$AA$500,17,FALSE)*100),\"Not Tested\")","v":40},"",{"$f":"IFERROR(IF(N37=\"N<10\",\"N<10\",VLOOKUP(VALUE($A37),'2012-13 BL USH'!$A$14:$AG$500,23,FALSE)*100),\"Not Tested\")","v":"Not Tested"},{"$f":"IFERROR(IF(P37=\"N<10\",\"N<10\",VLOOKUP(VALUE($A37),'2013-14 BL USH'!$A$14:$AA$500,23,FALSE)*100),\"Not Tested\")","v":38},""]
["8101","COPE CENTER NORTH",{"$f":"VLOOKUP(A38,SchList!$A$2:$C$483,2,FALSE)","v":"JAN MANN OPPORTUNITY SCHOOL   "},{"$f":"IFERROR(VLOOKUP($A38,'2012 BL USH Enrollment'!$A$3:$C$500,3,FALSE),0)","v":3},{"$f":"IFERROR(VLOOKUP($A38,'2013 BL USH Enrollment'!$A$3:$C$500,3,FALSE),0)","v":8},{"$f":"IFERROR(IF(VLOOKUP(VALUE(A38),'2012-13 BL USH'!$A$14:$C$200,3,FALSE)<10,\"N<10\",IF(VLOOKUP(VALUE(A38),'2012-13 BL USH'!$A$14:$C$200,3,FALSE)>D38,100,VLOOKUP(VALUE(A38),'2012-13 BL USH'!$A$14:$C$200,3,FALSE)/D38%)),\"Not Tested\")","v":"Not Tested"},{"$f":"IFERROR(IF(VLOOKUP(VALUE(A38),'2013-14 BL USH'!$A$14:$C$200,3,FALSE)<10,\"N<10\",IF(VLOOKUP(VALUE(A38),'2013-14 BL USH'!$A$14:$C$200,3,FALSE)>E38,100,VLOOKUP(VALUE(A38),'2013-14 BL USH'!$A$14:$C$200,3,FALSE)/E38%)),\"Not Tested\")","v":"N<10"},{"$f":"IFERROR(IF(F38=\"N<10\",\"N<10\",VLOOKUP(VALUE($A38),'2012-13 BL USH'!$A$14:$AG$500,5,FALSE)*100),\"Not Tested\")","v":"Not Tested"},{"$f":"IFERROR(IF(G38=\"N<10\",\"N<10\",VLOOKUP(VALUE($A38),'2013-14 BL USH'!$A$14:$AG$500,5,FALSE)*100),\"Not Tested\")","v":"N<10"},"",{"$f":"IFERROR(IF(H38=\"N<10\",\"N<10\",VLOOKUP(VALUE($A38),'2012-13 BL USH'!$A$14:$AG$500,11,FALSE)*100),\"Not Tested\")","v":"Not Tested"},{"$f":"IFERROR(IF(J38=\"N<10\",\"N<10\",VLOOKUP(VALUE($A38),'2013-14 BL USH'!$A$14:$AA$500,11,FALSE)*100),\"Not Tested\")","v":13},"",{"$f":"IFERROR(IF(K38=\"N<10\",\"N<10\",VLOOKUP(VALUE($A38),'2012-13 BL USH'!$A$14:$AG$500,17,FALSE)*100),\"Not Tested\")","v":"Not Tested"},{"$f":"IFERROR(IF(J38=\"N<10\",\"N<10\",VLOOKUP(VALUE($A38),'2013-14 BL USH'!$A$14:$AA$500,17,FALSE)*100),\"Not Tested\")","v":25},"",{"$f":"IFERROR(IF(N38=\"N<10\",\"N<10\",VLOOKUP(VALUE($A38),'2012-13 BL USH'!$A$14:$AG$500,23,FALSE)*100),\"Not Tested\")","v":"Not Tested"},{"$f":"IFERROR(IF(P38=\"N<10\",\"N<10\",VLOOKUP(VALUE($A38),'2013-14 BL USH'!$A$14:$AA$500,23,FALSE)*100),\"Not Tested\")","v":28.000000000000004},""]
["7121","HIALEAH-MIAMI LAKES SENIOR",{"$f":"VLOOKUP(A39,SchList!$A$2:$C$483,2,FALSE)","v":"JOHN A FERGUSON SENIOR HIGH   "},{"$f":"IFERROR(VLOOKUP($A39,'2012 BL USH Enrollment'!$A$3:$C$500,3,FALSE),0)","v":877},{"$f":"IFERROR(VLOOKUP($A39,'2013 BL USH Enrollment'!$A$3:$C$500,3,FALSE),0)","v":779},{"$f":"IFERROR(IF(VLOOKUP(VALUE(A39),'2012-13 BL USH'!$A$14:$C$200,3,FALSE)<10,\"N<10\",IF(VLOOKUP(VALUE(A39),'2012-13 BL USH'!$A$14:$C$200,3,FALSE)>D39,100,VLOOKUP(VALUE(A39),'2012-13 BL USH'!$A$14:$C$200,3,FALSE)/D39%)),\"Not Tested\")","v":99.771949828962377},{"$f":"IFERROR(IF(VLOOKUP(VALUE(A39),'2013-14 BL USH'!$A$14:$C$200,3,FALSE)<10,\"N<10\",IF(VLOOKUP(VALUE(A39),'2013-14 BL USH'!$A$14:$C$200,3,FALSE)>E39,100,VLOOKUP(VALUE(A39),'2013-14 BL USH'!$A$14:$C$200,3,FALSE)/E39%)),\"Not Tested\")","v":97.817715019255459},{"$f":"IFERROR(IF(F39=\"N<10\",\"N<10\",VLOOKUP(VALUE($A39),'2012-13 BL USH'!$A$14:$AG$500,5,FALSE)*100),\"Not Tested\")","v":32},{"$f":"IFERROR(IF(G39=\"N<10\",\"N<10\",VLOOKUP(VALUE($A39),'2013-14 BL USH'!$A$14:$AG$500,5,FALSE)*100),\"Not Tested\")","v":32},0,{"$f":"IFERROR(IF(H39=\"N<10\",\"N<10\",VLOOKUP(VALUE($A39),'2012-13 BL USH'!$A$14:$AG$500,11,FALSE)*100),\"Not Tested\")","v":37},{"$f":"IFERROR(IF(J39=\"N<10\",\"N<10\",VLOOKUP(VALUE($A39),'2013-14 BL USH'!$A$14:$AA$500,11,FALSE)*100),\"Not Tested\")","v":34},-3,{"$f":"IFERROR(IF(K39=\"N<10\",\"N<10\",VLOOKUP(VALUE($A39),'2012-13 BL USH'!$A$14:$AG$500,17,FALSE)*100),\"Not Tested\")","v":31},{"$f":"IFERROR(IF(J39=\"N<10\",\"N<10\",VLOOKUP(VALUE($A39),'2013-14 BL USH'!$A$14:$AA$500,17,FALSE)*100),\"Not Tested\")","v":33},2,{"$f":"IFERROR(IF(N39=\"N<10\",\"N<10\",VLOOKUP(VALUE($A39),'2012-13 BL USH'!$A$14:$AG$500,23,FALSE)*100),\"Not Tested\")","v":31},{"$f":"IFERROR(IF(P39=\"N<10\",\"N<10\",VLOOKUP(VALUE($A39),'2013-14 BL USH'!$A$14:$AA$500,23,FALSE)*100),\"Not Tested\")","v":31},0]
["7291","MIAMI EDISON SENIOR HIGH",{"$f":"VLOOKUP(A40,SchList!$A$2:$C$483,2,FALSE)","v":"JOSE MARTI MAST 6-12 ACADEMY  "},{"$f":"IFERROR(VLOOKUP($A40,'2012 BL USH Enrollment'!$A$3:$C$500,3,FALSE),0)","v":0},{"$f":"IFERROR(VLOOKUP($A40,'2013 BL USH Enrollment'!$A$3:$C$500,3,FALSE),0)","v":41},{"$f":"IFERROR(IF(VLOOKUP(VALUE(A40),'2012-13 BL USH'!$A$14:$C$200,3,FALSE)<10,\"N<10\",IF(VLOOKUP(VALUE(A40),'2012-13 BL USH'!$A$14:$C$200,3,FALSE)>D40,100,VLOOKUP(VALUE(A40),'2012-13 BL USH'!$A$14:$C$200,3,FALSE)/D40%)),\"Not Tested\")","v":"Not Tested"},{"$f":"IFERROR(IF(VLOOKUP(VALUE(A40),'2013-14 BL USH'!$A$14:$C$200,3,FALSE)<10,\"N<10\",IF(VLOOKUP(VALUE(A40),'2013-14 BL USH'!$A$14:$C$200,3,FALSE)>E40,100,VLOOKUP(VALUE(A40),'2013-14 BL USH'!$A$14:$C$200,3,FALSE)/E40%)),\"Not Tested\")","v":100},{"$f":"IFERROR(IF(F40=\"N<10\",\"N<10\",VLOOKUP(VALUE($A40),'2012-13 BL USH'!$A$14:$AG$500,5,FALSE)*100),\"Not Tested\")","v":"Not Tested"},{"$f":"IFERROR(IF(G40=\"N<10\",\"N<10\",VLOOKUP(VALUE($A40),'2013-14 BL USH'!$A$14:$AG$500,5,FALSE)*100),\"Not Tested\")","v":43},"",{"$f":"IFERROR(IF(H40=\"N<10\",\"N<10\",VLOOKUP(VALUE($A40),'2012-13 BL USH'!$A$14:$AG$500,11,FALSE)*100),\"Not Tested\")","v":"Not Tested"},{"$f":"IFERROR(IF(J40=\"N<10\",\"N<10\",VLOOKUP(VALUE($A40),'2013-14 BL USH'!$A$14:$AA$500,11,FALSE)*100),\"Not Tested\")","v":50},"",{"$f":"IFERROR(IF(K40=\"N<10\",\"N<10\",VLOOKUP(VALUE($A40),'2012-13 BL USH'!$A$14:$AG$500,17,FALSE)*100),\"Not Tested\")","v":"Not Tested"},{"$f":"IFERROR(IF(J40=\"N<10\",\"N<10\",VLOOKUP(VALUE($A40),'2013-14 BL USH'!$A$14:$AA$500,17,FALSE)*100),\"Not Tested\")","v":43},"",{"$f":"IFERROR(IF(N40=\"N<10\",\"N<10\",VLOOKUP(VALUE($A40),'2012-13 BL USH'!$A$14:$AG$500,23,FALSE)*100),\"Not Tested\")","v":"Not Tested"},{"$f":"IFERROR(IF(P40=\"N<10\",\"N<10\",VLOOKUP(VALUE($A40),'2013-14 BL USH'!$A$14:$AA$500,23,FALSE)*100),\"Not Tested\")","v":40},""]
["8141","ROBERT RENICK EDUCATION CTR",{"$f":"VLOOKUP(A41,SchList!$A$2:$C$483,2,FALSE)","v":"JUVENILE JUSTICE CENTER       "},{"$f":"IFERROR(VLOOKUP($A41,'2012 BL USH Enrollment'!$A$3:$C$500,3,FALSE),0)","v":13},{"$f":"IFERROR(VLOOKUP($A41,'2013 BL USH Enrollment'!$A$3:$C$500,3,FALSE),0)","v":19},{"$f":"IFERROR(IF(VLOOKUP(VALUE(A41),'2012-13 BL USH'!$A$14:$C$200,3,FALSE)<10,\"N<10\",IF(VLOOKUP(VALUE(A41),'2012-13 BL USH'!$A$14:$C$200,3,FALSE)>D41,100,VLOOKUP(VALUE(A41),'2012-13 BL USH'!$A$14:$C$200,3,FALSE)/D41%)),\"Not Tested\")","v":"N<10"},{"$f":"IFERROR(IF(VLOOKUP(VALUE(A41),'2013-14 BL USH'!$A$14:$C$200,3,FALSE)<10,\"N<10\",IF(VLOOKUP(VALUE(A41),'2013-14 BL USH'!$A$14:$C$200,3,FALSE)>E41,100,VLOOKUP(VALUE(A41),'2013-14 BL USH'!$A$14:$C$200,3,FALSE)/E41%)),\"Not Tested\")","v":78.94736842105263},{"$f":"IFERROR(IF(F41=\"N<10\",\"N<10\",VLOOKUP(VALUE($A41),'2012-13 BL USH'!$A$14:$AG$500,5,FALSE)*100),\"Not Tested\")","v":"N<10"},{"$f":"IFERROR(IF(G41=\"N<10\",\"N<10\",VLOOKUP(VALUE($A41),'2013-14 BL USH'!$A$14:$AG$500,5,FALSE)*100),\"Not Tested\")","v":22},"",{"$f":"IFERROR(IF(H41=\"N<10\",\"N<10\",VLOOKUP(VALUE($A41),'2012-13 BL USH'!$A$14:$AG$500,11,FALSE)*100),\"Not Tested\")","v":"N<10"},{"$f":"IFERROR(IF(J41=\"N<10\",\"N<10\",VLOOKUP(VALUE($A41),'2013-14 BL USH'!$A$14:$AA$500,11,FALSE)*100),\"Not Tested\")","v":22},"",{"$f":"IFERROR(IF(K41=\"N<10\",\"N<10\",VLOOKUP(VALUE($A41),'2012-13 BL USH'!$A$14:$AG$500,17,FALSE)*100),\"Not Tested\")","v":"N<10"},{"$f":"IFERROR(IF(J41=\"N<10\",\"N<10\",VLOOKUP(VALUE($A41),'2013-14 BL USH'!$A$14:$AA$500,17,FALSE)*100),\"Not Tested\")","v":24},"",{"$f":"IFERROR(IF(N41=\"N<10\",\"N<10\",VLOOKUP(VALUE($A41),'2012-13 BL USH'!$A$14:$AG$500,23,FALSE)*100),\"Not Tested\")","v":"N<10"},{"$f":"IFERROR(IF(P41=\"N<10\",\"N<10\",VLOOKUP(VALUE($A41),'2013-14 BL USH'!$A$14:$AA$500,23,FALSE)*100),\"Not Tested\")","v":20},""]
["7050","G. HOLMES BRADDOCK SENIOR HIGH",{"$f":"VLOOKUP(A42,SchList!$A$2:$C$483,2,FALSE)","v":"KEYS GATE CHARTER HIGH SCHL"},{"$f":"IFERROR(VLOOKUP($A42,'2012 BL USH Enrollment'!$A$3:$C$500,3,FALSE),0)","v":147},{"$f":"IFERROR(VLOOKUP($A42,'2013 BL USH Enrollment'!$A$3:$C$500,3,FALSE),0)","v":179},{"$f":"IFERROR(IF(VLOOKUP(VALUE(A42),'2012-13 BL USH'!$A$14:$C$200,3,FALSE)<10,\"N<10\",IF(VLOOKUP(VALUE(A42),'2012-13 BL USH'!$A$14:$C$200,3,FALSE)>D42,100,VLOOKUP(VALUE(A42),'2012-13 BL USH'!$A$14:$C$200,3,FALSE)/D42%)),\"Not Tested\")","v":100},{"$f":"IFERROR(IF(VLOOKUP(VALUE(A42),'2013-14 BL USH'!$A$14:$C$200,3,FALSE)<10,\"N<10\",IF(VLOOKUP(VALUE(A42),'2013-14 BL USH'!$A$14:$C$200,3,FALSE)>E42,100,VLOOKUP(VALUE(A42),'2013-14 BL USH'!$A$14:$C$200,3,FALSE)/E42%)),\"Not Tested\")","v":"Not Tested"},{"$f":"IFERROR(IF(F42=\"N<10\",\"N<10\",VLOOKUP(VALUE($A42),'2012-13 BL USH'!$A$14:$AG$500,5,FALSE)*100),\"Not Tested\")","v":32},{"$f":"IFERROR(IF(G42=\"N<10\",\"N<10\",VLOOKUP(VALUE($A42),'2013-14 BL USH'!$A$14:$AG$500,5,FALSE)*100),\"Not Tested\")","v":"Not Tested"},"",{"$f":"IFERROR(IF(H42=\"N<10\",\"N<10\",VLOOKUP(VALUE($A42),'2012-13 BL USH'!$A$14:$AG$500,11,FALSE)*100),\"Not Tested\")","v":37},{"$f":"IFERROR(IF(J42=\"N<10\",\"N<10\",VLOOKUP(VALUE($A42),'2013-14 BL USH'!$A$14:$AA$500,11,FALSE)*100),\"Not Tested\")","v":"Not Tested"},"",{"$f":"IFERROR(IF(K42=\"N<10\",\"N<10\",VLOOKUP(VALUE($A42),'2012-13 BL USH'!$A$14:$AG$500,17,FALSE)*100),\"Not Tested\")","v":32},{"$f":"IFERROR(IF(J42=\"N<10\",\"N<10\",VLOOKUP(VALUE($A42),'2013-14 BL USH'!$A$14:$AA$500,17,FALSE)*100),\"Not Tested\")","v":"Not Tested"},"",{"$f":"IFERROR(IF(N42=\"N<10\",\"N<10\",VLOOKUP(VALUE($A42),'2012-13 BL USH'!$A$14:$AG$500,23,FALSE)*100),\"Not Tested\")","v":30},{"$f":"IFERROR(IF(P42=\"N<10\",\"N<10\",VLOOKUP(VALUE($A42),'2013-14 BL USH'!$A$14:$AA$500,23,FALSE)*100),\"Not Tested\")","v":"Not Tested"},""]
["7033","SOMERSET ACAD HIGH SOUTH-HMSTD",{"$f":"VLOOKUP(A43,SchList!$A$2:$C$483,2,FALSE)","v":"LAW ENFORCEMENT OFFICERS HS   "},{"$f":"IFERROR(VLOOKUP($A43,'2012 BL USH Enrollment'!$A$3:$C$500,3,FALSE),0)","v":52},{"$f":"IFERROR(VLOOKUP($A43,'2013 BL USH Enrollment'!$A$3:$C$500,3,FALSE),0)","v":62},{"$f":"IFERROR(IF(VLOOKUP(VALUE(A43),'2012-13 BL USH'!$A$14:$C$200,3,FALSE)<10,\"N<10\",IF(VLOOKUP(VALUE(A43),'2012-13 BL USH'!$A$14:$C$200,3,FALSE)>D43,100,VLOOKUP(VALUE(A43),'2012-13 BL USH'!$A$14:$C$200,3,FALSE)/D43%)),\"Not Tested\")","v":100},{"$f":"IFERROR(IF(VLOOKUP(VALUE(A43),'2013-14 BL USH'!$A$14:$C$200,3,FALSE)<10,\"N<10\",IF(VLOOKUP(VALUE(A43),'2013-14 BL USH'!$A$14:$C$200,3,FALSE)>E43,100,VLOOKUP(VALUE(A43),'2013-14 BL USH'!$A$14:$C$200,3,FALSE)/E43%)),\"Not Tested\")","v":96.774193548387103},{"$f":"IFERROR(IF(F43=\"N<10\",\"N<10\",VLOOKUP(VALUE($A43),'2012-13 BL USH'!$A$14:$AG$500,5,FALSE)*100),\"Not Tested\")","v":37},{"$f":"IFERROR(IF(G43=\"N<10\",\"N<10\",VLOOKUP(VALUE($A43),'2013-14 BL USH'!$A$14:$AG$500,5,FALSE)*100),\"Not Tested\")","v":39},2,{"$f":"IFERROR(IF(H43=\"N<10\",\"N<10\",VLOOKUP(VALUE($A43),'2012-13 BL USH'!$A$14:$AG$500,11,FALSE)*100),\"Not Tested\")","v":43},{"$f":"IFERROR(IF(J43=\"N<10\",\"N<10\",VLOOKUP(VALUE($A43),'2013-14 BL USH'!$A$14:$AA$500,11,FALSE)*100),\"Not Tested\")","v":41},-2,{"$f":"IFERROR(IF(K43=\"N<10\",\"N<10\",VLOOKUP(VALUE($A43),'2012-13 BL USH'!$A$14:$AG$500,17,FALSE)*100),\"Not Tested\")","v":37},{"$f":"IFERROR(IF(J43=\"N<10\",\"N<10\",VLOOKUP(VALUE($A43),'2013-14 BL USH'!$A$14:$AA$500,17,FALSE)*100),\"Not Tested\")","v":41},4,{"$f":"IFERROR(IF(N43=\"N<10\",\"N<10\",VLOOKUP(VALUE($A43),'2012-13 BL USH'!$A$14:$AG$500,23,FALSE)*100),\"Not Tested\")","v":34},{"$f":"IFERROR(IF(P43=\"N<10\",\"N<10\",VLOOKUP(VALUE($A43),'2013-14 BL USH'!$A$14:$AA$500,23,FALSE)*100),\"Not Tested\")","v":36},2]
["7036","MATER ACADEMY EAST HIGH SCHOOL",{"$f":"VLOOKUP(A44,SchList!$A$2:$C$483,2,FALSE)","v":"LAWRENCE ACADEMY SENIOR       "},{"$f":"IFERROR(VLOOKUP($A44,'2012 BL USH Enrollment'!$A$3:$C$500,3,FALSE),0)","v":18},{"$f":"IFERROR(VLOOKUP($A44,'2013 BL USH Enrollment'!$A$3:$C$500,3,FALSE),0)","v":7},{"$f":"IFERROR(IF(VLOOKUP(VALUE(A44),'2012-13 BL USH'!$A$14:$C$200,3,FALSE)<10,\"N<10\",IF(VLOOKUP(VALUE(A44),'2012-13 BL USH'!$A$14:$C$200,3,FALSE)>D44,100,VLOOKUP(VALUE(A44),'2012-13 BL USH'!$A$14:$C$200,3,FALSE)/D44%)),\"Not Tested\")","v":88.888888888888886},{"$f":"IFERROR(IF(VLOOKUP(VALUE(A44),'2013-14 BL USH'!$A$14:$C$200,3,FALSE)<10,\"N<10\",IF(VLOOKUP(VALUE(A44),'2013-14 BL USH'!$A$14:$C$200,3,FALSE)>E44,100,VLOOKUP(VALUE(A44),'2013-14 BL USH'!$A$14:$C$200,3,FALSE)/E44%)),\"Not Tested\")","v":"N<10"},{"$f":"IFERROR(IF(F44=\"N<10\",\"N<10\",VLOOKUP(VALUE($A44),'2012-13 BL USH'!$A$14:$AG$500,5,FALSE)*100),\"Not Tested\")","v":33},{"$f":"IFERROR(IF(G44=\"N<10\",\"N<10\",VLOOKUP(VALUE($A44),'2013-14 BL USH'!$A$14:$AG$500,5,FALSE)*100),\"Not Tested\")","v":"N<10"},"",{"$f":"IFERROR(IF(H44=\"N<10\",\"N<10\",VLOOKUP(VALUE($A44),'2012-13 BL USH'!$A$14:$AG$500,11,FALSE)*100),\"Not Tested\")","v":35},{"$f":"IFERROR(IF(J44=\"N<10\",\"N<10\",VLOOKUP(VALUE($A44),'2013-14 BL USH'!$A$14:$AA$500,11,FALSE)*100),\"Not Tested\")","v":20},-15,{"$f":"IFERROR(IF(K44=\"N<10\",\"N<10\",VLOOKUP(VALUE($A44),'2012-13 BL USH'!$A$14:$AG$500,17,FALSE)*100),\"Not Tested\")","v":35},{"$f":"IFERROR(IF(J44=\"N<10\",\"N<10\",VLOOKUP(VALUE($A44),'2013-14 BL USH'!$A$14:$AA$500,17,FALSE)*100),\"Not Tested\")","v":30},-5,{"$f":"IFERROR(IF(N44=\"N<10\",\"N<10\",VLOOKUP(VALUE($A44),'2012-13 BL USH'!$A$14:$AG$500,23,FALSE)*100),\"Not Tested\")","v":31},{"$f":"IFERROR(IF(P44=\"N<10\",\"N<10\",VLOOKUP(VALUE($A44),'2013-14 BL USH'!$A$14:$AA$500,23,FALSE)*100),\"Not Tested\")","v":24},-7]
["7161","MED ACAD SCIENCE & TECHNOLOGY",{"$f":"VLOOKUP(A45,SchList!$A$2:$C$483,2,FALSE)","v":"MAST @ VIRGINIA KEY           "},{"$f":"IFERROR(VLOOKUP($A45,'2012 BL USH Enrollment'!$A$3:$C$500,3,FALSE),0)","v":37},{"$f":"IFERROR(VLOOKUP($A45,'2013 BL USH Enrollment'!$A$3:$C$500,3,FALSE),0)","v":34},{"$f":"IFERROR(IF(VLOOKUP(VALUE(A45),'2012-13 BL USH'!$A$14:$C$200,3,FALSE)<10,\"N<10\",IF(VLOOKUP(VALUE(A45),'2012-13 BL USH'!$A$14:$C$200,3,FALSE)>D45,100,VLOOKUP(VALUE(A45),'2012-13 BL USH'!$A$14:$C$200,3,FALSE)/D45%)),\"Not Tested\")","v":100},{"$f":"IFERROR(IF(VLOOKUP(VALUE(A45),'2013-14 BL USH'!$A$14:$C$200,3,FALSE)<10,\"N<10\",IF(VLOOKUP(VALUE(A45),'2013-14 BL USH'!$A$14:$C$200,3,FALSE)>E45,100,VLOOKUP(VALUE(A45),'2013-14 BL USH'!$A$14:$C$200,3,FALSE)/E45%)),\"Not Tested\")","v":94.117647058823522},{"$f":"IFERROR(IF(F45=\"N<10\",\"N<10\",VLOOKUP(VALUE($A45),'2012-13 BL USH'!$A$14:$AG$500,5,FALSE)*100),\"Not Tested\")","v":41},{"$f":"IFERROR(IF(G45=\"N<10\",\"N<10\",VLOOKUP(VALUE($A45),'2013-14 BL USH'!$A$14:$AG$500,5,FALSE)*100),\"Not Tested\")","v":44},3,{"$f":"IFERROR(IF(H45=\"N<10\",\"N<10\",VLOOKUP(VALUE($A45),'2012-13 BL USH'!$A$14:$AG$500,11,FALSE)*100),\"Not Tested\")","v":44},{"$f":"IFERROR(IF(J45=\"N<10\",\"N<10\",VLOOKUP(VALUE($A45),'2013-14 BL USH'!$A$14:$AA$500,11,FALSE)*100),\"Not Tested\")","v":50},6,{"$f":"IFERROR(IF(K45=\"N<10\",\"N<10\",VLOOKUP(VALUE($A45),'2012-13 BL USH'!$A$14:$AG$500,17,FALSE)*100),\"Not Tested\")","v":39},{"$f":"IFERROR(IF(J45=\"N<10\",\"N<10\",VLOOKUP(VALUE($A45),'2013-14 BL USH'!$A$14:$AA$500,17,FALSE)*100),\"Not Tested\")","v":44},5,{"$f":"IFERROR(IF(N45=\"N<10\",\"N<10\",VLOOKUP(VALUE($A45),'2012-13 BL USH'!$A$14:$AG$500,23,FALSE)*100),\"Not Tested\")","v":41},{"$f":"IFERROR(IF(P45=\"N<10\",\"N<10\",VLOOKUP(VALUE($A45),'2013-14 BL USH'!$A$14:$AA$500,23,FALSE)*100),\"Not Tested\")","v":43},2]
["7160","MARITIME & SCIENCE TECH ACAD",{"$f":"VLOOKUP(A46,SchList!$A$2:$C$483,2,FALSE)","v":"MATER ACADEMY CHARTER HIGH    "},{"$f":"IFERROR(VLOOKUP($A46,'2012 BL USH Enrollment'!$A$3:$C$500,3,FALSE),0)","v":280},{"$f":"IFERROR(VLOOKUP($A46,'2013 BL USH Enrollment'!$A$3:$C$500,3,FALSE),0)","v":254},{"$f":"IFERROR(IF(VLOOKUP(VALUE(A46),'2012-13 BL USH'!$A$14:$C$200,3,FALSE)<10,\"N<10\",IF(VLOOKUP(VALUE(A46),'2012-13 BL USH'!$A$14:$C$200,3,FALSE)>D46,100,VLOOKUP(VALUE(A46),'2012-13 BL USH'!$A$14:$C$200,3,FALSE)/D46%)),\"Not Tested\")","v":96.071428571428584},{"$f":"IFERROR(IF(VLOOKUP(VALUE(A46),'2013-14 BL USH'!$A$14:$C$200,3,FALSE)<10,\"N<10\",IF(VLOOKUP(VALUE(A46),'2013-14 BL USH'!$A$14:$C$200,3,FALSE)>E46,100,VLOOKUP(VALUE(A46),'2013-14 BL USH'!$A$14:$C$200,3,FALSE)/E46%)),\"Not Tested\")","v":96.850393700787407},{"$f":"IFERROR(IF(F46=\"N<10\",\"N<10\",VLOOKUP(VALUE($A46),'2012-13 BL USH'!$A$14:$AG$500,5,FALSE)*100),\"Not Tested\")","v":32},{"$f":"IFERROR(IF(G46=\"N<10\",\"N<10\",VLOOKUP(VALUE($A46),'2013-14 BL USH'!$A$14:$AG$500,5,FALSE)*100),\"Not Tested\")","v":34},2,{"$f":"IFERROR(IF(H46=\"N<10\",\"N<10\",VLOOKUP(VALUE($A46),'2012-13 BL USH'!$A$14:$AG$500,11,FALSE)*100),\"Not Tested\")","v":36},{"$f":"IFERROR(IF(J46=\"N<10\",\"N<10\",VLOOKUP(VALUE($A46),'2013-14 BL USH'!$A$14:$AA$500,11,FALSE)*100),\"Not Tested\")","v":36},0,{"$f":"IFERROR(IF(K46=\"N<10\",\"N<10\",VLOOKUP(VALUE($A46),'2012-13 BL USH'!$A$14:$AG$500,17,FALSE)*100),\"Not Tested\")","v":32},{"$f":"IFERROR(IF(J46=\"N<10\",\"N<10\",VLOOKUP(VALUE($A46),'2013-14 BL USH'!$A$14:$AA$500,17,FALSE)*100),\"Not Tested\")","v":35},3,{"$f":"IFERROR(IF(N46=\"N<10\",\"N<10\",VLOOKUP(VALUE($A46),'2012-13 BL USH'!$A$14:$AG$500,23,FALSE)*100),\"Not Tested\")","v":31},{"$f":"IFERROR(IF(P46=\"N<10\",\"N<10\",VLOOKUP(VALUE($A46),'2013-14 BL USH'!$A$14:$AA$500,23,FALSE)*100),\"Not Tested\")","v":33},2]
["7037","SOMERSET ACADEMY CHARTER HIGH",{"$f":"VLOOKUP(A47,SchList!$A$2:$C$483,2,FALSE)","v":"MATER ACADEMY EAST HIGH SCHOOL"},{"$f":"IFERROR(VLOOKUP($A47,'2012 BL USH Enrollment'!$A$3:$C$500,3,FALSE),0)","v":62},{"$f":"IFERROR(VLOOKUP($A47,'2013 BL USH Enrollment'!$A$3:$C$500,3,FALSE),0)","v":83},{"$f":"IFERROR(IF(VLOOKUP(VALUE(A47),'2012-13 BL USH'!$A$14:$C$200,3,FALSE)<10,\"N<10\",IF(VLOOKUP(VALUE(A47),'2012-13 BL USH'!$A$14:$C$200,3,FALSE)>D47,100,VLOOKUP(VALUE(A47),'2012-13 BL USH'!$A$14:$C$200,3,FALSE)/D47%)),\"Not Tested\")","v":100},{"$f":"IFERROR(IF(VLOOKUP(VALUE(A47),'2013-14 BL USH'!$A$14:$C$200,3,FALSE)<10,\"N<10\",IF(VLOOKUP(VALUE(A47),'2013-14 BL USH'!$A$14:$C$200,3,FALSE)>E47,100,VLOOKUP(VALUE(A47),'2013-14 BL USH'!$A$14:$C$200,3,FALSE)/E47%)),\"Not Tested\")","v":95.180722891566276},{"$f":"IFERROR(IF(F47=\"N<10\",\"N<10\",VLOOKUP(VALUE($A47),'2012-13 BL USH'!$A$14:$AG$500,5,FALSE)*100),\"Not Tested\")","v":37},{"$f":"IFERROR(IF(G47=\"N<10\",\"N<10\",VLOOKUP(VALUE($A47),'2013-14 BL USH'!$A$14:$AG$500,5,FALSE)*100),\"Not Tested\")","v":34},-3,{"$f":"IFERROR(IF(H47=\"N<10\",\"N<10\",VLOOKUP(VALUE($A47),'2012-13 BL USH'!$A$14:$AG$500,11,FALSE)*100),\"Not Tested\")","v":41},{"$f":"IFERROR(IF(J47=\"N<10\",\"N<10\",VLOOKUP(VALUE($A47),'2013-14 BL USH'!$A$14:$AA$500,11,FALSE)*100),\"Not Tested\")","v":39},-2,{"$f":"IFERROR(IF(K47=\"N<10\",\"N<10\",VLOOKUP(VALUE($A47),'2012-13 BL USH'!$A$14:$AG$500,17,FALSE)*100),\"Not Tested\")","v":40},{"$f":"IFERROR(IF(J47=\"N<10\",\"N<10\",VLOOKUP(VALUE($A47),'2013-14 BL USH'!$A$14:$AA$500,17,FALSE)*100),\"Not Tested\")","v":34},-6,{"$f":"IFERROR(IF(N47=\"N<10\",\"N<10\",VLOOKUP(VALUE($A47),'2012-13 BL USH'!$A$14:$AG$500,23,FALSE)*100),\"Not Tested\")","v":34},{"$f":"IFERROR(IF(P47=\"N<10\",\"N<10\",VLOOKUP(VALUE($A47),'2013-14 BL USH'!$A$14:$AA$500,23,FALSE)*100),\"Not Tested\")","v":33},-1]
["7018","DORAL ACADEMY HIGH SCHOOL",{"$f":"VLOOKUP(A48,SchList!$A$2:$C$483,2,FALSE)","v":"MATER ACADEMY LAKES HIGH SCH  "},{"$f":"IFERROR(VLOOKUP($A48,'2012 BL USH Enrollment'!$A$3:$C$500,3,FALSE),0)","v":155},{"$f":"IFERROR(VLOOKUP($A48,'2013 BL USH Enrollment'!$A$3:$C$500,3,FALSE),0)","v":227},{"$f":"IFERROR(IF(VLOOKUP(VALUE(A48),'2012-13 BL USH'!$A$14:$C$200,3,FALSE)<10,\"N<10\",IF(VLOOKUP(VALUE(A48),'2012-13 BL USH'!$A$14:$C$200,3,FALSE)>D48,100,VLOOKUP(VALUE(A48),'2012-13 BL USH'!$A$14:$C$200,3,FALSE)/D48%)),\"Not Tested\")","v":99.354838709677423},{"$f":"IFERROR(IF(VLOOKUP(VALUE(A48),'2013-14 BL USH'!$A$14:$C$200,3,FALSE)<10,\"N<10\",IF(VLOOKUP(VALUE(A48),'2013-14 BL USH'!$A$14:$C$200,3,FALSE)>E48,100,VLOOKUP(VALUE(A48),'2013-14 BL USH'!$A$14:$C$200,3,FALSE)/E48%)),\"Not Tested\")","v":97.797356828193827},{"$f":"IFERROR(IF(F48=\"N<10\",\"N<10\",VLOOKUP(VALUE($A48),'2012-13 BL USH'!$A$14:$AG$500,5,FALSE)*100),\"Not Tested\")","v":32},{"$f":"IFERROR(IF(G48=\"N<10\",\"N<10\",VLOOKUP(VALUE($A48),'2013-14 BL USH'!$A$14:$AG$500,5,FALSE)*100),\"Not Tested\")","v":34},2,{"$f":"IFERROR(IF(H48=\"N<10\",\"N<10\",VLOOKUP(VALUE($A48),'2012-13 BL USH'!$A$14:$AG$500,11,FALSE)*100),\"Not Tested\")","v":38},{"$f":"IFERROR(IF(J48=\"N<10\",\"N<10\",VLOOKUP(VALUE($A48),'2013-14 BL USH'!$A$14:$AA$500,11,FALSE)*100),\"Not Tested\")","v":34},-4,{"$f":"IFERROR(IF(K48=\"N<10\",\"N<10\",VLOOKUP(VALUE($A48),'2012-13 BL USH'!$A$14:$AG$500,17,FALSE)*100),\"Not Tested\")","v":31},{"$f":"IFERROR(IF(J48=\"N<10\",\"N<10\",VLOOKUP(VALUE($A48),'2013-14 BL USH'!$A$14:$AA$500,17,FALSE)*100),\"Not Tested\")","v":34},3,{"$f":"IFERROR(IF(N48=\"N<10\",\"N<10\",VLOOKUP(VALUE($A48),'2012-13 BL USH'!$A$14:$AG$500,23,FALSE)*100),\"Not Tested\")","v":31},{"$f":"IFERROR(IF(P48=\"N<10\",\"N<10\",VLOOKUP(VALUE($A48),'2013-14 BL USH'!$A$14:$AA$500,23,FALSE)*100),\"Not Tested\")","v":34},3]
["7014","STELLAR LEADERSHIP ACADEMY",{"$f":"VLOOKUP(A49,SchList!$A$2:$C$483,2,FALSE)","v":"MATER PERFORMING ARTS ACADEMY "},{"$f":"IFERROR(VLOOKUP($A49,'2012 BL USH Enrollment'!$A$3:$C$500,3,FALSE),0)","v":0},{"$f":"IFERROR(VLOOKUP($A49,'2013 BL USH Enrollment'!$A$3:$C$500,3,FALSE),0)","v":22},{"$f":"IFERROR(IF(VLOOKUP(VALUE(A49),'2012-13 BL USH'!$A$14:$C$200,3,FALSE)<10,\"N<10\",IF(VLOOKUP(VALUE(A49),'2012-13 BL USH'!$A$14:$C$200,3,FALSE)>D49,100,VLOOKUP(VALUE(A49),'2012-13 BL USH'!$A$14:$C$200,3,FALSE)/D49%)),\"Not Tested\")","v":"Not Tested"},{"$f":"IFERROR(IF(VLOOKUP(VALUE(A49),'2013-14 BL USH'!$A$14:$C$200,3,FALSE)<10,\"N<10\",IF(VLOOKUP(VALUE(A49),'2013-14 BL USH'!$A$14:$C$200,3,FALSE)>E49,100,VLOOKUP(VALUE(A49),'2013-14 BL USH'!$A$14:$C$200,3,FALSE)/E49%)),\"Not Tested\")","v":95.454545454545453},{"$f":"IFERROR(IF(F49=\"N<10\",\"N<10\",VLOOKUP(VALUE($A49),'2012-13 BL USH'!$A$14:$AG$500,5,FALSE)*100),\"Not Tested\")","v":"Not Tested"},{"$f":"IFERROR(IF(G49=\"N<10\",\"N<10\",VLOOKUP(VALUE($A49),'2013-14 BL USH'!$A$14:$AG$500,5,FALSE)*100),\"Not Tested\")","v":38},"",{"$f":"IFERROR(IF(H49=\"N<10\",\"N<10\",VLOOKUP(VALUE($A49),'2012-13 BL USH'!$A$14:$AG$500,11,FALSE)*100),\"Not Tested\")","v":"Not Tested"},{"$f":"IFERROR(IF(J49=\"N<10\",\"N<10\",VLOOKUP(VALUE($A49),'2013-14 BL USH'!$A$14:$AA$500,11,FALSE)*100),\"Not Tested\")","v":39},"",{"$f":"IFERROR(IF(K49=\"N<10\",\"N<10\",VLOOKUP(VALUE($A49),'2012-13 BL USH'!$A$14:$AG$500,17,FALSE)*100),\"Not Tested\")","v":"Not Tested"},{"$f":"IFERROR(IF(J49=\"N<10\",\"N<10\",VLOOKUP(VALUE($A49),'2013-14 BL USH'!$A$14:$AA$500,17,FALSE)*100),\"Not Tested\")","v":37},"",{"$f":"IFERROR(IF(N49=\"N<10\",\"N<10\",VLOOKUP(VALUE($A49),'2012-13 BL USH'!$A$14:$AG$500,23,FALSE)*100),\"Not Tested\")","v":"Not Tested"},{"$f":"IFERROR(IF(P49=\"N<10\",\"N<10\",VLOOKUP(VALUE($A49),'2013-14 BL USH'!$A$14:$AA$500,23,FALSE)*100),\"Not Tested\")","v":38},""]
["7062","MAVERICKS HIGH OF SOUTH M-DADE",{"$f":"VLOOKUP(A50,SchList!$A$2:$C$483,2,FALSE)","v":"MAVERICKS HIGH OF NORTH M-DADE"},{"$f":"IFERROR(VLOOKUP($A50,'2012 BL USH Enrollment'!$A$3:$C$500,3,FALSE),0)","v":0},{"$f":"IFERROR(VLOOKUP($A50,'2013 BL USH Enrollment'!$A$3:$C$500,3,FALSE),0)","v":9},{"$f":"IFERROR(IF(VLOOKUP(VALUE(A50),'2012-13 BL USH'!$A$14:$C$200,3,FALSE)<10,\"N<10\",IF(VLOOKUP(VALUE(A50),'2012-13 BL USH'!$A$14:$C$200,3,FALSE)>D50,100,VLOOKUP(VALUE(A50),'2012-13 BL USH'!$A$14:$C$200,3,FALSE)/D50%)),\"Not Tested\")","v":"Not Tested"},{"$f":"IFERROR(IF(VLOOKUP(VALUE(A50),'2013-14 BL USH'!$A$14:$C$200,3,FALSE)<10,\"N<10\",IF(VLOOKUP(VALUE(A50),'2013-14 BL USH'!$A$14:$C$200,3,FALSE)>E50,100,VLOOKUP(VALUE(A50),'2013-14 BL USH'!$A$14:$C$200,3,FALSE)/E50%)),\"Not Tested\")","v":"Not Tested"},{"$f":"IFERROR(IF(F50=\"N<10\",\"N<10\",VLOOKUP(VALUE($A50),'2012-13 BL USH'!$A$14:$AG$500,5,FALSE)*100),\"Not Tested\")","v":"Not Tested"},{"$f":"IFERROR(IF(G50=\"N<10\",\"N<10\",VLOOKUP(VALUE($A50),'2013-14 BL USH'!$A$14:$AG$500,5,FALSE)*100),\"Not Tested\")","v":"Not Tested"},"",{"$f":"IFERROR(IF(H50=\"N<10\",\"N<10\",VLOOKUP(VALUE($A50),'2012-13 BL USH'!$A$14:$AG$500,11,FALSE)*100),\"Not Tested\")","v":"Not Tested"},{"$f":"IFERROR(IF(J50=\"N<10\",\"N<10\",VLOOKUP(VALUE($A50),'2013-14 BL USH'!$A$14:$AA$500,11,FALSE)*100),\"Not Tested\")","v":"Not Tested"},"",{"$f":"IFERROR(IF(K50=\"N<10\",\"N<10\",VLOOKUP(VALUE($A50),'2012-13 BL USH'!$A$14:$AG$500,17,FALSE)*100),\"Not Tested\")","v":"Not Tested"},{"$f":"IFERROR(IF(J50=\"N<10\",\"N<10\",VLOOKUP(VALUE($A50),'2013-14 BL USH'!$A$14:$AA$500,17,FALSE)*100),\"Not Tested\")","v":"Not Tested"},"",{"$f":"IFERROR(IF(N50=\"N<10\",\"N<10\",VLOOKUP(VALUE($A50),'2012-13 BL USH'!$A$14:$AG$500,23,FALSE)*100),\"Not Tested\")","v":"Not Tested"},{"$f":"IFERROR(IF(P50=\"N<10\",\"N<10\",VLOOKUP(VALUE($A50),'2013-14 BL USH'!$A$14:$AA$500,23,FALSE)*100),\"Not Tested\")","v":"Not Tested"},""]
["7065","GREEN SPRINGS HIGH SCHOOL",{"$f":"VLOOKUP(A51,SchList!$A$2:$C$483,2,FALSE)","v":"MAVERICKS HIGH OF SOUTH M-DADE"},{"$f":"IFERROR(VLOOKUP($A51,'2012 BL USH Enrollment'!$A$3:$C$500,3,FALSE),0)","v":14},{"$f":"IFERROR(VLOOKUP($A51,'2013 BL USH Enrollment'!$A$3:$C$500,3,FALSE),0)","v":91},{"$f":"IFERROR(IF(VLOOKUP(VALUE(A51),'2012-13 BL USH'!$A$14:$C$200,3,FALSE)<10,\"N<10\",IF(VLOOKUP(VALUE(A51),'2012-13 BL USH'!$A$14:$C$200,3,FALSE)>D51,100,VLOOKUP(VALUE(A51),'2012-13 BL USH'!$A$14:$C$200,3,FALSE)/D51%)),\"Not Tested\")","v":"Not Tested"},{"$f":"IFERROR(IF(VLOOKUP(VALUE(A51),'2013-14 BL USH'!$A$14:$C$200,3,FALSE)<10,\"N<10\",IF(VLOOKUP(VALUE(A51),'2013-14 BL USH'!$A$14:$C$200,3,FALSE)>E51,100,VLOOKUP(VALUE(A51),'2013-14 BL USH'!$A$14:$C$200,3,FALSE)/E51%)),\"Not Tested\")","v":"Not Tested"},{"$f":"IFERROR(IF(F51=\"N<10\",\"N<10\",VLOOKUP(VALUE($A51),'2012-13 BL USH'!$A$14:$AG$500,5,FALSE)*100),\"Not Tested\")","v":"Not Tested"},{"$f":"IFERROR(IF(G51=\"N<10\",\"N<10\",VLOOKUP(VALUE($A51),'2013-14 BL USH'!$A$14:$AG$500,5,FALSE)*100),\"Not Tested\")","v":"Not Tested"},"",{"$f":"IFERROR(IF(H51=\"N<10\",\"N<10\",VLOOKUP(VALUE($A51),'2012-13 BL USH'!$A$14:$AG$500,11,FALSE)*100),\"Not Tested\")","v":"Not Tested"},{"$f":"IFERROR(IF(J51=\"N<10\",\"N<10\",VLOOKUP(VALUE($A51),'2013-14 BL USH'!$A$14:$AA$500,11,FALSE)*100),\"Not Tested\")","v":"Not Tested"},"",{"$f":"IFERROR(IF(K51=\"N<10\",\"N<10\",VLOOKUP(VALUE($A51),'2012-13 BL USH'!$A$14:$AG$500,17,FALSE)*100),\"Not Tested\")","v":"Not Tested"},{"$f":"IFERROR(IF(J51=\"N<10\",\"N<10\",VLOOKUP(VALUE($A51),'2013-14 BL USH'!$A$14:$AA$500,17,FALSE)*100),\"Not Tested\")","v":"Not Tested"},"",{"$f":"IFERROR(IF(N51=\"N<10\",\"N<10\",VLOOKUP(VALUE($A51),'2012-13 BL USH'!$A$14:$AG$500,23,FALSE)*100),\"Not Tested\")","v":"Not Tested"},{"$f":"IFERROR(IF(P51=\"N<10\",\"N<10\",VLOOKUP(VALUE($A51),'2013-14 BL USH'!$A$14:$AA$500,23,FALSE)*100),\"Not Tested\")","v":"Not Tested"},""]
["7171","HIALEAH GARDENS SENIOR",{"$f":"VLOOKUP(A52,SchList!$A$2:$C$483,2,FALSE)","v":"MED ACAD SCIENCE & TECHNOLOGY "},{"$f":"IFERROR(VLOOKUP($A52,'2012 BL USH Enrollment'!$A$3:$C$500,3,FALSE),0)","v":70},{"$f":"IFERROR(VLOOKUP($A52,'2013 BL USH Enrollment'!$A$3:$C$500,3,FALSE),0)","v":98},{"$f":"IFERROR(IF(VLOOKUP(VALUE(A52),'2012-13 BL USH'!$A$14:$C$200,3,FALSE)<10,\"N<10\",IF(VLOOKUP(VALUE(A52),'2012-13 BL USH'!$A$14:$C$200,3,FALSE)>D52,100,VLOOKUP(VALUE(A52),'2012-13 BL USH'!$A$14:$C$200,3,FALSE)/D52%)),\"Not Tested\")","v":100},{"$f":"IFERROR(IF(VLOOKUP(VALUE(A52),'2013-14 BL USH'!$A$14:$C$200,3,FALSE)<10,\"N<10\",IF(VLOOKUP(VALUE(A52),'2013-14 BL USH'!$A$14:$C$200,3,FALSE)>E52,100,VLOOKUP(VALUE(A52),'2013-14 BL USH'!$A$14:$C$200,3,FALSE)/E52%)),\"Not Tested\")","v":100},{"$f":"IFERROR(IF(F52=\"N<10\",\"N<10\",VLOOKUP(VALUE($A52),'2012-13 BL USH'!$A$14:$AG$500,5,FALSE)*100),\"Not Tested\")","v":37},{"$f":"IFERROR(IF(G52=\"N<10\",\"N<10\",VLOOKUP(VALUE($A52),'2013-14 BL USH'!$A$14:$AG$500,5,FALSE)*100),\"Not Tested\")","v":39},2,{"$f":"IFERROR(IF(H52=\"N<10\",\"N<10\",VLOOKUP(VALUE($A52),'2012-13 BL USH'!$A$14:$AG$500,11,FALSE)*100),\"Not Tested\")","v":41},{"$f":"IFERROR(IF(J52=\"N<10\",\"N<10\",VLOOKUP(VALUE($A52),'2013-14 BL USH'!$A$14:$AA$500,11,FALSE)*100),\"Not Tested\")","v":42},1,{"$f":"IFERROR(IF(K52=\"N<10\",\"N<10\",VLOOKUP(VALUE($A52),'2012-13 BL USH'!$A$14:$AG$500,17,FALSE)*100),\"Not Tested\")","v":38},{"$f":"IFERROR(IF(J52=\"N<10\",\"N<10\",VLOOKUP(VALUE($A52),'2013-14 BL USH'!$A$14:$AA$500,17,FALSE)*100),\"Not Tested\")","v":41},3,{"$f":"IFERROR(IF(N52=\"N<10\",\"N<10\",VLOOKUP(VALUE($A52),'2012-13 BL USH'!$A$14:$AG$500,23,FALSE)*100),\"Not Tested\")","v":35},{"$f":"IFERROR(IF(P52=\"N<10\",\"N<10\",VLOOKUP(VALUE($A52),'2013-14 BL USH'!$A$14:$AA$500,23,FALSE)*100),\"Not Tested\")","v":38},3]
["9732",null,{"$f":"VLOOKUP(A53,SchList!$A$2:$C$483,2,FALSE)","v":"MERRICK EDUCATIONAL CENTER    "},{"$f":"IFERROR(VLOOKUP($A53,'2012 BL USH Enrollment'!$A$3:$C$500,3,FALSE),0)","v":27},{"$f":"IFERROR(VLOOKUP($A53,'2013 BL USH Enrollment'!$A$3:$C$500,3,FALSE),0)","v":29},{"$f":"IFERROR(IF(VLOOKUP(VALUE(A53),'2012-13 BL USH'!$A$14:$C$200,3,FALSE)<10,\"N<10\",IF(VLOOKUP(VALUE(A53),'2012-13 BL USH'!$A$14:$C$200,3,FALSE)>D53,100,VLOOKUP(VALUE(A53),'2012-13 BL USH'!$A$14:$C$200,3,FALSE)/D53%)),\"Not Tested\")","v":59.259259259259252},{"$f":"IFERROR(IF(VLOOKUP(VALUE(A53),'2013-14 BL USH'!$A$14:$C$200,3,FALSE)<10,\"N<10\",IF(VLOOKUP(VALUE(A53),'2013-14 BL USH'!$A$14:$C$200,3,FALSE)>E53,100,VLOOKUP(VALUE(A53),'2013-14 BL USH'!$A$14:$C$200,3,FALSE)/E53%)),\"Not Tested\")","v":"N<10"},{"$f":"IFERROR(IF(F53=\"N<10\",\"N<10\",VLOOKUP(VALUE($A53),'2012-13 BL USH'!$A$14:$AG$500,5,FALSE)*100),\"Not Tested\")","v":33},{"$f":"IFERROR(IF(G53=\"N<10\",\"N<10\",VLOOKUP(VALUE($A53),'2013-14 BL USH'!$A$14:$AG$500,5,FALSE)*100),\"Not Tested\")","v":"N<10"},{"$f":"IFERROR(I53-H53,\"\")","v":""},{"$f":"IFERROR(IF(H53=\"N<10\",\"N<10\",VLOOKUP(VALUE($A53),'2012-13 BL USH'!$A$14:$AG$500,11,FALSE)*100),\"Not Tested\")","v":38},{"$f":"IFERROR(IF(J53=\"N<10\",\"N<10\",VLOOKUP(VALUE($A53),'2013-14 BL USH'!$A$14:$AA$500,11,FALSE)*100),\"Not Tested\")","v":39},{"$f":"IFERROR(L53-K53,\"\")","v":1},{"$f":"IFERROR(IF(K53=\"N<10\",\"N<10\",VLOOKUP(VALUE($A53),'2012-13 BL USH'!$A$14:$AG$500,17,FALSE)*100),\"Not Tested\")","v":31},{"$f":"IFERROR(IF(J53=\"N<10\",\"N<10\",VLOOKUP(VALUE($A53),'2013-14 BL USH'!$A$14:$AA$500,17,FALSE)*100),\"Not Tested\")","v":39},{"$f":"IFERROR(O53-N53,\"\")","v":8},{"$f":"IFERROR(IF(N53=\"N<10\",\"N<10\",VLOOKUP(VALUE($A53),'2012-13 BL USH'!$A$14:$AG$500,23,FALSE)*100),\"Not Tested\")","v":32},{"$f":"IFERROR(IF(P53=\"N<10\",\"N<10\",VLOOKUP(VALUE($A53),'2013-14 BL USH'!$A$14:$AA$500,23,FALSE)*100),\"Not Tested\")","v":36},{"$f":"IFERROR(R53-Q53,\"\")","v":4}]
["7059","EVERGLADES PREP ACADEMY HIGH",{"$f":"VLOOKUP(A54,SchList!$A$2:$C$483,2,FALSE)","v":"MIAMI ARTS CHARTER            "},{"$f":"IFERROR(VLOOKUP($A54,'2012 BL USH Enrollment'!$A$3:$C$500,3,FALSE),0)","v":59},{"$f":"IFERROR(VLOOKUP($A54,'2013 BL USH Enrollment'!$A$3:$C$500,3,FALSE),0)","v":50},{"$f":"IFERROR(IF(VLOOKUP(VALUE(A54),'2012-13 BL USH'!$A$14:$C$200,3,FALSE)<10,\"N<10\",IF(VLOOKUP(VALUE(A54),'2012-13 BL USH'!$A$14:$C$200,3,FALSE)>D54,100,VLOOKUP(VALUE(A54),'2012-13 BL USH'!$A$14:$C$200,3,FALSE)/D54%)),\"Not Tested\")","v":98.305084745762713},{"$f":"IFERROR(IF(VLOOKUP(VALUE(A54),'2013-14 BL USH'!$A$14:$C$200,3,FALSE)<10,\"N<10\",IF(VLOOKUP(VALUE(A54),'2013-14 BL USH'!$A$14:$C$200,3,FALSE)>E54,100,VLOOKUP(VALUE(A54),'2013-14 BL USH'!$A$14:$C$200,3,FALSE)/E54%)),\"Not Tested\")","v":100},{"$f":"IFERROR(IF(F54=\"N<10\",\"N<10\",VLOOKUP(VALUE($A54),'2012-13 BL USH'!$A$14:$AG$500,5,FALSE)*100),\"Not Tested\")","v":37},{"$f":"IFERROR(IF(G54=\"N<10\",\"N<10\",VLOOKUP(VALUE($A54),'2013-14 BL USH'!$A$14:$AG$500,5,FALSE)*100),\"Not Tested\")","v":45},8,{"$f":"IFERROR(IF(H54=\"N<10\",\"N<10\",VLOOKUP(VALUE($A54),'2012-13 BL USH'!$A$14:$AG$500,11,FALSE)*100),\"Not Tested\")","v":45},{"$f":"IFERROR(IF(J54=\"N<10\",\"N<10\",VLOOKUP(VALUE($A54),'2013-14 BL USH'!$A$14:$AA$500,11,FALSE)*100),\"Not Tested\")","v":48},3,{"$f":"IFERROR(IF(K54=\"N<10\",\"N<10\",VLOOKUP(VALUE($A54),'2012-13 BL USH'!$A$14:$AG$500,17,FALSE)*100),\"Not Tested\")","v":36},{"$f":"IFERROR(IF(J54=\"N<10\",\"N<10\",VLOOKUP(VALUE($A54),'2013-14 BL USH'!$A$14:$AA$500,17,FALSE)*100),\"Not Tested\")","v":48},12,{"$f":"IFERROR(IF(N54=\"N<10\",\"N<10\",VLOOKUP(VALUE($A54),'2012-13 BL USH'!$A$14:$AG$500,23,FALSE)*100),\"Not Tested\")","v":36},{"$f":"IFERROR(IF(P54=\"N<10\",\"N<10\",VLOOKUP(VALUE($A54),'2013-14 BL USH'!$A$14:$AA$500,23,FALSE)*100),\"Not Tested\")","v":42},6]
["7201","MIAMI CAROL CITY SENIOR HIGH",{"$f":"VLOOKUP(A55,SchList!$A$2:$C$483,2,FALSE)","v":"MIAMI BEACH SENIOR HIGH       "},{"$f":"IFERROR(VLOOKUP($A55,'2012 BL USH Enrollment'!$A$3:$C$500,3,FALSE),0)","v":473},{"$f":"IFERROR(VLOOKUP($A55,'2013 BL USH Enrollment'!$A$3:$C$500,3,FALSE),0)","v":418},{"$f":"IFERROR(IF(VLOOKUP(VALUE(A55),'2012-13 BL USH'!$A$14:$C$200,3,FALSE)<10,\"N<10\",IF(VLOOKUP(VALUE(A55),'2012-13 BL USH'!$A$14:$C$200,3,FALSE)>D55,100,VLOOKUP(VALUE(A55),'2012-13 BL USH'!$A$14:$C$200,3,FALSE)/D55%)),\"Not Tested\")","v":63.636363636363633},{"$f":"IFERROR(IF(VLOOKUP(VALUE(A55),'2013-14 BL USH'!$A$14:$C$200,3,FALSE)<10,\"N<10\",IF(VLOOKUP(VALUE(A55),'2013-14 BL USH'!$A$14:$C$200,3,FALSE)>E55,100,VLOOKUP(VALUE(A55),'2013-14 BL USH'!$A$14:$C$200,3,FALSE)/E55%)),\"Not Tested\")","v":88.755980861244026},{"$f":"IFERROR(IF(F55=\"N<10\",\"N<10\",VLOOKUP(VALUE($A55),'2012-13 BL USH'!$A$14:$AG$500,5,FALSE)*100),\"Not Tested\")","v":31},{"$f":"IFERROR(IF(G55=\"N<10\",\"N<10\",VLOOKUP(VALUE($A55),'2013-14 BL USH'!$A$14:$AG$500,5,FALSE)*100),\"Not Tested\")","v":31},0,{"$f":"IFERROR(IF(H55=\"N<10\",\"N<10\",VLOOKUP(VALUE($A55),'2012-13 BL USH'!$A$14:$AG$500,11,FALSE)*100),\"Not Tested\")","v":34},{"$f":"IFERROR(IF(J55=\"N<10\",\"N<10\",VLOOKUP(VALUE($A55),'2013-14 BL USH'!$A$14:$AA$500,11,FALSE)*100),\"Not Tested\")","v":32},-2,{"$f":"IFERROR(IF(K55=\"N<10\",\"N<10\",VLOOKUP(VALUE($A55),'2012-13 BL USH'!$A$14:$AG$500,17,FALSE)*100),\"Not Tested\")","v":30},{"$f":"IFERROR(IF(J55=\"N<10\",\"N<10\",VLOOKUP(VALUE($A55),'2013-14 BL USH'!$A$14:$AA$500,17,FALSE)*100),\"Not Tested\")","v":30},0,{"$f":"IFERROR(IF(N55=\"N<10\",\"N<10\",VLOOKUP(VALUE($A55),'2012-13 BL USH'!$A$14:$AG$500,23,FALSE)*100),\"Not Tested\")","v":30},{"$f":"IFERROR(IF(P55=\"N<10\",\"N<10\",VLOOKUP(VALUE($A55),'2013-14 BL USH'!$A$14:$AA$500,23,FALSE)*100),\"Not Tested\")","v":30},0]
["7231","RONALD W REAGAN/DORAL SENIOR",{"$f":"VLOOKUP(A56,SchList!$A$2:$C$483,2,FALSE)","v":"MIAMI CAROL CITY SENIOR HIGH  "},{"$f":"IFERROR(VLOOKUP($A56,'2012 BL USH Enrollment'!$A$3:$C$500,3,FALSE),0)","v":420},{"$f":"IFERROR(VLOOKUP($A56,'2013 BL USH Enrollment'!$A$3:$C$500,3,FALSE),0)","v":443},{"$f":"IFERROR(IF(VLOOKUP(VALUE(A56),'2012-13 BL USH'!$A$14:$C$200,3,FALSE)<10,\"N<10\",IF(VLOOKUP(VALUE(A56),'2012-13 BL USH'!$A$14:$C$200,3,FALSE)>D56,100,VLOOKUP(VALUE(A56),'2012-13 BL USH'!$A$14:$C$200,3,FALSE)/D56%)),\"Not Tested\")","v":83.333333333333329},{"$f":"IFERROR(IF(VLOOKUP(VALUE(A56),'2013-14 BL USH'!$A$14:$C$200,3,FALSE)<10,\"N<10\",IF(VLOOKUP(VALUE(A56),'2013-14 BL USH'!$A$14:$C$200,3,FALSE)>E56,100,VLOOKUP(VALUE(A56),'2013-14 BL USH'!$A$14:$C$200,3,FALSE)/E56%)),\"Not Tested\")","v":92.776523702031611},{"$f":"IFERROR(IF(F56=\"N<10\",\"N<10\",VLOOKUP(VALUE($A56),'2012-13 BL USH'!$A$14:$AG$500,5,FALSE)*100),\"Not Tested\")","v":30},{"$f":"IFERROR(IF(G56=\"N<10\",\"N<10\",VLOOKUP(VALUE($A56),'2013-14 BL USH'!$A$14:$AG$500,5,FALSE)*100),\"Not Tested\")","v":30},0,{"$f":"IFERROR(IF(H56=\"N<10\",\"N<10\",VLOOKUP(VALUE($A56),'2012-13 BL USH'!$A$14:$AG$500,11,FALSE)*100),\"Not Tested\")","v":33},{"$f":"IFERROR(IF(J56=\"N<10\",\"N<10\",VLOOKUP(VALUE($A56),'2013-14 BL USH'!$A$14:$AA$500,11,FALSE)*100),\"Not Tested\")","v":30},-3,{"$f":"IFERROR(IF(K56=\"N<10\",\"N<10\",VLOOKUP(VALUE($A56),'2012-13 BL USH'!$A$14:$AG$500,17,FALSE)*100),\"Not Tested\")","v":30},{"$f":"IFERROR(IF(J56=\"N<10\",\"N<10\",VLOOKUP(VALUE($A56),'2013-14 BL USH'!$A$14:$AA$500,17,FALSE)*100),\"Not Tested\")","v":31},1,{"$f":"IFERROR(IF(N56=\"N<10\",\"N<10\",VLOOKUP(VALUE($A56),'2012-13 BL USH'!$A$14:$AG$500,23,FALSE)*100),\"Not Tested\")","v":28.999999999999996},{"$f":"IFERROR(IF(P56=\"N<10\",\"N<10\",VLOOKUP(VALUE($A56),'2013-14 BL USH'!$A$14:$AA$500,23,FALSE)*100),\"Not Tested\")","v":30},1.0000000000000036]
["7251","CITY OF HIALEAH EDUCATION ACAD",{"$f":"VLOOKUP(A57,SchList!$A$2:$C$483,2,FALSE)","v":"MIAMI CENTRAL SENIOR HIGH     "},{"$f":"IFERROR(VLOOKUP($A57,'2012 BL USH Enrollment'!$A$3:$C$500,3,FALSE),0)","v":415},{"$f":"IFERROR(VLOOKUP($A57,'2013 BL USH Enrollment'!$A$3:$C$500,3,FALSE),0)","v":408},{"$f":"IFERROR(IF(VLOOKUP(VALUE(A57),'2012-13 BL USH'!$A$14:$C$200,3,FALSE)<10,\"N<10\",IF(VLOOKUP(VALUE(A57),'2012-13 BL USH'!$A$14:$C$200,3,FALSE)>D57,100,VLOOKUP(VALUE(A57),'2012-13 BL USH'!$A$14:$C$200,3,FALSE)/D57%)),\"Not Tested\")","v":94.4578313253012},{"$f":"IFERROR(IF(VLOOKUP(VALUE(A57),'2013-14 BL USH'!$A$14:$C$200,3,FALSE)<10,\"N<10\",IF(VLOOKUP(VALUE(A57),'2013-14 BL USH'!$A$14:$C$200,3,FALSE)>E57,100,VLOOKUP(VALUE(A57),'2013-14 BL USH'!$A$14:$C$200,3,FALSE)/E57%)),\"Not Tested\")","v":88.235294117647058},{"$f":"IFERROR(IF(F57=\"N<10\",\"N<10\",VLOOKUP(VALUE($A57),'2012-13 BL USH'!$A$14:$AG$500,5,FALSE)*100),\"Not Tested\")","v":28.999999999999996},{"$f":"IFERROR(IF(G57=\"N<10\",\"N<10\",VLOOKUP(VALUE($A57),'2013-14 BL USH'!$A$14:$AG$500,5,FALSE)*100),\"Not Tested\")","v":28.999999999999996},0,{"$f":"IFERROR(IF(H57=\"N<10\",\"N<10\",VLOOKUP(VALUE($A57),'2012-13 BL USH'!$A$14:$AG$500,11,FALSE)*100),\"Not Tested\")","v":31},{"$f":"IFERROR(IF(J57=\"N<10\",\"N<10\",VLOOKUP(VALUE($A57),'2013-14 BL USH'!$A$14:$AA$500,11,FALSE)*100),\"Not Tested\")","v":32},1,{"$f":"IFERROR(IF(K57=\"N<10\",\"N<10\",VLOOKUP(VALUE($A57),'2012-13 BL USH'!$A$14:$AG$500,17,FALSE)*100),\"Not Tested\")","v":28.000000000000004},{"$f":"IFERROR(IF(J57=\"N<10\",\"N<10\",VLOOKUP(VALUE($A57),'2013-14 BL USH'!$A$14:$AA$500,17,FALSE)*100),\"Not Tested\")","v":30},1.9999999999999964,{"$f":"IFERROR(IF(N57=\"N<10\",\"N<10\",VLOOKUP(VALUE($A57),'2012-13 BL USH'!$A$14:$AG$500,23,FALSE)*100),\"Not Tested\")","v":28.000000000000004},{"$f":"IFERROR(IF(P57=\"N<10\",\"N<10\",VLOOKUP(VALUE($A57),'2013-14 BL USH'!$A$14:$AA$500,23,FALSE)*100),\"Not Tested\")","v":28.999999999999996},0.99999999999999289]
["7058","MIAMI ARTS CHARTER",{"$f":"VLOOKUP(A58,SchList!$A$2:$C$483,2,FALSE)","v":"MIAMI COMMUNITY CH HIGH SCHOOL"},{"$f":"IFERROR(VLOOKUP($A58,'2012 BL USH Enrollment'!$A$3:$C$500,3,FALSE),0)","v":30},{"$f":"IFERROR(VLOOKUP($A58,'2013 BL USH Enrollment'!$A$3:$C$500,3,FALSE),0)","v":40},{"$f":"IFERROR(IF(VLOOKUP(VALUE(A58),'2012-13 BL USH'!$A$14:$C$200,3,FALSE)<10,\"N<10\",IF(VLOOKUP(VALUE(A58),'2012-13 BL USH'!$A$14:$C$200,3,FALSE)>D58,100,VLOOKUP(VALUE(A58),'2012-13 BL USH'!$A$14:$C$200,3,FALSE)/D58%)),\"Not Tested\")","v":100},{"$f":"IFERROR(IF(VLOOKUP(VALUE(A58),'2013-14 BL USH'!$A$14:$C$200,3,FALSE)<10,\"N<10\",IF(VLOOKUP(VALUE(A58),'2013-14 BL USH'!$A$14:$C$200,3,FALSE)>E58,100,VLOOKUP(VALUE(A58),'2013-14 BL USH'!$A$14:$C$200,3,FALSE)/E58%)),\"Not Tested\")","v":97.5},{"$f":"IFERROR(IF(F58=\"N<10\",\"N<10\",VLOOKUP(VALUE($A58),'2012-13 BL USH'!$A$14:$AG$500,5,FALSE)*100),\"Not Tested\")","v":30},{"$f":"IFERROR(IF(G58=\"N<10\",\"N<10\",VLOOKUP(VALUE($A58),'2013-14 BL USH'!$A$14:$AG$500,5,FALSE)*100),\"Not Tested\")","v":32},2,{"$f":"IFERROR(IF(H58=\"N<10\",\"N<10\",VLOOKUP(VALUE($A58),'2012-13 BL USH'!$A$14:$AG$500,11,FALSE)*100),\"Not Tested\")","v":28.999999999999996},{"$f":"IFERROR(IF(J58=\"N<10\",\"N<10\",VLOOKUP(VALUE($A58),'2013-14 BL USH'!$A$14:$AA$500,11,FALSE)*100),\"Not Tested\")","v":39},10.000000000000004,{"$f":"IFERROR(IF(K58=\"N<10\",\"N<10\",VLOOKUP(VALUE($A58),'2012-13 BL USH'!$A$14:$AG$500,17,FALSE)*100),\"Not Tested\")","v":30},{"$f":"IFERROR(IF(J58=\"N<10\",\"N<10\",VLOOKUP(VALUE($A58),'2013-14 BL USH'!$A$14:$AA$500,17,FALSE)*100),\"Not Tested\")","v":31},1,{"$f":"IFERROR(IF(N58=\"N<10\",\"N<10\",VLOOKUP(VALUE($A58),'2012-13 BL USH'!$A$14:$AG$500,23,FALSE)*100),\"Not Tested\")","v":31},{"$f":"IFERROR(IF(P58=\"N<10\",\"N<10\",VLOOKUP(VALUE($A58),'2013-14 BL USH'!$A$14:$AA$500,23,FALSE)*100),\"Not Tested\")","v":31},0]
["7271","JOSE MARTI MAST 6-12 ACADEMY",{"$f":"VLOOKUP(A59,SchList!$A$2:$C$483,2,FALSE)","v":"MIAMI CORAL PARK SENIOR HIGH  "},{"$f":"IFERROR(VLOOKUP($A59,'2012 BL USH Enrollment'!$A$3:$C$500,3,FALSE),0)","v":663},{"$f":"IFERROR(VLOOKUP($A59,'2013 BL USH Enrollment'!$A$3:$C$500,3,FALSE),0)","v":555},{"$f":"IFERROR(IF(VLOOKUP(VALUE(A59),'2012-13 BL USH'!$A$14:$C$200,3,FALSE)<10,\"N<10\",IF(VLOOKUP(VALUE(A59),'2012-13 BL USH'!$A$14:$C$200,3,FALSE)>D59,100,VLOOKUP(VALUE(A59),'2012-13 BL USH'!$A$14:$C$200,3,FALSE)/D59%)),\"Not Tested\")","v":96.681749622926091},{"$f":"IFERROR(IF(VLOOKUP(VALUE(A59),'2013-14 BL USH'!$A$14:$C$200,3,FALSE)<10,\"N<10\",IF(VLOOKUP(VALUE(A59),'2013-14 BL USH'!$A$14:$C$200,3,FALSE)>E59,100,VLOOKUP(VALUE(A59),'2013-14 BL USH'!$A$14:$C$200,3,FALSE)/E59%)),\"Not Tested\")","v":98.198198198198199},{"$f":"IFERROR(IF(F59=\"N<10\",\"N<10\",VLOOKUP(VALUE($A59),'2012-13 BL USH'!$A$14:$AG$500,5,FALSE)*100),\"Not Tested\")","v":28.999999999999996},{"$f":"IFERROR(IF(G59=\"N<10\",\"N<10\",VLOOKUP(VALUE($A59),'2013-14 BL USH'!$A$14:$AG$500,5,FALSE)*100),\"Not Tested\")","v":31},2.0000000000000036,{"$f":"IFERROR(IF(H59=\"N<10\",\"N<10\",VLOOKUP(VALUE($A59),'2012-13 BL USH'!$A$14:$AG$500,11,FALSE)*100),\"Not Tested\")","v":31},{"$f":"IFERROR(IF(J59=\"N<10\",\"N<10\",VLOOKUP(VALUE($A59),'2013-14 BL USH'!$A$14:$AA$500,11,FALSE)*100),\"Not Tested\")","v":32},1,{"$f":"IFERROR(IF(K59=\"N<10\",\"N<10\",VLOOKUP(VALUE($A59),'2012-13 BL USH'!$A$14:$AG$500,17,FALSE)*100),\"Not Tested\")","v":28.000000000000004},{"$f":"IFERROR(IF(J59=\"N<10\",\"N<10\",VLOOKUP(VALUE($A59),'2013-14 BL USH'!$A$14:$AA$500,17,FALSE)*100),\"Not Tested\")","v":32},3.9999999999999964,{"$f":"IFERROR(IF(N59=\"N<10\",\"N<10\",VLOOKUP(VALUE($A59),'2012-13 BL USH'!$A$14:$AG$500,23,FALSE)*100),\"Not Tested\")","v":30},{"$f":"IFERROR(IF(P59=\"N<10\",\"N<10\",VLOOKUP(VALUE($A59),'2013-14 BL USH'!$A$14:$AA$500,23,FALSE)*100),\"Not Tested\")","v":30},0]
["7301","MIAMI JACKSON SENIOR HIGH",{"$f":"VLOOKUP(A60,SchList!$A$2:$C$483,2,FALSE)","v":"MIAMI EDISON SENIOR HIGH      "},{"$f":"IFERROR(VLOOKUP($A60,'2012 BL USH Enrollment'!$A$3:$C$500,3,FALSE),0)","v":233},{"$f":"IFERROR(VLOOKUP($A60,'2013 BL USH Enrollment'!$A$3:$C$500,3,FALSE),0)","v":222},{"$f":"IFERROR(IF(VLOOKUP(VALUE(A60),'2012-13 BL USH'!$A$14:$C$200,3,FALSE)<10,\"N<10\",IF(VLOOKUP(VALUE(A60),'2012-13 BL USH'!$A$14:$C$200,3,FALSE)>D60,100,VLOOKUP(VALUE(A60),'2012-13 BL USH'!$A$14:$C$200,3,FALSE)/D60%)),\"Not Tested\")","v":75.53648068669527},{"$f":"IFERROR(IF(VLOOKUP(VALUE(A60),'2013-14 BL USH'!$A$14:$C$200,3,FALSE)<10,\"N<10\",IF(VLOOKUP(VALUE(A60),'2013-14 BL USH'!$A$14:$C$200,3,FALSE)>E60,100,VLOOKUP(VALUE(A60),'2013-14 BL USH'!$A$14:$C$200,3,FALSE)/E60%)),\"Not Tested\")","v":94.144144144144136},{"$f":"IFERROR(IF(F60=\"N<10\",\"N<10\",VLOOKUP(VALUE($A60),'2012-13 BL USH'!$A$14:$AG$500,5,FALSE)*100),\"Not Tested\")","v":30},{"$f":"IFERROR(IF(G60=\"N<10\",\"N<10\",VLOOKUP(VALUE($A60),'2013-14 BL USH'!$A$14:$AG$500,5,FALSE)*100),\"Not Tested\")","v":28.000000000000004},-1.9999999999999964,{"$f":"IFERROR(IF(H60=\"N<10\",\"N<10\",VLOOKUP(VALUE($A60),'2012-13 BL USH'!$A$14:$AG$500,11,FALSE)*100),\"Not Tested\")","v":33},{"$f":"IFERROR(IF(J60=\"N<10\",\"N<10\",VLOOKUP(VALUE($A60),'2013-14 BL USH'!$A$14:$AA$500,11,FALSE)*100),\"Not Tested\")","v":28.000000000000004},-4.9999999999999964,{"$f":"IFERROR(IF(K60=\"N<10\",\"N<10\",VLOOKUP(VALUE($A60),'2012-13 BL USH'!$A$14:$AG$500,17,FALSE)*100),\"Not Tested\")","v":28.999999999999996},{"$f":"IFERROR(IF(J60=\"N<10\",\"N<10\",VLOOKUP(VALUE($A60),'2013-14 BL USH'!$A$14:$AA$500,17,FALSE)*100),\"Not Tested\")","v":28.000000000000004},-0.99999999999999289,{"$f":"IFERROR(IF(N60=\"N<10\",\"N<10\",VLOOKUP(VALUE($A60),'2012-13 BL USH'!$A$14:$AG$500,23,FALSE)*100),\"Not Tested\")","v":30},{"$f":"IFERROR(IF(P60=\"N<10\",\"N<10\",VLOOKUP(VALUE($A60),'2013-14 BL USH'!$A$14:$AA$500,23,FALSE)*100),\"Not Tested\")","v":28.000000000000004},-1.9999999999999964]
["7341","ARTHUR AND POLLY MAYS CONSERVA",{"$f":"VLOOKUP(A61,SchList!$A$2:$C$483,2,FALSE)","v":"MIAMI JACKSON SENIOR HIGH     "},{"$f":"IFERROR(VLOOKUP($A61,'2012 BL USH Enrollment'!$A$3:$C$500,3,FALSE),0)","v":236},{"$f":"IFERROR(VLOOKUP($A61,'2013 BL USH Enrollment'!$A$3:$C$500,3,FALSE),0)","v":246},{"$f":"IFERROR(IF(VLOOKUP(VALUE(A61),'2012-13 BL USH'!$A$14:$C$200,3,FALSE)<10,\"N<10\",IF(VLOOKUP(VALUE(A61),'2012-13 BL USH'!$A$14:$C$200,3,FALSE)>D61,100,VLOOKUP(VALUE(A61),'2012-13 BL USH'!$A$14:$C$200,3,FALSE)/D61%)),\"Not Tested\")","v":91.949152542372886},{"$f":"IFERROR(IF(VLOOKUP(VALUE(A61),'2013-14 BL USH'!$A$14:$C$200,3,FALSE)<10,\"N<10\",IF(VLOOKUP(VALUE(A61),'2013-14 BL USH'!$A$14:$C$200,3,FALSE)>E61,100,VLOOKUP(VALUE(A61),'2013-14 BL USH'!$A$14:$C$200,3,FALSE)/E61%)),\"Not Tested\")","v":100},{"$f":"IFERROR(IF(F61=\"N<10\",\"N<10\",VLOOKUP(VALUE($A61),'2012-13 BL USH'!$A$14:$AG$500,5,FALSE)*100),\"Not Tested\")","v":28.000000000000004},{"$f":"IFERROR(IF(G61=\"N<10\",\"N<10\",VLOOKUP(VALUE($A61),'2013-14 BL USH'!$A$14:$AG$500,5,FALSE)*100),\"Not Tested\")","v":28.999999999999996},0.99999999999999289,{"$f":"IFERROR(IF(H61=\"N<10\",\"N<10\",VLOOKUP(VALUE($A61),'2012-13 BL USH'!$A$14:$AG$500,11,FALSE)*100),\"Not Tested\")","v":31},{"$f":"IFERROR(IF(J61=\"N<10\",\"N<10\",VLOOKUP(VALUE($A61),'2013-14 BL USH'!$A$14:$AA$500,11,FALSE)*100),\"Not Tested\")","v":28.999999999999996},-2.0000000000000036,{"$f":"IFERROR(IF(K61=\"N<10\",\"N<10\",VLOOKUP(VALUE($A61),'2012-13 BL USH'!$A$14:$AG$500,17,FALSE)*100),\"Not Tested\")","v":25},{"$f":"IFERROR(IF(J61=\"N<10\",\"N<10\",VLOOKUP(VALUE($A61),'2013-14 BL USH'!$A$14:$AA$500,17,FALSE)*100),\"Not Tested\")","v":28.999999999999996},3.9999999999999964,{"$f":"IFERROR(IF(N61=\"N<10\",\"N<10\",VLOOKUP(VALUE($A61),'2012-13 BL USH'!$A$14:$AG$500,23,FALSE)*100),\"Not Tested\")","v":28.999999999999996},{"$f":"IFERROR(IF(P61=\"N<10\",\"N<10\",VLOOKUP(VALUE($A61),'2013-14 BL USH'!$A$14:$AA$500,23,FALSE)*100),\"Not Tested\")","v":28.000000000000004},-0.99999999999999289]
["7361","ROBERT MORGAN EDUCATIONAL CTR",{"$f":"VLOOKUP(A62,SchList!$A$2:$C$483,2,FALSE)","v":"MIAMI KILLIAN SENIOR HIGH     "},{"$f":"IFERROR(VLOOKUP($A62,'2012 BL USH Enrollment'!$A$3:$C$500,3,FALSE),0)","v":518},{"$f":"IFERROR(VLOOKUP($A62,'2013 BL USH Enrollment'!$A$3:$C$500,3,FALSE),0)","v":449},{"$f":"IFERROR(IF(VLOOKUP(VALUE(A62),'2012-13 BL USH'!$A$14:$C$200,3,FALSE)<10,\"N<10\",IF(VLOOKUP(VALUE(A62),'2012-13 BL USH'!$A$14:$C$200,3,FALSE)>D62,100,VLOOKUP(VALUE(A62),'2012-13 BL USH'!$A$14:$C$200,3,FALSE)/D62%)),\"Not Tested\")","v":93.822393822393821},{"$f":"IFERROR(IF(VLOOKUP(VALUE(A62),'2013-14 BL USH'!$A$14:$C$200,3,FALSE)<10,\"N<10\",IF(VLOOKUP(VALUE(A62),'2013-14 BL USH'!$A$14:$C$200,3,FALSE)>E62,100,VLOOKUP(VALUE(A62),'2013-14 BL USH'!$A$14:$C$200,3,FALSE)/E62%)),\"Not Tested\")","v":90.423162583518931},{"$f":"IFERROR(IF(F62=\"N<10\",\"N<10\",VLOOKUP(VALUE($A62),'2012-13 BL USH'!$A$14:$AG$500,5,FALSE)*100),\"Not Tested\")","v":30},{"$f":"IFERROR(IF(G62=\"N<10\",\"N<10\",VLOOKUP(VALUE($A62),'2013-14 BL USH'!$A$14:$AG$500,5,FALSE)*100),\"Not Tested\")","v":31},1,{"$f":"IFERROR(IF(H62=\"N<10\",\"N<10\",VLOOKUP(VALUE($A62),'2012-13 BL USH'!$A$14:$AG$500,11,FALSE)*100),\"Not Tested\")","v":34},{"$f":"IFERROR(IF(J62=\"N<10\",\"N<10\",VLOOKUP(VALUE($A62),'2013-14 BL USH'!$A$14:$AA$500,11,FALSE)*100),\"Not Tested\")","v":30},-4,{"$f":"IFERROR(IF(K62=\"N<10\",\"N<10\",VLOOKUP(VALUE($A62),'2012-13 BL USH'!$A$14:$AG$500,17,FALSE)*100),\"Not Tested\")","v":28.000000000000004},{"$f":"IFERROR(IF(J62=\"N<10\",\"N<10\",VLOOKUP(VALUE($A62),'2013-14 BL USH'!$A$14:$AA$500,17,FALSE)*100),\"Not Tested\")","v":32},3.9999999999999964,{"$f":"IFERROR(IF(N62=\"N<10\",\"N<10\",VLOOKUP(VALUE($A62),'2012-13 BL USH'!$A$14:$AG$500,23,FALSE)*100),\"Not Tested\")","v":30},{"$f":"IFERROR(IF(P62=\"N<10\",\"N<10\",VLOOKUP(VALUE($A62),'2013-14 BL USH'!$A$14:$AA$500,23,FALSE)*100),\"Not Tested\")","v":30},0]
["7391","MIAMI NORTHWESTERN SENIOR HIGH",{"$f":"VLOOKUP(A63,SchList!$A$2:$C$483,2,FALSE)","v":"MIAMI LAKES EDUCATIONAL CENTER"},{"$f":"IFERROR(VLOOKUP($A63,'2012 BL USH Enrollment'!$A$3:$C$500,3,FALSE),0)","v":322},{"$f":"IFERROR(VLOOKUP($A63,'2013 BL USH Enrollment'!$A$3:$C$500,3,FALSE),0)","v":246},{"$f":"IFERROR(IF(VLOOKUP(VALUE(A63),'2012-13 BL USH'!$A$14:$C$200,3,FALSE)<10,\"N<10\",IF(VLOOKUP(VALUE(A63),'2012-13 BL USH'!$A$14:$C$200,3,FALSE)>D63,100,VLOOKUP(VALUE(A63),'2012-13 BL USH'!$A$14:$C$200,3,FALSE)/D63%)),\"Not Tested\")","v":98.136645962732914},{"$f":"IFERROR(IF(VLOOKUP(VALUE(A63),'2013-14 BL USH'!$A$14:$C$200,3,FALSE)<10,\"N<10\",IF(VLOOKUP(VALUE(A63),'2013-14 BL USH'!$A$14:$C$200,3,FALSE)>E63,100,VLOOKUP(VALUE(A63),'2013-14 BL USH'!$A$14:$C$200,3,FALSE)/E63%)),\"Not Tested\")","v":100},{"$f":"IFERROR(IF(F63=\"N<10\",\"N<10\",VLOOKUP(VALUE($A63),'2012-13 BL USH'!$A$14:$AG$500,5,FALSE)*100),\"Not Tested\")","v":37},{"$f":"IFERROR(IF(G63=\"N<10\",\"N<10\",VLOOKUP(VALUE($A63),'2013-14 BL USH'!$A$14:$AG$500,5,FALSE)*100),\"Not Tested\")","v":36},-1,{"$f":"IFERROR(IF(H63=\"N<10\",\"N<10\",VLOOKUP(VALUE($A63),'2012-13 BL USH'!$A$14:$AG$500,11,FALSE)*100),\"Not Tested\")","v":45},{"$f":"IFERROR(IF(J63=\"N<10\",\"N<10\",VLOOKUP(VALUE($A63),'2013-14 BL USH'!$A$14:$AA$500,11,FALSE)*100),\"Not Tested\")","v":37},-8,{"$f":"IFERROR(IF(K63=\"N<10\",\"N<10\",VLOOKUP(VALUE($A63),'2012-13 BL USH'!$A$14:$AG$500,17,FALSE)*100),\"Not Tested\")","v":36},{"$f":"IFERROR(IF(J63=\"N<10\",\"N<10\",VLOOKUP(VALUE($A63),'2013-14 BL USH'!$A$14:$AA$500,17,FALSE)*100),\"Not Tested\")","v":36},0,{"$f":"IFERROR(IF(N63=\"N<10\",\"N<10\",VLOOKUP(VALUE($A63),'2012-13 BL USH'!$A$14:$AG$500,23,FALSE)*100),\"Not Tested\")","v":34},{"$f":"IFERROR(IF(P63=\"N<10\",\"N<10\",VLOOKUP(VALUE($A63),'2013-14 BL USH'!$A$14:$AA$500,23,FALSE)*100),\"Not Tested\")","v":35},1]
["7631","SOUTH DADE SENIOR HIGH",{"$f":"VLOOKUP(A64,SchList!$A$2:$C$483,2,FALSE)","v":"MIAMI MACARTHUR SOUTH         "},{"$f":"IFERROR(VLOOKUP($A64,'2012 BL USH Enrollment'!$A$3:$C$500,3,FALSE),0)","v":10},{"$f":"IFERROR(VLOOKUP($A64,'2013 BL USH Enrollment'!$A$3:$C$500,3,FALSE),0)","v":11},{"$f":"IFERROR(IF(VLOOKUP(VALUE(A64),'2012-13 BL USH'!$A$14:$C$200,3,FALSE)<10,\"N<10\",IF(VLOOKUP(VALUE(A64),'2012-13 BL USH'!$A$14:$C$200,3,FALSE)>D64,100,VLOOKUP(VALUE(A64),'2012-13 BL USH'!$A$14:$C$200,3,FALSE)/D64%)),\"Not Tested\")","v":"N<10"},{"$f":"IFERROR(IF(VLOOKUP(VALUE(A64),'2013-14 BL USH'!$A$14:$C$200,3,FALSE)<10,\"N<10\",IF(VLOOKUP(VALUE(A64),'2013-14 BL USH'!$A$14:$C$200,3,FALSE)>E64,100,VLOOKUP(VALUE(A64),'2013-14 BL USH'!$A$14:$C$200,3,FALSE)/E64%)),\"Not Tested\")","v":100},{"$f":"IFERROR(IF(F64=\"N<10\",\"N<10\",VLOOKUP(VALUE($A64),'2012-13 BL USH'!$A$14:$AG$500,5,FALSE)*100),\"Not Tested\")","v":"N<10"},{"$f":"IFERROR(IF(G64=\"N<10\",\"N<10\",VLOOKUP(VALUE($A64),'2013-14 BL USH'!$A$14:$AG$500,5,FALSE)*100),\"Not Tested\")","v":24},"",{"$f":"IFERROR(IF(H64=\"N<10\",\"N<10\",VLOOKUP(VALUE($A64),'2012-13 BL USH'!$A$14:$AG$500,11,FALSE)*100),\"Not Tested\")","v":"N<10"},{"$f":"IFERROR(IF(J64=\"N<10\",\"N<10\",VLOOKUP(VALUE($A64),'2013-14 BL USH'!$A$14:$AA$500,11,FALSE)*100),\"Not Tested\")","v":25},"",{"$f":"IFERROR(IF(K64=\"N<10\",\"N<10\",VLOOKUP(VALUE($A64),'2012-13 BL USH'!$A$14:$AG$500,17,FALSE)*100),\"Not Tested\")","v":"N<10"},{"$f":"IFERROR(IF(J64=\"N<10\",\"N<10\",VLOOKUP(VALUE($A64),'2013-14 BL USH'!$A$14:$AA$500,17,FALSE)*100),\"Not Tested\")","v":23},"",{"$f":"IFERROR(IF(N64=\"N<10\",\"N<10\",VLOOKUP(VALUE($A64),'2012-13 BL USH'!$A$14:$AG$500,23,FALSE)*100),\"Not Tested\")","v":"N<10"},{"$f":"IFERROR(IF(P64=\"N<10\",\"N<10\",VLOOKUP(VALUE($A64),'2013-14 BL USH'!$A$14:$AA$500,23,FALSE)*100),\"Not Tested\")","v":24},""]
["7381","MIAMI LAKES EDUCATIONAL CENTER",{"$f":"VLOOKUP(A65,SchList!$A$2:$C$483,2,FALSE)","v":"MIAMI NORLAND SENIOR HIGH     "},{"$f":"IFERROR(VLOOKUP($A65,'2012 BL USH Enrollment'!$A$3:$C$500,3,FALSE),0)","v":404},{"$f":"IFERROR(VLOOKUP($A65,'2013 BL USH Enrollment'!$A$3:$C$500,3,FALSE),0)","v":357},{"$f":"IFERROR(IF(VLOOKUP(VALUE(A65),'2012-13 BL USH'!$A$14:$C$200,3,FALSE)<10,\"N<10\",IF(VLOOKUP(VALUE(A65),'2012-13 BL USH'!$A$14:$C$200,3,FALSE)>D65,100,VLOOKUP(VALUE(A65),'2012-13 BL USH'!$A$14:$C$200,3,FALSE)/D65%)),\"Not Tested\")","v":98.514851485148512},{"$f":"IFERROR(IF(VLOOKUP(VALUE(A65),'2013-14 BL USH'!$A$14:$C$200,3,FALSE)<10,\"N<10\",IF(VLOOKUP(VALUE(A65),'2013-14 BL USH'!$A$14:$C$200,3,FALSE)>E65,100,VLOOKUP(VALUE(A65),'2013-14 BL USH'!$A$14:$C$200,3,FALSE)/E65%)),\"Not Tested\")","v":91.876750700280112},{"$f":"IFERROR(IF(F65=\"N<10\",\"N<10\",VLOOKUP(VALUE($A65),'2012-13 BL USH'!$A$14:$AG$500,5,FALSE)*100),\"Not Tested\")","v":30},{"$f":"IFERROR(IF(G65=\"N<10\",\"N<10\",VLOOKUP(VALUE($A65),'2013-14 BL USH'!$A$14:$AG$500,5,FALSE)*100),\"Not Tested\")","v":31},1,{"$f":"IFERROR(IF(H65=\"N<10\",\"N<10\",VLOOKUP(VALUE($A65),'2012-13 BL USH'!$A$14:$AG$500,11,FALSE)*100),\"Not Tested\")","v":33},{"$f":"IFERROR(IF(J65=\"N<10\",\"N<10\",VLOOKUP(VALUE($A65),'2013-14 BL USH'!$A$14:$AA$500,11,FALSE)*100),\"Not Tested\")","v":30},-3,{"$f":"IFERROR(IF(K65=\"N<10\",\"N<10\",VLOOKUP(VALUE($A65),'2012-13 BL USH'!$A$14:$AG$500,17,FALSE)*100),\"Not Tested\")","v":28.999999999999996},{"$f":"IFERROR(IF(J65=\"N<10\",\"N<10\",VLOOKUP(VALUE($A65),'2013-14 BL USH'!$A$14:$AA$500,17,FALSE)*100),\"Not Tested\")","v":31},2.0000000000000036,{"$f":"IFERROR(IF(N65=\"N<10\",\"N<10\",VLOOKUP(VALUE($A65),'2012-13 BL USH'!$A$14:$AG$500,23,FALSE)*100),\"Not Tested\")","v":30},{"$f":"IFERROR(IF(P65=\"N<10\",\"N<10\",VLOOKUP(VALUE($A65),'2013-14 BL USH'!$A$14:$AA$500,23,FALSE)*100),\"Not Tested\")","v":31},1]
["7411","MIAMI PALMETTO SENIOR HIGH",{"$f":"VLOOKUP(A66,SchList!$A$2:$C$483,2,FALSE)","v":"MIAMI NORTHWESTERN SENIOR HIGH"},{"$f":"IFERROR(VLOOKUP($A66,'2012 BL USH Enrollment'!$A$3:$C$500,3,FALSE),0)","v":369},{"$f":"IFERROR(VLOOKUP($A66,'2013 BL USH Enrollment'!$A$3:$C$500,3,FALSE),0)","v":325},{"$f":"IFERROR(IF(VLOOKUP(VALUE(A66),'2012-13 BL USH'!$A$14:$C$200,3,FALSE)<10,\"N<10\",IF(VLOOKUP(VALUE(A66),'2012-13 BL USH'!$A$14:$C$200,3,FALSE)>D66,100,VLOOKUP(VALUE(A66),'2012-13 BL USH'!$A$14:$C$200,3,FALSE)/D66%)),\"Not Tested\")","v":79.674796747967477},{"$f":"IFERROR(IF(VLOOKUP(VALUE(A66),'2013-14 BL USH'!$A$14:$C$200,3,FALSE)<10,\"N<10\",IF(VLOOKUP(VALUE(A66),'2013-14 BL USH'!$A$14:$C$200,3,FALSE)>E66,100,VLOOKUP(VALUE(A66),'2013-14 BL USH'!$A$14:$C$200,3,FALSE)/E66%)),\"Not Tested\")","v":62.153846153846153},{"$f":"IFERROR(IF(F66=\"N<10\",\"N<10\",VLOOKUP(VALUE($A66),'2012-13 BL USH'!$A$14:$AG$500,5,FALSE)*100),\"Not Tested\")","v":31},{"$f":"IFERROR(IF(G66=\"N<10\",\"N<10\",VLOOKUP(VALUE($A66),'2013-14 BL USH'!$A$14:$AG$500,5,FALSE)*100),\"Not Tested\")","v":33},2,{"$f":"IFERROR(IF(H66=\"N<10\",\"N<10\",VLOOKUP(VALUE($A66),'2012-13 BL USH'!$A$14:$AG$500,11,FALSE)*100),\"Not Tested\")","v":34},{"$f":"IFERROR(IF(J66=\"N<10\",\"N<10\",VLOOKUP(VALUE($A66),'2013-14 BL USH'!$A$14:$AA$500,11,FALSE)*100),\"Not Tested\")","v":36},2,{"$f":"IFERROR(IF(K66=\"N<10\",\"N<10\",VLOOKUP(VALUE($A66),'2012-13 BL USH'!$A$14:$AG$500,17,FALSE)*100),\"Not Tested\")","v":30},{"$f":"IFERROR(IF(J66=\"N<10\",\"N<10\",VLOOKUP(VALUE($A66),'2013-14 BL USH'!$A$14:$AA$500,17,FALSE)*100),\"Not Tested\")","v":34},4,{"$f":"IFERROR(IF(N66=\"N<10\",\"N<10\",VLOOKUP(VALUE($A66),'2012-13 BL USH'!$A$14:$AG$500,23,FALSE)*100),\"Not Tested\")","v":28.999999999999996},{"$f":"IFERROR(IF(P66=\"N<10\",\"N<10\",VLOOKUP(VALUE($A66),'2013-14 BL USH'!$A$14:$AA$500,23,FALSE)*100),\"Not Tested\")","v":31},2.0000000000000036]
["7431","MIAMI SENIOR HIGH",{"$f":"VLOOKUP(A67,SchList!$A$2:$C$483,2,FALSE)","v":"MIAMI PALMETTO SENIOR HIGH    "},{"$f":"IFERROR(VLOOKUP($A67,'2012 BL USH Enrollment'!$A$3:$C$500,3,FALSE),0)","v":458},{"$f":"IFERROR(VLOOKUP($A67,'2013 BL USH Enrollment'!$A$3:$C$500,3,FALSE),0)","v":412},{"$f":"IFERROR(IF(VLOOKUP(VALUE(A67),'2012-13 BL USH'!$A$14:$C$200,3,FALSE)<10,\"N<10\",IF(VLOOKUP(VALUE(A67),'2012-13 BL USH'!$A$14:$C$200,3,FALSE)>D67,100,VLOOKUP(VALUE(A67),'2012-13 BL USH'!$A$14:$C$200,3,FALSE)/D67%)),\"Not Tested\")","v":91.921397379912662},{"$f":"IFERROR(IF(VLOOKUP(VALUE(A67),'2013-14 BL USH'!$A$14:$C$200,3,FALSE)<10,\"N<10\",IF(VLOOKUP(VALUE(A67),'2013-14 BL USH'!$A$14:$C$200,3,FALSE)>E67,100,VLOOKUP(VALUE(A67),'2013-14 BL USH'!$A$14:$C$200,3,FALSE)/E67%)),\"Not Tested\")","v":94.902912621359221},{"$f":"IFERROR(IF(F67=\"N<10\",\"N<10\",VLOOKUP(VALUE($A67),'2012-13 BL USH'!$A$14:$AG$500,5,FALSE)*100),\"Not Tested\")","v":33},{"$f":"IFERROR(IF(G67=\"N<10\",\"N<10\",VLOOKUP(VALUE($A67),'2013-14 BL USH'!$A$14:$AG$500,5,FALSE)*100),\"Not Tested\")","v":32},-1,{"$f":"IFERROR(IF(H67=\"N<10\",\"N<10\",VLOOKUP(VALUE($A67),'2012-13 BL USH'!$A$14:$AG$500,11,FALSE)*100),\"Not Tested\")","v":40},{"$f":"IFERROR(IF(J67=\"N<10\",\"N<10\",VLOOKUP(VALUE($A67),'2013-14 BL USH'!$A$14:$AA$500,11,FALSE)*100),\"Not Tested\")","v":33},-7,{"$f":"IFERROR(IF(K67=\"N<10\",\"N<10\",VLOOKUP(VALUE($A67),'2012-13 BL USH'!$A$14:$AG$500,17,FALSE)*100),\"Not Tested\")","v":33},{"$f":"IFERROR(IF(J67=\"N<10\",\"N<10\",VLOOKUP(VALUE($A67),'2013-14 BL USH'!$A$14:$AA$500,17,FALSE)*100),\"Not Tested\")","v":33},0,{"$f":"IFERROR(IF(N67=\"N<10\",\"N<10\",VLOOKUP(VALUE($A67),'2012-13 BL USH'!$A$14:$AG$500,23,FALSE)*100),\"Not Tested\")","v":31},{"$f":"IFERROR(IF(P67=\"N<10\",\"N<10\",VLOOKUP(VALUE($A67),'2013-14 BL USH'!$A$14:$AA$500,23,FALSE)*100),\"Not Tested\")","v":31},0]
["7461","MIAMI SPRINGS SENIOR HIGH",{"$f":"VLOOKUP(A68,SchList!$A$2:$C$483,2,FALSE)","v":"MIAMI SENIOR HIGH             "},{"$f":"IFERROR(VLOOKUP($A68,'2012 BL USH Enrollment'!$A$3:$C$500,3,FALSE),0)","v":653},{"$f":"IFERROR(VLOOKUP($A68,'2013 BL USH Enrollment'!$A$3:$C$500,3,FALSE),0)","v":627},{"$f":"IFERROR(IF(VLOOKUP(VALUE(A68),'2012-13 BL USH'!$A$14:$C$200,3,FALSE)<10,\"N<10\",IF(VLOOKUP(VALUE(A68),'2012-13 BL USH'!$A$14:$C$200,3,FALSE)>D68,100,VLOOKUP(VALUE(A68),'2012-13 BL USH'!$A$14:$C$200,3,FALSE)/D68%)),\"Not Tested\")","v":89.892802450229709},{"$f":"IFERROR(IF(VLOOKUP(VALUE(A68),'2013-14 BL USH'!$A$14:$C$200,3,FALSE)<10,\"N<10\",IF(VLOOKUP(VALUE(A68),'2013-14 BL USH'!$A$14:$C$200,3,FALSE)>E68,100,VLOOKUP(VALUE(A68),'2013-14 BL USH'!$A$14:$C$200,3,FALSE)/E68%)),\"Not Tested\")","v":93.779904306220104},{"$f":"IFERROR(IF(F68=\"N<10\",\"N<10\",VLOOKUP(VALUE($A68),'2012-13 BL USH'!$A$14:$AG$500,5,FALSE)*100),\"Not Tested\")","v":28.999999999999996},{"$f":"IFERROR(IF(G68=\"N<10\",\"N<10\",VLOOKUP(VALUE($A68),'2013-14 BL USH'!$A$14:$AG$500,5,FALSE)*100),\"Not Tested\")","v":28.999999999999996},0,{"$f":"IFERROR(IF(H68=\"N<10\",\"N<10\",VLOOKUP(VALUE($A68),'2012-13 BL USH'!$A$14:$AG$500,11,FALSE)*100),\"Not Tested\")","v":33},{"$f":"IFERROR(IF(J68=\"N<10\",\"N<10\",VLOOKUP(VALUE($A68),'2013-14 BL USH'!$A$14:$AA$500,11,FALSE)*100),\"Not Tested\")","v":28.999999999999996},-4.0000000000000036,{"$f":"IFERROR(IF(K68=\"N<10\",\"N<10\",VLOOKUP(VALUE($A68),'2012-13 BL USH'!$A$14:$AG$500,17,FALSE)*100),\"Not Tested\")","v":27},{"$f":"IFERROR(IF(J68=\"N<10\",\"N<10\",VLOOKUP(VALUE($A68),'2013-14 BL USH'!$A$14:$AA$500,17,FALSE)*100),\"Not Tested\")","v":30},3,{"$f":"IFERROR(IF(N68=\"N<10\",\"N<10\",VLOOKUP(VALUE($A68),'2012-13 BL USH'!$A$14:$AG$500,23,FALSE)*100),\"Not Tested\")","v":28.999999999999996},{"$f":"IFERROR(IF(P68=\"N<10\",\"N<10\",VLOOKUP(VALUE($A68),'2013-14 BL USH'!$A$14:$AA$500,23,FALSE)*100),\"Not Tested\")","v":28.999999999999996},0]
["7731","SOUTHWEST MIAMI SENIOR HIGH",{"$f":"VLOOKUP(A69,SchList!$A$2:$C$483,2,FALSE)","v":"MIAMI SOUTHRIDGE SENIOR HIGH  "},{"$f":"IFERROR(VLOOKUP($A69,'2012 BL USH Enrollment'!$A$3:$C$500,3,FALSE),0)","v":459},{"$f":"IFERROR(VLOOKUP($A69,'2013 BL USH Enrollment'!$A$3:$C$500,3,FALSE),0)","v":463},{"$f":"IFERROR(IF(VLOOKUP(VALUE(A69),'2012-13 BL USH'!$A$14:$C$200,3,FALSE)<10,\"N<10\",IF(VLOOKUP(VALUE(A69),'2012-13 BL USH'!$A$14:$C$200,3,FALSE)>D69,100,VLOOKUP(VALUE(A69),'2012-13 BL USH'!$A$14:$C$200,3,FALSE)/D69%)),\"Not Tested\")","v":94.553376906318093},{"$f":"IFERROR(IF(VLOOKUP(VALUE(A69),'2013-14 BL USH'!$A$14:$C$200,3,FALSE)<10,\"N<10\",IF(VLOOKUP(VALUE(A69),'2013-14 BL USH'!$A$14:$C$200,3,FALSE)>E69,100,VLOOKUP(VALUE(A69),'2013-14 BL USH'!$A$14:$C$200,3,FALSE)/E69%)),\"Not Tested\")","v":94.600431965442766},{"$f":"IFERROR(IF(F69=\"N<10\",\"N<10\",VLOOKUP(VALUE($A69),'2012-13 BL USH'!$A$14:$AG$500,5,FALSE)*100),\"Not Tested\")","v":28.000000000000004},{"$f":"IFERROR(IF(G69=\"N<10\",\"N<10\",VLOOKUP(VALUE($A69),'2013-14 BL USH'!$A$14:$AG$500,5,FALSE)*100),\"Not Tested\")","v":28.999999999999996},0.99999999999999289,{"$f":"IFERROR(IF(H69=\"N<10\",\"N<10\",VLOOKUP(VALUE($A69),'2012-13 BL USH'!$A$14:$AG$500,11,FALSE)*100),\"Not Tested\")","v":30},{"$f":"IFERROR(IF(J69=\"N<10\",\"N<10\",VLOOKUP(VALUE($A69),'2013-14 BL USH'!$A$14:$AA$500,11,FALSE)*100),\"Not Tested\")","v":30},0,{"$f":"IFERROR(IF(K69=\"N<10\",\"N<10\",VLOOKUP(VALUE($A69),'2012-13 BL USH'!$A$14:$AG$500,17,FALSE)*100),\"Not Tested\")","v":27},{"$f":"IFERROR(IF(J69=\"N<10\",\"N<10\",VLOOKUP(VALUE($A69),'2013-14 BL USH'!$A$14:$AA$500,17,FALSE)*100),\"Not Tested\")","v":28.999999999999996},1.9999999999999964,{"$f":"IFERROR(IF(N69=\"N<10\",\"N<10\",VLOOKUP(VALUE($A69),'2012-13 BL USH'!$A$14:$AG$500,23,FALSE)*100),\"Not Tested\")","v":28.000000000000004},{"$f":"IFERROR(IF(P69=\"N<10\",\"N<10\",VLOOKUP(VALUE($A69),'2013-14 BL USH'!$A$14:$AA$500,23,FALSE)*100),\"Not Tested\")","v":28.999999999999996},0.99999999999999289]
["7511","MIAMI SUNSET SENIOR HIGH",{"$f":"VLOOKUP(A70,SchList!$A$2:$C$483,2,FALSE)","v":"MIAMI SPRINGS SENIOR HIGH     "},{"$f":"IFERROR(VLOOKUP($A70,'2012 BL USH Enrollment'!$A$3:$C$500,3,FALSE),0)","v":402},{"$f":"IFERROR(VLOOKUP($A70,'2013 BL USH Enrollment'!$A$3:$C$500,3,FALSE),0)","v":425},{"$f":"IFERROR(IF(VLOOKUP(VALUE(A70),'2012-13 BL USH'!$A$14:$C$200,3,FALSE)<10,\"N<10\",IF(VLOOKUP(VALUE(A70),'2012-13 BL USH'!$A$14:$C$200,3,FALSE)>D70,100,VLOOKUP(VALUE(A70),'2012-13 BL USH'!$A$14:$C$200,3,FALSE)/D70%)),\"Not Tested\")","v":96.766169154228862},{"$f":"IFERROR(IF(VLOOKUP(VALUE(A70),'2013-14 BL USH'!$A$14:$C$200,3,FALSE)<10,\"N<10\",IF(VLOOKUP(VALUE(A70),'2013-14 BL USH'!$A$14:$C$200,3,FALSE)>E70,100,VLOOKUP(VALUE(A70),'2013-14 BL USH'!$A$14:$C$200,3,FALSE)/E70%)),\"Not Tested\")","v":97.882352941176464},{"$f":"IFERROR(IF(F70=\"N<10\",\"N<10\",VLOOKUP(VALUE($A70),'2012-13 BL USH'!$A$14:$AG$500,5,FALSE)*100),\"Not Tested\")","v":31},{"$f":"IFERROR(IF(G70=\"N<10\",\"N<10\",VLOOKUP(VALUE($A70),'2013-14 BL USH'!$A$14:$AG$500,5,FALSE)*100),\"Not Tested\")","v":33},2,{"$f":"IFERROR(IF(H70=\"N<10\",\"N<10\",VLOOKUP(VALUE($A70),'2012-13 BL USH'!$A$14:$AG$500,11,FALSE)*100),\"Not Tested\")","v":36},{"$f":"IFERROR(IF(J70=\"N<10\",\"N<10\",VLOOKUP(VALUE($A70),'2013-14 BL USH'!$A$14:$AA$500,11,FALSE)*100),\"Not Tested\")","v":34},-2,{"$f":"IFERROR(IF(K70=\"N<10\",\"N<10\",VLOOKUP(VALUE($A70),'2012-13 BL USH'!$A$14:$AG$500,17,FALSE)*100),\"Not Tested\")","v":30},{"$f":"IFERROR(IF(J70=\"N<10\",\"N<10\",VLOOKUP(VALUE($A70),'2013-14 BL USH'!$A$14:$AA$500,17,FALSE)*100),\"Not Tested\")","v":34},4,{"$f":"IFERROR(IF(N70=\"N<10\",\"N<10\",VLOOKUP(VALUE($A70),'2012-13 BL USH'!$A$14:$AG$500,23,FALSE)*100),\"Not Tested\")","v":30},{"$f":"IFERROR(IF(P70=\"N<10\",\"N<10\",VLOOKUP(VALUE($A70),'2013-14 BL USH'!$A$14:$AA$500,23,FALSE)*100),\"Not Tested\")","v":31},1]
["7531","NORTH MIAMI BEACH SENIOR HIGH",{"$f":"VLOOKUP(A71,SchList!$A$2:$C$483,2,FALSE)","v":"MIAMI SUNSET SENIOR HIGH      "},{"$f":"IFERROR(VLOOKUP($A71,'2012 BL USH Enrollment'!$A$3:$C$500,3,FALSE),0)","v":493},{"$f":"IFERROR(VLOOKUP($A71,'2013 BL USH Enrollment'!$A$3:$C$500,3,FALSE),0)","v":379},{"$f":"IFERROR(IF(VLOOKUP(VALUE(A71),'2012-13 BL USH'!$A$14:$C$200,3,FALSE)<10,\"N<10\",IF(VLOOKUP(VALUE(A71),'2012-13 BL USH'!$A$14:$C$200,3,FALSE)>D71,100,VLOOKUP(VALUE(A71),'2012-13 BL USH'!$A$14:$C$200,3,FALSE)/D71%)),\"Not Tested\")","v":96.348884381338749},{"$f":"IFERROR(IF(VLOOKUP(VALUE(A71),'2013-14 BL USH'!$A$14:$C$200,3,FALSE)<10,\"N<10\",IF(VLOOKUP(VALUE(A71),'2013-14 BL USH'!$A$14:$C$200,3,FALSE)>E71,100,VLOOKUP(VALUE(A71),'2013-14 BL USH'!$A$14:$C$200,3,FALSE)/E71%)),\"Not Tested\")","v":93.403693931398422},{"$f":"IFERROR(IF(F71=\"N<10\",\"N<10\",VLOOKUP(VALUE($A71),'2012-13 BL USH'!$A$14:$AG$500,5,FALSE)*100),\"Not Tested\")","v":30},{"$f":"IFERROR(IF(G71=\"N<10\",\"N<10\",VLOOKUP(VALUE($A71),'2013-14 BL USH'!$A$14:$AG$500,5,FALSE)*100),\"Not Tested\")","v":30},0,{"$f":"IFERROR(IF(H71=\"N<10\",\"N<10\",VLOOKUP(VALUE($A71),'2012-13 BL USH'!$A$14:$AG$500,11,FALSE)*100),\"Not Tested\")","v":32},{"$f":"IFERROR(IF(J71=\"N<10\",\"N<10\",VLOOKUP(VALUE($A71),'2013-14 BL USH'!$A$14:$AA$500,11,FALSE)*100),\"Not Tested\")","v":30},-2,{"$f":"IFERROR(IF(K71=\"N<10\",\"N<10\",VLOOKUP(VALUE($A71),'2012-13 BL USH'!$A$14:$AG$500,17,FALSE)*100),\"Not Tested\")","v":28.000000000000004},{"$f":"IFERROR(IF(J71=\"N<10\",\"N<10\",VLOOKUP(VALUE($A71),'2013-14 BL USH'!$A$14:$AA$500,17,FALSE)*100),\"Not Tested\")","v":31},2.9999999999999964,{"$f":"IFERROR(IF(N71=\"N<10\",\"N<10\",VLOOKUP(VALUE($A71),'2012-13 BL USH'!$A$14:$AG$500,23,FALSE)*100),\"Not Tested\")","v":30},{"$f":"IFERROR(IF(P71=\"N<10\",\"N<10\",VLOOKUP(VALUE($A71),'2013-14 BL USH'!$A$14:$AA$500,23,FALSE)*100),\"Not Tested\")","v":30},0]
["7001","INTL. STUDIES CHARTER SENIOR",{"$f":"VLOOKUP(A72,SchList!$A$2:$C$483,2,FALSE)","v":"MIAMI-DADE ONLINE ACADEMY"},{"$f":"IFERROR(VLOOKUP($A72,'2012 BL USH Enrollment'!$A$3:$C$500,3,FALSE),0)","v":23},{"$f":"IFERROR(VLOOKUP($A72,'2013 BL USH Enrollment'!$A$3:$C$500,3,FALSE),0)","v":17},{"$f":"IFERROR(IF(VLOOKUP(VALUE(A72),'2012-13 BL USH'!$A$14:$C$200,3,FALSE)<10,\"N<10\",IF(VLOOKUP(VALUE(A72),'2012-13 BL USH'!$A$14:$C$200,3,FALSE)>D72,100,VLOOKUP(VALUE(A72),'2012-13 BL USH'!$A$14:$C$200,3,FALSE)/D72%)),\"Not Tested\")","v":"Not Tested"},{"$f":"IFERROR(IF(VLOOKUP(VALUE(A72),'2013-14 BL USH'!$A$14:$C$200,3,FALSE)<10,\"N<10\",IF(VLOOKUP(VALUE(A72),'2013-14 BL USH'!$A$14:$C$200,3,FALSE)>E72,100,VLOOKUP(VALUE(A72),'2013-14 BL USH'!$A$14:$C$200,3,FALSE)/E72%)),\"Not Tested\")","v":"Not Tested"},{"$f":"IFERROR(IF(F72=\"N<10\",\"N<10\",VLOOKUP(VALUE($A72),'2012-13 BL USH'!$A$14:$AG$500,5,FALSE)*100),\"Not Tested\")","v":"Not Tested"},{"$f":"IFERROR(IF(G72=\"N<10\",\"N<10\",VLOOKUP(VALUE($A72),'2013-14 BL USH'!$A$14:$AG$500,5,FALSE)*100),\"Not Tested\")","v":"Not Tested"},"",{"$f":"IFERROR(IF(H72=\"N<10\",\"N<10\",VLOOKUP(VALUE($A72),'2012-13 BL USH'!$A$14:$AG$500,11,FALSE)*100),\"Not Tested\")","v":"Not Tested"},{"$f":"IFERROR(IF(J72=\"N<10\",\"N<10\",VLOOKUP(VALUE($A72),'2013-14 BL USH'!$A$14:$AA$500,11,FALSE)*100),\"Not Tested\")","v":"Not Tested"},"",{"$f":"IFERROR(IF(K72=\"N<10\",\"N<10\",VLOOKUP(VALUE($A72),'2012-13 BL USH'!$A$14:$AG$500,17,FALSE)*100),\"Not Tested\")","v":"Not Tested"},{"$f":"IFERROR(IF(J72=\"N<10\",\"N<10\",VLOOKUP(VALUE($A72),'2013-14 BL USH'!$A$14:$AA$500,17,FALSE)*100),\"Not Tested\")","v":"Not Tested"},"",{"$f":"IFERROR(IF(N72=\"N<10\",\"N<10\",VLOOKUP(VALUE($A72),'2012-13 BL USH'!$A$14:$AG$500,23,FALSE)*100),\"Not Tested\")","v":"Not Tested"},{"$f":"IFERROR(IF(P72=\"N<10\",\"N<10\",VLOOKUP(VALUE($A72),'2013-14 BL USH'!$A$14:$AA$500,23,FALSE)*100),\"Not Tested\")","v":"Not Tested"},""]
["7901","ALTERNATIVE OUTREACH-EXT. YR",{"$f":"VLOOKUP(A73,SchList!$A$2:$C$483,2,FALSE)","v":"NEW WORLD SCHOOL OF THE ARTS  "},{"$f":"IFERROR(VLOOKUP($A73,'2012 BL USH Enrollment'!$A$3:$C$500,3,FALSE),0)","v":79},{"$f":"IFERROR(VLOOKUP($A73,'2013 BL USH Enrollment'!$A$3:$C$500,3,FALSE),0)","v":70},{"$f":"IFERROR(IF(VLOOKUP(VALUE(A73),'2012-13 BL USH'!$A$14:$C$200,3,FALSE)<10,\"N<10\",IF(VLOOKUP(VALUE(A73),'2012-13 BL USH'!$A$14:$C$200,3,FALSE)>D73,100,VLOOKUP(VALUE(A73),'2012-13 BL USH'!$A$14:$C$200,3,FALSE)/D73%)),\"Not Tested\")","v":93.670886075949369},{"$f":"IFERROR(IF(VLOOKUP(VALUE(A73),'2013-14 BL USH'!$A$14:$C$200,3,FALSE)<10,\"N<10\",IF(VLOOKUP(VALUE(A73),'2013-14 BL USH'!$A$14:$C$200,3,FALSE)>E73,100,VLOOKUP(VALUE(A73),'2013-14 BL USH'!$A$14:$C$200,3,FALSE)/E73%)),\"Not Tested\")","v":92.857142857142861},{"$f":"IFERROR(IF(F73=\"N<10\",\"N<10\",VLOOKUP(VALUE($A73),'2012-13 BL USH'!$A$14:$AG$500,5,FALSE)*100),\"Not Tested\")","v":36},{"$f":"IFERROR(IF(G73=\"N<10\",\"N<10\",VLOOKUP(VALUE($A73),'2013-14 BL USH'!$A$14:$AG$500,5,FALSE)*100),\"Not Tested\")","v":38},2,{"$f":"IFERROR(IF(H73=\"N<10\",\"N<10\",VLOOKUP(VALUE($A73),'2012-13 BL USH'!$A$14:$AG$500,11,FALSE)*100),\"Not Tested\")","v":46},{"$f":"IFERROR(IF(J73=\"N<10\",\"N<10\",VLOOKUP(VALUE($A73),'2013-14 BL USH'!$A$14:$AA$500,11,FALSE)*100),\"Not Tested\")","v":40},-6,{"$f":"IFERROR(IF(K73=\"N<10\",\"N<10\",VLOOKUP(VALUE($A73),'2012-13 BL USH'!$A$14:$AG$500,17,FALSE)*100),\"Not Tested\")","v":35},{"$f":"IFERROR(IF(J73=\"N<10\",\"N<10\",VLOOKUP(VALUE($A73),'2013-14 BL USH'!$A$14:$AA$500,17,FALSE)*100),\"Not Tested\")","v":40},5,{"$f":"IFERROR(IF(N73=\"N<10\",\"N<10\",VLOOKUP(VALUE($A73),'2012-13 BL USH'!$A$14:$AG$500,23,FALSE)*100),\"Not Tested\")","v":34},{"$f":"IFERROR(IF(P73=\"N<10\",\"N<10\",VLOOKUP(VALUE($A73),'2013-14 BL USH'!$A$14:$AA$500,23,FALSE)*100),\"Not Tested\")","v":37},3]
["7068","NORTH PARK HIGH SCHOOL",{"$f":"VLOOKUP(A74,SchList!$A$2:$C$483,2,FALSE)","v":"NORTH GARDENS HIGH SCHOOL     "},{"$f":"IFERROR(VLOOKUP($A74,'2012 BL USH Enrollment'!$A$3:$C$500,3,FALSE),0)","v":28},{"$f":"IFERROR(VLOOKUP($A74,'2013 BL USH Enrollment'!$A$3:$C$500,3,FALSE),0)","v":40},{"$f":"IFERROR(IF(VLOOKUP(VALUE(A74),'2012-13 BL USH'!$A$14:$C$200,3,FALSE)<10,\"N<10\",IF(VLOOKUP(VALUE(A74),'2012-13 BL USH'!$A$14:$C$200,3,FALSE)>D74,100,VLOOKUP(VALUE(A74),'2012-13 BL USH'!$A$14:$C$200,3,FALSE)/D74%)),\"Not Tested\")","v":100},{"$f":"IFERROR(IF(VLOOKUP(VALUE(A74),'2013-14 BL USH'!$A$14:$C$200,3,FALSE)<10,\"N<10\",IF(VLOOKUP(VALUE(A74),'2013-14 BL USH'!$A$14:$C$200,3,FALSE)>E74,100,VLOOKUP(VALUE(A74),'2013-14 BL USH'!$A$14:$C$200,3,FALSE)/E74%)),\"Not Tested\")","v":85},{"$f":"IFERROR(IF(F74=\"N<10\",\"N<10\",VLOOKUP(VALUE($A74),'2012-13 BL USH'!$A$14:$AG$500,5,FALSE)*100),\"Not Tested\")","v":31},{"$f":"IFERROR(IF(G74=\"N<10\",\"N<10\",VLOOKUP(VALUE($A74),'2013-14 BL USH'!$A$14:$AG$500,5,FALSE)*100),\"Not Tested\")","v":28.000000000000004},-2.9999999999999964,{"$f":"IFERROR(IF(H74=\"N<10\",\"N<10\",VLOOKUP(VALUE($A74),'2012-13 BL USH'!$A$14:$AG$500,11,FALSE)*100),\"Not Tested\")","v":35},{"$f":"IFERROR(IF(J74=\"N<10\",\"N<10\",VLOOKUP(VALUE($A74),'2013-14 BL USH'!$A$14:$AA$500,11,FALSE)*100),\"Not Tested\")","v":27},-8,{"$f":"IFERROR(IF(K74=\"N<10\",\"N<10\",VLOOKUP(VALUE($A74),'2012-13 BL USH'!$A$14:$AG$500,17,FALSE)*100),\"Not Tested\")","v":30},{"$f":"IFERROR(IF(J74=\"N<10\",\"N<10\",VLOOKUP(VALUE($A74),'2013-14 BL USH'!$A$14:$AA$500,17,FALSE)*100),\"Not Tested\")","v":30},0,{"$f":"IFERROR(IF(N74=\"N<10\",\"N<10\",VLOOKUP(VALUE($A74),'2012-13 BL USH'!$A$14:$AG$500,23,FALSE)*100),\"Not Tested\")","v":30},{"$f":"IFERROR(IF(P74=\"N<10\",\"N<10\",VLOOKUP(VALUE($A74),'2013-14 BL USH'!$A$14:$AA$500,23,FALSE)*100),\"Not Tested\")","v":28.000000000000004},-1.9999999999999964]
["7541","INTL STUDIES PREP ACADEMY",{"$f":"VLOOKUP(A75,SchList!$A$2:$C$483,2,FALSE)","v":"NORTH MIAMI BEACH SENIOR HIGH "},{"$f":"IFERROR(VLOOKUP($A75,'2012 BL USH Enrollment'!$A$3:$C$500,3,FALSE),0)","v":407},{"$f":"IFERROR(VLOOKUP($A75,'2013 BL USH Enrollment'!$A$3:$C$500,3,FALSE),0)","v":353},{"$f":"IFERROR(IF(VLOOKUP(VALUE(A75),'2012-13 BL USH'!$A$14:$C$200,3,FALSE)<10,\"N<10\",IF(VLOOKUP(VALUE(A75),'2012-13 BL USH'!$A$14:$C$200,3,FALSE)>D75,100,VLOOKUP(VALUE(A75),'2012-13 BL USH'!$A$14:$C$200,3,FALSE)/D75%)),\"Not Tested\")","v":99.262899262899253},{"$f":"IFERROR(IF(VLOOKUP(VALUE(A75),'2013-14 BL USH'!$A$14:$C$200,3,FALSE)<10,\"N<10\",IF(VLOOKUP(VALUE(A75),'2013-14 BL USH'!$A$14:$C$200,3,FALSE)>E75,100,VLOOKUP(VALUE(A75),'2013-14 BL USH'!$A$14:$C$200,3,FALSE)/E75%)),\"Not Tested\")","v":95.184135977337121},{"$f":"IFERROR(IF(F75=\"N<10\",\"N<10\",VLOOKUP(VALUE($A75),'2012-13 BL USH'!$A$14:$AG$500,5,FALSE)*100),\"Not Tested\")","v":32},{"$f":"IFERROR(IF(G75=\"N<10\",\"N<10\",VLOOKUP(VALUE($A75),'2013-14 BL USH'!$A$14:$AG$500,5,FALSE)*100),\"Not Tested\")","v":30},-2,{"$f":"IFERROR(IF(H75=\"N<10\",\"N<10\",VLOOKUP(VALUE($A75),'2012-13 BL USH'!$A$14:$AG$500,11,FALSE)*100),\"Not Tested\")","v":35},{"$f":"IFERROR(IF(J75=\"N<10\",\"N<10\",VLOOKUP(VALUE($A75),'2013-14 BL USH'!$A$14:$AA$500,11,FALSE)*100),\"Not Tested\")","v":28.999999999999996},-6.0000000000000036,{"$f":"IFERROR(IF(K75=\"N<10\",\"N<10\",VLOOKUP(VALUE($A75),'2012-13 BL USH'!$A$14:$AG$500,17,FALSE)*100),\"Not Tested\")","v":32},{"$f":"IFERROR(IF(J75=\"N<10\",\"N<10\",VLOOKUP(VALUE($A75),'2013-14 BL USH'!$A$14:$AA$500,17,FALSE)*100),\"Not Tested\")","v":30},-2,{"$f":"IFERROR(IF(N75=\"N<10\",\"N<10\",VLOOKUP(VALUE($A75),'2012-13 BL USH'!$A$14:$AG$500,23,FALSE)*100),\"Not Tested\")","v":30},{"$f":"IFERROR(IF(P75=\"N<10\",\"N<10\",VLOOKUP(VALUE($A75),'2013-14 BL USH'!$A$14:$AA$500,23,FALSE)*100),\"Not Tested\")","v":28.999999999999996},-1.0000000000000036]
["7591","WILLIAM H. TURNER TECHNICAL",{"$f":"VLOOKUP(A76,SchList!$A$2:$C$483,2,FALSE)","v":"NORTH MIAMI SENIOR HIGH       "},{"$f":"IFERROR(VLOOKUP($A76,'2012 BL USH Enrollment'!$A$3:$C$500,3,FALSE),0)","v":539},{"$f":"IFERROR(VLOOKUP($A76,'2013 BL USH Enrollment'!$A$3:$C$500,3,FALSE),0)","v":567},{"$f":"IFERROR(IF(VLOOKUP(VALUE(A76),'2012-13 BL USH'!$A$14:$C$200,3,FALSE)<10,\"N<10\",IF(VLOOKUP(VALUE(A76),'2012-13 BL USH'!$A$14:$C$200,3,FALSE)>D76,100,VLOOKUP(VALUE(A76),'2012-13 BL USH'!$A$14:$C$200,3,FALSE)/D76%)),\"Not Tested\")","v":93.877551020408163},{"$f":"IFERROR(IF(VLOOKUP(VALUE(A76),'2013-14 BL USH'!$A$14:$C$200,3,FALSE)<10,\"N<10\",IF(VLOOKUP(VALUE(A76),'2013-14 BL USH'!$A$14:$C$200,3,FALSE)>E76,100,VLOOKUP(VALUE(A76),'2013-14 BL USH'!$A$14:$C$200,3,FALSE)/E76%)),\"Not Tested\")","v":97.354497354497354},{"$f":"IFERROR(IF(F76=\"N<10\",\"N<10\",VLOOKUP(VALUE($A76),'2012-13 BL USH'!$A$14:$AG$500,5,FALSE)*100),\"Not Tested\")","v":32},{"$f":"IFERROR(IF(G76=\"N<10\",\"N<10\",VLOOKUP(VALUE($A76),'2013-14 BL USH'!$A$14:$AG$500,5,FALSE)*100),\"Not Tested\")","v":32},0,{"$f":"IFERROR(IF(H76=\"N<10\",\"N<10\",VLOOKUP(VALUE($A76),'2012-13 BL USH'!$A$14:$AG$500,11,FALSE)*100),\"Not Tested\")","v":37},{"$f":"IFERROR(IF(J76=\"N<10\",\"N<10\",VLOOKUP(VALUE($A76),'2013-14 BL USH'!$A$14:$AA$500,11,FALSE)*100),\"Not Tested\")","v":33},-4,{"$f":"IFERROR(IF(K76=\"N<10\",\"N<10\",VLOOKUP(VALUE($A76),'2012-13 BL USH'!$A$14:$AG$500,17,FALSE)*100),\"Not Tested\")","v":32},{"$f":"IFERROR(IF(J76=\"N<10\",\"N<10\",VLOOKUP(VALUE($A76),'2013-14 BL USH'!$A$14:$AA$500,17,FALSE)*100),\"Not Tested\")","v":33},1,{"$f":"IFERROR(IF(N76=\"N<10\",\"N<10\",VLOOKUP(VALUE($A76),'2012-13 BL USH'!$A$14:$AG$500,23,FALSE)*100),\"Not Tested\")","v":30},{"$f":"IFERROR(IF(P76=\"N<10\",\"N<10\",VLOOKUP(VALUE($A76),'2013-14 BL USH'!$A$14:$AA$500,23,FALSE)*100),\"Not Tested\")","v":30},0]
["7069","CORAL GABLES SENIOR HIGH",{"$f":"VLOOKUP(A77,SchList!$A$2:$C$483,2,FALSE)","v":"NORTH PARK HIGH SCHOOL        "},{"$f":"IFERROR(VLOOKUP($A77,'2012 BL USH Enrollment'!$A$3:$C$500,3,FALSE),0)","v":43},{"$f":"IFERROR(VLOOKUP($A77,'2013 BL USH Enrollment'!$A$3:$C$500,3,FALSE),0)","v":32},{"$f":"IFERROR(IF(VLOOKUP(VALUE(A77),'2012-13 BL USH'!$A$14:$C$200,3,FALSE)<10,\"N<10\",IF(VLOOKUP(VALUE(A77),'2012-13 BL USH'!$A$14:$C$200,3,FALSE)>D77,100,VLOOKUP(VALUE(A77),'2012-13 BL USH'!$A$14:$C$200,3,FALSE)/D77%)),\"Not Tested\")","v":97.674418604651166},{"$f":"IFERROR(IF(VLOOKUP(VALUE(A77),'2013-14 BL USH'!$A$14:$C$200,3,FALSE)<10,\"N<10\",IF(VLOOKUP(VALUE(A77),'2013-14 BL USH'!$A$14:$C$200,3,FALSE)>E77,100,VLOOKUP(VALUE(A77),'2013-14 BL USH'!$A$14:$C$200,3,FALSE)/E77%)),\"Not Tested\")","v":56.25},{"$f":"IFERROR(IF(F77=\"N<10\",\"N<10\",VLOOKUP(VALUE($A77),'2012-13 BL USH'!$A$14:$AG$500,5,FALSE)*100),\"Not Tested\")","v":32},{"$f":"IFERROR(IF(G77=\"N<10\",\"N<10\",VLOOKUP(VALUE($A77),'2013-14 BL USH'!$A$14:$AG$500,5,FALSE)*100),\"Not Tested\")","v":32},0,{"$f":"IFERROR(IF(H77=\"N<10\",\"N<10\",VLOOKUP(VALUE($A77),'2012-13 BL USH'!$A$14:$AG$500,11,FALSE)*100),\"Not Tested\")","v":36},{"$f":"IFERROR(IF(J77=\"N<10\",\"N<10\",VLOOKUP(VALUE($A77),'2013-14 BL USH'!$A$14:$AA$500,11,FALSE)*100),\"Not Tested\")","v":28.999999999999996},-7.0000000000000036,{"$f":"IFERROR(IF(K77=\"N<10\",\"N<10\",VLOOKUP(VALUE($A77),'2012-13 BL USH'!$A$14:$AG$500,17,FALSE)*100),\"Not Tested\")","v":31},{"$f":"IFERROR(IF(J77=\"N<10\",\"N<10\",VLOOKUP(VALUE($A77),'2013-14 BL USH'!$A$14:$AA$500,17,FALSE)*100),\"Not Tested\")","v":35},4,{"$f":"IFERROR(IF(N77=\"N<10\",\"N<10\",VLOOKUP(VALUE($A77),'2012-13 BL USH'!$A$14:$AG$500,23,FALSE)*100),\"Not Tested\")","v":30},{"$f":"IFERROR(IF(P77=\"N<10\",\"N<10\",VLOOKUP(VALUE($A77),'2013-14 BL USH'!$A$14:$AA$500,23,FALSE)*100),\"Not Tested\")","v":30},0]
["7032","LAW ENFORCEMENT OFFICERS HS",{"$f":"VLOOKUP(A78,SchList!$A$2:$C$483,2,FALSE)","v":"PALM GLADES PREP HIGH SCHOOL  "},{"$f":"IFERROR(VLOOKUP($A78,'2012 BL USH Enrollment'!$A$3:$C$500,3,FALSE),0)","v":0},{"$f":"IFERROR(VLOOKUP($A78,'2013 BL USH Enrollment'!$A$3:$C$500,3,FALSE),0)","v":27},{"$f":"IFERROR(IF(VLOOKUP(VALUE(A78),'2012-13 BL USH'!$A$14:$C$200,3,FALSE)<10,\"N<10\",IF(VLOOKUP(VALUE(A78),'2012-13 BL USH'!$A$14:$C$200,3,FALSE)>D78,100,VLOOKUP(VALUE(A78),'2012-13 BL USH'!$A$14:$C$200,3,FALSE)/D78%)),\"Not Tested\")","v":"Not Tested"},{"$f":"IFERROR(IF(VLOOKUP(VALUE(A78),'2013-14 BL USH'!$A$14:$C$200,3,FALSE)<10,\"N<10\",IF(VLOOKUP(VALUE(A78),'2013-14 BL USH'!$A$14:$C$200,3,FALSE)>E78,100,VLOOKUP(VALUE(A78),'2013-14 BL USH'!$A$14:$C$200,3,FALSE)/E78%)),\"Not Tested\")","v":100},{"$f":"IFERROR(IF(F78=\"N<10\",\"N<10\",VLOOKUP(VALUE($A78),'2012-13 BL USH'!$A$14:$AG$500,5,FALSE)*100),\"Not Tested\")","v":"Not Tested"},{"$f":"IFERROR(IF(G78=\"N<10\",\"N<10\",VLOOKUP(VALUE($A78),'2013-14 BL USH'!$A$14:$AG$500,5,FALSE)*100),\"Not Tested\")","v":30},"",{"$f":"IFERROR(IF(H78=\"N<10\",\"N<10\",VLOOKUP(VALUE($A78),'2012-13 BL USH'!$A$14:$AG$500,11,FALSE)*100),\"Not Tested\")","v":"Not Tested"},{"$f":"IFERROR(IF(J78=\"N<10\",\"N<10\",VLOOKUP(VALUE($A78),'2013-14 BL USH'!$A$14:$AA$500,11,FALSE)*100),\"Not Tested\")","v":31},"",{"$f":"IFERROR(IF(K78=\"N<10\",\"N<10\",VLOOKUP(VALUE($A78),'2012-13 BL USH'!$A$14:$AG$500,17,FALSE)*100),\"Not Tested\")","v":"Not Tested"},{"$f":"IFERROR(IF(J78=\"N<10\",\"N<10\",VLOOKUP(VALUE($A78),'2013-14 BL USH'!$A$14:$AA$500,17,FALSE)*100),\"Not Tested\")","v":30},"",{"$f":"IFERROR(IF(N78=\"N<10\",\"N<10\",VLOOKUP(VALUE($A78),'2012-13 BL USH'!$A$14:$AG$500,23,FALSE)*100),\"Not Tested\")","v":"Not Tested"},{"$f":"IFERROR(IF(P78=\"N<10\",\"N<10\",VLOOKUP(VALUE($A78),'2013-14 BL USH'!$A$14:$AA$500,23,FALSE)*100),\"Not Tested\")","v":28.999999999999996},""]
["3032","PALM GLADES PREPATORY ACADEMY",{"$f":"VLOOKUP(A79,SchList!$A$2:$C$483,2,FALSE)","v":"PALM GLADES PREPATORY ACADEMY "},{"$f":"IFERROR(VLOOKUP($A79,'2012 BL USH Enrollment'!$A$3:$C$500,3,FALSE),0)","v":0},{"$f":"IFERROR(VLOOKUP($A79,'2013 BL USH Enrollment'!$A$3:$C$500,3,FALSE),0)","v":118},{"$f":"IFERROR(IF(VLOOKUP(VALUE(A79),'2012-13 BL USH'!$A$14:$C$200,3,FALSE)<10,\"N<10\",IF(VLOOKUP(VALUE(A79),'2012-13 BL USH'!$A$14:$C$200,3,FALSE)>D79,100,VLOOKUP(VALUE(A79),'2012-13 BL USH'!$A$14:$C$200,3,FALSE)/D79%)),\"Not Tested\")","v":"Not Tested"},{"$f":"IFERROR(IF(VLOOKUP(VALUE(A79),'2013-14 BL USH'!$A$14:$C$200,3,FALSE)<10,\"N<10\",IF(VLOOKUP(VALUE(A79),'2013-14 BL USH'!$A$14:$C$200,3,FALSE)>E79,100,VLOOKUP(VALUE(A79),'2013-14 BL USH'!$A$14:$C$200,3,FALSE)/E79%)),\"Not Tested\")","v":"Not Tested"},{"$f":"IFERROR(IF(F79=\"N<10\",\"N<10\",VLOOKUP(VALUE($A79),'2012-13 BL USH'!$A$14:$AG$500,5,FALSE)*100),\"Not Tested\")","v":"Not Tested"},{"$f":"IFERROR(IF(G79=\"N<10\",\"N<10\",VLOOKUP(VALUE($A79),'2013-14 BL USH'!$A$14:$AG$500,5,FALSE)*100),\"Not Tested\")","v":"Not Tested"},"",{"$f":"IFERROR(IF(H79=\"N<10\",\"N<10\",VLOOKUP(VALUE($A79),'2012-13 BL USH'!$A$14:$AG$500,11,FALSE)*100),\"Not Tested\")","v":"Not Tested"},{"$f":"IFERROR(IF(J79=\"N<10\",\"N<10\",VLOOKUP(VALUE($A79),'2013-14 BL USH'!$A$14:$AA$500,11,FALSE)*100),\"Not Tested\")","v":"Not Tested"},"",{"$f":"IFERROR(IF(K79=\"N<10\",\"N<10\",VLOOKUP(VALUE($A79),'2012-13 BL USH'!$A$14:$AG$500,17,FALSE)*100),\"Not Tested\")","v":"Not Tested"},{"$f":"IFERROR(IF(J79=\"N<10\",\"N<10\",VLOOKUP(VALUE($A79),'2013-14 BL USH'!$A$14:$AA$500,17,FALSE)*100),\"Not Tested\")","v":"Not Tested"},"",{"$f":"IFERROR(IF(N79=\"N<10\",\"N<10\",VLOOKUP(VALUE($A79),'2012-13 BL USH'!$A$14:$AG$500,23,FALSE)*100),\"Not Tested\")","v":"Not Tested"},{"$f":"IFERROR(IF(P79=\"N<10\",\"N<10\",VLOOKUP(VALUE($A79),'2013-14 BL USH'!$A$14:$AA$500,23,FALSE)*100),\"Not Tested\")","v":"Not Tested"},""]
["7053","YOUNG MENS PREPARATORY ACADEMY",{"$f":"VLOOKUP(A80,SchList!$A$2:$C$483,2,FALSE)","v":"PINECREST ACADEMY CHARTER HIGH"},{"$f":"IFERROR(VLOOKUP($A80,'2012 BL USH Enrollment'!$A$3:$C$500,3,FALSE),0)","v":39},{"$f":"IFERROR(VLOOKUP($A80,'2013 BL USH Enrollment'!$A$3:$C$500,3,FALSE),0)","v":80},{"$f":"IFERROR(IF(VLOOKUP(VALUE(A80),'2012-13 BL USH'!$A$14:$C$200,3,FALSE)<10,\"N<10\",IF(VLOOKUP(VALUE(A80),'2012-13 BL USH'!$A$14:$C$200,3,FALSE)>D80,100,VLOOKUP(VALUE(A80),'2012-13 BL USH'!$A$14:$C$200,3,FALSE)/D80%)),\"Not Tested\")","v":100},{"$f":"IFERROR(IF(VLOOKUP(VALUE(A80),'2013-14 BL USH'!$A$14:$C$200,3,FALSE)<10,\"N<10\",IF(VLOOKUP(VALUE(A80),'2013-14 BL USH'!$A$14:$C$200,3,FALSE)>E80,100,VLOOKUP(VALUE(A80),'2013-14 BL USH'!$A$14:$C$200,3,FALSE)/E80%)),\"Not Tested\")","v":100},{"$f":"IFERROR(IF(F80=\"N<10\",\"N<10\",VLOOKUP(VALUE($A80),'2012-13 BL USH'!$A$14:$AG$500,5,FALSE)*100),\"Not Tested\")","v":28.000000000000004},{"$f":"IFERROR(IF(G80=\"N<10\",\"N<10\",VLOOKUP(VALUE($A80),'2013-14 BL USH'!$A$14:$AG$500,5,FALSE)*100),\"Not Tested\")","v":32},3.9999999999999964,{"$f":"IFERROR(IF(H80=\"N<10\",\"N<10\",VLOOKUP(VALUE($A80),'2012-13 BL USH'!$A$14:$AG$500,11,FALSE)*100),\"Not Tested\")","v":30},{"$f":"IFERROR(IF(J80=\"N<10\",\"N<10\",VLOOKUP(VALUE($A80),'2013-14 BL USH'!$A$14:$AA$500,11,FALSE)*100),\"Not Tested\")","v":32},2,{"$f":"IFERROR(IF(K80=\"N<10\",\"N<10\",VLOOKUP(VALUE($A80),'2012-13 BL USH'!$A$14:$AG$500,17,FALSE)*100),\"Not Tested\")","v":30},{"$f":"IFERROR(IF(J80=\"N<10\",\"N<10\",VLOOKUP(VALUE($A80),'2013-14 BL USH'!$A$14:$AA$500,17,FALSE)*100),\"Not Tested\")","v":32},2,{"$f":"IFERROR(IF(N80=\"N<10\",\"N<10\",VLOOKUP(VALUE($A80),'2012-13 BL USH'!$A$14:$AG$500,23,FALSE)*100),\"Not Tested\")","v":27},{"$f":"IFERROR(IF(P80=\"N<10\",\"N<10\",VLOOKUP(VALUE($A80),'2013-14 BL USH'!$A$14:$AA$500,23,FALSE)*100),\"Not Tested\")","v":32},5]
["7371","MIAMI NORLAND SENIOR HIGH",{"$f":"VLOOKUP(A81,SchList!$A$2:$C$483,2,FALSE)","v":"ROBERT MORGAN EDUCATIONAL CTR "},{"$f":"IFERROR(VLOOKUP($A81,'2012 BL USH Enrollment'!$A$3:$C$500,3,FALSE),0)","v":389},{"$f":"IFERROR(VLOOKUP($A81,'2013 BL USH Enrollment'!$A$3:$C$500,3,FALSE),0)","v":463},{"$f":"IFERROR(IF(VLOOKUP(VALUE(A81),'2012-13 BL USH'!$A$14:$C$200,3,FALSE)<10,\"N<10\",IF(VLOOKUP(VALUE(A81),'2012-13 BL USH'!$A$14:$C$200,3,FALSE)>D81,100,VLOOKUP(VALUE(A81),'2012-13 BL USH'!$A$14:$C$200,3,FALSE)/D81%)),\"Not Tested\")","v":96.1439588688946},{"$f":"IFERROR(IF(VLOOKUP(VALUE(A81),'2013-14 BL USH'!$A$14:$C$200,3,FALSE)<10,\"N<10\",IF(VLOOKUP(VALUE(A81),'2013-14 BL USH'!$A$14:$C$200,3,FALSE)>E81,100,VLOOKUP(VALUE(A81),'2013-14 BL USH'!$A$14:$C$200,3,FALSE)/E81%)),\"Not Tested\")","v":97.624190064794817},{"$f":"IFERROR(IF(F81=\"N<10\",\"N<10\",VLOOKUP(VALUE($A81),'2012-13 BL USH'!$A$14:$AG$500,5,FALSE)*100),\"Not Tested\")","v":32},{"$f":"IFERROR(IF(G81=\"N<10\",\"N<10\",VLOOKUP(VALUE($A81),'2013-14 BL USH'!$A$14:$AG$500,5,FALSE)*100),\"Not Tested\")","v":34},2,{"$f":"IFERROR(IF(H81=\"N<10\",\"N<10\",VLOOKUP(VALUE($A81),'2012-13 BL USH'!$A$14:$AG$500,11,FALSE)*100),\"Not Tested\")","v":38},{"$f":"IFERROR(IF(J81=\"N<10\",\"N<10\",VLOOKUP(VALUE($A81),'2013-14 BL USH'!$A$14:$AA$500,11,FALSE)*100),\"Not Tested\")","v":37},-1,{"$f":"IFERROR(IF(K81=\"N<10\",\"N<10\",VLOOKUP(VALUE($A81),'2012-13 BL USH'!$A$14:$AG$500,17,FALSE)*100),\"Not Tested\")","v":31},{"$f":"IFERROR(IF(J81=\"N<10\",\"N<10\",VLOOKUP(VALUE($A81),'2013-14 BL USH'!$A$14:$AA$500,17,FALSE)*100),\"Not Tested\")","v":35},4,{"$f":"IFERROR(IF(N81=\"N<10\",\"N<10\",VLOOKUP(VALUE($A81),'2012-13 BL USH'!$A$14:$AG$500,23,FALSE)*100),\"Not Tested\")","v":30},{"$f":"IFERROR(IF(P81=\"N<10\",\"N<10\",VLOOKUP(VALUE($A81),'2013-14 BL USH'!$A$14:$AA$500,23,FALSE)*100),\"Not Tested\")","v":33},3]
["8151","BRUCIE BALL EDUCATIONAL CENTER",{"$f":"VLOOKUP(A82,SchList!$A$2:$C$483,2,FALSE)","v":"ROBERT RENICK EDUCATION CTR   "},{"$f":"IFERROR(VLOOKUP($A82,'2012 BL USH Enrollment'!$A$3:$C$500,3,FALSE),0)","v":7},{"$f":"IFERROR(VLOOKUP($A82,'2013 BL USH Enrollment'!$A$3:$C$500,3,FALSE),0)","v":5},{"$f":"IFERROR(IF(VLOOKUP(VALUE(A82),'2012-13 BL USH'!$A$14:$C$200,3,FALSE)<10,\"N<10\",IF(VLOOKUP(VALUE(A82),'2012-13 BL USH'!$A$14:$C$200,3,FALSE)>D82,100,VLOOKUP(VALUE(A82),'2012-13 BL USH'!$A$14:$C$200,3,FALSE)/D82%)),\"Not Tested\")","v":"N<10"},{"$f":"IFERROR(IF(VLOOKUP(VALUE(A82),'2013-14 BL USH'!$A$14:$C$200,3,FALSE)<10,\"N<10\",IF(VLOOKUP(VALUE(A82),'2013-14 BL USH'!$A$14:$C$200,3,FALSE)>E82,100,VLOOKUP(VALUE(A82),'2013-14 BL USH'!$A$14:$C$200,3,FALSE)/E82%)),\"Not Tested\")","v":"N<10"},{"$f":"IFERROR(IF(F82=\"N<10\",\"N<10\",VLOOKUP(VALUE($A82),'2012-13 BL USH'!$A$14:$AG$500,5,FALSE)*100),\"Not Tested\")","v":"N<10"},{"$f":"IFERROR(IF(G82=\"N<10\",\"N<10\",VLOOKUP(VALUE($A82),'2013-14 BL USH'!$A$14:$AG$500,5,FALSE)*100),\"Not Tested\")","v":"N<10"},"",{"$f":"IFERROR(IF(H82=\"N<10\",\"N<10\",VLOOKUP(VALUE($A82),'2012-13 BL USH'!$A$14:$AG$500,11,FALSE)*100),\"Not Tested\")","v":"N<10"},{"$f":"IFERROR(IF(J82=\"N<10\",\"N<10\",VLOOKUP(VALUE($A82),'2013-14 BL USH'!$A$14:$AA$500,11,FALSE)*100),\"Not Tested\")","v":22},"",{"$f":"IFERROR(IF(K82=\"N<10\",\"N<10\",VLOOKUP(VALUE($A82),'2012-13 BL USH'!$A$14:$AG$500,17,FALSE)*100),\"Not Tested\")","v":"N<10"},{"$f":"IFERROR(IF(J82=\"N<10\",\"N<10\",VLOOKUP(VALUE($A82),'2013-14 BL USH'!$A$14:$AA$500,17,FALSE)*100),\"Not Tested\")","v":24},"",{"$f":"IFERROR(IF(N82=\"N<10\",\"N<10\",VLOOKUP(VALUE($A82),'2012-13 BL USH'!$A$14:$AG$500,23,FALSE)*100),\"Not Tested\")","v":"N<10"},{"$f":"IFERROR(IF(P82=\"N<10\",\"N<10\",VLOOKUP(VALUE($A82),'2013-14 BL USH'!$A$14:$AA$500,23,FALSE)*100),\"Not Tested\")","v":22},""]
["7241","MIAMI CENTRAL SENIOR HIGH",{"$f":"VLOOKUP(A83,SchList!$A$2:$C$483,2,FALSE)","v":"RONALD W REAGAN/DORAL SENIOR  "},{"$f":"IFERROR(VLOOKUP($A83,'2012 BL USH Enrollment'!$A$3:$C$500,3,FALSE),0)","v":447},{"$f":"IFERROR(VLOOKUP($A83,'2013 BL USH Enrollment'!$A$3:$C$500,3,FALSE),0)","v":408},{"$f":"IFERROR(IF(VLOOKUP(VALUE(A83),'2012-13 BL USH'!$A$14:$C$200,3,FALSE)<10,\"N<10\",IF(VLOOKUP(VALUE(A83),'2012-13 BL USH'!$A$14:$C$200,3,FALSE)>D83,100,VLOOKUP(VALUE(A83),'2012-13 BL USH'!$A$14:$C$200,3,FALSE)/D83%)),\"Not Tested\")","v":97.986577181208062},{"$f":"IFERROR(IF(VLOOKUP(VALUE(A83),'2013-14 BL USH'!$A$14:$C$200,3,FALSE)<10,\"N<10\",IF(VLOOKUP(VALUE(A83),'2013-14 BL USH'!$A$14:$C$200,3,FALSE)>E83,100,VLOOKUP(VALUE(A83),'2013-14 BL USH'!$A$14:$C$200,3,FALSE)/E83%)),\"Not Tested\")","v":96.078431372549019},{"$f":"IFERROR(IF(F83=\"N<10\",\"N<10\",VLOOKUP(VALUE($A83),'2012-13 BL USH'!$A$14:$AG$500,5,FALSE)*100),\"Not Tested\")","v":31},{"$f":"IFERROR(IF(G83=\"N<10\",\"N<10\",VLOOKUP(VALUE($A83),'2013-14 BL USH'!$A$14:$AG$500,5,FALSE)*100),\"Not Tested\")","v":28.999999999999996},-2.0000000000000036,{"$f":"IFERROR(IF(H83=\"N<10\",\"N<10\",VLOOKUP(VALUE($A83),'2012-13 BL USH'!$A$14:$AG$500,11,FALSE)*100),\"Not Tested\")","v":37},{"$f":"IFERROR(IF(J83=\"N<10\",\"N<10\",VLOOKUP(VALUE($A83),'2013-14 BL USH'!$A$14:$AA$500,11,FALSE)*100),\"Not Tested\")","v":30},-7,{"$f":"IFERROR(IF(K83=\"N<10\",\"N<10\",VLOOKUP(VALUE($A83),'2012-13 BL USH'!$A$14:$AG$500,17,FALSE)*100),\"Not Tested\")","v":30},{"$f":"IFERROR(IF(J83=\"N<10\",\"N<10\",VLOOKUP(VALUE($A83),'2013-14 BL USH'!$A$14:$AA$500,17,FALSE)*100),\"Not Tested\")","v":28.999999999999996},-1.0000000000000036,{"$f":"IFERROR(IF(N83=\"N<10\",\"N<10\",VLOOKUP(VALUE($A83),'2012-13 BL USH'!$A$14:$AG$500,23,FALSE)*100),\"Not Tested\")","v":30},{"$f":"IFERROR(IF(P83=\"N<10\",\"N<10\",VLOOKUP(VALUE($A83),'2013-14 BL USH'!$A$14:$AA$500,23,FALSE)*100),\"Not Tested\")","v":28.999999999999996},-1.0000000000000036]
["7034","LAWRENCE ACADEMY SENIOR",{"$f":"VLOOKUP(A84,SchList!$A$2:$C$483,2,FALSE)","v":"SOMERSET ACAD HIGH SOUTH-HMSTD"},{"$f":"IFERROR(VLOOKUP($A84,'2012 BL USH Enrollment'!$A$3:$C$500,3,FALSE),0)","v":17},{"$f":"IFERROR(VLOOKUP($A84,'2013 BL USH Enrollment'!$A$3:$C$500,3,FALSE),0)","v":21},{"$f":"IFERROR(IF(VLOOKUP(VALUE(A84),'2012-13 BL USH'!$A$14:$C$200,3,FALSE)<10,\"N<10\",IF(VLOOKUP(VALUE(A84),'2012-13 BL USH'!$A$14:$C$200,3,FALSE)>D84,100,VLOOKUP(VALUE(A84),'2012-13 BL USH'!$A$14:$C$200,3,FALSE)/D84%)),\"Not Tested\")","v":94.117647058823522},{"$f":"IFERROR(IF(VLOOKUP(VALUE(A84),'2013-14 BL USH'!$A$14:$C$200,3,FALSE)<10,\"N<10\",IF(VLOOKUP(VALUE(A84),'2013-14 BL USH'!$A$14:$C$200,3,FALSE)>E84,100,VLOOKUP(VALUE(A84),'2013-14 BL USH'!$A$14:$C$200,3,FALSE)/E84%)),\"Not Tested\")","v":100},{"$f":"IFERROR(IF(F84=\"N<10\",\"N<10\",VLOOKUP(VALUE($A84),'2012-13 BL USH'!$A$14:$AG$500,5,FALSE)*100),\"Not Tested\")","v":35},{"$f":"IFERROR(IF(G84=\"N<10\",\"N<10\",VLOOKUP(VALUE($A84),'2013-14 BL USH'!$A$14:$AG$500,5,FALSE)*100),\"Not Tested\")","v":37},2,{"$f":"IFERROR(IF(H84=\"N<10\",\"N<10\",VLOOKUP(VALUE($A84),'2012-13 BL USH'!$A$14:$AG$500,11,FALSE)*100),\"Not Tested\")","v":37},{"$f":"IFERROR(IF(J84=\"N<10\",\"N<10\",VLOOKUP(VALUE($A84),'2013-14 BL USH'!$A$14:$AA$500,11,FALSE)*100),\"Not Tested\")","v":35},-2,{"$f":"IFERROR(IF(K84=\"N<10\",\"N<10\",VLOOKUP(VALUE($A84),'2012-13 BL USH'!$A$14:$AG$500,17,FALSE)*100),\"Not Tested\")","v":36},{"$f":"IFERROR(IF(J84=\"N<10\",\"N<10\",VLOOKUP(VALUE($A84),'2013-14 BL USH'!$A$14:$AA$500,17,FALSE)*100),\"Not Tested\")","v":42},6,{"$f":"IFERROR(IF(N84=\"N<10\",\"N<10\",VLOOKUP(VALUE($A84),'2012-13 BL USH'!$A$14:$AG$500,23,FALSE)*100),\"Not Tested\")","v":33},{"$f":"IFERROR(IF(P84=\"N<10\",\"N<10\",VLOOKUP(VALUE($A84),'2013-14 BL USH'!$A$14:$AA$500,23,FALSE)*100),\"Not Tested\")","v":35},2]
["7042","ALONZO & TRACY MOURNING SH",{"$f":"VLOOKUP(A85,SchList!$A$2:$C$483,2,FALSE)","v":"SOMERSET ACADEMY CHARTER HIGH "},{"$f":"IFERROR(VLOOKUP($A85,'2012 BL USH Enrollment'!$A$3:$C$500,3,FALSE),0)","v":79},{"$f":"IFERROR(VLOOKUP($A85,'2013 BL USH Enrollment'!$A$3:$C$500,3,FALSE),0)","v":53},{"$f":"IFERROR(IF(VLOOKUP(VALUE(A85),'2012-13 BL USH'!$A$14:$C$200,3,FALSE)<10,\"N<10\",IF(VLOOKUP(VALUE(A85),'2012-13 BL USH'!$A$14:$C$200,3,FALSE)>D85,100,VLOOKUP(VALUE(A85),'2012-13 BL USH'!$A$14:$C$200,3,FALSE)/D85%)),\"Not Tested\")","v":100},{"$f":"IFERROR(IF(VLOOKUP(VALUE(A85),'2013-14 BL USH'!$A$14:$C$200,3,FALSE)<10,\"N<10\",IF(VLOOKUP(VALUE(A85),'2013-14 BL USH'!$A$14:$C$200,3,FALSE)>E85,100,VLOOKUP(VALUE(A85),'2013-14 BL USH'!$A$14:$C$200,3,FALSE)/E85%)),\"Not Tested\")","v":96.226415094339615},{"$f":"IFERROR(IF(F85=\"N<10\",\"N<10\",VLOOKUP(VALUE($A85),'2012-13 BL USH'!$A$14:$AG$500,5,FALSE)*100),\"Not Tested\")","v":31},{"$f":"IFERROR(IF(G85=\"N<10\",\"N<10\",VLOOKUP(VALUE($A85),'2013-14 BL USH'!$A$14:$AG$500,5,FALSE)*100),\"Not Tested\")","v":32},1,{"$f":"IFERROR(IF(H85=\"N<10\",\"N<10\",VLOOKUP(VALUE($A85),'2012-13 BL USH'!$A$14:$AG$500,11,FALSE)*100),\"Not Tested\")","v":34},{"$f":"IFERROR(IF(J85=\"N<10\",\"N<10\",VLOOKUP(VALUE($A85),'2013-14 BL USH'!$A$14:$AA$500,11,FALSE)*100),\"Not Tested\")","v":33},-1,{"$f":"IFERROR(IF(K85=\"N<10\",\"N<10\",VLOOKUP(VALUE($A85),'2012-13 BL USH'!$A$14:$AG$500,17,FALSE)*100),\"Not Tested\")","v":30},{"$f":"IFERROR(IF(J85=\"N<10\",\"N<10\",VLOOKUP(VALUE($A85),'2013-14 BL USH'!$A$14:$AA$500,17,FALSE)*100),\"Not Tested\")","v":33},3,{"$f":"IFERROR(IF(N85=\"N<10\",\"N<10\",VLOOKUP(VALUE($A85),'2012-13 BL USH'!$A$14:$AG$500,23,FALSE)*100),\"Not Tested\")","v":30},{"$f":"IFERROR(IF(P85=\"N<10\",\"N<10\",VLOOKUP(VALUE($A85),'2013-14 BL USH'!$A$14:$AA$500,23,FALSE)*100),\"Not Tested\")","v":31},1]
["7701","SOUTH MIAMI SENIOR HIGH",{"$f":"VLOOKUP(A86,SchList!$A$2:$C$483,2,FALSE)","v":"SOUTH DADE SENIOR HIGH        "},{"$f":"IFERROR(VLOOKUP($A86,'2012 BL USH Enrollment'!$A$3:$C$500,3,FALSE),0)","v":696},{"$f":"IFERROR(VLOOKUP($A86,'2013 BL USH Enrollment'!$A$3:$C$500,3,FALSE),0)","v":707},{"$f":"IFERROR(IF(VLOOKUP(VALUE(A86),'2012-13 BL USH'!$A$14:$C$200,3,FALSE)<10,\"N<10\",IF(VLOOKUP(VALUE(A86),'2012-13 BL USH'!$A$14:$C$200,3,FALSE)>D86,100,VLOOKUP(VALUE(A86),'2012-13 BL USH'!$A$14:$C$200,3,FALSE)/D86%)),\"Not Tested\")","v":93.390804597701148},{"$f":"IFERROR(IF(VLOOKUP(VALUE(A86),'2013-14 BL USH'!$A$14:$C$200,3,FALSE)<10,\"N<10\",IF(VLOOKUP(VALUE(A86),'2013-14 BL USH'!$A$14:$C$200,3,FALSE)>E86,100,VLOOKUP(VALUE(A86),'2013-14 BL USH'!$A$14:$C$200,3,FALSE)/E86%)),\"Not Tested\")","v":95.190947666195186},{"$f":"IFERROR(IF(F86=\"N<10\",\"N<10\",VLOOKUP(VALUE($A86),'2012-13 BL USH'!$A$14:$AG$500,5,FALSE)*100),\"Not Tested\")","v":30},{"$f":"IFERROR(IF(G86=\"N<10\",\"N<10\",VLOOKUP(VALUE($A86),'2013-14 BL USH'!$A$14:$AG$500,5,FALSE)*100),\"Not Tested\")","v":30},0,{"$f":"IFERROR(IF(H86=\"N<10\",\"N<10\",VLOOKUP(VALUE($A86),'2012-13 BL USH'!$A$14:$AG$500,11,FALSE)*100),\"Not Tested\")","v":34},{"$f":"IFERROR(IF(J86=\"N<10\",\"N<10\",VLOOKUP(VALUE($A86),'2013-14 BL USH'!$A$14:$AA$500,11,FALSE)*100),\"Not Tested\")","v":30},-4,{"$f":"IFERROR(IF(K86=\"N<10\",\"N<10\",VLOOKUP(VALUE($A86),'2012-13 BL USH'!$A$14:$AG$500,17,FALSE)*100),\"Not Tested\")","v":28.999999999999996},{"$f":"IFERROR(IF(J86=\"N<10\",\"N<10\",VLOOKUP(VALUE($A86),'2013-14 BL USH'!$A$14:$AA$500,17,FALSE)*100),\"Not Tested\")","v":30},1.0000000000000036,{"$f":"IFERROR(IF(N86=\"N<10\",\"N<10\",VLOOKUP(VALUE($A86),'2012-13 BL USH'!$A$14:$AG$500,23,FALSE)*100),\"Not Tested\")","v":28.999999999999996},{"$f":"IFERROR(IF(P86=\"N<10\",\"N<10\",VLOOKUP(VALUE($A86),'2013-14 BL USH'!$A$14:$AA$500,23,FALSE)*100),\"Not Tested\")","v":28.999999999999996},0]
["7721","MIAMI SOUTHRIDGE SENIOR HIGH",{"$f":"VLOOKUP(A87,SchList!$A$2:$C$483,2,FALSE)","v":"SOUTH MIAMI SENIOR HIGH       "},{"$f":"IFERROR(VLOOKUP($A87,'2012 BL USH Enrollment'!$A$3:$C$500,3,FALSE),0)","v":469},{"$f":"IFERROR(VLOOKUP($A87,'2013 BL USH Enrollment'!$A$3:$C$500,3,FALSE),0)","v":468},{"$f":"IFERROR(IF(VLOOKUP(VALUE(A87),'2012-13 BL USH'!$A$14:$C$200,3,FALSE)<10,\"N<10\",IF(VLOOKUP(VALUE(A87),'2012-13 BL USH'!$A$14:$C$200,3,FALSE)>D87,100,VLOOKUP(VALUE(A87),'2012-13 BL USH'!$A$14:$C$200,3,FALSE)/D87%)),\"Not Tested\")","v":88.272921108741997},{"$f":"IFERROR(IF(VLOOKUP(VALUE(A87),'2013-14 BL USH'!$A$14:$C$200,3,FALSE)<10,\"N<10\",IF(VLOOKUP(VALUE(A87),'2013-14 BL USH'!$A$14:$C$200,3,FALSE)>E87,100,VLOOKUP(VALUE(A87),'2013-14 BL USH'!$A$14:$C$200,3,FALSE)/E87%)),\"Not Tested\")","v":94.230769230769241},{"$f":"IFERROR(IF(F87=\"N<10\",\"N<10\",VLOOKUP(VALUE($A87),'2012-13 BL USH'!$A$14:$AG$500,5,FALSE)*100),\"Not Tested\")","v":32},{"$f":"IFERROR(IF(G87=\"N<10\",\"N<10\",VLOOKUP(VALUE($A87),'2013-14 BL USH'!$A$14:$AG$500,5,FALSE)*100),\"Not Tested\")","v":32},0,{"$f":"IFERROR(IF(H87=\"N<10\",\"N<10\",VLOOKUP(VALUE($A87),'2012-13 BL USH'!$A$14:$AG$500,11,FALSE)*100),\"Not Tested\")","v":37},{"$f":"IFERROR(IF(J87=\"N<10\",\"N<10\",VLOOKUP(VALUE($A87),'2013-14 BL USH'!$A$14:$AA$500,11,FALSE)*100),\"Not Tested\")","v":33},-4,{"$f":"IFERROR(IF(K87=\"N<10\",\"N<10\",VLOOKUP(VALUE($A87),'2012-13 BL USH'!$A$14:$AG$500,17,FALSE)*100),\"Not Tested\")","v":30},{"$f":"IFERROR(IF(J87=\"N<10\",\"N<10\",VLOOKUP(VALUE($A87),'2013-14 BL USH'!$A$14:$AA$500,17,FALSE)*100),\"Not Tested\")","v":32},2,{"$f":"IFERROR(IF(N87=\"N<10\",\"N<10\",VLOOKUP(VALUE($A87),'2012-13 BL USH'!$A$14:$AG$500,23,FALSE)*100),\"Not Tested\")","v":31},{"$f":"IFERROR(IF(P87=\"N<10\",\"N<10\",VLOOKUP(VALUE($A87),'2013-14 BL USH'!$A$14:$AA$500,23,FALSE)*100),\"Not Tested\")","v":31},0]
["7741","BARBARA GOLEMAN SENIOR HIGH",{"$f":"VLOOKUP(A88,SchList!$A$2:$C$483,2,FALSE)","v":"SOUTHWEST MIAMI SENIOR HIGH   "},{"$f":"IFERROR(VLOOKUP($A88,'2012 BL USH Enrollment'!$A$3:$C$500,3,FALSE),0)","v":647},{"$f":"IFERROR(VLOOKUP($A88,'2013 BL USH Enrollment'!$A$3:$C$500,3,FALSE),0)","v":680},{"$f":"IFERROR(IF(VLOOKUP(VALUE(A88),'2012-13 BL USH'!$A$14:$C$200,3,FALSE)<10,\"N<10\",IF(VLOOKUP(VALUE(A88),'2012-13 BL USH'!$A$14:$C$200,3,FALSE)>D88,100,VLOOKUP(VALUE(A88),'2012-13 BL USH'!$A$14:$C$200,3,FALSE)/D88%)),\"Not Tested\")","v":98.918083462132927},{"$f":"IFERROR(IF(VLOOKUP(VALUE(A88),'2013-14 BL USH'!$A$14:$C$200,3,FALSE)<10,\"N<10\",IF(VLOOKUP(VALUE(A88),'2013-14 BL USH'!$A$14:$C$200,3,FALSE)>E88,100,VLOOKUP(VALUE(A88),'2013-14 BL USH'!$A$14:$C$200,3,FALSE)/E88%)),\"Not Tested\")","v":97.205882352941174},{"$f":"IFERROR(IF(F88=\"N<10\",\"N<10\",VLOOKUP(VALUE($A88),'2012-13 BL USH'!$A$14:$AG$500,5,FALSE)*100),\"Not Tested\")","v":32},{"$f":"IFERROR(IF(G88=\"N<10\",\"N<10\",VLOOKUP(VALUE($A88),'2013-14 BL USH'!$A$14:$AG$500,5,FALSE)*100),\"Not Tested\")","v":33},1,{"$f":"IFERROR(IF(H88=\"N<10\",\"N<10\",VLOOKUP(VALUE($A88),'2012-13 BL USH'!$A$14:$AG$500,11,FALSE)*100),\"Not Tested\")","v":36},{"$f":"IFERROR(IF(J88=\"N<10\",\"N<10\",VLOOKUP(VALUE($A88),'2013-14 BL USH'!$A$14:$AA$500,11,FALSE)*100),\"Not Tested\")","v":34},-2,{"$f":"IFERROR(IF(K88=\"N<10\",\"N<10\",VLOOKUP(VALUE($A88),'2012-13 BL USH'!$A$14:$AG$500,17,FALSE)*100),\"Not Tested\")","v":31},{"$f":"IFERROR(IF(J88=\"N<10\",\"N<10\",VLOOKUP(VALUE($A88),'2013-14 BL USH'!$A$14:$AA$500,17,FALSE)*100),\"Not Tested\")","v":34},3,{"$f":"IFERROR(IF(N88=\"N<10\",\"N<10\",VLOOKUP(VALUE($A88),'2012-13 BL USH'!$A$14:$AG$500,23,FALSE)*100),\"Not Tested\")","v":31},{"$f":"IFERROR(IF(P88=\"N<10\",\"N<10\",VLOOKUP(VALUE($A88),'2013-14 BL USH'!$A$14:$AA$500,23,FALSE)*100),\"Not Tested\")","v":32},1]
["7016","MATER ACADEMY LAKES HIGH SCH",{"$f":"VLOOKUP(A89,SchList!$A$2:$C$483,2,FALSE)","v":"SPORTS LEADERSHIP OF MIAMI CHS"},{"$f":"IFERROR(VLOOKUP($A89,'2012 BL USH Enrollment'!$A$3:$C$500,3,FALSE),0)","v":0},{"$f":"IFERROR(VLOOKUP($A89,'2013 BL USH Enrollment'!$A$3:$C$500,3,FALSE),0)","v":59},{"$f":"IFERROR(IF(VLOOKUP(VALUE(A89),'2012-13 BL USH'!$A$14:$C$200,3,FALSE)<10,\"N<10\",IF(VLOOKUP(VALUE(A89),'2012-13 BL USH'!$A$14:$C$200,3,FALSE)>D89,100,VLOOKUP(VALUE(A89),'2012-13 BL USH'!$A$14:$C$200,3,FALSE)/D89%)),\"Not Tested\")","v":"Not Tested"},{"$f":"IFERROR(IF(VLOOKUP(VALUE(A89),'2013-14 BL USH'!$A$14:$C$200,3,FALSE)<10,\"N<10\",IF(VLOOKUP(VALUE(A89),'2013-14 BL USH'!$A$14:$C$200,3,FALSE)>E89,100,VLOOKUP(VALUE(A89),'2013-14 BL USH'!$A$14:$C$200,3,FALSE)/E89%)),\"Not Tested\")","v":88.13559322033899},{"$f":"IFERROR(IF(F89=\"N<10\",\"N<10\",VLOOKUP(VALUE($A89),'2012-13 BL USH'!$A$14:$AG$500,5,FALSE)*100),\"Not Tested\")","v":"Not Tested"},{"$f":"IFERROR(IF(G89=\"N<10\",\"N<10\",VLOOKUP(VALUE($A89),'2013-14 BL USH'!$A$14:$AG$500,5,FALSE)*100),\"Not Tested\")","v":35},"",{"$f":"IFERROR(IF(H89=\"N<10\",\"N<10\",VLOOKUP(VALUE($A89),'2012-13 BL USH'!$A$14:$AG$500,11,FALSE)*100),\"Not Tested\")","v":"Not Tested"},{"$f":"IFERROR(IF(J89=\"N<10\",\"N<10\",VLOOKUP(VALUE($A89),'2013-14 BL USH'!$A$14:$AA$500,11,FALSE)*100),\"Not Tested\")","v":38},"",{"$f":"IFERROR(IF(K89=\"N<10\",\"N<10\",VLOOKUP(VALUE($A89),'2012-13 BL USH'!$A$14:$AG$500,17,FALSE)*100),\"Not Tested\")","v":"Not Tested"},{"$f":"IFERROR(IF(J89=\"N<10\",\"N<10\",VLOOKUP(VALUE($A89),'2013-14 BL USH'!$A$14:$AA$500,17,FALSE)*100),\"Not Tested\")","v":37},"",{"$f":"IFERROR(IF(N89=\"N<10\",\"N<10\",VLOOKUP(VALUE($A89),'2012-13 BL USH'!$A$14:$AG$500,23,FALSE)*100),\"Not Tested\")","v":"Not Tested"},{"$f":"IFERROR(IF(P89=\"N<10\",\"N<10\",VLOOKUP(VALUE($A89),'2013-14 BL USH'!$A$14:$AA$500,23,FALSE)*100),\"Not Tested\")","v":32},""]
["7015","SPORTS LEADERSHIP OF MIAMI CHS",{"$f":"VLOOKUP(A90,SchList!$A$2:$C$483,2,FALSE)","v":"STELLAR LEADERSHIP ACADEMY    "},{"$f":"IFERROR(VLOOKUP($A90,'2012 BL USH Enrollment'!$A$3:$C$500,3,FALSE),0)","v":102},{"$f":"IFERROR(VLOOKUP($A90,'2013 BL USH Enrollment'!$A$3:$C$500,3,FALSE),0)","v":133},{"$f":"IFERROR(IF(VLOOKUP(VALUE(A90),'2012-13 BL USH'!$A$14:$C$200,3,FALSE)<10,\"N<10\",IF(VLOOKUP(VALUE(A90),'2012-13 BL USH'!$A$14:$C$200,3,FALSE)>D90,100,VLOOKUP(VALUE(A90),'2012-13 BL USH'!$A$14:$C$200,3,FALSE)/D90%)),\"Not Tested\")","v":23.52941176470588},{"$f":"IFERROR(IF(VLOOKUP(VALUE(A90),'2013-14 BL USH'!$A$14:$C$200,3,FALSE)<10,\"N<10\",IF(VLOOKUP(VALUE(A90),'2013-14 BL USH'!$A$14:$C$200,3,FALSE)>E90,100,VLOOKUP(VALUE(A90),'2013-14 BL USH'!$A$14:$C$200,3,FALSE)/E90%)),\"Not Tested\")","v":36.090225563909776},{"$f":"IFERROR(IF(F90=\"N<10\",\"N<10\",VLOOKUP(VALUE($A90),'2012-13 BL USH'!$A$14:$AG$500,5,FALSE)*100),\"Not Tested\")","v":28.000000000000004},{"$f":"IFERROR(IF(G90=\"N<10\",\"N<10\",VLOOKUP(VALUE($A90),'2013-14 BL USH'!$A$14:$AG$500,5,FALSE)*100),\"Not Tested\")","v":28.000000000000004},0,{"$f":"IFERROR(IF(H90=\"N<10\",\"N<10\",VLOOKUP(VALUE($A90),'2012-13 BL USH'!$A$14:$AG$500,11,FALSE)*100),\"Not Tested\")","v":31},{"$f":"IFERROR(IF(J90=\"N<10\",\"N<10\",VLOOKUP(VALUE($A90),'2013-14 BL USH'!$A$14:$AA$500,11,FALSE)*100),\"Not Tested\")","v":30},-1,{"$f":"IFERROR(IF(K90=\"N<10\",\"N<10\",VLOOKUP(VALUE($A90),'2012-13 BL USH'!$A$14:$AG$500,17,FALSE)*100),\"Not Tested\")","v":26},{"$f":"IFERROR(IF(J90=\"N<10\",\"N<10\",VLOOKUP(VALUE($A90),'2013-14 BL USH'!$A$14:$AA$500,17,FALSE)*100),\"Not Tested\")","v":28.999999999999996},2.9999999999999964,{"$f":"IFERROR(IF(N90=\"N<10\",\"N<10\",VLOOKUP(VALUE($A90),'2012-13 BL USH'!$A$14:$AG$500,23,FALSE)*100),\"Not Tested\")","v":27},{"$f":"IFERROR(IF(P90=\"N<10\",\"N<10\",VLOOKUP(VALUE($A90),'2013-14 BL USH'!$A$14:$AA$500,23,FALSE)*100),\"Not Tested\")","v":27},0]
["7029","INTEGRATED ACADEMICS (SIATECH)",{"$f":"VLOOKUP(A91,SchList!$A$2:$C$483,2,FALSE)","v":"TERRA ENVIRONMENTAL RESEARCH  "},{"$f":"IFERROR(VLOOKUP($A91,'2012 BL USH Enrollment'!$A$3:$C$500,3,FALSE),0)","v":195},{"$f":"IFERROR(VLOOKUP($A91,'2013 BL USH Enrollment'!$A$3:$C$500,3,FALSE),0)","v":276},{"$f":"IFERROR(IF(VLOOKUP(VALUE(A91),'2012-13 BL USH'!$A$14:$C$200,3,FALSE)<10,\"N<10\",IF(VLOOKUP(VALUE(A91),'2012-13 BL USH'!$A$14:$C$200,3,FALSE)>D91,100,VLOOKUP(VALUE(A91),'2012-13 BL USH'!$A$14:$C$200,3,FALSE)/D91%)),\"Not Tested\")","v":97.435897435897445},{"$f":"IFERROR(IF(VLOOKUP(VALUE(A91),'2013-14 BL USH'!$A$14:$C$200,3,FALSE)<10,\"N<10\",IF(VLOOKUP(VALUE(A91),'2013-14 BL USH'!$A$14:$C$200,3,FALSE)>E91,100,VLOOKUP(VALUE(A91),'2013-14 BL USH'!$A$14:$C$200,3,FALSE)/E91%)),\"Not Tested\")","v":97.463768115942031},{"$f":"IFERROR(IF(F91=\"N<10\",\"N<10\",VLOOKUP(VALUE($A91),'2012-13 BL USH'!$A$14:$AG$500,5,FALSE)*100),\"Not Tested\")","v":39},{"$f":"IFERROR(IF(G91=\"N<10\",\"N<10\",VLOOKUP(VALUE($A91),'2013-14 BL USH'!$A$14:$AG$500,5,FALSE)*100),\"Not Tested\")","v":40},1,{"$f":"IFERROR(IF(H91=\"N<10\",\"N<10\",VLOOKUP(VALUE($A91),'2012-13 BL USH'!$A$14:$AG$500,11,FALSE)*100),\"Not Tested\")","v":48},{"$f":"IFERROR(IF(J91=\"N<10\",\"N<10\",VLOOKUP(VALUE($A91),'2013-14 BL USH'!$A$14:$AA$500,11,FALSE)*100),\"Not Tested\")","v":44},-4,{"$f":"IFERROR(IF(K91=\"N<10\",\"N<10\",VLOOKUP(VALUE($A91),'2012-13 BL USH'!$A$14:$AG$500,17,FALSE)*100),\"Not Tested\")","v":38},{"$f":"IFERROR(IF(J91=\"N<10\",\"N<10\",VLOOKUP(VALUE($A91),'2013-14 BL USH'!$A$14:$AA$500,17,FALSE)*100),\"Not Tested\")","v":41},3,{"$f":"IFERROR(IF(N91=\"N<10\",\"N<10\",VLOOKUP(VALUE($A91),'2012-13 BL USH'!$A$14:$AG$500,23,FALSE)*100),\"Not Tested\")","v":37},{"$f":"IFERROR(IF(P91=\"N<10\",\"N<10\",VLOOKUP(VALUE($A91),'2013-14 BL USH'!$A$14:$AA$500,23,FALSE)*100),\"Not Tested\")","v":38},1]
["7049","KEYS GATE CHARTER HIGH SCHL",{"$f":"VLOOKUP(A92,SchList!$A$2:$C$483,2,FALSE)","v":"WESTLAND HIALEAH SENIOR HIGH  "},{"$f":"IFERROR(VLOOKUP($A92,'2012 BL USH Enrollment'!$A$3:$C$500,3,FALSE),0)","v":439},{"$f":"IFERROR(VLOOKUP($A92,'2013 BL USH Enrollment'!$A$3:$C$500,3,FALSE),0)","v":343},{"$f":"IFERROR(IF(VLOOKUP(VALUE(A92),'2012-13 BL USH'!$A$14:$C$200,3,FALSE)<10,\"N<10\",IF(VLOOKUP(VALUE(A92),'2012-13 BL USH'!$A$14:$C$200,3,FALSE)>D92,100,VLOOKUP(VALUE(A92),'2012-13 BL USH'!$A$14:$C$200,3,FALSE)/D92%)),\"Not Tested\")","v":97.494305239179965},{"$f":"IFERROR(IF(VLOOKUP(VALUE(A92),'2013-14 BL USH'!$A$14:$C$200,3,FALSE)<10,\"N<10\",IF(VLOOKUP(VALUE(A92),'2013-14 BL USH'!$A$14:$C$200,3,FALSE)>E92,100,VLOOKUP(VALUE(A92),'2013-14 BL USH'!$A$14:$C$200,3,FALSE)/E92%)),\"Not Tested\")","v":100},{"$f":"IFERROR(IF(F92=\"N<10\",\"N<10\",VLOOKUP(VALUE($A92),'2012-13 BL USH'!$A$14:$AG$500,5,FALSE)*100),\"Not Tested\")","v":28.999999999999996},{"$f":"IFERROR(IF(G92=\"N<10\",\"N<10\",VLOOKUP(VALUE($A92),'2013-14 BL USH'!$A$14:$AG$500,5,FALSE)*100),\"Not Tested\")","v":27},-1.9999999999999964,{"$f":"IFERROR(IF(H92=\"N<10\",\"N<10\",VLOOKUP(VALUE($A92),'2012-13 BL USH'!$A$14:$AG$500,11,FALSE)*100),\"Not Tested\")","v":33},{"$f":"IFERROR(IF(J92=\"N<10\",\"N<10\",VLOOKUP(VALUE($A92),'2013-14 BL USH'!$A$14:$AA$500,11,FALSE)*100),\"Not Tested\")","v":27},-6,{"$f":"IFERROR(IF(K92=\"N<10\",\"N<10\",VLOOKUP(VALUE($A92),'2012-13 BL USH'!$A$14:$AG$500,17,FALSE)*100),\"Not Tested\")","v":27},{"$f":"IFERROR(IF(J92=\"N<10\",\"N<10\",VLOOKUP(VALUE($A92),'2013-14 BL USH'!$A$14:$AA$500,17,FALSE)*100),\"Not Tested\")","v":27},0,{"$f":"IFERROR(IF(N92=\"N<10\",\"N<10\",VLOOKUP(VALUE($A92),'2012-13 BL USH'!$A$14:$AG$500,23,FALSE)*100),\"Not Tested\")","v":28.000000000000004},{"$f":"IFERROR(IF(P92=\"N<10\",\"N<10\",VLOOKUP(VALUE($A92),'2013-14 BL USH'!$A$14:$AA$500,23,FALSE)*100),\"Not Tested\")","v":27},-1.0000000000000036]
["7601","MIAMI MACARTHUR SOUTH",{"$f":"VLOOKUP(A93,SchList!$A$2:$C$483,2,FALSE)","v":"WILLIAM H. TURNER TECHNICAL   "},{"$f":"IFERROR(VLOOKUP($A93,'2012 BL USH Enrollment'!$A$3:$C$500,3,FALSE),0)","v":262},{"$f":"IFERROR(VLOOKUP($A93,'2013 BL USH Enrollment'!$A$3:$C$500,3,FALSE),0)","v":313},{"$f":"IFERROR(IF(VLOOKUP(VALUE(A93),'2012-13 BL USH'!$A$14:$C$200,3,FALSE)<10,\"N<10\",IF(VLOOKUP(VALUE(A93),'2012-13 BL USH'!$A$14:$C$200,3,FALSE)>D93,100,VLOOKUP(VALUE(A93),'2012-13 BL USH'!$A$14:$C$200,3,FALSE)/D93%)),\"Not Tested\")","v":100},{"$f":"IFERROR(IF(VLOOKUP(VALUE(A93),'2013-14 BL USH'!$A$14:$C$200,3,FALSE)<10,\"N<10\",IF(VLOOKUP(VALUE(A93),'2013-14 BL USH'!$A$14:$C$200,3,FALSE)>E93,100,VLOOKUP(VALUE(A93),'2013-14 BL USH'!$A$14:$C$200,3,FALSE)/E93%)),\"Not Tested\")","v":100},{"$f":"IFERROR(IF(F93=\"N<10\",\"N<10\",VLOOKUP(VALUE($A93),'2012-13 BL USH'!$A$14:$AG$500,5,FALSE)*100),\"Not Tested\")","v":31},{"$f":"IFERROR(IF(G93=\"N<10\",\"N<10\",VLOOKUP(VALUE($A93),'2013-14 BL USH'!$A$14:$AG$500,5,FALSE)*100),\"Not Tested\")","v":36},5,{"$f":"IFERROR(IF(H93=\"N<10\",\"N<10\",VLOOKUP(VALUE($A93),'2012-13 BL USH'!$A$14:$AG$500,11,FALSE)*100),\"Not Tested\")","v":37},{"$f":"IFERROR(IF(J93=\"N<10\",\"N<10\",VLOOKUP(VALUE($A93),'2013-14 BL USH'!$A$14:$AA$500,11,FALSE)*100),\"Not Tested\")","v":41},4,{"$f":"IFERROR(IF(K93=\"N<10\",\"N<10\",VLOOKUP(VALUE($A93),'2012-13 BL USH'!$A$14:$AG$500,17,FALSE)*100),\"Not Tested\")","v":31},{"$f":"IFERROR(IF(J93=\"N<10\",\"N<10\",VLOOKUP(VALUE($A93),'2013-14 BL USH'!$A$14:$AA$500,17,FALSE)*100),\"Not Tested\")","v":37},6,{"$f":"IFERROR(IF(N93=\"N<10\",\"N<10\",VLOOKUP(VALUE($A93),'2012-13 BL USH'!$A$14:$AG$500,23,FALSE)*100),\"Not Tested\")","v":28.999999999999996},{"$f":"IFERROR(IF(P93=\"N<10\",\"N<10\",VLOOKUP(VALUE($A93),'2013-14 BL USH'!$A$14:$AA$500,23,FALSE)*100),\"Not Tested\")","v":34},5.0000000000000036]
["7056","MIAMI COMMUNITY CH HIGH SCHOOL",{"$f":"VLOOKUP(A94,SchList!$A$2:$C$483,2,FALSE)","v":"YOUNG MENS PREPARATORY ACADEMY"},{"$f":"IFERROR(VLOOKUP($A94,'2012 BL USH Enrollment'!$A$3:$C$500,3,FALSE),0)","v":19},{"$f":"IFERROR(VLOOKUP($A94,'2013 BL USH Enrollment'!$A$3:$C$500,3,FALSE),0)","v":29},{"$f":"IFERROR(IF(VLOOKUP(VALUE(A94),'2012-13 BL USH'!$A$14:$C$200,3,FALSE)<10,\"N<10\",IF(VLOOKUP(VALUE(A94),'2012-13 BL USH'!$A$14:$C$200,3,FALSE)>D94,100,VLOOKUP(VALUE(A94),'2012-13 BL USH'!$A$14:$C$200,3,FALSE)/D94%)),\"Not Tested\")","v":100},{"$f":"IFERROR(IF(VLOOKUP(VALUE(A94),'2013-14 BL USH'!$A$14:$C$200,3,FALSE)<10,\"N<10\",IF(VLOOKUP(VALUE(A94),'2013-14 BL USH'!$A$14:$C$200,3,FALSE)>E94,100,VLOOKUP(VALUE(A94),'2013-14 BL USH'!$A$14:$C$200,3,FALSE)/E94%)),\"Not Tested\")","v":89.65517241379311},{"$f":"IFERROR(IF(F94=\"N<10\",\"N<10\",VLOOKUP(VALUE($A94),'2012-13 BL USH'!$A$14:$AG$500,5,FALSE)*100),\"Not Tested\")","v":33},{"$f":"IFERROR(IF(G94=\"N<10\",\"N<10\",VLOOKUP(VALUE($A94),'2013-14 BL USH'!$A$14:$AG$500,5,FALSE)*100),\"Not Tested\")","v":33},0,{"$f":"IFERROR(IF(H94=\"N<10\",\"N<10\",VLOOKUP(VALUE($A94),'2012-13 BL USH'!$A$14:$AG$500,11,FALSE)*100),\"Not Tested\")","v":39},{"$f":"IFERROR(IF(J94=\"N<10\",\"N<10\",VLOOKUP(VALUE($A94),'2013-14 BL USH'!$A$14:$AA$500,11,FALSE)*100),\"Not Tested\")","v":31},-8,{"$f":"IFERROR(IF(K94=\"N<10\",\"N<10\",VLOOKUP(VALUE($A94),'2012-13 BL USH'!$A$14:$AG$500,17,FALSE)*100),\"Not Tested\")","v":30},{"$f":"IFERROR(IF(J94=\"N<10\",\"N<10\",VLOOKUP(VALUE($A94),'2013-14 BL USH'!$A$14:$AA$500,17,FALSE)*100),\"Not Tested\")","v":35},5,{"$f":"IFERROR(IF(N94=\"N<10\",\"N<10\",VLOOKUP(VALUE($A94),'2012-13 BL USH'!$A$14:$AG$500,23,FALSE)*100),\"Not Tested\")","v":33},{"$f":"IFERROR(IF(P94=\"N<10\",\"N<10\",VLOOKUP(VALUE($A94),'2013-14 BL USH'!$A$14:$AA$500,23,FALSE)*100),\"Not Tested\")","v":32},-1]

{"sheet":"Macro","index":2,"n_rows":0,"n_cols":0,"rows_kept":0,"cut":false,"hidden":true,"merged":[]}

{"sheet":"GraphData","index":3,"n_rows":12,"n_cols":8,"rows_kept":12,"cut":false,"hidden":true,"merged":[]}
[]
[{"$f":"'US History'!A5:K5","v":"US History EOC Baseline Assessments Results"},"School",{"$f":"'US History'!A6","v":"Level of Proficiency\nat 70% or above"},{"$f":"'US History'!D6","v":"Overall"},{"$f":"'US History'!G6","v":"Late Nineteenth and Early Twentieth Century, 1860-1910"},{"$f":"'US History'!I6","v":"Global Military, Political, & Econ. Challenges"},{"$f":"'US History'!K6","v":"The U.S. & Defense of the International Peace"}]
[null,{"$f":"'US History'!$A$4","v":"9999-District"},{"$f":"'US History'!A8","v":0},{"$f":"'US History'!D8","v":0},{"$f":"'US History'!G8","v":0},{"$f":"'US History'!I8","v":0},{"$f":"'US History'!K8","v":0}]
[null,{"$f":"'US History'!$A$4","v":"9999-District"},{"$f":"'US History'!A9","v":"2013 BL"},{"$f":"'US History'!D9","v":31.578947368421051},{"$f":"'US History'!G9","v":32.758330607193074},{"$f":"'US History'!I9","v":32.359208231118494},{"$f":"'US History'!K9","v":30.701726487724518}]
[null,{"$f":"'US History'!$A$4","v":"9999-District"},{"$f":"'US History'!A10","v":0},{"$f":"'US History'!D10","v":0},{"$f":"'US History'!G10","v":0},{"$f":"'US History'!I10","v":0},{"$f":"'US History'!K10","v":0}]
[null,{"$f":"'US History'!$A$4","v":"9999-District"},{"$f":"'US History'!A11","v":"2012 BL"},{"$f":"'US History'!D11","v":31.143033299039217},{"$f":"'US History'!G11","v":34.983010779864252},{"$f":"'US History'!I11","v":30.255110475706378},{"$f":"'US History'!K11","v":30.365917931153742}]
[]
[{"$f":"Civics!$A$5","v":"Civics EOC Baseline Assessment Results"},"School",{"$f":"Civics!A6","v":"Level of Proficiency\nat 70% or above"},{"$f":"Civics!D6","v":"Overall"},{"$f":"Civics!G6","v":"Government Policies and Political Processes"},{"$f":"Civics!I6","v":"Organization and Function of Government"},{"$f":"Civics!K6","v":"Origins and Purposes of Law and Government"},{"$f":"Civics!M6","v":"Roles, Rights, and Responsibilities"}]
[null,{"$f":"'US History'!$A$4","v":"9999-District"},{"$f":"Civics!A8","v":0},{"$f":"Civics!D8","v":0},{"$f":"Civics!G8","v":0},{"$f":"Civics!I8","v":0},{"$f":"Civics!K8","v":0},{"$f":"Civics!M8","v":0}]
[null,{"$f":"'US History'!$A$4","v":"9999-District"},{"$f":"Civics!A9","v":"2013 BL"},{"$f":"Civics!D9","v":36.260604500642955},{"$f":"Civics!G9","v":38.104089765695754},{"$f":"Civics!I9","v":31.666666269302368},{"$f":"Civics!K9","v":35.893884332937198},{"$f":"Civics!M9","v":41.854090609912916}]
[null,{"$f":"'US History'!$A$4","v":"9999-District"},{"$f":"Civics!A10","v":0},{"$f":"Civics!D10","v":0},{"$f":"Civics!G10","v":0},{"$f":"Civics!I10","v":0},{"$f":"Civics!K10","v":0},{"$f":"Civics!M10","v":0}]
[null,{"$f":"'US History'!$A$4","v":"9999-District"},{"$f":"Civics!A11","v":"2012 BL"},{"$f":"Civics!D11","v":33.745907543367871},{"$f":"Civics!G11","v":41.229538684087586},{"$f":"Civics!I11","v":27.692306958712066},{"$f":"Civics!K11","v":33.636364069851957},{"$f":"Civics!M11","v":35.63523141521069}]

{"sheet":"Select School","index":4,"n_rows":3,"n_cols":3,"rows_kept":3,"cut":false,"hidden":false,"merged":[[6,1,7,1],[9,1,10,1],[12,1,13,1]]}
[]
[]
[null,{"$f":"VLOOKUP(C3,SchList!$I$1:$J$260,2,FALSE)","v":"9999"},1]

{"sheet":"Civics","index":5,"n_rows":11,"n_cols":15,"rows_kept":11,"cut":false,"hidden":false,"merged":[[5,14,6,14],[5,12,5,13],[4,0,4,13],[1,0,1,11],[5,0,6,0],[5,1,6,1],[5,2,6,2],[5,3,5,5],[5,6,5,7],[5,8,5,9],[5,10,5,11],[3,0,3,13]]}
[]
["Click here to return to the school and sheet selection interface"]
[{"$f":"VALUE('Select School'!B3)","v":9999},{"$f":"TYPE(A3)","v":1}]
[{"$f":"TEXT(A3,\"0000\")&\"-\"&VLOOKUP(TEXT(A3,\"0000\"),SchList!$A$1:$B$500,2,FALSE)","v":"9999-District"}]
["Civics EOC Baseline Assessment Results"]
["Level of Proficiency\nat 70% or above","Course Enrollment","% of Students Tested",{"$f":"'RT Matrix'!C1","v":"Overall"},null,null,{"$f":"'RT Matrix'!D1","v":"Government Policies and Political Processes"},null,{"$f":"'RT Matrix'!E1","v":"Organization and Function of Government"},null,{"$f":"'RT Matrix'!F1","v":"Origins and Purposes of Law and Government"},null,{"$f":"'RT Matrix'!G1","v":"Roles, Rights, and Responsibilities"},null,"Number Tested"]
[null,null,null,"Average % Correct","% Proficient","Number of Items","Average % Correct","Number of Items","Average % Correct","Number of Items","Average % Correct","Number of Items","Average % Correct","Number of Items"]
[]
["2013 BL",{"$f":"IFERROR(VLOOKUP(TEXT($A$3,\"0000\"),'2013 BL Civics Enrollment'!$A$2:$C$500,3,FALSE),0)","v":26608},{"$f":"IFERROR((IF(OR(B9=0,B9=\"\",B9=\"NA\",B9<10),\"NA\",((IF(VLOOKUP($A$3,'2013-14 BL Civics'!$A$14:$AG$500,3,FALSE)>=B9,\"100% (\"&VLOOKUP($A$3,'2013-14 BL Civics'!$A$14:$AG$500,3,FALSE)&\")\",(ROUND((VLOOKUP($A$3,'2013-14 BL Civics'!$A$14:$AG$500,3,FALSE)/B9*100),0))&\"% (\"&VLOOKUP($A$3,'2013-14 BL Civics'!$A$14:$AG$500,3,FALSE)&\")\"))))),\"NA\")","v":"93% (24839)"},{"$f":"IFERROR((IF($C9=\"NA\",\"NA\",VLOOKUP($A$3,'2013-14 BL Civics'!$A$6:$AG$500,5,FALSE)*100)),\"NA\")","v":36.260604500642955},{"$f":"IFERROR((IF($C9=\"NA\",\"NA\",VLOOKUP($A$3,'2013-14 BL Civics'!$A$6:$AG$500,9,FALSE)*100)),\"NA\")","v":0.82128910181569303},{"$f":"'RT Matrix'!C2","v":39},{"$f":"IFERROR((IF($C9=\"NA\",\"NA\",VLOOKUP($A$3,'2013-14 BL Civics'!$A$6:$AG$471,11,FALSE)*100)),\"NA\")","v":38.104089765695754},{"$f":"'RT Matrix'!D2","v":8},{"$f":"IFERROR((IF($C9=\"NA\",\"NA\",VLOOKUP($A$3,'2013-14 BL Civics'!$A$6:$AG$471,17,FALSE)*100)),\"NA\")","v":31.666666269302368},{"$f":"'RT Matrix'!E2","v":12},{"$f":"IFERROR((IF($C9=\"NA\",\"NA\",VLOOKUP($A$3,'2013-14 BL Civics'!$A$6:$AG$471,23,FALSE)*100)),\"NA\")","v":35.893884332937198},{"$f":"'RT Matrix'!F2","v":11},{"$f":"IFERROR((IF($C9=\"NA\",\"NA\",VLOOKUP($A$3,'2013-14 BL Civics'!$A$6:$AG$471,29,FALSE)*100)),\"NA\")","v":41.854090609912916},{"$f":"'RT Matrix'!G2","v":8},{"$f":"IFERROR(VLOOKUP($A$3,'2013-14 BL Civics'!$A$6:$BB$471,3,FALSE),\"not tested\")","v":24839}]
[]
["2012 BL",{"$f":"IFERROR(VLOOKUP(TEXT($A$3,\"0000\"),'2012 BL Civics Enrollment'!$A$2:$C$497,3,FALSE),0)","v":26864},{"$f":"IFERROR((IF(OR(B11=0,B11=\"\",B11=\"NA\",B11<10),\"NA\",((IF(VLOOKUP($A$3,'2012-13 BL Civics'!$A$14:$AG$500,3,FALSE)>=B11,\"100% (\"&VLOOKUP($A$3,'2012-13 BL Civics'!$A$14:$AG$500,3,FALSE)&\")\",(ROUND((VLOOKUP($A$3,'2012-13 BL Civics'!$A$14:$AG$500,3,FALSE)/B11*100),0))&\"% (\"&VLOOKUP($A$3,'2012-13 BL Civics'!$A$14:$AG$500,3,FALSE)&\")\"))))),\"NA\")","v":"93% (24924)"},{"$f":"IFERROR((IF($C11=\"NA\",\"NA\",VLOOKUP($A$3,'2012-13 BL Civics'!$A$6:$AM$500,5,FALSE)*100)),\"NA\")","v":33.745907543367871},{"$f":"IFERROR((IF($C11=\"NA\",\"NA\",VLOOKUP($A$3,'2012-13 BL Civics'!$A$6:$AG$500,9,FALSE)*100)),\"NA\")","v":0.16851227732306212},{"$f":"'RT Matrix'!C4","v":40},{"$f":"IFERROR((IF($C11=\"NA\",\"NA\",VLOOKUP($A$3,'2012-13 BL Civics'!$A$6:$AG$471,11,FALSE)*100)),\"NA\")","v":41.229538684087586},{"$f":"'RT Matrix'!D4","v":8},{"$f":"IFERROR((IF($C11=\"NA\",\"NA\",VLOOKUP($A$3,'2012-13 BL Civics'!$A$6:$AG$471,17,FALSE)*100)),\"NA\")","v":27.692306958712066},{"$f":"'RT Matrix'!E4","v":13},{"$f":"IFERROR((IF($C11=\"NA\",\"NA\",VLOOKUP($A$3,'2012-13 BL Civics'!$A$6:$AG$471,23,FALSE)*100)),\"NA\")","v":33.636364069851957},{"$f":"'RT Matrix'!F4","v":11},{"$f":"IFERROR((IF($C11=\"NA\",\"NA\",VLOOKUP($A$3,'2012-13 BL Civics'!$A$6:$AG$471,29,FALSE)*100)),\"NA\")","v":35.63523141521069},{"$f":"'RT Matrix'!G4","v":8},{"$f":"IFERROR(VLOOKUP($A$3,'2012-13 BL Civics'!$A$6:$BH$471,3,FALSE),\"not tested\")","v":24924}]

{"sheet":"US History","index":6,"n_rows":11,"n_cols":13,"rows_kept":11,"cut":false,"hidden":false,"merged":[[1,0,1,11],[3,0,3,11],[5,12,6,12],[5,0,6,0],[5,1,6,1],[5,2,6,2],[5,3,5,5],[5,6,5,7],[5,8,5,9],[5,10,5,11],[4,0,4,11]]}
[]
["Click here to return to the school and sheet selection interface"]
[{"$f":"VALUE('Select School'!B3)","v":9999}]
[{"$f":"TEXT(A3,\"0000\")&\"-\"&VLOOKUP(TEXT(A3,\"0000\"),SchList!$A$1:$B$500,2,FALSE)","v":"9999-District"}]
["US History EOC Baseline Assessments Results"]
["Level of Proficiency\nat 70% or above","Course Enrollment","% of Students Tested",{"$f":"'RT Matrix'!C6","v":"Overall"},null,null,{"$f":"'RT Matrix'!D6","v":"Late Nineteenth and Early Twentieth Century, 1860-1910"},null,{"$f":"'RT Matrix'!E6","v":"Global Military, Political, & Econ. Challenges"},null,{"$f":"'RT Matrix'!F6","v":"The U.S. & Defense of the International Peace"},null,"Number Tested"]
[null,null,null,"Average % Correct","% Proficient","Number of Items","Average % Correct","Number of Items","Average % Correct","Number of Items","Average % Correct","Number of Items"]
[]
["2013 BL",{"$f":"IFERROR(VLOOKUP(TEXT($A$3,\"0000\"),'2013 BL USH Enrollment'!$A$2:$C$497,3,FALSE),0)","v":20996},{"$f":"IFERROR((IF(OR(B9=0,B9=\"\",B9=\"NA\"),\"NA\",((IF(VLOOKUP($A$3,'2013-14 BL USH'!$A$14:$X$500,3,FALSE)>=B9,\"100% (\"&VLOOKUP($A$3,'2013-14 BL USH'!$A$14:$X$500,3,FALSE)&\")\",(ROUND((VLOOKUP($A$3,'2013-14 BL USH'!$A$14:$X$500,3,FALSE)/B9*100),0))&\"% (\"&VLOOKUP($A$3,'2013-14 BL USH'!$A$14:$X$500,3,FALSE)&\")\"))))),\"NA\")","v":"93% (19511)"},{"$f":"IFERROR((IF($C9=\"NA\",\"NA\",VLOOKUP($A$3,'2013-14 BL USH'!$A$6:$AA$500,5,FALSE)*100)),\"NA\")","v":31.578947368421051},{"$f":"IFERROR((IF($C9=\"NA\",\"NA\",VLOOKUP($A$3,'2013-14 BL USH'!$A$6:$AA$500,9,FALSE)*100)),\"NA\")","v":0.18451130131720567},{"$f":"'RT Matrix'!C7","v":57},{"$f":"IFERROR((IF($C9=\"NA\",\"NA\",VLOOKUP($A$3,'2013-14 BL USH'!$A$6:$W$471,11,FALSE)*100)),\"NA\")","v":32.758330607193074},{"$f":"'RT Matrix'!D7","v":9},{"$f":"IFERROR((IF($C9=\"NA\",\"NA\",VLOOKUP($A$3,'2013-14 BL USH'!$A$6:$W$471,17,FALSE)*100)),\"NA\")","v":32.359208231118494},{"$f":"'RT Matrix'!E7","v":19},{"$f":"IFERROR((IF($C9=\"NA\",\"NA\",VLOOKUP($A$3,'2013-14 BL USH'!$A$6:$W$471,23,FALSE)*100)),\"NA\")","v":30.701726487724518},{"$f":"'RT Matrix'!F7","v":29},{"$f":"IFERROR(VLOOKUP($A$3,'2013-14 BL USH'!$A$6:$AI$471,3,FALSE),\"not tested\")","v":19511}]
[]
["2012 BL",{"$f":"IFERROR(VLOOKUP(TEXT($A$3,\"0000\"),'2012 BL USH Enrollment'!$A$2:$C$497,3,FALSE),0)","v":20752},{"$f":"IFERROR((IF(OR(B11=0,B11=\"\",B11=\"NA\"),\"NA\",((IF(VLOOKUP($A$3,'2012-13 BL USH'!$A$14:$X$500,3,FALSE)>=B11,\"100% (\"&VLOOKUP($A$3,'2012-13 BL USH'!$A$14:$X$500,3,FALSE)&\")\",(ROUND((VLOOKUP($A$3,'2012-13 BL USH'!$A$14:$X$500,3,FALSE)/B11*100),0))&\"% (\"&VLOOKUP($A$3,'2012-13 BL USH'!$A$14:$X$500,3,FALSE)&\")\"))))),\"NA\")","v":"92% (19032)"},{"$f":"IFERROR((IF($C11=\"NA\",\"NA\",VLOOKUP($A$3,'2012-13 BL USH'!$A$6:$AM$500,5,FALSE)*100)),\"NA\")","v":31.143033299039217},{"$f":"IFERROR((IF($C11=\"NA\",\"NA\",VLOOKUP($A$3,'2012-13 BL USH'!$A$6:$AA$500,9,FALSE)*100)),\"NA\")","v":0.11034047919293823},{"$f":"'RT Matrix'!C9","v":57},{"$f":"IFERROR((IF($C11=\"NA\",\"NA\",VLOOKUP($A$3,'2012-13 BL USH'!$A$6:$W$471,11,FALSE)*100)),\"NA\")","v":34.983010779864252},{"$f":"'RT Matrix'!D9","v":9},{"$f":"IFERROR((IF($C11=\"NA\",\"NA\",VLOOKUP($A$3,'2012-13 BL USH'!$A$6:$W$471,17,FALSE)*100)),\"NA\")","v":30.255110475706378},{"$f":"'RT Matrix'!E9","v":19},{"$f":"IFERROR((IF($C11=\"NA\",\"NA\",VLOOKUP($A$3,'2012-13 BL USH'!$A$6:$W$471,23,FALSE)*100)),\"NA\")","v":30.365917931153742},{"$f":"'RT Matrix'!F9","v":29},{"$f":"IFERROR(VLOOKUP($A$3,'2012-13 BL USH'!$A$6:$BH$471,3,FALSE),\"not tested\")","v":19032}]

{"sheet":"RT Matrix","index":7,"n_rows":9,"n_cols":7,"rows_kept":9,"cut":false,"hidden":true,"merged":[]}
["Civics","US History","Overall","Government Policies and Political Processes","Organization and Function of Government","Origins and Purposes of Law and Government","Roles, Rights, and Responsibilities"]
["2013-14 Baseline","N of Items",{"$f":"SUM(D2:G2)","v":39},8,12,11,8]
[]
["2012-13 Baseline","N of Items",{"$f":"SUM(D4:G4)","v":40},8,13,11,8]
[]
["US History","US History","Overall","Late Nineteenth and Early Twentieth Century, 1860-1910","Global Military, Political, & Econ. Challenges","The U.S. & Defense of the International Peace"]
["2013-14 Baseline","N of Items",{"$f":"SUM(D7:G7)","v":57},9,19,29]
["Winter","N of Items",{"$f":"SUM(D8:G8)","v":54},9,18,27]
["2012-13 Baseline","N of Items",{"$f":"SUM(D9:G9)","v":57},9,19,29]

{"sheet":"2012 BL Civics Enrollment","index":8,"n_rows":158,"n_cols":3,"rows_kept":158,"cut":false,"hidden":true,"merged":[]}
[]
[]
["Count of STUDENT_ID"]
["CLASS_SCHOOL","S_SCHL_NAME","Total"]
["0070","CORAL REEF MONTESSORI ACAD CH",31]
["0071","EUGENIA B. THOMAS K-8 CENTER",165]
["0073","MANDARIN LAKES K-8 CENTER",81]
["0091","BOB GRAHAM EDUCATION CTR",231]
["0092","NORMAN S. EDELCUP/SUNNY ISLES",197]
["0122","DR ROLANDO ESPINOSA K-8",195]
["0231","AVENTURA WATERWAYS K-8 CENTER",187]
["0241","RUTH K BROAD/BAY HARBOR K-8",114]
["0332","SOMERSET ACADEMY(SILVER PALMS)",152]
["0451","BOWMAN ASHE/DOOLIN K-8 ACAD",200]
["0651","CAMPBELL DRIVE K-8 CENTER",61]
["0761","FIENBERG/FISHER K-8 CENTER",90]
["0950","AVENTURA CITY OF EXCELLENCE",108]
["0961","CORAL GABLES PREPARATORY ACAD",99]
["1020","YOUTH CO-OP CHARTER SCHOOL",91]
["1121","CORAL WAY K-8 CENTER",162]
["1331","DEVON AIRE K-8 CENTER",182]
["1681","LILLIE C. EVANS K-8 CENTER",36]
["1721","EVERGLADES K-8 CENTER",151]
["2041","BENJAMIN FRANKLIN K-8 CENTER",43]
["2060","GIBSON CHARTER SCHOOL",43]
["2701","KENWOOD K-8 CENTER",125]
["2741","KEY BISCAYNE K-8 CENTER",137]
["2881","LEEWOOD K-8 CENTER",67]
["2901","LEISURE CITY K-8 CENTER",113]
["2911","LINDA LENTIN K-8 CENTER",102]
["3029","DORAL ACADEMY OF TECHNOLOGY",63]
["3032","PALM GLADES PREPATORY ACADEMY",131]
["3101","FRANK C. MARTIN K-8 CENTER",137]
["3191","ADA MERRITT K-8 CENTER",112]
["3281","MIAMI LAKES K-8 CENTER",152]
["3421","M.A. MILAM K-8 CENTER",154]
["3610","KEYS GATE CHARTER SCHOOL",290]
["3621","COCONUT PALM K-8 ACADEMY",117]
["3821","NORTH COUNTY K-8 CENTER",37]
["4031","GATEWAY ENVIRONMENTAL K-8",131]
["4391","IRVING & BEATRICE PESKOE K-8",40]
["4691","JANE ROBERTS K-8 CENTER",121]
["5003","SOUTH DADE MIDDLE SCHOOL",270]
["5005","DAVID LAWRENCE JR K-8 CENTER",195]
["5006","EVERGLADES PREPARATORY ACADEMY",189]
["5007","LINCOLN-MARTI CHARTER HIALEAH",20]
["5010","OXFORD ACADEMY OF MIAMI",13]
["5020","BRIDGEPOINT ACAD INTERAMERICAN",16]
["5022","BEN GAMLA CHARTER SCHL",16]
["5025","LINCOLN-MARTI CS LITTLE HAVANA",78]
["5029","EXCELSIOR LANGUAGE ACADEMY K-8",84]
["5032","EXCELSIOR CHARTER ACADEMY",22]
["5044","ACADEMY FOR INT'L EDUCATION CH",13]
["5047","MATER ACADEMY (MIAMI BEACH)",80]
["5049","PINECREST COVE ACADEMY",27]
["5051","ERNEST R GRAHAM K-8 CENTER",104]
["5101","JOHN I. SMITH K-8 CENTER",110]
["5141","HUBERT O. SIBLEY K-8 CENTER",98]
["5241","SOUTH MIAMI K-8 CENTER",63]
["5671","VINELAND K-8 CENTER",89]
["5861","DR H W MACK/W LITTLE RIVER K8",43]
["5901","CARRIE P MEEK/WESTVIEW K-8 CTR",61]
["5961","WINSTON PARK K-8 CENTER",164]
["6001","HERBERT A. AMMONS MIDDLE",419]
["6004","SOMERSET ACADEMY MIDDLE",92]
["6005","RAMZ ACAD MIDDLE MIAMI CAMPUS",36]
["6006","ARCHIMEDEAN CONSERVATORY",121]
["6008","LAWRENCE ACADEMY MIDDLE",35]
["6009","MATER ACADEMY EAST MIDDLE",116]
["6010","FLORIDA INTERNATIONAL ACADEMY",123]
["6011","ALLAPATTAH MIDDLE",193]
["6012","MATER ACADEMY CHARTER MIDDLE",502]
["6013","SOMERSET ACADEMY MIDDLE-SOUTH",42]
["6020","ASPIRA RAUL A. MARTINEZ CHTR",206]
["6021","ARVIDA MIDDLE SCHOOL",394]
["6022","PINECREST ACADEMY CHARTER MIDD",207]
["6023","ANDOVER MIDDLE SCHOOL",343]
["6028","RENAISSANCE MIDDLE CHARTER",145]
["6030","DORAL ACADEMY CHARTER MIDDLE",464]
["6031","BROWNSVILLE MIDDLE",218]
["6033","MATER ACADEMY LAKES MIDDLE",209]
["6040","DOCTORS CHARTER/MIAMI SHORES",84]
["6041","PAUL W. BELL MIDDLE",202]
["6042","MATER GARDENS ACADEMY MIDDLE",93]
["6043","SOMERSET ACAD MIDDLE (C-PALMS)",9]
["6045","INTL. STUDIES CHARTER MIDDLE",88]
["6047","MATER ACADEMY MIDDLE-INTL STUD",42]
["6048","MIAMI COMMUNITY CHARTER MIDDLE",95]
["6049","RIVER CITIES COMMUNITY CHARTER",64]
["6051","CAROL CITY MIDDLE",206]
["6052","ZELDA GLAZER MIDDLE SCHOOL",411]
["6053","SOMERSET ACAD MIDDLE (S-MIAMI)",50]
["6060","ASPIRA SOUTH YOUTH LEADERSHIP",100]
["6061","CAMPBELL DRIVE MIDDLE",143]
["6070","ASPIRA EUGENIO MARIA DE HOSTOS",190]
["6071","GEORGE WASHINGTON CARVER",308]
["6081","CENTENNIAL MIDDLE",321]
["6082","ACADEMIR CHARTER SCHOOL MIDDLE",13]
["6091","CITRUS GROVE MIDDLE SCHOOL",322]
["6111","CUTLER RIDGE MIDDLE",265]
["6121","RUBEN DARIO MIDDLE",221]
["6141","CHARLES R. DREW MIDDLE",137]
["6151","DORAL MIDDLE SCHOOL",4]
["6161","LAWTON CHILES MIDDLE SCHOOL",244]
["6171","HENRY H. FILER MIDDLE",389]
["6211","GLADES MIDDLE",376]
["6221","HAMMOCKS MIDDLE",385]
["6231","HIALEAH MIDDLE",272]
["6241","HIGHLAND OAKS MIDDLE",423]
["6251","HOMESTEAD MIDDLE",173]
["6281","THOMAS JEFFERSON MIDDLE",126]
["6301","JOHN F. KENNEDY MIDDLE",434]
["6331","KINLOCH PARK MIDDLE",419]
["6351","LAKE STEVENS MIDDLE",220]
["6361","JOSE DE DIEGO MIDDLE SCHOOL",178]
["6391","MADISON MIDDLE SCHOOL",160]
["6411","HORACE MANN MIDDLE",221]
["6441","HOWARD D. MCMILLAN MIDDLE",245]
["6481","MIAMI EDISON MIDDLE",148]
["6501","MIAMI LAKES MIDDLE",296]
["6521","MIAMI SPRINGS MIDDLE",521]
["6541","NAUTILUS MIDDLE",361]
["6571","NORLAND MIDDLE",240]
["6591","NORTH DADE MIDDLE",252]
["6611","COUNTRY CLUB MIDDLE SCHOOL",460]
["6631","NORTH MIAMI MIDDLE",350]
["6681","PALM SPRINGS MIDDLE",443]
["6701","PALMETTO MIDDLE",384]
["6721","PARKWAY MIDDLE",100]
["6741","PONCE DE LEON MIDDLE",260]
["6751","HIALEAH GARDENS MIDDLE SCHOOL",608]
["6761","REDLAND MIDDLE",164]
["6771","JORGE MAS CANOSA MIDDLE",723]
["6781","RICHMOND HEIGHTS MIDDLE",153]
["6801","RIVIERA MIDDLE",257]
["6821","ROCKWAY MIDDLE",409]
["6841","SHENANDOAH MIDDLE",412]
["6861","SOUTHWOOD MIDDLE",485]
["6881","SOUTH MIAMI MIDDLE SCHOOL",344]
["6901","W. R. THOMAS MIDDLE",309]
["6921","LAMAR LOUISE CURRY MIDDLE SCH",390]
["6961","WEST MIAMI MIDDLE",325]
["7001","MIAMI-DADE ONLINE ACADEMY",28]
["7055","YOUNG WOMEN'S PREPARATORY ACAD",79]
["7059","MIAMI ARTS CHARTER",125]
["7291","JOSE MARTI MAST 6-12 ACADEMY",135]
["7351","ARTHUR AND POLLY MAYS CONSERVA",79]
["7631","MIAMI MACARTHUR SOUTH",15]
["8014","ALTERNATIVE OUTREACH-EXT. YR",12]
["8017","ALTERNATIVE OUTREACH PROGRAM",31]
["8101","JAN MANN OPPORTUNITY SCHOOL",21]
["8121","COPE CENTER NORTH",4]
["8131","DOROTHY M WALLACE COPE CENTER",1]
["8141","JUVENILE JUSTICE CENTER",10]
["8151","ROBERT RENICK EDUCATION CTR",10]
["8181","RUTH OWENS KRUSE' EDUC CENTER",8]
["9732","MERRICK EDUCATIONAL CENTER",11]
["9999","DISTRICT",26864]

{"sheet":"2013 BL Civics Enrollment","index":9,"n_rows":163,"n_cols":3,"rows_kept":163,"cut":false,"hidden":true,"merged":[]}
[]
[]
["Count of STUDENT_ID"]
["CLASS_SCHOOL","S_SCHL_NAME","Total"]
["0070","CORAL REEF MONTESSORI ACAD CH",21]
["0071","EUGENIA B. THOMAS K-8 CENTER",151]
["0073","MANDARIN LAKES K-8 CENTER",115]
["0091","BOB GRAHAM EDUCATION CTR",217]
["0092","NORMAN S. EDELCUP/SUNNY ISLES",181]
["0122","DR ROLANDO ESPINOSA K-8",178]
["0231","AVENTURA WATERWAYS K-8 CENTER",190]
["0241","RUTH K BROAD/BAY HARBOR K-8",162]
["0332","SOMERSET ACADEMY(SILVER PALMS)",148]
["0451","BOWMAN ASHE/DOOLIN K-8 ACAD",164]
["0651","CAMPBELL DRIVE K-8 CENTER",79]
["0761","FIENBERG/FISHER K-8 CENTER",100]
["0950","AVENTURA CITY OF EXCELLENCE",109]
["0961","CORAL GABLES PREPARATORY ACAD",75]
["1020","YOUTH CO-OP CHARTER SCHOOL",66]
["1121","CORAL WAY K-8 CENTER",162]
["1331","DEVON AIRE K-8 CENTER",206]
["1401","CHARLES R. DREW K-8 CENTER",40]
["1441","PAUL LAURENCE DUNBAR K-8 CTR",21]
["1601","EDISON PARK K-8 CENTER",20]
["1681","LILLIE C. EVANS K-8 CENTER",46]
["1721","EVERGLADES K-8 CENTER",139]
["2041","BENJAMIN FRANKLIN K-8 CENTER",63]
["2060","GIBSON CHARTER SCHOOL",33]
["2701","KENWOOD K-8 CENTER",145]
["2741","KEY BISCAYNE K-8 CENTER",162]
["2881","LEEWOOD K-8 CENTER",75]
["2901","LEISURE CITY K-8 CENTER",103]
["2911","LINDA LENTIN K-8 CENTER",122]
["3029","DORAL ACADEMY OF TECHNOLOGY",71]
["3032","PALM GLADES PREPATORY ACADEMY",167]
["3101","FRANK C. MARTIN K-8 CENTER",122]
["3191","ADA MERRITT K-8 CENTER",91]
["3281","MIAMI LAKES K-8 CENTER",165]
["3421","M.A. MILAM K-8 CENTER",128]
["3501","MORNINGSIDE K-8 ACADEMY",23]
["3581","MYRTLE GROVE K-8 CENTER",41]
["3610","KEYS GATE CHARTER SCHOOL",262]
["3621","COCONUT PALM K-8 ACADEMY",121]
["3821","NORTH COUNTY K-8 CENTER",36]
["4031","GATEWAY ENVIRONMENTAL K-8",152]
["4391","IRVING & BEATRICE PESKOE K-8",61]
["4691","JANE ROBERTS K-8 CENTER",83]
["5003","SOUTH DADE MIDDLE SCHOOL",257]
["5005","DAVID LAWRENCE JR K-8 CENTER",195]
["5006","EVERGLADES PREPARATORY ACADEMY",235]
["5007","LINCOLN-MARTI CHARTER HIALEAH",28]
["5010","OXFORD ACADEMY OF MIAMI",19]
["5020","BRIDGEPREP ACAD INTERAMERICAN",16]
["5022","BEN GAMLA CHARTER SCHL",21]
["5025","LINCOLN-MARTI CS LITTLE HAVANA",54]
["5032","EXCELSIOR CHARTER ACADEMY",27]
["5044","ACADEMY FOR INT'L EDUCATION CH",47]
["5045","MATER GROVE ACADEMY",16]
["5046","MATER BRICKELL PREP ACADEMY",14]
["5047","MATER ACADEMY (MIAMI BEACH)",48]
["5049","PINECREST COVE ACADEMY",80]
["5051","ERNEST R GRAHAM K-8 CENTER",131]
["5101","JOHN I. SMITH K-8 CENTER",103]
["5141","HUBERT O. SIBLEY K-8 CENTER",95]
["5241","SOUTH MIAMI K-8 CENTER",64]
["5671","VINELAND K-8 CENTER",82]
["5861","DR H W MACK/W LITTLE RIVER K8",44]
["5901","CARRIE P MEEK/WESTVIEW K-8 CTR",77]
["5961","WINSTON PARK K-8 CENTER",153]
["6001","HERBERT A. AMMONS MIDDLE",402]
["6004","SOMERSET ACADEMY MIDDLE",73]
["6005","RAMZ ACAD MIDDLE MIAMI CAMPUS",46]
["6006","ARCHIMEDEAN CONSERVATORY",109]
["6008","LAWRENCE ACADEMY MIDDLE",28]
["6009","MATER ACADEMY EAST MIDDLE",118]
["6010","FLORIDA INTERNATIONAL ACADEMY",93]
["6011","ALLAPATTAH MIDDLE",163]
["6012","MATER ACADEMY CHARTER MIDDLE",462]
["6013","SOMERSET ACADEMY MIDDLE-SOUTH",73]
["6014","IMATER ACADEMY MIDDLE SCHOOL",161]
["6015","SPORTS LEADERSHIP AND MGMT CMS",158]
["6020","ASPIRA RAUL A. MARTINEZ CHTR",215]
["6021","ARVIDA MIDDLE SCHOOL",439]
["6022","PINECREST ACADEMY CHARTER MIDD",199]
["6023","ANDOVER MIDDLE SCHOOL",304]
["6028","RENAISSANCE MIDDLE CHARTER",149]
["6030","DORAL ACADEMY CHARTER MIDDLE",460]
["6031","BROWNSVILLE MIDDLE",288]
["6033","MATER ACADEMY LAKES MIDDLE",245]
["6040","DOCTORS CHARTER/MIAMI SHORES",89]
["6041","PAUL W. BELL MIDDLE",151]
["6042","MATER GARDENS ACADEMY MIDDLE",81]
["6045","INTL. STUDIES CHARTER MIDDLE",91]
["6047","MATER ACADEMY MIDDLE-INTL STUD",42]
["6048","MIAMI COMMUNITY CHARTER MIDDLE",113]
["6049","RIVER CITIES COMMUNITY CHARTER",44]
["6051","CAROL CITY MIDDLE",150]
["6052","ZELDA GLAZER MIDDLE SCHOOL",356]
["6053","SOMERSET ACAD MIDDLE (S-MIAMI)",34]
["6060","ASPIRA SOUTH YOUTH LEADERSHIP",123]
["6061","CAMPBELL DRIVE MIDDLE",149]
["6070","ASPIRA EUGENIO MARIA DE HOSTOS",162]
["6071","GEORGE WASHINGTON CARVER",349]
["6082","ACADEMIR CHARTER SCHOOL MIDDLE",22]
["6091","CITRUS GROVE MIDDLE SCHOOL",282]
["6111","CUTLER BAY ACAD - CUTLER RIDGE",438]
["6121","RUBEN DARIO MIDDLE",210]
["6161","LAWTON CHILES MIDDLE SCHOOL",168]
["6171","HENRY H. FILER MIDDLE",361]
["6211","GLADES MIDDLE",411]
["6221","HAMMOCKS MIDDLE",398]
["6231","HIALEAH MIDDLE",276]
["6241","HIGHLAND OAKS MIDDLE",437]
["6251","HOMESTEAD MIDDLE",145]
["6281","THOMAS JEFFERSON MIDDLE",123]
["6301","JOHN F. KENNEDY MIDDLE",411]
["6331","KINLOCH PARK MIDDLE",384]
["6351","LAKE STEVENS MIDDLE",214]
["6361","JOSE DE DIEGO MIDDLE SCHOOL",227]
["6391","MADISON MIDDLE SCHOOL",158]
["6411","HORACE MANN MIDDLE",239]
["6441","HOWARD D. MCMILLAN MIDDLE",295]
["6501","MIAMI LAKES MIDDLE",293]
["6521","MIAMI SPRINGS MIDDLE",493]
["6541","NAUTILUS MIDDLE",351]
["6571","NORLAND MIDDLE",343]
["6591","NORTH DADE MIDDLE",286]
["6611","COUNTRY CLUB MIDDLE SCHOOL",392]
["6631","NORTH MIAMI MIDDLE",344]
["6681","PALM SPRINGS MIDDLE",429]
["6701","PALMETTO MIDDLE",362]
["6741","PONCE DE LEON MIDDLE",269]
["6751","HIALEAH GARDENS MIDDLE SCHOOL",598]
["6761","REDLAND MIDDLE",157]
["6771","JORGE MAS CANOSA MIDDLE",661]
["6781","RICHMOND HEIGHTS MIDDLE",176]
["6801","RIVIERA MIDDLE",266]
["6821","ROCKWAY MIDDLE",304]
["6841","SHENANDOAH MIDDLE",377]
["6861","SOUTHWOOD MIDDLE",425]
["6881","SOUTH MIAMI MIDDLE SCHOOL",349]
["6901","W. R. THOMAS MIDDLE",391]
["6921","LAMAR LOUISE CURRY MIDDLE SCH",367]
["6961","WEST MIAMI MIDDLE",329]
["6997","MATER VIRTUAL ACADEMY CHARTER",1]
["7001","MIAMI-DADE ONLINE ACADEMY 7001",17]
["7055","YOUNG WOMEN'S PREPARATORY ACAD",79]
["7056","YOUNG MENS PREPARATORY ACADEMY",53]
["7059","MIAMI ARTS CHARTER",122]
["7262","CITY OF HIALEAH EDUCATION ACAD",39]
["7291","JOSE MARTI MAST 6-12 ACADEMY",153]
["7351","ARTHUR AND POLLY MAYS CONSERVA",126]
["7631","MIAMI MACARTHUR SOUTH",10]
["8014","ALTERNATIVE OUTREACH-EXT. YR",15]
["8017","ALTERNATIVE OUTREACH PROGRAM",33]
["8101","JAN MANN OPPORTUNITY SCHOOL",9]
["8121","COPE CENTER NORTH",2]
["8131","DOROTHY M WALLACE COPE CENTER",2]
["8141","JUVENILE JUSTICE CENTER",4]
["8151","ROBERT RENICK EDUCATION CTR",7]
["8181","RUTH OWENS KRUSE' EDUC CENTER",17]
["9732","BRUCIE BALL EDUCATIONAL CENTER",17]
["9999",null,26608]

{"sheet":"2013 SIA Civics Enrollment","index":10,"n_rows":158,"n_cols":3,"rows_kept":158,"cut":false,"hidden":true,"merged":[]}
["Enrollment as of 3/21/2013"]
[]
["Count of STUDENT_ID"]
["CLASS_SCHOOL","S_SCHL_NAME","Total"]
["0070","CORAL REEF MONTESSORI ACAD CH",31]
["0071","EUGENIA B. THOMAS K-8 CENTER",162]
["0073","MANDARIN LAKES K-8 CENTER",74]
["0091","BOB GRAHAM EDUCATION CTR",227]
["0092","NORMAN S. EDELCUP/SUNNY ISLES",200]
["0122","DR ROLANDO ESPINOSA K-8",184]
["0231","AVENTURA WATERWAYS K-8 CENTER",187]
["0241","RUTH K BROAD/BAY HARBOR K-8",113]
["0332","SOMERSET ACADEMY(SILVER PALMS)",151]
["0451","BOWMAN ASHE/DOOLIN K-8 ACAD",206]
["0651","CAMPBELL DRIVE K-8 CENTER",70]
["0761","FIENBERG/FISHER K-8 CENTER",93]
["0950","AVENTURA CITY OF EXCELLENCE",102]
["0961","CORAL GABLES PREPARATORY ACAD",100]
["1020","YOUTH CO-OP CHARTER SCHOOL",90]
["1121","CORAL WAY K-8 CENTER",166]
["1331","DEVON AIRE K-8 CENTER",187]
["1681","LILLIE C. EVANS K-8 CENTER",40]
["1721","EVERGLADES K-8 CENTER",148]
["2041","BENJAMIN FRANKLIN K-8 CENTER",43]
["2060","GIBSON CHARTER SCHOOL",30]
["2701","KENWOOD K-8 CENTER",120]
["2741","KEY BISCAYNE K-8 CENTER",142]
["2881","LEEWOOD K-8 CENTER",68]
["2901","LEISURE CITY K-8 CENTER",108]
["2911","LINDA LENTIN K-8 CENTER",107]
["3029","DORAL ACADEMY OF TECHNOLOGY",62]
["3032","PALM GLADES PREPATORY ACADEMY",129]
["3101","FRANK C. MARTIN K-8 CENTER",134]
["3191","ADA MERRITT K-8 CENTER",110]
["3281","MIAMI LAKES K-8 CENTER",153]
["3421","M.A. MILAM K-8 CENTER",156]
["3610","KEYS GATE CHARTER SCHOOL",283]
["3621","COCONUT PALM K-8 ACADEMY",117]
["3821","NORTH COUNTY K-8 CENTER",41]
["4031","GATEWAY ENVIRONMENTAL K-8",126]
["4391","IRVING & BEATRICE PESKOE K-8",41]
["4691","JANE ROBERTS K-8 CENTER",118]
["5003","SOUTH DADE MIDDLE SCHOOL",270]
["5005","DAVID LAWRENCE JR K-8 CENTER",194]
["5006","EVERGLADES PREPARATORY ACADEMY",188]
["5007","LINCOLN-MARTI CHARTER HIALEAH",23]
["5010","OXFORD ACADEMY OF MIAMI",13]
["5020","BRIDGEPOINT ACAD INTERAMERICAN",15]
["5022","BEN GAMLA CHARTER SCHL",17]
["5025","LINCOLN-MARTI CS LITTLE HAVANA",76]
["5029","EXCELSIOR LANGUAGE ACADEMY K-8",81]
["5032","EXCELSIOR CHARTER ACADEMY",22]
["5044","ACADEMY FOR INT'L EDUCATION CH",13]
["5047","MATER ACADEMY (MIAMI BEACH)",80]
["5049","PINECREST COVE ACADEMY",26]
["5051","ERNEST R GRAHAM K-8 CENTER",106]
["5101","JOHN I. SMITH K-8 CENTER",110]
["5141","HUBERT O. SIBLEY K-8 CENTER",96]
["5241","SOUTH MIAMI K-8 CENTER",62]
["5671","VINELAND K-8 CENTER",87]
["5861","DR H W MACK/W LITTLE RIVER K8",43]
["5901","CARRIE P MEEK/WESTVIEW K-8 CTR",58]
["5961","WINSTON PARK K-8 CENTER",169]
["6001","HERBERT A. AMMONS MIDDLE",417]
["6004","SOMERSET ACADEMY MIDDLE",88]
["6005","RAMZ ACAD MIDDLE MIAMI CAMPUS",39]
["6006","ARCHIMEDEAN CONSERVATORY",120]
["6008","LAWRENCE ACADEMY MIDDLE",34]
["6009","MATER ACADEMY EAST MIDDLE",113]
["6010","FLORIDA INTERNATIONAL ACADEMY",121]
["6011","ALLAPATTAH MIDDLE",181]
["6012","MATER ACADEMY CHARTER MIDDLE",499]
["6013","SOMERSET ACADEMY MIDDLE-SOUTH",44]
["6020","ASPIRA RAUL A. MARTINEZ CHTR",205]
["6021","ARVIDA MIDDLE SCHOOL",401]
["6022","PINECREST ACADEMY CHARTER MIDD",210]
["6023","ANDOVER MIDDLE SCHOOL",354]
["6028","RENAISSANCE MIDDLE CHARTER",148]
["6030","DORAL ACADEMY CHARTER MIDDLE",469]
["6031","BROWNSVILLE MIDDLE",233]
["6033","MATER ACADEMY LAKES MIDDLE",248]
["6040","DOCTORS CHARTER/MIAMI SHORES",90]
["6041","PAUL W. BELL MIDDLE",203]
["6042","MATER GARDENS ACADEMY MIDDLE",57]
["6043","SOMERSET ACAD MIDDLE (C-PALMS)",8]
["6045","INTL. STUDIES CHARTER MIDDLE",92]
["6047","MATER ACADEMY MIDDLE-INTL STUD",42]
["6048","MIAMI COMMUNITY CHARTER MIDDLE",93]
["6049","RIVER CITIES COMMUNITY CHARTER",63]
["6051","CAROL CITY MIDDLE",201]
["6052","ZELDA GLAZER MIDDLE SCHOOL",423]
["6053","SOMERSET ACAD MIDDLE (S-MIAMI)",49]
["6060","ASPIRA SOUTH YOUTH LEADERSHIP",99]
["6061","CAMPBELL DRIVE MIDDLE",141]
["6070","ASPIRA EUGENIO MARIA DE HOSTOS",186]
["6071","GEORGE WASHINGTON CARVER",303]
["6081","CENTENNIAL MIDDLE",327]
["6082","ACADEMIR CHARTER SCHOOL MIDDLE",19]
["6091","CITRUS GROVE MIDDLE SCHOOL",326]
["6111","CUTLER RIDGE MIDDLE",256]
["6121","RUBEN DARIO MIDDLE",220]
["6141","CHARLES R. DREW MIDDLE",130]
["6151","DORAL MIDDLE SCHOOL",4]
["6161","LAWTON CHILES MIDDLE SCHOOL",243]
["6171","HENRY H. FILER MIDDLE",406]
["6211","GLADES MIDDLE",376]
["6221","HAMMOCKS MIDDLE",379]
["6231","HIALEAH MIDDLE",285]
["6241","HIGHLAND OAKS MIDDLE",446]
["6251","HOMESTEAD MIDDLE",178]
["6281","THOMAS JEFFERSON MIDDLE",131]
["6301","JOHN F. KENNEDY MIDDLE",425]
["6331","KINLOCH PARK MIDDLE",436]
["6351","LAKE STEVENS MIDDLE",219]
["6361","JOSE DE DIEGO MIDDLE SCHOOL",195]
["6391","MADISON MIDDLE SCHOOL",176]
["6411","HORACE MANN MIDDLE",227]
["6441","HOWARD D. MCMILLAN MIDDLE",261]
["6481","MIAMI EDISON MIDDLE",149]
["6501","MIAMI LAKES MIDDLE",301]
["6521","MIAMI SPRINGS MIDDLE",521]
["6541","NAUTILUS MIDDLE",361]
["6571","NORLAND MIDDLE",242]
["6591","NORTH DADE MIDDLE",252]
["6611","COUNTRY CLUB MIDDLE SCHOOL",460]
["6631","NORTH MIAMI MIDDLE",359]
["6681","PALM SPRINGS MIDDLE",456]
["6701","PALMETTO MIDDLE",378]
["6721","PARKWAY MIDDLE",94]
["6741","PONCE DE LEON MIDDLE",390]
["6751","HIALEAH GARDENS MIDDLE SCHOOL",605]
["6761","REDLAND MIDDLE",183]
["6771","JORGE MAS CANOSA MIDDLE",723]
["6781","RICHMOND HEIGHTS MIDDLE",172]
["6801","RIVIERA MIDDLE",267]
["6821","ROCKWAY MIDDLE",406]
["6841","SHENANDOAH MIDDLE",405]
["6861","SOUTHWOOD MIDDLE",484]
["6881","SOUTH MIAMI MIDDLE SCHOOL",339]
["6901","W. R. THOMAS MIDDLE",320]
["6921","LAMAR LOUISE CURRY MIDDLE SCH",397]
["6961","WEST MIAMI MIDDLE",339]
["7001","MIAMI-DADE ONLINE ACADEMY",23]
["7055","YOUNG WOMEN'S PREPARATORY ACAD",79]
["7059","MIAMI ARTS CHARTER",132]
["7291","JOSE MARTI MAST 6-12 ACADEMY",127]
["7351","ARTHUR AND POLLY MAYS CONSERVA",83]
["7631","MIAMI MACARTHUR SOUTH",20]
["8014","ALTERNATIVE OUTREACH-EXT. YR",20]
["8017","ALTERNATIVE OUTREACH PROGRAM",34]
["8101","JAN MANN OPPORTUNITY SCHOOL",14]
["8121","COPE CENTER NORTH",4]
["8131","DOROTHY M WALLACE COPE CENTER",1]
["8141","JUVENILE JUSTICE CENTER",4]
["8151","ROBERT RENICK EDUCATION CTR",11]
["8181","RUTH OWENS KRUSE' EDUC CENTER",10]
["9732","MERRICK EDUCATIONAL CENTER",24]
["9999","District",27196]

{"sheet":"2012 BL USH Enrollment","index":11,"n_rows":91,"n_cols":3,"rows_kept":91,"cut":false,"hidden":true,"merged":[]}
[]
[]
["Count of STUDENT_ID"]
["CLASS_SCHOOL","S_SCHL_NAME","Total"]
["5006","EVERGLADES PREPARATORY ACADEMY",88]
["6040","DOCTORS CHARTER/MIAMI SHORES",64]
["7001","MIAMI-DADE ONLINE ACADEMY",23]
["7007","INTL. STUDIES CHARTER SENIOR",94]
["7009","DORAL PERFORMING ARTS ACADEMY",38]
["7011","AMERICAN SENIOR",424]
["7015","STELLAR LEADERSHIP ACADEMY",102]
["7018","MATER ACADEMY LAKES HIGH SCH",155]
["7020","DORAL ACADEMY HIGH SCHOOL",205]
["7022","ACADEMY OF ARTS AND MINDS",89]
["7029","TERRA ENVIRONMENTAL RESEARCH",195]
["7030","INTEGRATED ACADEMICS (SIATECH)",46]
["7033","LAW ENFORCEMENT OFFICERS HS",52]
["7034","SOMERSET ACAD HIGH SOUTH-HMSTD",17]
["7036","LAWRENCE ACADEMY SENIOR",18]
["7037","MATER ACADEMY EAST HIGH SCHOOL",62]
["7042","SOMERSET ACADEMY CHARTER HIGH",79]
["7048","ALONZO & TRACY MOURNING SH",413]
["7049","WESTLAND HIALEAH SENIOR HIGH",439]
["7050","KEYS GATE CHARTER HIGH SCHL",147]
["7051","G. HOLMES BRADDOCK SENIOR HIGH",616]
["7053","PINECREST ACADEMY CHARTER HIGH",39]
["7054","EXCELSIOR CHARTER HIGH SCHOOL",16]
["7056","YOUNG MENS PREPARATORY ACADEMY",19]
["7058","MIAMI COMMUNITY CH HIGH SCHOOL",30]
["7059","MIAMI ARTS CHARTER",59]
["7061","SCHOOL FOR ADVANCED STUDIES NO",1]
["7065","MAVERICKS HIGH OF SOUTH M-DADE",14]
["7067","GREEN SPRINGS HIGH SCHOOL",78]
["7068","NORTH GARDENS HIGH SCHOOL",28]
["7069","NORTH PARK HIGH SCHOOL",43]
["7071","CORAL GABLES SENIOR HIGH",582]
["7081","DESIGN & ARCHITECTURE SENIOR",93]
["7101","CORAL REEF SENIOR HIGH",439]
["7111","HIALEAH SENIOR",748]
["7121","JOHN A FERGUSON SENIOR HIGH",877]
["7131","HIALEAH-MIAMI LAKES SENIOR",347]
["7141","DR MICHAEL M KROP SENIOR HIGH",557]
["7151","HOMESTEAD SENIOR HIGH",407]
["7160","MATER ACADEMY CHARTER HIGH",280]
["7161","MAST @ VIRGINIA KEY",37]
["7171","MED ACAD SCIENCE & TECHNOLOGY",70]
["7191","HIALEAH GARDENS SENIOR",541]
["7201","MIAMI BEACH SENIOR HIGH",473]
["7231","MIAMI CAROL CITY SENIOR HIGH",420]
["7241","RONALD W REAGAN/DORAL SENIOR",447]
["7251","MIAMI CENTRAL SENIOR HIGH",415]
["7262","CITY OF HIALEAH EDUCATION ACAD",103]
["7265","ARCHIMEDEAN UPPER CONSERV CHAR",18]
["7271","MIAMI CORAL PARK SENIOR HIGH",663]
["7301","MIAMI EDISON SENIOR HIGH",233]
["7341","MIAMI JACKSON SENIOR HIGH",236]
["7351","ARTHUR AND POLLY MAYS CONSERVA",61]
["7361","MIAMI KILLIAN SENIOR HIGH",518]
["7371","ROBERT MORGAN EDUCATIONAL CTR",389]
["7381","MIAMI NORLAND SENIOR HIGH",404]
["7391","MIAMI LAKES EDUCATIONAL CENTER",322]
["7411","MIAMI NORTHWESTERN SENIOR HIGH",369]
["7431","MIAMI PALMETTO SENIOR HIGH",458]
["7461","MIAMI SENIOR HIGH",653]
["7511","MIAMI SPRINGS SENIOR HIGH",402]
["7531","MIAMI SUNSET SENIOR HIGH",493]
["7541","NORTH MIAMI BEACH SENIOR HIGH",407]
["7571","INTL STUDIES PREP ACADEMY",25]
["7591","NORTH MIAMI SENIOR HIGH",539]
["7601","WILLIAM H. TURNER TECHNICAL",262]
["7631","MIAMI MACARTHUR SOUTH",10]
["7701","SOUTH DADE SENIOR HIGH",696]
["7721","SOUTH MIAMI SENIOR HIGH",469]
["7731","MIAMI SOUTHRIDGE SENIOR HIGH",459]
["7741","SOUTHWEST MIAMI SENIOR HIGH",647]
["7751","BARBARA GOLEMAN SENIOR HIGH",354]
["7781","FELIX VARELA SENIOR HIGH",597]
["7791","BOOKER T. WASHINGTON SR. HIGH",194]
["7901","NEW WORLD SCHOOL OF THE ARTS",79]
["8014","ALTERNATIVE OUTREACH-EXT. YR",59]
["8017","ALTERNATIVE OUTREACH PROGRAM",48]
["8019","ACADEMY FOR COMMUNITY ED",27]
["8101","JAN MANN OPPORTUNITY SCHOOL",3]
["8121","COPE CENTER NORTH",44]
["8131","DOROTHY M WALLACE COPE CENTER",26]
["8141","JUVENILE JUSTICE CENTER",13]
["8151","ROBERT RENICK EDUCATION CTR",7]
["8181","RUTH OWENS KRUSE' EDUC CENTER",12]
["9732","MERRICK EDUCATIONAL CENTER",27]
[]
["9999","DISTRICT",20752]

{"sheet":"2013 BL USH Enrollment","index":12,"n_rows":97,"n_cols":3,"rows_kept":97,"cut":false,"hidden":true,"merged":[]}
[]
[]
["Count of STUDENT_ID"]
["CLASS_SCHOOL","S_SCHL_NAME","Total"]
["3032","PALM GLADES PREPATORY ACADEMY",118]
["5006","EVERGLADES PREPARATORY ACADEMY",69]
["6020","ASPIRA RAUL A. MARTINEZ CHTR",207]
["6040","DOCTORS CHARTER/MIAMI SHORES",50]
["6997","MATER VIRTUAL ACADEMY CHARTER",1]
["7001","MIAMI-DADE ONLINE ACADEMY 7001",17]
["7007","INTL. STUDIES CHARTER SENIOR",83]
["7009","DORAL PERFORMING ARTS ACADEMY",51]
["7011","AMERICAN SENIOR",378]
["7014","MATER PERFORMING ARTS ACADEMY",22]
["7015","STELLAR LEADERSHIP ACADEMY",133]
["7016","SPORTS LEADERSHIP OF MIAMI CHS",59]
["7018","MATER ACADEMY LAKES HIGH SCH",227]
["7020","DORAL ACADEMY HIGH SCHOOL",266]
["7022","ACADEMY OF ARTS AND MINDS",96]
["7029","TERRA ENVIRONMENTAL RESEARCH",276]
["7030","INTEGRATED ACADEMICS (SIATECH)",18]
["7032","PALM GLADES PREP HIGH SCHOOL",27]
["7033","LAW ENFORCEMENT OFFICERS HS",62]
["7034","SOMERSET ACAD HIGH SOUTH-HMSTD",21]
["7036","LAWRENCE ACADEMY SENIOR",7]
["7037","MATER ACADEMY EAST HIGH SCHOOL",83]
["7042","SOMERSET ACADEMY CHARTER HIGH",53]
["7048","ALONZO & TRACY MOURNING SH",420]
["7049","WESTLAND HIALEAH SENIOR HIGH",343]
["7050","KEYS GATE CHARTER HIGH SCHL",179]
["7051","G. HOLMES BRADDOCK SENIOR HIGH",643]
["7053","PINECREST ACADEMY CHARTER HIGH",80]
["7056","YOUNG MENS PREPARATORY ACADEMY",29]
["7058","MIAMI COMMUNITY CH HIGH SCHOOL",40]
["7059","MIAMI ARTS CHARTER",50]
["7060","EVERGLADES PREP ACADEMY HIGH",30]
["7062","MAVERICKS HIGH OF NORTH M-DADE",9]
["7065","MAVERICKS HIGH OF SOUTH M-DADE",91]
["7067","GREEN SPRINGS HIGH SCHOOL",39]
["7068","NORTH GARDENS HIGH SCHOOL",40]
["7069","NORTH PARK HIGH SCHOOL",32]
["7071","CORAL GABLES SENIOR HIGH",643]
["7081","DESIGN & ARCHITECTURE SENIOR",99]
["7101","CORAL REEF SENIOR HIGH",370]
["7111","HIALEAH SENIOR",730]
["7121","JOHN A FERGUSON SENIOR HIGH",779]
["7131","HIALEAH-MIAMI LAKES SENIOR",360]
["7141","DR MICHAEL M KROP SENIOR HIGH",549]
["7151","HOMESTEAD SENIOR HIGH",367]
["7160","MATER ACADEMY CHARTER HIGH",254]
["7161","MARITIME & SCIENCE TECH ACAD",34]
["7171","MED ACAD SCIENCE & TECHNOLOGY",98]
["7191","HIALEAH GARDENS SENIOR",533]
["7201","MIAMI BEACH SENIOR HIGH",418]
["7231","MIAMI CAROL CITY SENIOR HIGH",443]
["7241","RONALD W REAGAN/DORAL SENIOR",408]
["7251","MIAMI CENTRAL SENIOR HIGH",408]
["7262","CITY OF HIALEAH EDUCATION ACAD",60]
["7265","ARCHIMEDEAN UPPER CONSERV CHAR",18]
["7271","MIAMI CORAL PARK SENIOR HIGH",555]
["7291","JOSE MARTI MAST 6-12 ACADEMY",41]
["7301","MIAMI EDISON SENIOR HIGH",222]
["7341","MIAMI JACKSON SENIOR HIGH",246]
["7351","ARTHUR AND POLLY MAYS CONSERVA",87]
["7361","MIAMI KILLIAN SENIOR HIGH",449]
["7371","ROBERT MORGAN EDUCATIONAL CTR",463]
["7381","MIAMI NORLAND SENIOR HIGH",357]
["7391","MIAMI LAKES EDUCATIONAL CENTER",246]
["7411","MIAMI NORTHWESTERN SENIOR HIGH",325]
["7431","MIAMI PALMETTO SENIOR HIGH",412]
["7461","MIAMI SENIOR HIGH",627]
["7511","MIAMI SPRINGS SENIOR HIGH",425]
["7531","MIAMI SUNSET SENIOR HIGH",379]
["7541","NORTH MIAMI BEACH SENIOR HIGH",353]
["7571","INTL STUDIES PREP ACADEMY",3]
["7581","IPREPARATORY ACADEMY",24]
["7591","NORTH MIAMI SENIOR HIGH",567]
["7601","WILLIAM H. TURNER TECHNICAL",313]
["7631","MIAMI MACARTHUR SOUTH",11]
["7701","SOUTH DADE SENIOR HIGH",707]
["7721","SOUTH MIAMI SENIOR HIGH",468]
["7731","MIAMI SOUTHRIDGE SENIOR HIGH",463]
["7741","SOUTHWEST MIAMI SENIOR HIGH",680]
["7751","BARBARA GOLEMAN SENIOR HIGH",393]
["7781","FELIX VARELA SENIOR HIGH",707]
["7791","BOOKER T. WASHINGTON SR. HIGH",207]
["7901","NEW WORLD SCHOOL OF THE ARTS",70]
["8014","ALTERNATIVE OUTREACH-EXT. YR",47]
["8017","ALTERNATIVE OUTREACH PROGRAM",79]
["8019","ACADEMY FOR COMMUNITY ED",25]
["8101","JAN MANN OPPORTUNITY SCHOOL",8]
["8121","COPE CENTER NORTH",33]
["8131","DOROTHY M WALLACE COPE CENTER",31]
["8141","JUVENILE JUSTICE CENTER",19]
["8151","ROBERT RENICK EDUCATION CTR",5]
["9732","BRUCIE BALL EDUCATIONAL CENTER",29]
["9999","District",20996]

{"sheet":"WIA USH Enrollment","index":13,"n_rows":216,"n_cols":17,"rows_kept":216,"cut":false,"hidden":true,"merged":[]}
[1,2,3,4,5,6,7,8,9,10,11,12,13,14,15,16,17]
["School","SchName","Total","ML1","ML2","ML3","ML4","ML5","ML0","W","B","H","A","I","ED","ELL","SWD"]
["5006","EVERGLADES PREPARATORY ACADEMY",91,1,9,29,33,17,2,8,7,76,0,0,80,12,1]
["6040","DOCTORS CHARTER/MIAMI SHORES",62,0,4,16,16,5,21,9,39,13,1,0,13,1,4]
["7001","MIAMI-DADE ONLINE ACADEMY",31,3,1,4,2,2,19,4,7,20,0,0,22,1,1]
["7007","INTL. STUDIES CHARTER SENIOR",94,0,0,18,20,7,49,13,4,77,0,0,66,20,4]
["7009","DORAL PERFORMING ARTS ACADEMY",38,0,0,9,12,4,13,5,0,33,0,0,25,2,0]
["7011","AMERICAN SENIOR",398,1,4,64,41,3,285,11,114,270,2,1,319,75,38]
["7015","STELLAR LEADERSHIP ACADEMY",111,22,14,3,1,0,71,0,93,18,0,0,70,4,19]
["7018","MATER ACADEMY LAKES HIGH SCH",156,0,0,29,18,5,104,8,5,142,1,0,114,27,3]
["7020","DORAL ACADEMY HIGH SCHOOL",202,0,1,60,47,7,87,15,2,183,2,0,119,22,8]
["7022","ACADEMY OF ARTS AND MINDS",86,0,0,18,17,1,50,10,5,70,1,0,29,4,8]
["7029","TERRA ENVIRONMENTAL RESEARCH",198,0,0,68,68,26,36,42,7,143,6,0,81,3,14]
["7030","INTEGRATED ACADEMICS (SIATECH)",66,0,0,0,1,0,65,4,49,11,0,0,18,6,10]
["7033","LAW ENFORCEMENT OFFICERS HS",49,0,0,10,9,3,27,2,14,33,0,0,42,1,1]
["7034","SOMERSET ACAD HIGH SOUTH-HMSTD",20,3,5,6,1,1,4,5,1,14,0,0,15,0,2]
["7036","LAWRENCE ACADEMY SENIOR",20,0,0,3,0,0,17,0,6,14,0,0,20,2,4]
["7037","MATER ACADEMY EAST HIGH SCHOOL",67,0,0,21,13,0,33,1,3,63,0,0,46,9,5]
["7042","SOMERSET ACADEMY CHARTER HIGH",75,0,0,14,6,2,53,3,3,69,0,0,64,14,7]
["7048","ALONZO & TRACY MOURNING SH",404,1,4,82,72,20,225,107,90,200,6,1,238,55,35]
["7049","WESTLAND HIALEAH SENIOR HIGH",453,5,2,85,39,12,310,10,12,431,0,0,389,188,37]
["7050","KEYS GATE CHARTER HIGH SCHL",149,0,1,17,8,3,120,21,34,92,2,0,92,21,22]
["7051","G. HOLMES BRADDOCK SENIOR HIGH",610,3,4,150,72,17,364,23,12,567,8,0,488,124,117]
["7053","PINECREST ACADEMY CHARTER HIGH",38,0,0,9,3,2,24,1,0,37,0,0,19,1,0]
["7054","EXCELSIOR CHARTER HIGH SCHOOL",17,0,0,3,0,0,14,0,0,17,0,0,16,11,2]
["7055","YOUNG WOMEN'S PREPARATORY ACAD",1,0,0,0,0,0,1,0,0,1,0,0,1,0,0]
["7056","YOUNG MENS PREPARATORY ACADEMY",20,0,0,4,5,0,11,0,11,8,1,0,14,2,1]
["7058","MIAMI COMMUNITY CH HIGH SCHOOL",30,1,0,7,1,1,20,3,1,26,0,0,27,6,2]
["7059","MIAMI ARTS CHARTER",62,0,0,16,16,6,24,12,13,36,0,0,13,2,2]
["7061","SCHOOL FOR ADVANCED STUDIES NO",1,0,0,0,1,0,0,0,1,0,0,0,0,0,0]
["7062","MAVERICKS HIGH OF NORTH M-DADE",144,17,7,6,3,0,111,5,114,25,0,0,79,1,18]
["7065","MAVERICKS HIGH OF SOUTH M-DADE",81,13,10,4,2,1,51,8,40,33,0,0,80,0,16]
["7067","GREEN SPRINGS HIGH SCHOOL",78,4,6,7,3,0,58,2,12,63,1,0,50,11,7]
["7068","NORTH GARDENS HIGH SCHOOL",36,2,1,0,0,0,33,1,23,12,0,0,9,1,4]
["7069","NORTH PARK HIGH SCHOOL",49,2,2,2,0,1,42,0,31,18,0,0,28,8,6]
["7071","CORAL GABLES SENIOR HIGH",572,4,2,98,52,8,408,43,30,495,4,0,445,172,47]
["7081","DESIGN & ARCHITECTURE SENIOR",93,0,0,30,31,18,14,25,12,54,1,0,44,1,7]
["7101","CORAL REEF SENIOR HIGH",435,1,1,128,124,50,131,59,95,267,6,1,220,8,33]
["7111","HIALEAH SENIOR",738,1,4,137,80,34,482,21,30,684,3,0,646,181,77]
["7121","JOHN A FERGUSON SENIOR HIGH",869,9,9,199,150,38,464,55,18,783,10,2,565,99,93]
["7131","HIALEAH-MIAMI LAKES SENIOR",329,1,4,55,24,6,239,11,70,245,2,0,282,76,34]
["7141","DR MICHAEL M KROP SENIOR HIGH",550,3,9,138,92,30,278,89,255,198,8,0,339,62,35]
["7151","HOMESTEAD SENIOR HIGH",402,19,11,51,15,2,304,11,178,211,1,0,367,47,76]
["7160","MATER ACADEMY CHARTER HIGH",275,0,2,59,35,14,165,8,2,265,0,0,214,43,16]
["7161","MARTIME & SCIENCE TECH ACADEMY",37,0,0,9,21,7,0,7,3,25,2,0,16,0,0]
["7171","MED ACAD SCIENCE & TECHNOLOGY",71,2,6,19,13,2,29,7,14,50,0,0,49,9,4]
["7191","HIALEAH GARDENS SENIOR",545,8,5,104,63,13,352,12,8,521,4,0,449,162,54]
["7201","MIAMI BEACH SENIOR HIGH",471,11,5,97,51,13,294,73,45,345,5,0,372,78,47]
["7231","MIAMI CAROL CITY SENIOR HIGH",414,10,8,50,22,4,320,1,350,62,0,0,347,13,47]
["7241","RONALD W REAGAN/DORAL SENIOR",436,2,2,118,76,16,222,33,6,392,5,0,202,114,23]
["7251","MIAMI CENTRAL SENIOR HIGH",402,12,10,37,14,2,327,1,315,84,1,0,331,59,52]
["7262","CITY OF HIALEAH EDUCATION ACAD",109,1,1,17,11,2,77,0,1,108,0,0,101,19,6]
["7265","ARCHIMEDEAN UPPER CONSERV CHAR",18,0,0,3,7,1,7,2,0,16,0,0,12,1,0]
["7271","MIAMI CORAL PARK SENIOR HIGH",665,6,8,118,91,20,422,29,10,623,3,0,523,168,62]
["7301","MIAMI EDISON SENIOR HIGH",224,4,3,23,9,1,184,0,196,28,0,0,197,59,19]
["7341","MIAMI JACKSON SENIOR HIGH",231,1,0,6,1,1,222,3,71,157,0,0,216,51,27]
["7351","ARTHUR AND POLLY MAYS CONSERVA",60,17,24,14,4,0,1,5,23,32,0,0,54,7,10]
["7361","MIAMI KILLIAN SENIOR HIGH",529,5,7,102,54,17,344,75,128,309,9,0,335,58,64]
["7371","ROBERT MORGAN EDUCATIONAL CTR",387,0,2,104,66,17,198,44,81,254,5,1,264,20,39]
["7381","MIAMI NORLAND SENIOR HIGH",376,8,3,50,22,7,286,0,359,14,1,1,306,24,38]
["7391","MIAMI LAKES EDUCATIONAL CENTER",314,1,0,86,83,25,119,10,73,229,1,0,244,15,29]
["7411","MIAMI NORTHWESTERN SENIOR HIGH",358,8,6,53,20,5,266,1,333,24,0,0,308,6,31]
["7431","MIAMI PALMETTO SENIOR HIGH",479,2,1,119,76,24,257,146,95,222,13,0,200,29,65]
["7461","MIAMI SENIOR HIGH",629,10,3,107,64,18,427,17,13,597,2,0,563,184,72]
["7511","MIAMI SPRINGS SENIOR HIGH",385,0,1,76,47,14,247,22,36,324,3,0,309,105,21]
["7531","MIAMI SUNSET SENIOR HIGH",485,4,16,90,59,8,308,40,26,415,3,0,346,78,67]
["7541","NORTH MIAMI BEACH SENIOR HIGH",414,7,3,66,21,9,308,10,319,78,5,2,349,86,31]
["7571","INTL STUDIES PREP ACADEMY",24,0,0,8,6,4,6,7,1,16,0,0,11,5,0]
["7591","NORTH MIAMI SENIOR HIGH",541,8,7,81,33,4,408,6,474,55,6,0,467,163,35]
["7601","WILLIAM H. TURNER TECHNICAL",244,0,0,63,20,4,157,2,189,52,1,0,218,18,13]
["7631","MIAMI MACARTHUR SOUTH",10,2,0,1,1,0,6,1,5,4,0,0,7,0,5]
["7701","SOUTH DADE SENIOR HIGH",700,16,24,108,55,8,489,80,141,469,5,2,552,80,112]
["7721","SOUTH MIAMI SENIOR HIGH",459,3,1,100,52,9,294,25,28,405,1,0,354,95,59]
["7731","MIAMI SOUTHRIDGE SENIOR HIGH",423,12,12,54,21,2,322,31,170,215,4,1,341,51,102]
["7741","SOUTHWEST MIAMI SENIOR HIGH",640,3,2,151,83,22,379,34,6,598,2,0,521,155,101]
["7751","BARBARA GOLEMAN SENIOR HIGH",351,2,0,80,41,15,213,33,40,276,1,0,246,35,37]
["7781","FELIX VARELA SENIOR HIGH",591,5,5,142,70,17,352,45,33,500,10,0,415,104,63]
["7791","BOOKER T. WASHINGTON SR. HIGH",195,5,0,14,2,0,174,3,92,100,0,0,186,47,34]
["7901","NEW WORLD SCHOOL OF THE ARTS",78,0,0,18,39,8,13,7,29,37,1,0,35,0,3]
["8014","ALTERNATIVE OUTREACH-EXT. YR",62,10,3,1,0,0,48,8,35,19,0,0,22,4,18]
["8017","ALTERNATIVE OUTREACH PROGRAM",59,11,12,4,0,0,32,2,45,12,0,0,46,2,7]
["8019","ACADEMY FOR COMMUNITY ED",34,2,1,3,0,0,28,1,27,6,0,0,30,0,0]
["8101","JAN MANN OPPORTUNITY SCHOOL",4,1,0,0,1,0,2,0,2,2,0,0,4,0,0]
["8121","COPE CENTER NORTH",54,5,6,2,1,0,40,0,42,12,0,0,50,4,6]
["8131","DOROTHY M WALLACE COPE CENTER",34,4,2,1,2,1,24,2,20,12,0,0,34,4,5]
["8141","JUVENILE JUSTICE CENTER",20,5,4,1,0,0,10,1,8,11,0,0,17,0,5]
["8151","ROBERT RENICK EDUCATION CTR",4,1,0,0,0,0,3,0,4,0,0,0,4,0,4]
["8181","RUTH OWENS KRUSE' EDUC CENTER",12,7,3,0,0,0,2,0,4,7,0,0,12,1,12]
["9732","MERRICK EDUCATIONAL CENTER",40,0,4,8,3,1,24,5,5,30,0,0,24,5,38]
["9999","District",20818,337,317,3967,2458,667,13072,1486,5348,13764,159,12,15497,3441,2283]
["Grand Total",0,0,0,0,0,0,0,0,0,0,0,0,0,0,0,0]
[0,0,0,0,0,0,0,0,0,0,0,0,0,0,0,0,0]
[0,0,0,0,0,0,0,0,0,0,0,0,0,0,0,0,0]
[0,0,0,0,0,0,0,0,0,0,0,0,0,0,0,0,0]
[0,0,0,0,0,0,0,0,0,0,0,0,0,0,0,0,0]
[0,0,0,0,0,0,0,0,0,0,0,0,0,0,0,0,0]
[0,0,0,0,0,0,0,0,0,0,0,0,0,0,0,0,0]
[0,0,0,0,0,0,0,0,0,0,0,0,0,0,0,0,0]
[0,0,0,0,0,0,0,0,0,0,0,0,0,0,0,0,0]
[0,0,0,0,0,0,0,0,0,0,0,0,0,0,0,0,0]
[0,0,0,0,0,0,0,0,0,0,0,0,0,0,0,0,0]
[0,0,0,0,0,0,0,0,0,0,0,0,0,0,0,0,0]
[0,0,0,0,0,0,0,0,0,0,0,0,0,0,0,0,0]
[0,0,0,0,0,0,0,0,0,0,0,0,0,0,0,0,0]
[0,0,0,0,0,0,0,0,0,0,0,0,0,0,0,0,0]
[0,0,0,0,0,0,0,0,0,0,0,0,0,0,0,0,0]
[0,0,0,0,0,0,0,0,0,0,0,0,0,0,0,0,0]
[0,0,0,0,0,0,0,0,0,0,0,0,0,0,0,0,0]
[0,0,0,0,0,0,0,0,0,0,0,0,0,0,0,0,0]
[0,0,0,0,0,0,0,0,0,0,0,0,0,0,0,0,0]
[0,0,0,0,0,0,0,0,0,0,0,0,0,0,0,0,0]
[0,0,0,0,0,0,0,0,0,0,0,0,0,0,0,0,0]
[0,0,0,0,0,0,0,0,0,0,0,0,0,0,0,0,0]
[0,0,0,0,0,0,0,0,0,0,0,0,0,0,0,0,0]
[0,0,0,0,0,0,0,0,0,0,0,0,0,0,0,0,0]
[0,0,0,0,0,0,0,0,0,0,0,0,0,0,0,0,0]
[0,0,0,0,0,0,0,0,0,0,0,0,0,0,0,0,0]
[0,0,0,0,0,0,0,0,0,0,0,0,0,0,0,0,0]
[0,0,0,0,0,0,0,0,0,0,0,0,0,0,0,0,0]
[0,0,0,0,0,0,0,0,0,0,0,0,0,0,0,0,0]
[0,0,0,0,0,0,0,0,0,0,0,0,0,0,0,0,0]
[0,0,0,0,0,0,0,0,0,0,0,0,0,0,0,0,0]
[0,0,0,0,0,0,0,0,0,0,0,0,0,0,0,0,0]
[0,0,0,0,0,0,0,0,0,0,0,0,0,0,0,0,0]
[0,0,0,0,0,0,0,0,0,0,0,0,0,0,0,0,0]
[0,0,0,0,0,0,0,0,0,0,0,0,0,0,0,0,0]
[0,0,0,0,0,0,0,0,0,0,0,0,0,0,0,0,0]
[0,0,0,0,0,0,0,0,0,0,0,0,0,0,0,0,0]
[0,0,0,0,0,0,0,0,0,0,0,0,0,0,0,0,0]
[0,0,0,0,0,0,0,0,0,0,0,0,0,0,0,0,0]
[0,0,0,0,0,0,0,0,0,0,0,0,0,0,0,0,0]
[0,0,0,0,0,0,0,0,0,0,0,0,0,0,0,0,0]
[0,0,0,0,0,0,0,0,0,0,0,0,0,0,0,0,0]
[0,0,0,0,0,0,0,0,0,0,0,0,0,0,0,0,0]
[0,0,0,0,0,0,0,0,0,0,0,0,0,0,0,0,0]
[0,0,0,0,0,0,0,0,0,0,0,0,0,0,0,0,0]
[0,0,0,0,0,0,0,0,0,0,0,0,0,0,0,0,0]
[0,0,0,0,0,0,0,0,0,0,0,0,0,0,0,0,0]
[0,0,0,0,0,0,0,0,0,0,0,0,0,0,0,0,0]
[0,0,0,0,0,0,0,0,0,0,0,0,0,0,0,0,0]
[0,0,0,0,0,0,0,0,0,0,0,0,0,0,0,0,0]
[0,0,0,0,0,0,0,0,0,0,0,0,0,0,0,0,0]
[0,0,0,0,0,0,0,0,0,0,0,0,0,0,0,0,0]
[0,0,0,0,0,0,0,0,0,0,0,0,0,0,0,0,0]
[0,0,0,0,0,0,0,0,0,0,0,0,0,0,0,0,0]
[0,0,0,0,0,0,0,0,0,0,0,0,0,0,0,0,0]
[0,0,0,0,0,0,0,0,0,0,0,0,0,0,0,0,0]
[0,0,0,0,0,0,0,0,0,0,0,0,0,0,0,0,0]
[0,0,0,0,0,0,0,0,0,0,0,0,0,0,0,0,0]
[0,0,0,0,0,0,0,0,0,0,0,0,0,0,0,0,0]
[0,0,0,0,0,0,0,0,0,0,0,0,0,0,0,0,0]
[0,0,0,0,0,0,0,0,0,0,0,0,0,0,0,0,0]
[0,0,0,0,0,0,0,0,0,0,0,0,0,0,0,0,0]
[0,0,0,0,0,0,0,0,0,0,0,0,0,0,0,0,0]
[0,0,0,0,0,0,0,0,0,0,0,0,0,0,0,0,0]
[0,0,0,0,0,0,0,0,0,0,0,0,0,0,0,0,0]
[0,0,0,0,0,0,0,0,0,0,0,0,0,0,0,0,0]
[0,0,0,0,0,0,0,0,0,0,0,0,0,0,0,0,0]
[0,0,0,0,0,0,0,0,0,0,0,0,0,0,0,0,0]
[]
[0,0,0,0,0,0,0,0,0,0,0,0,0,0,0,0,0]
[0,0,0,0,0,0,0,0,0,0,0,0,0,0,0,0,0]
[0,0,0,0,0,0,0,0,0,0,0,0,0,0,0,0,0]
[0,0,0,0,0,0,0,0,0,0,0,0,0,0,0,0,0]
[0,0,0,0,0,0,0,0,0,0,0,0,0,0,0,0,0]
[0,0,0,0,0,0,0,0,0,0,0,0,0,0,0,0,0]
[0,0,0,0,0,0,0,0,0,0,0,0,0,0,0,0,0]
[0,0,0,0,0,0,0,0,0,0,0,0,0,0,0,0,0]
[0,0,0,0,0,0,0,0,0,0,0,0,0,0,0,0,0]
[0,0,0,0,0,0,0,0,0,0,0,0,0,0,0,0,0]
[0,0,0,0,0,0,0,0,0,0,0,0,0,0,0,0,0]
[0,0,0,0,0,0,0,0,0,0,0,0,0,0,0,0,0]
[0,0,0,0,0,0,0,0,0,0,0,0,0,0,0,0,0]
[0,0,0,0,0,0,0,0,0,0,0,0,0,0,0,0,0]
[0,0,0,0,0,0,0,0,0,0,0,0,0,0,0,0,0]
[0,0,0,0,0,0,0,0,0,0,0,0,0,0,0,0,0]
[0,0,0,0,0,0,0,0,0,0,0,0,0,0,0,0,0]
[0,0,0,0,0,0,0,0,0,0,0,0,0,0,0,0,0]
[0,0,0,0,0,0,0,0,0,0,0,0,0,0,0,0,0]
[0,0,0,0,0,0,0,0,0,0,0,0,0,0,0,0,0]
[0,0,0,0,0,0,0,0,0,0,0,0,0,0,0,0,0]
[0,0,0,0,0,0,0,0,0,0,0,0,0,0,0,0,0]
[0,0,0,0,0,0,0,0,0,0,0,0,0,0,0,0,0]
[0,0,0,0,0,0,0,0,0,0,0,0,0,0,0,0,0]
[0,0,0,0,0,0,0,0,0,0,0,0,0,0,0,0,0]
[0,0,0,0,0,0,0,0,0,0,0,0,0,0,0,0,0]
[0,0,0,0,0,0,0,0,0,0,0,0,0,0,0,0,0]
[0,0,0,0,0,0,0,0,0,0,0,0,0,0,0,0,0]
[0,0,0,0,0,0,0,0,0,0,0,0,0,0,0,0,0]
[0,0,0,0,0,0,0,0,0,0,0,0,0,0,0,0,0]
[0,0,0,0,0,0,0,0,0,0,0,0,0,0,0,0,0]
[0,0,0,0,0,0,0,0,0,0,0,0,0,0,0,0,0]
[0,0,0,0,0,0,0,0,0,0,0,0,0,0,0,0,0]
[0,0,0,0,0,0,0,0,0,0,0,0,0,0,0,0,0]
[0,0,0,0,0,0,0,0,0,0,0,0,0,0,0,0,0]
[0,0,0,0,0,0,0,0,0,0,0,0,0,0,0,0,0]
[0,0,0,0,0,0,0,0,0,0,0,0,0,0,0,0,0]
[0,0,0,0,0,0,0,0,0,0,0,0,0,0,0,0,0]
[0,0,0,0,0,0,0,0,0,0,0,0,0,0,0,0,0]
[0,0,0,0,0,0,0,0,0,0,0,0,0,0,0,0,0]
[0,0,0,0,0,0,0,0,0,0,0,0,0,0,0,0,0]
[0,0,0,0,0,0,0,0,0,0,0,0,0,0,0,0,0]
[0,0,0,0,0,0,0,0,0,0,0,0,0,0,0,0,0]
[0,0,0,0,0,0,0,0,0,0,0,0,0,0,0,0,0]
[0,0,0,0,0,0,0,0,0,0,0,0,0,0,0,0,0]
[0,0,0,0,0,0,0,0,0,0,0,0,0,0,0,0,0]
[0,0,0,0,0,0,0,0,0,0,0,0,0,0,0,0,0]
[0,0,0,0,0,0,0,0,0,0,0,0,0,0,0,0,0]
[0,0,0,0,0,0,0,0,0,0,0,0,0,0,0,0,0]
[0,0,0,0,0,0,0,0,0,0,0,0,0,0,0,0,0]
[0,0,0,0,0,0,0,0,0,0,0,0,0,0,0,0,0]
[0,0,0,0,0,0,0,0,0,0,0,0,0,0,0,0,0]
[0,0,0,0,0,0,0,0,0,0,0,0,0,0,0,0,0]
[0,0,0,0,0,0,0,0,0,0,0,0,0,0,0,0,0]
[0,0,0,0,0,0,0,0,0,0,0,0,0,0,0,0,0]
["9999","District",41636,674,634,7934,4916,1334,26144,2972,10696,27528,318,24,30994,6882,4566]

{"sheet":"SIA USH Enrollment","index":14,"n_rows":92,"n_cols":3,"rows_kept":92,"cut":false,"hidden":true,"merged":[]}
["Enrollment as of 3-21-2013"]
[]
["Count of STUDENT_ID"]
["CLASS_SCHOOL","S_SCHL_NAME","Total"]
["5006","EVERGLADES PREPARATORY ACADEMY",89]
["6040","DOCTORS CHARTER/MIAMI SHORES",62]
["7001","MIAMI-DADE ONLINE ACADEMY",23]
["7007","INTL. STUDIES CHARTER SENIOR",96]
["7009","DORAL PERFORMING ARTS ACADEMY",38]
["7011","AMERICAN SENIOR",389]
["7015","STELLAR LEADERSHIP ACADEMY",148]
["7018","MATER ACADEMY LAKES HIGH SCH",151]
["7020","DORAL ACADEMY HIGH SCHOOL",203]
["7022","ACADEMY OF ARTS AND MINDS",83]
["7029","TERRA ENVIRONMENTAL RESEARCH",197]
["7030","INTEGRATED ACADEMICS (SIATECH)",55]
["7033","LAW ENFORCEMENT OFFICERS HS",49]
["7034","SOMERSET ACAD HIGH SOUTH-HMSTD",20]
["7036","LAWRENCE ACADEMY SENIOR",19]
["7037","MATER ACADEMY EAST HIGH SCHOOL",66]
["7042","SOMERSET ACADEMY CHARTER HIGH",76]
["7048","ALONZO & TRACY MOURNING SH",402]
["7049","WESTLAND HIALEAH SENIOR HIGH",446]
["7050","KEYS GATE CHARTER HIGH SCHL",146]
["7051","G. HOLMES BRADDOCK SENIOR HIGH",600]
["7053","PINECREST ACADEMY CHARTER HIGH",38]
["7054","EXCELSIOR CHARTER HIGH SCHOOL",17]
["7055","YOUNG WOMEN'S PREPARATORY ACAD",1]
["7056","YOUNG MENS PREPARATORY ACADEMY",21]
["7058","MIAMI COMMUNITY CH HIGH SCHOOL",30]
["7059","MIAMI ARTS CHARTER",60]
["7061","SCHOOL FOR ADVANCED STUDIES NO",1]
["7062","MAVERICKS HIGH OF NORTH M-DADE",164]
["7065","MAVERICKS HIGH OF SOUTH M-DADE",109]
["7067","GREEN SPRINGS HIGH SCHOOL",79]
["7068","NORTH GARDENS HIGH SCHOOL",28]
["7069","NORTH PARK HIGH SCHOOL",47]
["7071","CORAL GABLES SENIOR HIGH",564]
["7081","DESIGN & ARCHITECTURE SENIOR",93]
["7101","CORAL REEF SENIOR HIGH",434]
["7111","HIALEAH SENIOR",734]
["7121","JOHN A FERGUSON SENIOR HIGH",872]
["7131","HIALEAH-MIAMI LAKES SENIOR",313]
["7141","DR MICHAEL M KROP SENIOR HIGH",548]
["7151","HOMESTEAD SENIOR HIGH",404]
["7160","MATER ACADEMY CHARTER HIGH",274]
["7161","MARTIME & SCIENCE TECH ACADEMY",37]
["7171","MED ACAD SCIENCE & TECHNOLOGY",72]
["7191","HIALEAH GARDENS SENIOR",546]
["7201","MIAMI BEACH SENIOR HIGH",470]
["7231","MIAMI CAROL CITY SENIOR HIGH",414]
["7241","RONALD W REAGAN/DORAL SENIOR",430]
["7251","MIAMI CENTRAL SENIOR HIGH",409]
["7262","CITY OF HIALEAH EDUCATION ACAD",109]
["7265","ARCHIMEDEAN UPPER CONSERV CHAR",17]
["7271","MIAMI CORAL PARK SENIOR HIGH",673]
["7301","MIAMI EDISON SENIOR HIGH",221]
["7341","MIAMI JACKSON SENIOR HIGH",231]
["7351","ARTHUR AND POLLY MAYS CONSERVA",58]
["7361","MIAMI KILLIAN SENIOR HIGH",522]
["7371","ROBERT MORGAN EDUCATIONAL CTR",382]
["7381","MIAMI NORLAND SENIOR HIGH",378]
["7391","MIAMI LAKES EDUCATIONAL CENTER",313]
["7411","MIAMI NORTHWESTERN SENIOR HIGH",361]
["7431","MIAMI PALMETTO SENIOR HIGH",476]
["7461","MIAMI SENIOR HIGH",615]
["7511","MIAMI SPRINGS SENIOR HIGH",385]
["7531","MIAMI SUNSET SENIOR HIGH",477]
["7541","NORTH MIAMI BEACH SENIOR HIGH",414]
["7571","INTL STUDIES PREP ACADEMY",24]
["7591","NORTH MIAMI SENIOR HIGH",532]
["7601","WILLIAM H. TURNER TECHNICAL",243]
["7631","MIAMI MACARTHUR SOUTH",12]
["7701","SOUTH DADE SENIOR HIGH",688]
["7721","SOUTH MIAMI SENIOR HIGH",452]
["7731","MIAMI SOUTHRIDGE SENIOR HIGH",404]
["7741","SOUTHWEST MIAMI SENIOR HIGH",627]
["7751","BARBARA GOLEMAN SENIOR HIGH",353]
["7781","FELIX VARELA SENIOR HIGH",596]
["7791","BOOKER T. WASHINGTON SR. HIGH",189]
["7901","NEW WORLD SCHOOL OF THE ARTS",75]
["8014","ALTERNATIVE OUTREACH-EXT. YR",53]
["8017","ALTERNATIVE OUTREACH PROGRAM",71]
["8019","ACADEMY FOR COMMUNITY ED",33]
["8101","JAN MANN OPPORTUNITY SCHOOL",7]
["8121","COPE CENTER NORTH",54]
["8131","DOROTHY M WALLACE COPE CENTER",35]
["8141","JUVENILE JUSTICE CENTER",12]
["8151","ROBERT RENICK EDUCATION CTR",3]
["8181","RUTH OWENS KRUSE' EDUC CENTER",12]
["9732","MERRICK EDUCATIONAL CENTER",43]
["9999","District",20717]

{"sheet":"2012-13 BL Civics","index":15,"n_rows":413,"n_cols":33,"rows_kept":413,"cut":false,"hidden":true,"merged":[[11,25,11,26],[9,1,11,1],[9,2,9,32],[10,2,12,2],[10,3,10,8],[10,9,10,14],[10,15,10,20],[10,21,10,26],[10,27,10,32],[11,5,11,6],[11,7,11,8],[11,29,11,30],[11,31,11,32],[11,11,11,12],[11,13,11,14],[11,17,11,18],[11,19,11,20],[11,23,11,24]]}
[null,"SS-CIV-RC-SCHL-ALL"]
[]
[null,"Description:","Civics RC School all "]
[null,"Student Selection:","All Schools | 2012-2013 Fall, 2012-2013 School Year"]
[null,"Group By Data:","School"]
[null,"Assessments:","Baseline (Pretest ) 2012 - Grade 7 Civics August 2012  Teacher_________________ Period______"]
[null,"Scores:","Overall Avg Raw Score, Overall Avg % Correct, Overall # in Performance Band, Overall % in Performance Band, Question Groups Avg Raw Score, Question Groups Avg % Correct, Question Groups # in Performance Band, Question Groups % in Performance Band"]
[null,"Author Name:","Yuwadee Wongbundhit"]
[1,2,3,4,5,6,7,8,9,10,11,12,13,14,15,16,17,18,19,20,21,22,23,24,25,26,27,28,29,30,31,32,33]
[null,"Total Row(s): 149 Generated on Sep-22-2012 by Yuwadee Wongbundhit","Baseline (Pretest ) 2012 - Grade 7 Civics August 2012  Teacher_________________ Period______"]
[null,null,"Total # students","Overall (40 pts max)",null,null,null,null,null,"Government Policies and Political Processes (8 pts max)",null,null,null,null,null,"Organization and Function of Government (13 pts max)",null,null,null,null,null,"Origins and Purposes of Law and Government (11 pts max)",null,null,null,null,null,"Roles, Rights, and Responsibilities (8 pts max)"]
[null,null,null,"Avg Raw Score","Avg % Correct","# in Performance Band",null,"% in Performance Band",null,"Avg Raw Score","Avg % Correct","# in Performance Band",null,"% in Performance Band",null,"Avg Raw Score","Avg % Correct","# in Performance Band",null,"% in Performance Band",null,"Avg Raw Score","Avg % Correct","# in Performance Band",null,"% in Performance Band",null,"Avg Raw Score","Avg % Correct","# in Performance Band",null,"% in Performance Band"]
[null,"School Name",null,"","","Non Proficient","Proficient","Non Proficient","Proficient","","","Non Proficient","Proficient","Non Proficient","Proficient","","","Non Proficient","Proficient","Non Proficient","Proficient","","","Non Proficient","Proficient","Non Proficient","Proficient","","","Non Proficient","Proficient","Non Proficient","Proficient"]
[{"$f":"IFERROR(VALUE(LEFT(B14,4)),\"\")","v":70},"0070 Coral Reef Montessori Academy",31,14.5,0.36,31,null,"100.00%",null,3.9000000953674316,0.49,28,3,"90.32%","9.68%",4.1999998092651367,0.32,31,null,"100.00%",null,3.2999999523162842,0.3,31,null,"100.00%",null,3.0999999046325684,0.39,30,1,"96.77%","3.23%"]
[71,"0071 Eugenia B. Thomas K-8",162,14.100000381469727,0.35,161,1,"99.38%","0.62%",3.5,0.45,141,21,"87.04%","12.96%",3.5999999046325684,0.28000000000000003,161,1,"99.38%","0.62%",4,0.36,156,6,"96.30%","3.70%",2.9000000953674316,0.37,157,5,"96.91%","3.09%"]
[73,"0073 Mandarin Lakes K-8 Center",78,13.100000381469727,0.33,78,null,"100.00%",null,3.0999999046325684,0.39,73,5,"93.59%","6.41%",3.5999999046325684,0.28000000000000003,78,null,"100.00%",null,3.5999999046325684,0.33,76,2,"97.44%","2.56%",2.7999999523162842,0.35,77,1,"98.72%","1.28%"]
[91,"0091 Bob Graham Education Center",226,13,0.33,225,1,"99.56%","0.44%",3,0.38,214,12,"94.69%","5.31%",3.5999999046325684,0.28000000000000003,225,1,"99.56%","0.44%",3.5,0.32,223,3,"98.67%","1.33%",2.9000000953674316,0.36,224,2,"99.12%","0.88%"]
[92,"0092 Sunny Isles Beach Community School K-8",190,14.199999809265137,0.36,190,null,"100.00%",null,3.5,0.44,172,18,"90.53%","9.47%",3.7999999523162842,0.28999999999999998,190,null,"100.00%",null,3.9000000953674316,0.36,184,6,"96.84%","3.16%",3,0.37,187,3,"98.42%","1.58%"]
[122,"0122 Dr. Rolando Espinosa K-8 Center",182,14.5,0.37,181,1,"99.45%","0.55%",3.5,0.44,161,21,"88.46%","11.54%",4,0.3,182,null,"100.00%",null,4.0999999046325684,0.37,176,6,"96.70%","3.30%",2.9000000953674316,0.37,177,5,"97.25%","2.75%"]
[231,"0231 Aventura Waterways K-8",168,13.399999618530273,0.34,168,null,"100.00%",null,3.4000000953674316,0.43,154,14,"91.67%","8.33%",3.7000000476837158,0.28000000000000003,168,null,"100.00%",null,3.5999999046325684,0.32,163,5,"97.02%","2.98%",2.7999999523162842,0.35,164,4,"97.62%","2.38%"]
[241,"0241 Ruth K. Broad/Bay Harbor K-8",113,14.300000190734863,0.36,113,null,"100.00%",null,3.2999999523162842,0.42,107,6,"94.69%","5.31%",4.0999999046325684,0.31,113,null,"100.00%",null,3.9000000953674316,0.35,110,3,"97.35%","2.65%",3,0.37,113,null,"100.00%"]
[332,"0332 Somerset Silver Palms K-8",150,13.399999618530273,0.34,150,null,"100.00%",null,3.4000000953674316,0.42,143,7,"95.33%","4.67%",3.2999999523162842,0.25,150,null,"100.00%",null,3.7999999523162842,0.34,148,2,"98.67%","1.33%",2.9000000953674316,0.37,147,3,"98.00%","2.00%"]
[451,"0451 Doolin /Ashe K-8 Academy",201,12.800000190734863,0.32,200,1,"99.50%","0.50%",3,0.37,196,5,"97.51%","2.49%",3.5999999046325684,0.28000000000000003,201,null,"100.00%",null,3.4000000953674316,0.31,199,2,"99.00%","1.00%",2.7999999523162842,0.35,196,5,"97.51%","2.49%"]
[651,"0651 Campbell Drive Elementary",57,12.800000190734863,0.32,57,null,"100.00%",null,3.2000000476837158,0.4,57,null,"100.00%",null,3,0.23,57,null,"100.00%",null,3.5,0.32,56,1,"98.25%","1.75%",3,0.38,56,1,"98.25%","1.75%"]
[761,"0761 Fienberg Fisher K-8 Center",88,13,0.33,88,null,"100.00%",null,2.9000000953674316,0.37,85,3,"96.59%","3.41%",3.4000000953674316,0.26,88,null,"100.00%",null,3.7999999523162842,0.34,87,1,"98.86%","1.14%",2.9000000953674316,0.37,86,2,"97.73%","2.27%"]
[950,"0950 Aventura City Of Excellence School",101,17.600000381469727,0.44,95,6,"94.06%","5.94%",4.1999998092651367,0.53,78,23,"77.23%","22.77%",4.6999998092651367,0.36,99,2,"98.02%","1.98%",5,0.46,87,14,"86.14%","13.86%",3.5999999046325684,0.46,92,9,"91.09%","8.91%"]
[961,"0961 Coral Gables Elementary",98,14.800000190734863,0.37,97,1,"98.98%","1.02%",3.9000000953674316,0.48,82,16,"83.67%","16.33%",3.7000000476837158,0.28000000000000003,98,null,"100.00%",null,3.9000000953674316,0.36,96,2,"97.96%","2.04%",3.2999999523162842,0.41,93,5,"94.90%","5.10%"]
[1020,"1020 Youth Co-op Charter School",83,13.699999809265137,0.35,83,null,"100.00%",null,3.2000000476837158,0.41,78,5,"93.98%","6.02%",3.5,0.27,83,null,"100.00%",null,4.0999999046325684,0.37,79,4,"95.18%","4.82%",3,0.37,80,3,"96.39%","3.61%"]
[1121,"1121 Coral Way K-8 Center",157,13.5,0.34,157,null,"100.00%",null,3.2999999523162842,0.41,143,14,"91.08%","8.92%",3.9000000953674316,0.3,157,null,"100.00%",null,3.7000000476837158,0.33,154,3,"98.09%","1.91%",2.5999999046325684,0.33,155,2,"98.73%","1.27%"]
[1331,"1331 Devon Aire K-8 Center",174,13.699999809265137,0.35,174,null,"100.00%",null,3.2000000476837158,0.4,167,7,"95.98%","4.02%",3.9000000953674316,0.3,174,null,"100.00%",null,3.7000000476837158,0.33,173,1,"99.43%","0.57%",3,0.38,167,7,"95.98%","4.02%"]
[1681,"1681 Lillie C. Evans Elementary",37,13.5,0.34,37,null,"100.00%",null,3.4000000953674316,0.42,36,1,"97.30%","2.70%",3.2999999523162842,0.26,37,null,"100.00%",null,3.7999999523162842,0.34,37,null,"100.00%",null,3,0.38,36,1,"97.30%","2.70%"]
[1721,"1721 Everglades K-8 Center",153,13.300000190734863,0.34,153,null,"100.00%",null,3.4000000953674316,0.42,141,12,"92.16%","7.84%",3.5,0.27,153,null,"100.00%",null,3.7000000476837158,0.34,149,4,"97.39%","2.61%",2.7999999523162842,0.35,151,2,"98.69%","1.31%"]
[2041,"2041 Benjamin Franklin Elementary School",38,13.100000381469727,0.33,38,null,"100.00%",null,2.9000000953674316,0.36,36,2,"94.74%","5.26%",3.7999999523162842,0.28999999999999998,38,null,"100.00%",null,3.5999999046325684,0.32,38,null,"100.00%",null,2.7999999523162842,0.35,37,1,"97.37%","2.63%"]
[2060,"2060 Theodore R. And Thelma A. Gibson Charter",29,13.199999809265137,0.33,29,null,"100.00%",null,3.5999999046325684,0.46,27,2,"93.10%","6.90%",3,0.23,29,null,"100.00%",null,3.7000000476837158,0.33,29,null,"100.00%",null,2.9000000953674316,0.36,29,null,"100.00%"]
[2701,"2701 Kenwood K-8 Center",125,14.600000381469727,0.37,125,null,"100.00%",null,3.4000000953674316,0.43,114,11,"91.20%","8.80%",3.9000000953674316,0.3,125,null,"100.00%",null,4.1999998092651367,0.38,120,5,"96.00%","4.00%",3.0999999046325684,0.38,120,5,"96.00%","4.00%"]
[2741,"2741 Key Biscayne K-8 Center ",131,16.200000762939453,0.41,128,3,"97.71%","2.29%",4,0.5,102,29,"77.86%","22.14%",4.5999999046325684,0.36,128,3,"97.71%","2.29%",4.4000000953674316,0.39,124,7,"94.66%","5.34%",3.2000000476837158,0.4,127,4,"96.95%","3.05%"]
[2881,"2881 Leewood K-8 Center",68,14.5,0.36,67,1,"98.53%","1.47%",3.5,0.44,61,7,"89.71%","10.29%",3.7999999523162842,0.28999999999999998,68,null,"100.00%",null,4,0.36,64,4,"94.12%","5.88%",3.2999999523162842,0.41,65,3,"95.59%","4.41%"]
[2901,"2901 Leisure City K-8 Center",114,12.800000190734863,0.32,114,null,"100.00%",null,3,0.38,109,5,"95.61%","4.39%",3.4000000953674316,0.26,114,null,"100.00%",null,3.7999999523162842,0.34,110,4,"96.49%","3.51%",2.7000000476837158,0.34,113,1,"99.12%","0.88%"]
[2911,"2911 Linda Lentin K - 8 Center",102,13.600000381469727,0.34,102,null,"100.00%",null,3.4000000953674316,0.43,91,11,"89.22%","10.78%",3.2999999523162842,0.26,102,null,"100.00%",null,3.7000000476837158,0.33,101,1,"99.02%","0.98%",3.2000000476837158,0.4,99,3,"97.06%","2.94%"]
[3029,"3029 Doral Academy Of Technology",63,17.600000381469727,0.44,62,1,"98.41%","1.59%",4.1999998092651367,0.53,45,18,"71.43%","28.57%",4.8000001907348633,0.37,63,null,"100.00%",null,5,0.46,60,3,"95.24%","4.76%",3.4000000953674316,0.43,60,3,"95.24%","4.76%"]
[3032,"3032 Palm Glades Preparatory Academy",20,16.899999618530273,0.42,20,null,"100.00%",null,4.1999998092651367,0.52,17,3,"85.00%","15.00%",3.9000000953674316,0.3,20,null,"100.00%",null,5.4000000953674316,0.49,18,2,"90.00%","10.00%",3.5,0.43,19,1,"95.00%","5.00%"]
[3101,"3101 Frank C. Martin K-8 Center",136,16.399999618530273,0.41,133,3,"97.79%","2.21%",4.1999998092651367,0.52,112,24,"82.35%","17.65%",4.1999998092651367,0.32,135,1,"99.26%","0.74%",4.5999999046325684,0.42,126,10,"92.65%","7.35%",3.4000000953674316,0.43,129,7,"94.85%","5.15%"]
[3191,"3191 Ada Merritt K-8 Center",108,15.699999809265137,0.39,108,null,"100.00%",null,4.1999998092651367,0.52,86,22,"79.63%","20.37%",4,0.31,108,null,"100.00%",null,4.0999999046325684,0.38,105,3,"97.22%","2.78%",3.4000000953674316,0.43,101,7,"93.52%","6.48%"]
[3281,"3281 Miami Lakes K-8 Center",152,13.399999618530273,0.34,152,null,"100.00%",null,3.2999999523162842,0.41,142,10,"93.42%","6.58%",3.5,0.27,152,null,"100.00%",null,3.7000000476837158,0.33,149,3,"98.03%","1.97%",2.9000000953674316,0.37,150,2,"98.68%","1.32%"]
[3421,"3421 Milam K-8 Center",156,12.800000190734863,0.32,156,null,"100.00%",null,3.2999999523162842,0.42,145,11,"92.95%","7.05%",3.4000000953674316,0.26,156,null,"100.00%",null,3.4000000953674316,0.31,155,1,"99.36%","0.64%",2.7999999523162842,0.35,154,2,"98.72%","1.28%"]
[3610,"3610 Keys Gate Charter School",253,13.399999618530273,0.34,253,null,"100.00%",null,3.2999999523162842,0.41,243,10,"96.05%","3.95%",3.5999999046325684,0.27,253,null,"100.00%",null,3.7000000476837158,0.34,246,7,"97.23%","2.77%",2.9000000953674316,0.36,249,4,"98.42%","1.58%"]
[3621,"3621 Coconut Palms K-8 Academy",73,13.5,0.34,73,null,"100.00%",null,3,0.37,70,3,"95.89%","4.11%",3.7999999523162842,0.28999999999999998,73,null,"100.00%",null,3.7000000476837158,0.34,73,null,"100.00%",null,3.0999999046325684,0.39,71,2,"97.26%","2.74%"]
[3821,"3821 North County Elementary School",36,13.199999809265137,0.33,36,null,"100.00%",null,3.0999999046325684,0.39,35,1,"97.22%","2.78%",3.7000000476837158,0.28000000000000003,36,null,"100.00%",null,3.5999999046325684,0.33,36,null,"100.00%",null,2.7999999523162842,0.35,36,null,"100.00%"]
[4031,"4031 Gateway Environmental K-8 Learning Center ",129,12.699999809265137,0.32,129,null,"100.00%",null,3.0999999046325684,0.39,122,7,"94.57%","5.43%",3.2999999523162842,0.25,129,null,"100.00%",null,3.5,0.32,127,2,"98.45%","1.55%",2.7999999523162842,0.36,128,1,"99.22%","0.78%"]
[4391,"4391 Irving and Beatrice Peskoe Elementary School",42,12.100000381469727,0.3,42,null,"100.00%",null,2.9000000953674316,0.36,41,1,"97.62%","2.38%",3.5999999046325684,0.28000000000000003,42,null,"100.00%",null,3,0.27,42,null,"100.00%",null,2.5999999046325684,0.33,42,null,"100.00%"]
[4691,"4691 Jane S. Roberts K-8 Center",2,15,0.38,2,null,"100.00%",null,3.5,0.44,2,null,"100.00%",null,4.5,0.34,2,null,"100.00%",null,4,0.36,2,null,"100.00%",null,3,0.38,2,null,"100.00%"]
[5003,"5003 South Dade Middle School ",169,12.5,0.32,169,null,"100.00%",null,3.0999999046325684,0.39,159,10,"94.08%","5.92%",3.5999999046325684,0.27,169,null,"100.00%",null,3.2999999523162842,0.3,168,1,"99.41%","0.59%",2.5,0.32,167,2,"98.82%","1.18%"]
[5005,"5005 David Lawrence Jr. K8 Center",169,13.800000190734863,0.35,169,null,"100.00%",null,3.4000000953674316,0.43,157,12,"92.90%","7.10%",3.5999999046325684,0.27,169,null,"100.00%",null,3.7999999523162842,0.34,166,3,"98.22%","1.78%",3,0.38,163,6,"96.45%","3.55%"]
[5006,"5006 Everglades Preparatory Academy",165,14.899999618530273,0.38,165,null,"100.00%",null,3.5999999046325684,0.45,152,13,"92.12%","7.88%",3.7999999523162842,0.28999999999999998,165,null,"100.00%",null,4.1999998092651367,0.38,161,4,"97.58%","2.42%",3.2999999523162842,0.42,154,11,"93.33%","6.67%"]
[5007,"5007 Lincoln-marti Charter Schools (Hialeah) ",19,13.399999618530273,0.34,19,null,"100.00%",null,3.0999999046325684,0.38,18,1,"94.74%","5.26%",3.2999999523162842,0.25,19,null,"100.00%",null,3.9000000953674316,0.35,19,null,"100.00%",null,3.0999999046325684,0.39,18,1,"94.74%","5.26%"]
[5020,"5020 Bridgepoint Academy Interamerican",17,11.899999618530273,0.3,17,null,"100.00%",null,3.0999999046325684,0.39,16,1,"94.12%","5.88%",2.5999999046325684,0.2,17,null,"100.00%",null,4.0999999046325684,0.37,17,null,"100.00%",null,2.0999999046325684,0.27,17,null,"100.00%"]
[5022,"5022 Ben Gamla Charter School (Miami Beach) ",15,13.100000381469727,0.33,15,null,"100.00%",null,3.4000000953674316,0.43,14,1,"93.33%","6.67%",3.2999999523162842,0.26,15,null,"100.00%",null,3.4000000953674316,0.31,15,null,"100.00%",null,3,0.38,15,null,"100.00%"]
[5025,"5025 Lincoln-marti Charter Schools(Little Havana) ",73,13.5,0.34,73,null,"100.00%",null,3,0.38,67,6,"91.78%","8.22%",3.7000000476837158,0.28999999999999998,73,null,"100.00%",null,4.0999999046325684,0.37,73,null,"100.00%",null,2.7000000476837158,0.34,72,1,"98.63%","1.37%"]
[5029,"5029 Excelsior Language Academy of Hialeah ",76,13.899999618530273,0.35,76,null,"100.00%",null,3.4000000953674316,0.43,67,9,"88.16%","11.84%",3.5999999046325684,0.27,76,null,"100.00%",null,4.0999999046325684,0.37,74,2,"97.37%","2.63%",2.9000000953674316,0.36,74,2,"97.37%","2.63%"]
[5032,"5032 Excelsior Charter Academy",13,11.699999809265137,0.28999999999999998,13,null,"100.00%",null,2.9000000953674316,0.37,12,1,"92.31%","7.69%",2.7999999523162842,0.21,13,null,"100.00%",null,3.7999999523162842,0.34,13,null,"100.00%",null,2.2000000476837158,0.28000000000000003,13,null,"100.00%"]
[5044,"5044 Academy for International Education Charter ",17,13.199999809265137,0.33,17,null,"100.00%",null,3.2000000476837158,0.4,17,null,"100.00%",null,3.0999999046325684,0.24,17,null,"100.00%",null,3.7999999523162842,0.35,17,null,"100.00%",null,3.0999999046325684,0.39,15,2,"88.24%","11.76%"]
[5047,"5047 Mater Academy (Miami Beach) ",69,13.600000381469727,0.34,69,null,"100.00%",null,3.5999999046325684,0.45,64,5,"92.75%","7.25%",3.7999999523162842,0.28999999999999998,69,null,"100.00%",null,3.2999999523162842,0.28999999999999998,67,2,"97.10%","2.90%",2.9000000953674316,0.37,69,null,"100.00%"]
[5049,"5049 Pinecrest Cove Academy",27,14.600000381469727,0.37,27,null,"100.00%",null,3.4000000953674316,0.43,24,3,"88.89%","11.11%",3.7000000476837158,0.28000000000000003,27,null,"100.00%",null,4.1999998092651367,0.38,26,1,"96.30%","3.70%",3.2999999523162842,0.41,26,1,"96.30%","3.70%"]
[5051,"5051 Ernest R Graham Elementary",103,12.899999618530273,0.33,103,null,"100.00%",null,3.0999999046325684,0.39,97,6,"94.17%","5.83%",3.5999999046325684,0.27,103,null,"100.00%",null,3.2999999523162842,0.3,101,2,"98.06%","1.94%",2.7999999523162842,0.36,100,3,"97.09%","2.91%"]
[5101,"5101 John I. Smith Elementary",105,11.100000381469727,0.28000000000000003,105,null,"100.00%",null,2.7999999523162842,0.35,103,2,"98.10%","1.90%",2.7000000476837158,0.21,105,null,"100.00%",null,3.0999999046325684,0.28000000000000003,105,null,"100.00%",null,2.5,0.31,104,1,"99.05%","0.95%"]
[5141,"5141 Hubert O. Sibley Elem.",92,12.199999809265137,0.31,92,null,"100.00%",null,2.7000000476837158,0.34,90,2,"97.83%","2.17%",3.2999999523162842,0.26,92,null,"100.00%",null,3.5,0.32,92,null,"100.00%",null,2.5999999046325684,0.33,89,3,"96.74%","3.26%"]
[5241,"5241 South Miami K-8 Center",63,12.699999809265137,0.32,63,null,"100.00%",null,3.0999999046325684,0.4,60,3,"95.24%","4.76%",3.5999999046325684,0.28000000000000003,63,null,"100.00%",null,3.4000000953674316,0.3,63,null,"100.00%",null,2.5999999046325684,0.32,62,1,"98.41%","1.59%"]
[5671,"5671 Vineland K-8 Center",90,15.800000190734863,0.4,90,null,"100.00%",null,3.7999999523162842,0.47,81,9,"90.00%","10.00%",3.9000000953674316,0.3,90,null,"100.00%",null,4.5999999046325684,0.42,85,5,"94.44%","5.56%",3.5,0.44,85,5,"94.44%","5.56%"]
[5861,"5861 Dr. Henry W. Mack/West Little River Elem.",36,13,0.33,36,null,"100.00%",null,2.9000000953674316,0.37,36,null,"100.00%",null,3.7999999523162842,0.28999999999999998,36,null,"100.00%",null,3.7000000476837158,0.34,34,2,"94.44%","5.56%",2.5999999046325684,0.33,36,null,"100.00%"]
[5901,"5901 Carrie P. Meek/Westview Elementary",55,12.699999809265137,0.32,55,null,"100.00%",null,2.9000000953674316,0.37,52,3,"94.55%","5.45%",3.5,0.27,55,null,"100.00%",null,3.5,0.32,55,null,"100.00%",null,2.7999999523162842,0.35,55,null,"100.00%"]
[5961,"5961 Winston Park K-8 Center",160,13.699999809265137,0.34,160,null,"100.00%",null,3.4000000953674316,0.43,145,15,"90.62%","9.38%",3.7999999523162842,0.28999999999999998,159,1,"99.37%","0.63%",3.7999999523162842,0.35,154,6,"96.25%","3.75%",2.5999999046325684,0.33,157,3,"98.12%","1.88%"]
[6001,"6001 Herbert A. Ammons Middle School",415,15.800000190734863,0.4,415,null,"100.00%",null,4.0999999046325684,0.52,343,72,"82.65%","17.35%",4.0999999046325684,0.31,414,1,"99.76%","0.24%",4.4000000953674316,0.4,391,24,"94.22%","5.78%",3.2999999523162842,0.41,403,12,"97.11%","2.89%"]
[6004,"6004 Somerset Academy Charter Middle",98,14.300000190734863,0.36,98,null,"100.00%",null,3.5,0.44,93,5,"94.90%","5.10%",3.9000000953674316,0.3,98,null,"100.00%",null,3.9000000953674316,0.35,98,null,"100.00%",null,3,0.38,96,2,"97.96%","2.04%"]
[6005,"6005 Ramz Academy Middle – Miami",36,12.199999809265137,0.31,36,null,"100.00%",null,2.7999999523162842,0.35,35,1,"97.22%","2.78%",3.7999999523162842,0.28999999999999998,36,null,"100.00%",null,2.7999999523162842,0.26,36,null,"100.00%",null,2.7999999523162842,0.35,36,null,"100.00%"]
[6006,"6006 Archimedean Middle Conservatory",121,16.299999237060547,0.41,120,1,"99.17%","0.83%",4.0999999046325684,0.51,99,22,"81.82%","18.18%",3.9000000953674316,0.3,120,1,"99.17%","0.83%",4.9000000953674316,0.44,111,10,"91.74%","8.26%",3.5,0.43,114,7,"94.21%","5.79%"]
[6008,"6008 Lawrence Academy",27,13.5,0.34,27,null,"100.00%",null,2.5,0.32,27,null,"100.00%",null,3.9000000953674316,0.3,27,null,"100.00%",null,4.1999998092651367,0.38,25,2,"92.59%","7.41%",2.9000000953674316,0.37,26,1,"96.30%","3.70%"]
[6009,"6009 Mater East Academy Middle School",112,13.800000190734863,0.35,112,null,"100.00%",null,3,0.38,107,5,"95.54%","4.46%",3.9000000953674316,0.3,112,null,"100.00%",null,3.7999999523162842,0.35,112,null,"100.00%",null,3,0.37,110,2,"98.21%","1.79%"]
[{"$f":"IFERROR(VALUE(LEFT(B78,4)),\"\")","v":6010},"6010 Florida International Academy ",117,12.699999809265137,0.32,117,null,"100.00%",null,3.2000000476837158,0.4,112,5,"95.73%","4.27%",3.5,0.27,117,null,"100.00%",null,3.4000000953674316,0.31,116,1,"99.15%","0.85%",2.5,0.32,115,2,"98.29%","1.71%"]
[6011,"6011 Allapattah Middle",145,11.600000381469727,0.28999999999999998,145,null,"100.00%",null,2.5999999046325684,0.33,143,2,"98.62%","1.38%",3.2000000476837158,0.24,145,null,"100.00%",null,3.2000000476837158,0.28999999999999998,145,null,"100.00%",null,2.5999999046325684,0.32,142,3,"97.93%","2.07%"]
[6012,"6012 Mater Academy Middle",487,14.300000190734863,0.36,486,1,"99.79%","0.21%",3.5,0.44,443,44,"90.97%","9.03%",3.9000000953674316,0.3,487,null,"100.00%",null,4,0.36,474,13,"97.33%","2.67%",2.9000000953674316,0.37,476,11,"97.74%","2.26%"]
[6013,"6013 Somerset Academy MS (South Campus)",43,13.699999809265137,0.34,43,null,"100.00%",null,3,0.37,40,3,"93.02%","6.98%",3.7000000476837158,0.28999999999999998,43,null,"100.00%",null,4.0999999046325684,0.37,42,1,"97.67%","2.33%",2.9000000953674316,0.37,43,null,"100.00%"]
[6020,"6020 Aspira Charter",176,12.899999618530273,0.33,176,null,"100.00%",null,3,0.38,168,8,"95.45%","4.55%",3.2000000476837158,0.25,176,null,"100.00%",null,3.7999999523162842,0.34,175,1,"99.43%","0.57%",2.9000000953674316,0.37,175,1,"99.43%","0.57%"]
[6021,"6021 Arvida Middle School",386,15.199999809265137,0.38,383,3,"99.22%","0.78%",3.5,0.45,351,35,"90.93%","9.07%",4,0.31,386,null,"100.00%",null,4.4000000953674316,0.4,367,19,"95.08%","4.92%",3.2000000476837158,0.4,373,13,"96.63%","3.37%"]
[6022,"6022 Pinecrest Academy Charter Middle",207,14.300000190734863,0.36,207,null,"100.00%",null,3.5,0.44,191,16,"92.27%","7.73%",3.7000000476837158,0.28999999999999998,207,null,"100.00%",null,3.7999999523162842,0.34,205,2,"99.03%","0.97%",3.2999999523162842,0.41,199,8,"96.14%","3.86%"]
[6023,"6023 Andover Middle School",343,13,0.33,343,null,"100.00%",null,3.0999999046325684,0.39,331,12,"96.50%","3.50%",3.5999999046325684,0.27,343,null,"100.00%",null,3.7000000476837158,0.34,341,2,"99.42%","0.58%",2.7000000476837158,0.34,342,1,"99.71%","0.29%"]
[6030,"6030 Doral Academy Charter Middle",459,15.199999809265137,0.38,459,null,"100.00%",null,3.7999999523162842,0.47,402,57,"87.58%","12.42%",3.9000000953674316,0.3,459,null,"100.00%",null,4.3000001907348633,0.39,444,15,"96.73%","3.27%",3.2000000476837158,0.4,447,12,"97.39%","2.61%"]
[6031,"6031 Brownsville Middle School",193,12.199999809265137,0.31,193,null,"100.00%",null,2.9000000953674316,0.37,186,7,"96.37%","3.63%",3.4000000953674316,0.26,193,null,"100.00%",null,3.2999999523162842,0.28999999999999998,193,null,"100.00%",null,2.5999999046325684,0.33,191,2,"98.96%","1.04%"]
[6033,"6033 Mater Academy Lakes Middle School",201,14.199999809265137,0.36,201,null,"100.00%",null,3.5999999046325684,0.45,184,17,"91.54%","8.46%",3.7000000476837158,0.28999999999999998,201,null,"100.00%",null,3.9000000953674316,0.35,194,7,"96.52%","3.48%",3.0999999046325684,0.39,198,3,"98.51%","1.49%"]
[6040,"6040 Doctors Charter School Of Miami Shores ",83,15.600000381469727,0.39,82,1,"98.80%","1.20%",4,0.51,72,11,"86.75%","13.25%",4.0999999046325684,0.32,83,null,"100.00%",null,4.3000001907348633,0.39,78,5,"93.98%","6.02%",3.0999999046325684,0.39,80,3,"96.39%","3.61%"]
[6041,"6041 Paul W. Bell Middle School",168,12.899999618530273,0.32,168,null,"100.00%",null,3.0999999046325684,0.39,160,8,"95.24%","4.76%",3.4000000953674316,0.26,168,null,"100.00%",null,3.7000000476837158,0.33,165,3,"98.21%","1.79%",2.7000000476837158,0.34,167,1,"99.40%","0.60%"]
[6042,"6042 Mater Gardens Academy Middle School",91,14.300000190734863,0.36,91,null,"100.00%",null,3.2999999523162842,0.42,87,4,"95.60%","4.40%",3.9000000953674316,0.3,91,null,"100.00%",null,3.9000000953674316,0.35,86,5,"94.51%","5.49%",3.2000000476837158,0.4,90,1,"98.90%","1.10%"]
[6043,"6043 Somerset Academy MS (Country Palms)",9,13.399999618530273,0.34,9,null,"100.00%",null,3.5999999046325684,0.45,8,1,"88.89%","11.11%",3.2999999523162842,0.26,9,null,"100.00%",null,3.7000000476837158,0.33,9,null,"100.00%",null,2.9000000953674316,0.36,9,null,"100.00%"]
[6045,"6045 International Studies Charter Middle",85,14.399999618530273,0.36,85,null,"100.00%",null,3.5999999046325684,0.45,80,5,"94.12%","5.88%",3.7999999523162842,0.28999999999999998,85,null,"100.00%",null,3.9000000953674316,0.35,83,2,"97.65%","2.35%",3.0999999046325684,0.39,84,1,"98.82%","1.18%"]
[6047,"6047 Mater Acad. MS of International Studies",42,13.5,0.34,42,null,"100.00%",null,3.2999999523162842,0.41,41,1,"97.62%","2.38%",3.5,0.27,42,null,"100.00%",null,3.7000000476837158,0.34,42,null,"100.00%",null,3,0.38,42,null,"100.00%"]
[6048,"6048 Miami Community Charter Middle School",92,12.199999809265137,0.31,92,null,"100.00%",null,2.7999999523162842,0.36,92,null,"100.00%",null,3.4000000953674316,0.26,92,null,"100.00%",null,3.0999999046325684,0.28000000000000003,92,null,"100.00%",null,2.9000000953674316,0.36,89,3,"96.74%","3.26%"]
[6049,"6049 River Cities Community Charter School",63,11.399999618530273,0.28999999999999998,63,null,"100.00%",null,2.7000000476837158,0.34,62,1,"98.41%","1.59%",3.2000000476837158,0.24,63,null,"100.00%",null,2.9000000953674316,0.26,63,null,"100.00%",null,2.5999999046325684,0.33,63,null,"100.00%"]
[6051,"6051 Carol City Middle School",182,12.300000190734863,0.31,182,null,"100.00%",null,2.9000000953674316,0.36,177,5,"97.25%","2.75%",3.5,0.27,182,null,"100.00%",null,3.2999999523162842,0.28999999999999998,180,2,"98.90%","1.10%",2.5999999046325684,0.33,179,3,"98.35%","1.65%"]
[6052,"6052 Zelda Glazer Middle",397,13.399999618530273,0.34,397,null,"100.00%",null,3.5999999046325684,0.45,357,40,"89.92%","10.08%",3.5,0.27,397,null,"100.00%",null,3.5,0.31,390,7,"98.24%","1.76%",2.7999999523162842,0.36,391,6,"98.49%","1.51%"]
[6053,"6053 Somerset Academy Middle (South Miami)",50,16.5,0.41,49,1,"98.00%","2.00%",4,0.5,43,7,"86.00%","14.00%",4.4000000953674316,0.34,49,1,"98.00%","2.00%",4.5999999046325684,0.42,43,7,"86.00%","14.00%",3.5,0.44,47,3,"94.00%","6.00%"]
[6060,"6060 Aspira south",97,12.5,0.32,97,null,"100.00%",null,3,0.38,92,5,"94.85%","5.15%",3.5999999046325684,0.27,97,null,"100.00%",null,3.2999999523162842,0.3,96,1,"98.97%","1.03%",2.5999999046325684,0.33,96,1,"98.97%","1.03%"]
[6061,"6061 Campbell Drive Middle School",131,12.100000381469727,0.31,131,null,"100.00%",null,2.7000000476837158,0.34,129,2,"98.47%","1.53%",3.2000000476837158,0.25,131,null,"100.00%",null,3.4000000953674316,0.3,129,2,"98.47%","1.53%",2.7999999523162842,0.35,129,2,"98.47%","1.53%"]
[6070,"6070 Aspira",359,12.699999809265137,0.32,359,null,"100.00%",null,3,0.37,345,14,"96.10%","3.90%",3.5,0.27,359,null,"100.00%",null,3.5,0.31,357,2,"99.44%","0.56%",2.7000000476837158,0.34,356,3,"99.16%","0.84%"]
[6071,"6071 G. W. Carver Middle",307,15.899999618530273,0.4,306,1,"99.67%","0.33%",4.3000001907348633,0.55000000000000004,239,68,"77.85%","22.15%",4,0.3,306,1,"99.67%","0.33%",4.5,0.4,291,16,"94.79%","5.21%",3.0999999046325684,0.39,300,7,"97.72%","2.28%"]
[6081,"6081 Centennial Middle School",310,13,0.33,310,null,"100.00%",null,3.0999999046325684,0.39,297,13,"95.81%","4.19%",3.5999999046325684,0.28000000000000003,310,null,"100.00%",null,3.7000000476837158,0.33,300,10,"96.77%","3.23%",2.5999999046325684,0.33,306,4,"98.71%","1.29%"]
[6082,"6082 Academir Charter School Middle",15,13.600000381469727,0.34,15,null,"100.00%",null,3.9000000953674316,0.49,14,1,"93.33%","6.67%",3.5,0.27,15,null,"100.00%",null,3.4000000953674316,0.31,15,null,"100.00%",null,2.7999999523162842,0.35,15,null,"100.00%"]
[6091,"6091 CItrus Grove Middle School",286,11.800000190734863,0.3,286,null,"100.00%",null,2.5999999046325684,0.33,281,5,"98.25%","1.75%",3.5,0.27,285,1,"99.65%","0.35%",3.2000000476837158,0.28999999999999998,283,3,"98.95%","1.05%",2.5,0.32,281,5,"98.25%","1.75%"]
[6111,"6111 Cutler Ridge Middle School",245,12,0.3,245,null,"100.00%",null,2.7000000476837158,0.35,237,8,"96.73%","3.27%",3.5,0.27,244,1,"99.59%","0.41%",3.4000000953674316,0.3,243,2,"99.18%","0.82%",2.4000000953674316,0.3,243,2,"99.18%","0.82%"]
[6121,"6121 Ruben Dario Middle School",182,12.600000381469727,0.32,182,null,"100.00%",null,3.0999999046325684,0.39,177,5,"97.25%","2.75%",3.2999999523162842,0.25,182,null,"100.00%",null,3.5,0.32,180,2,"98.90%","1.10%",2.7999999523162842,0.35,176,6,"96.70%","3.30%"]
[6141,"6141 Charles R Drew Middle School",121,12.300000190734863,0.31,121,null,"100.00%",null,3.0999999046325684,0.39,119,2,"98.35%","1.65%",3.4000000953674316,0.26,121,null,"100.00%",null,3.2000000476837158,0.28999999999999998,121,null,"100.00%",null,2.5999999046325684,0.33,119,2,"98.35%","1.65%"]
[6161,"6161 Lawton Chiles Middle",241,12.5,0.31,241,null,"100.00%",null,3,0.38,232,9,"96.27%","3.73%",3.5999999046325684,0.28000000000000003,241,null,"100.00%",null,3.2000000476837158,0.28999999999999998,241,null,"100.00%",null,2.7000000476837158,0.34,240,1,"99.59%","0.41%"]
[6171,"6171 Henry H. Filer Middle School",326,12.399999618530273,0.31,326,null,"100.00%",null,3.0999999046325684,0.39,318,8,"97.55%","2.45%",3.2999999523162842,0.25,326,null,"100.00%",null,3.4000000953674316,0.31,323,3,"99.08%","0.92%",2.7000000476837158,0.33,321,5,"98.47%","1.53%"]
[6211,"6211 Glades Middle School",352,13.5,0.34,352,null,"100.00%",null,3.2999999523162842,0.41,332,20,"94.32%","5.68%",3.7999999523162842,0.28999999999999998,352,null,"100.00%",null,3.7000000476837158,0.33,343,9,"97.44%","2.56%",2.7999999523162842,0.35,346,6,"98.30%","1.70%"]
[6221,"6221 Hammocks Middle School",367,13.699999809265137,0.34,366,1,"99.73%","0.27%",3.2999999523162842,0.42,345,22,"94.01%","5.99%",3.5999999046325684,0.28000000000000003,366,1,"99.73%","0.27%",3.7000000476837158,0.34,358,9,"97.55%","2.45%",3,0.38,359,8,"97.82%","2.18%"]
[6231,"6231 Hialeah Middle School",264,12.600000381469727,0.32,264,null,"100.00%",null,3,0.38,252,12,"95.45%","4.55%",3.4000000953674316,0.26,264,null,"100.00%",null,3.5,0.32,260,4,"98.48%","1.52%",2.7000000476837158,0.34,262,2,"99.24%","0.76%"]
[6241,"6241 Highland Oaks Middle School",415,13.300000190734863,0.33,415,null,"100.00%",null,3.2999999523162842,0.41,383,32,"92.29%","7.71%",3.5,0.27,415,null,"100.00%",null,3.7000000476837158,0.33,409,6,"98.55%","1.45%",2.9000000953674316,0.36,412,3,"99.28%","0.72%"]
[6251,"6251 Homestead Middle School",175,12,0.3,175,null,"100.00%",null,2.7999999523162842,0.35,170,5,"97.14%","2.86%",3.2999999523162842,0.25,175,null,"100.00%",null,3.2999999523162842,0.3,174,1,"99.43%","0.57%",2.5999999046325684,0.33,175,null,"100.00%"]
[6281,"6281 Thomas Jefferson Middle",126,11.899999618530273,0.3,126,null,"100.00%",null,3,0.37,121,5,"96.03%","3.97%",3.2000000476837158,0.24,126,null,"100.00%",null,3.2000000476837158,0.28999999999999998,126,null,"100.00%",null,2.5999999046325684,0.33,126,null,"100.00%"]
[6301,"6301 JFK Middle School",396,13.699999809265137,0.35,396,null,"100.00%",null,3.4000000953674316,0.42,369,27,"93.18%","6.82%",3.7999999523162842,0.28999999999999998,396,null,"100.00%",null,3.7000000476837158,0.33,391,5,"98.74%","1.26%",2.9000000953674316,0.36,385,11,"97.22%","2.78%"]
[6331,"6331 Kinloch Park Middle School",406,12.600000381469727,0.32,406,null,"100.00%",null,3,0.37,394,12,"97.04%","2.96%",3.5999999046325684,0.27,406,null,"100.00%",null,3.5,0.31,401,5,"98.77%","1.23%",2.5999999046325684,0.33,402,4,"99.01%","0.99%"]
[6351,"6351 Lake Stevens Middle School",195,12.5,0.32,195,null,"100.00%",null,3,0.38,190,5,"97.44%","2.56%",3.5999999046325684,0.27,195,null,"100.00%",null,3.2000000476837158,0.28999999999999998,194,1,"99.49%","0.51%",2.7999999523162842,0.35,194,1,"99.49%","0.51%"]
[6361,"6361 Jose de Diego Middle School",144,11.199999809265137,0.28000000000000003,144,null,"100.00%",null,2.4000000953674316,0.3,142,2,"98.61%","1.39%",3.2000000476837158,0.24,144,null,"100.00%",null,3,0.28000000000000003,144,null,"100.00%",null,2.5999999046325684,0.32,143,1,"99.31%","0.69%"]
[6391,"6391 Madison Middle School",5,13.800000190734863,0.35,5,null,"100.00%",null,2.7999999523162842,0.35,5,null,"100.00%",null,3.4000000953674316,0.26,5,null,"100.00%",null,3.4000000953674316,0.31,5,null,"100.00%",null,4.1999998092651367,0.53,4,1,"80.00%","20.00%"]
[6411,"6411 Horace Mann Middle School",196,12.899999618530273,0.33,196,null,"100.00%",null,3.2000000476837158,0.4,188,8,"95.92%","4.08%",3.5,0.27,196,null,"100.00%",null,3.5,0.32,193,3,"98.47%","1.53%",2.7000000476837158,0.34,193,3,"98.47%","1.53%"]
[6441,"6441 Howard D. McMillan Middle",241,13.5,0.34,240,1,"99.59%","0.41%",3.2999999523162842,0.41,227,14,"94.19%","5.81%",3.5999999046325684,0.28000000000000003,241,null,"100.00%",null,3.7000000476837158,0.33,239,2,"99.17%","0.83%",2.9000000953674316,0.37,236,5,"97.93%","2.07%"]
[6481,"6481 Miami Edison Middle Schools",141,11.800000190734863,0.3,141,null,"100.00%",null,2.5999999046325684,0.33,137,4,"97.16%","2.84%",3.2999999523162842,0.26,141,null,"100.00%",null,3.2000000476837158,0.28999999999999998,140,1,"99.29%","0.71%",2.7000000476837158,0.33,141,null,"100.00%"]
[6501,"6501 Miami Lakes Middle School",262,12.600000381469727,0.32,262,null,"100.00%",null,3.0999999046325684,0.39,244,18,"93.13%","6.87%",3.5,0.27,262,null,"100.00%",null,3.2999999523162842,0.3,259,3,"98.85%","1.15%",2.7000000476837158,0.34,258,4,"98.47%","1.53%"]
[6521,"6521 Miami Springs Middle School",511,12.800000190734863,0.32,510,1,"99.80%","0.20%",3.0999999046325684,0.39,493,18,"96.48%","3.52%",3.5,0.27,510,1,"99.80%","0.20%",3.5,0.31,504,7,"98.63%","1.37%",2.7999999523162842,0.35,507,4,"99.22%","0.78%"]
[6541,"6541 Nautilus Middle",334,13.399999618530273,0.34,334,null,"100.00%",null,3.2999999523162842,0.41,306,28,"91.62%","8.38%",3.5999999046325684,0.27,334,null,"100.00%",null,3.7000000476837158,0.34,327,7,"97.90%","2.10%",2.7999999523162842,0.35,330,4,"98.80%","1.20%"]
[6571,"6571 Norland Middle",226,12.199999809265137,0.31,226,null,"100.00%",null,3.0999999046325684,0.38,215,11,"95.13%","4.87%",3.2999999523162842,0.25,226,null,"100.00%",null,3.0999999046325684,0.28000000000000003,225,1,"99.56%","0.44%",2.7000000476837158,0.34,224,2,"99.12%","0.88%"]
[6591,"6591 North Dade Middle School",242,12.5,0.32,242,null,"100.00%",null,3,0.38,232,10,"95.87%","4.13%",3.2999999523162842,0.25,242,null,"100.00%",null,3.5,0.31,241,1,"99.59%","0.41%",2.7999999523162842,0.35,242,null,"100.00%"]
[6611,"6611 Country Club Middle School",436,12.800000190734863,0.32,436,null,"100.00%",null,3.2000000476837158,0.4,418,18,"95.87%","4.13%",3.5,0.27,436,null,"100.00%",null,3.4000000953674316,0.3,430,6,"98.62%","1.38%",2.7000000476837158,0.34,431,5,"98.85%","1.15%"]
[6631,"6631 North Miami Middle School",324,12,0.3,324,null,"100.00%",null,2.9000000953674316,0.36,311,13,"95.99%","4.01%",3.2999999523162842,0.25,324,null,"100.00%",null,3.2999999523162842,0.28999999999999998,321,3,"99.07%","0.93%",2.5,0.31,316,8,"97.53%","2.47%"]
[6681,"6681 Palm Springs Middle",413,13.100000381469727,0.33,413,null,"100.00%",null,3.0999999046325684,0.39,393,20,"95.16%","4.84%",3.5999999046325684,0.28000000000000003,413,null,"100.00%",null,3.7000000476837158,0.33,405,8,"98.06%","1.94%",2.7000000476837158,0.34,410,3,"99.27%","0.73%"]
[6701,"6701 Palmetto Middle School",372,15.100000381469727,0.38,370,2,"99.46%","0.54%",3.7999999523162842,0.48,321,51,"86.29%","13.71%",3.7999999523162842,0.28999999999999998,372,null,"100.00%",null,4.3000001907348633,0.39,357,15,"95.97%","4.03%",3.2000000476837158,0.4,359,13,"96.51%","3.49%"]
[6721,"6721 Parkway Middle Community School",107,12,0.3,107,null,"100.00%",null,2.7999999523162842,0.35,105,2,"98.13%","1.87%",3.2999999523162842,0.25,107,null,"100.00%",null,3.2000000476837158,0.28999999999999998,106,1,"99.07%","0.93%",2.7000000476837158,0.34,104,3,"97.20%","2.80%"]
[6741,"6741 Ponce de Leon Middle School",312,14.100000381469727,0.36,309,3,"99.04%","0.96%",3.4000000953674316,0.43,281,31,"90.06%","9.94%",3.7000000476837158,0.28999999999999998,312,null,"100.00%",null,3.9000000953674316,0.36,299,13,"95.83%","4.17%",3,0.38,299,13,"95.83%","4.17%"]
[6751,"6751 Hialeah Gardens Middle School",577,12.699999809265137,0.32,577,null,"100.00%",null,3.0999999046325684,0.39,539,38,"93.41%","6.59%",3.5,0.27,577,null,"100.00%",null,3.4000000953674316,0.31,574,3,"99.48%","0.52%",2.7000000476837158,0.34,572,5,"99.13%","0.87%"]
[6761,"6761 Redland Middle School",143,12.800000190734863,0.32,143,null,"100.00%",null,3,0.37,136,7,"95.10%","4.90%",3.5,0.27,143,null,"100.00%",null,3.7000000476837158,0.33,140,3,"97.90%","2.10%",2.7000000476837158,0.34,142,1,"99.30%","0.70%"]
[6771,"6771 Jorge Mas Canosa Middle School",707,13.399999618530273,0.34,705,2,"99.72%","0.28%",3.2000000476837158,0.41,664,43,"93.92%","6.08%",3.5999999046325684,0.28000000000000003,707,null,"100.00%",null,3.5999999046325684,0.33,697,10,"98.59%","1.41%",2.9000000953674316,0.36,691,16,"97.74%","2.26%"]
[6781,"6781 Richmond heights Middle School",161,13,0.33,161,null,"100.00%",null,3,0.38,156,5,"96.89%","3.11%",3.7000000476837158,0.28000000000000003,161,null,"100.00%",null,3.7000000476837158,0.33,155,6,"96.27%","3.73%",2.7000000476837158,0.33,160,1,"99.38%","0.62%"]
[6801,"6801 Riviera Middle School",258,12.600000381469727,0.32,257,1,"99.61%","0.39%",2.9000000953674316,0.36,247,11,"95.74%","4.26%",3.5,0.27,257,1,"99.61%","0.39%",3.5,0.31,254,4,"98.45%","1.55%",2.7000000476837158,0.34,252,6,"97.67%","2.33%"]
[{"$f":"IFERROR(VALUE(LEFT(B142,4)),\"\")","v":6821},"6821 Rockway Middle School",401,13.100000381469727,0.33,401,null,"100.00%",null,3.2999999523162842,0.41,375,26,"93.52%","6.48%",3.4000000953674316,0.26,401,null,"100.00%",null,3.5999999046325684,0.33,394,7,"98.25%","1.75%",2.7999999523162842,0.35,396,5,"98.75%","1.25%"]
[6841,"6841 Shenandoah Middle School",404,12.5,0.31,404,null,"100.00%",null,2.9000000953674316,0.37,386,18,"95.54%","4.46%",3.4000000953674316,0.26,404,null,"100.00%",null,3.4000000953674316,0.31,398,6,"98.51%","1.49%",2.7000000476837158,0.34,397,7,"98.27%","1.73%"]
[6861,"6861 Southwood Middle School",480,14.199999809265137,0.36,478,2,"99.58%","0.42%",3.5,0.44,432,48,"90.00%","10.00%",3.7000000476837158,0.28999999999999998,479,1,"99.79%","0.21%",4,0.36,461,19,"96.04%","3.96%",3,0.38,469,11,"97.71%","2.29%"]
[6881,"6881 South Miami Middle School",340,14.699999809265137,0.37,339,1,"99.71%","0.29%",3.9000000953674316,0.49,300,40,"88.24%","11.76%",3.7999999523162842,0.28999999999999998,339,1,"99.71%","0.29%",4.0999999046325684,0.37,329,11,"96.76%","3.24%",2.9000000953674316,0.36,332,8,"97.65%","2.35%"]
[6901,"6901 WR Thomas Middle School",308,14.699999809265137,0.37,308,null,"100.00%",null,3.5999999046325684,0.45,280,28,"90.91%","9.09%",4,0.31,308,null,"100.00%",null,4.0999999046325684,0.38,299,9,"97.08%","2.92%",3,0.37,304,4,"98.70%","1.30%"]
[6921,"6921 Lamar Louise Curry Middle School",382,14.699999809265137,0.37,382,null,"100.00%",null,3.7000000476837158,0.47,325,57,"85.08%","14.92%",3.9000000953674316,0.3,382,null,"100.00%",null,4,0.36,371,11,"97.12%","2.88%",3.0999999046325684,0.4,365,17,"95.55%","4.45%"]
[6961,"6961 West Miami Middle School",324,12.699999809265137,0.32,324,null,"100.00%",null,2.9000000953674316,0.36,313,11,"96.60%","3.40%",3.5999999046325684,0.27,324,null,"100.00%",null,3.7000000476837158,0.33,319,5,"98.46%","1.54%",2.5,0.32,320,4,"98.77%","1.23%"]
[6981,"6981 Westview Middle School",1,12,0.3,1,null,"100.00%",null,4,0.5,1,null,"100.00%",null,4,0.31,1,null,"100.00%",null,2,0.18,1,null,"100.00%",null,2,0.25,1,null,"100.00%"]
[7055,"7055 Young Women's Preparatory Academy",81,15.399999618530273,0.39,80,1,"98.77%","1.23%",4,0.51,63,18,"77.78%","22.22%",3.7999999523162842,0.28999999999999998,81,null,"100.00%",null,4.5,0.41,80,1,"98.77%","1.23%",3.0999999046325684,0.39,78,3,"96.30%","3.70%"]
[7059,"7059 Miami Arts Charter",120,15.699999809265137,0.39,120,null,"100.00%",null,4.0999999046325684,0.51,99,21,"82.50%","17.50%",4,0.31,120,null,"100.00%",null,4.4000000953674316,0.4,116,4,"96.67%","3.33%",3.2000000476837158,0.4,113,7,"94.17%","5.83%"]
[7291,"7291 Jose Marti ",134,14.5,0.37,134,null,"100.00%",null,3.7999999523162842,0.47,119,15,"88.81%","11.19%",3.5999999046325684,0.28000000000000003,134,null,"100.00%",null,4.0999999046325684,0.37,132,2,"98.51%","1.49%",3.0999999046325684,0.39,129,5,"96.27%","3.73%"]
[7351,"7351 Arthur And Polly Mays 6-12 Conservatory Of Th",70,12.5,0.31,70,null,"100.00%",null,3.0999999046325684,0.39,65,5,"92.86%","7.14%",3.4000000953674316,0.26,70,null,"100.00%",null,3.0999999046325684,0.28000000000000003,70,null,"100.00%",null,2.9000000953674316,0.36,70,null,"100.00%"]
[7631,"7631 MacArthur South Senior High",11,10.600000381469727,0.27,11,null,"100.00%",null,2.2999999523162842,0.28999999999999998,11,null,"100.00%",null,2.5,0.2,11,null,"100.00%",null,3.2999999523162842,0.3,11,null,"100.00%",null,2.5,0.32,10,1,"90.91%","9.09%"]
[8014,"8014 Educational Alt. Outreach Program",9,9.8000001907348633,0.25,9,null,"100.00%",null,2.0999999046325684,0.27,9,null,"100.00%",null,3.2000000476837158,0.25,9,null,"100.00%",null,2.2000000476837158,0.2,9,null,"100.00%",null,2.2000000476837158,0.28000000000000003,9,null,"100.00%"]
[8017,"8017 Outreachprograms",21,11.699999809265137,0.28999999999999998,21,null,"100.00%",null,2.5999999046325684,0.32,20,1,"95.24%","4.76%",3.4000000953674316,0.26,21,null,"100.00%",null,3.4000000953674316,0.31,20,1,"95.24%","4.76%",2.4000000953674316,0.3,21,null,"100.00%"]
[8101,"8101 Jan Mann Opp. Center",19,10.199999809265137,0.26,19,null,"100.00%",null,2.4000000953674316,0.3,19,null,"100.00%",null,3.2000000476837158,0.25,19,null,"100.00%",null,2.7000000476837158,0.24,19,null,"100.00%",null,1.8999999761581421,0.25,19,null,"100.00%"]
[8121,"8121 C.O.P.E. Center North",3,10,0.25,3,null,"100.00%",null,2.2999999523162842,0.3,3,null,"100.00%",null,4.6999998092651367,0.36,3,null,"100.00%",null,1.7000000476837158,0.15,3,null,"100.00%",null,1.2999999523162842,0.17,3,null,"100.00%"]
[8141,"8141 Juvenile Justice Center",4,7.3000001907348633,0.18,4,null,"100.00%",null,1,0.13,4,null,"100.00%",null,2.5,0.19,4,null,"100.00%",null,1.7999999523162842,0.16,4,null,"100.00%",null,2,0.25,4,null,"100.00%"]
[8151,"8151 Renick, Robert Educational Center",8,13.399999618530273,0.34,8,null,"100.00%",null,2.9000000953674316,0.36,8,null,"100.00%",null,3.7999999523162842,0.28999999999999998,8,null,"100.00%",null,4.5999999046325684,0.42,7,1,"87.50%","12.50%",2.0999999046325684,0.27,8,null,"100.00%"]
[8181,"8181 Ruth Owens Kruse Educational Center",5,9.1999998092651367,0.23,5,null,"100.00%",null,2,0.25,5,null,"100.00%",null,2.4000000953674316,0.18,5,null,"100.00%",null,2,0.18,5,null,"100.00%",null,2.7999999523162842,0.35,5,null,"100.00%"]
[9732,"9732 Merrick Educational Center",5,11.600000381469727,0.28999999999999998,5,null,"100.00%",null,2,0.25,5,null,"100.00%",null,3,0.23,5,null,"100.00%",null,4.4000000953674316,0.4,5,null,"100.00%",null,2.2000000476837158,0.28000000000000003,5,null,"100.00%"]
["","Female",12258,13.600000381469727,0.34,12240,18,"99.85%","0.15%",3.4000000953674316,0.43,11293,965,"92.13%","7.87%",3.5999999046325684,0.28000000000000003,12251,7,"99.94%","0.06%",3.7000000476837158,0.34,12033,225,"98.16%","1.84%",2.7999999523162842,0.36,12042,216,"98.24%","1.76%"]
["","Male",12666,13.399999618530273,0.34,12642,24,"99.81%","0.19%",3.2000000476837158,0.4,11855,811,"93.60%","6.40%",3.5999999046325684,0.28000000000000003,12653,13,"99.90%","0.10%",3.7000000476837158,0.33,12363,303,"97.61%","2.39%",2.9000000953674316,0.36,12394,272,"97.85%","2.15%"]
[9999,"9999 DISTRICT",{"$f":"SUM(C163:C164)","v":24924},{"$f":"SUMPRODUCT(C163:C164,D163:D164)/C165","v":13.498363017347149},{"$f":"D165/(MID(D$11,(SEARCH(\"(\",D$11)+1),(LEN(D$11)-SEARCH(\"(\",D$11)-9)))","v":0.3374590754336787},{"$f":"SUM(F163:F164)","v":24882},{"$f":"SUM(G163:G164)","v":42},{"$f":"F165/C165","v":0.99831487722676937},{"$f":"G165/C165","v":1.6851227732306211E-3},{"$f":"SUMPRODUCT(C163:C164,J163:J164)/C165","v":3.2983630947270068},{"$f":"J165/(MID(J$11,(SEARCH(\"(\",J$11)+1),(LEN(J$11)-SEARCH(\"(\",J$11)-9)))","v":0.41229538684087585},{"$f":"SUM(L163:L164)","v":23148},{"$f":"SUM(M163:M164)","v":1776},{"$f":"L165/C165","v":0.92874337987481947},{"$f":"M165/C165","v":7.1256620125180553E-2},{"$f":"SUMPRODUCT(C163:C164,P163:P164)/C165","v":3.5999999046325684},{"$f":"P165/(MID(P$11,(SEARCH(\"(\",P$11)+1),(LEN(P$11)-SEARCH(\"(\",P$11)-9)))","v":0.27692306958712065},{"$f":"SUM(R163:R164)","v":24904},{"$f":"SUM(S163:S164)","v":20},{"$f":"R165/C165","v":0.99919756058417586},{"$f":"S165/C165","v":8.0243941582410524E-4},{"$f":"SUMPRODUCT(C163:C164,V163:V164)/C165","v":3.7000000476837158},{"$f":"V165/(MID(V$11,(SEARCH(\"(\",V$11)+1),(LEN(V$11)-SEARCH(\"(\",V$11)-9)))","v":0.33636364069851959},{"$f":"SUM(X163:X164)","v":24396},{"$f":"SUM(Y163:Y164)","v":528},{"$f":"X165/C165","v":0.97881559942224361},{"$f":"Y165/C165","v":2.118440057775638E-2},{"$f":"SUMPRODUCT(C163:C164,AB163:AB164)/C165","v":2.8508185132168551},{"$f":"AB165/(MID(AB$11,(SEARCH(\"(\",AB$11)+1),(LEN(AB$11)-SEARCH(\"(\",AB$11)-9)))","v":0.35635231415210689},{"$f":"SUM(AD163:AD164)","v":24436},{"$f":"SUM(AE163:AE164)","v":488},{"$f":"AD165/C165","v":0.98042047825389178},{"$f":"AE165/C165","v":1.9579521746108167E-2}]
[""]
[""]
[""]
[""]
[""]
[""]
[""]
[""]
[""]
[""]
[""]
[""]
[""]
[""]
[""]
[""]
[""]
[""]
[""]
[""]
[""]
[""]
[""]
[""]
[""]
[""]
[""]
[""]
[""]
[""]
[""]
[""]
[""]
[""]
[""]
[""]
[""]
[""]
[""]
[""]
[{"$f":"IFERROR(VALUE(LEFT(B206,4)),\"\")","v":""}]
[""]
[""]
[""]
[""]
[""]
[""]
[""]
[""]
[""]
[""]
[""]
[""]
[""]
[""]
[""]
[""]
[""]
[""]
[""]
[""]
[""]
[""]
[""]
[""]
[""]
[""]
[""]
[""]
[""]
[""]
[""]
[""]
[""]
[""]
[""]
[""]
[""]
[""]
[""]
[""]
[""]
[""]
[""]
[""]
[""]
[""]
[""]
[""]
[""]
[""]
[""]
[""]
[""]
[""]
[""]
[""]
[""]
[""]
[""]
[""]
[""]
[""]
[""]
[{"$f":"IFERROR(VALUE(LEFT(B270,4)),\"\")","v":""}]
[""]
[""]
[""]
[""]
[""]
[""]
[""]
[""]
[""]
[""]
[""]
[""]
[""]
[""]
[""]
[""]
[""]
[""]
[""]
[""]
[""]
[""]
[""]
[""]
[""]
[""]
[""]
[""]
[""]
[""]
[""]
[""]
[""]
[""]
[""]
[""]
[""]
[""]
[""]
[""]
[""]
[""]
[""]
[""]
[""]
[""]
[""]
[""]
[""]
[""]
[""]
[""]
[""]
[""]
[""]
[""]
[""]
[""]
[""]
[""]
[""]
[""]
[""]
[{"$f":"IFERROR(VALUE(LEFT(B334,4)),\"\")","v":""}]
[""]
[""]
[""]
[""]
[""]
[""]
[""]
[""]
[""]
[""]
[""]
[""]
[""]
[""]
[""]
[""]
[""]
[""]
[""]
[""]
[""]
[""]
[""]
[""]
[""]
[""]
[""]
[""]
[""]
[""]
[""]
[""]
[""]
[""]
[""]
[""]
[""]
[""]
[""]
[""]
[""]
[""]
[""]
[""]
[""]
[""]
[""]
[""]
[""]
[""]
[""]
[""]
[""]
[""]
[""]
[""]
[""]
[""]
[""]
[""]
[""]
[""]
[""]
[{"$f":"IFERROR(VALUE(LEFT(B398,4)),\"\")","v":""}]
[""]
[""]
[""]
[""]
[""]
[""]
[""]
[""]
[""]
[""]
[""]
[""]
[""]
[""]
[""]

{"sheet":"2013-14 BL Civics","index":16,"n_rows":413,"n_cols":33,"rows_kept":413,"cut":false,"hidden":true,"merged":[[11,17,11,18],[11,19,11,20],[11,23,11,24],[11,25,11,26],[9,1,11,1],[9,2,9,32],[10,2,12,2],[10,3,10,8],[10,9,10,14],[10,15,10,20],[10,21,10,26],[10,27,10,32],[11,5,11,6],[11,7,11,8],[11,29,11,30],[11,31,11,32],[11,11,11,12],[11,13,11,14]]}
[null,"SS-CIV-RC-Schl-All"]
[]
[null,"Description:","Social Science Civics RC-Schl-All"]
[null,"Student Selection:","All Schools | 2013-2014 Fall, 2013-2014 School Year"]
[null,"Group By Data:","School"]
[null,"Assessments:","Baseline 2013 Grade 7 Civics August 2013"]
[null,"Scores:","Overall Avg Raw Score, Overall Avg % Correct, Overall # in Performance Band, Overall % in Performance Band, Question Groups Avg Raw Score, Question Groups Avg % Correct, Question Groups # in Performance Band, Question Groups % in Performance Band"]
[null,"Author Name:","Yuwadee Wongbundhit"]
[{"$f":"COLUMN()","v":1}]
[null,"Total Row(s): 154 Generated on Sep-18-2013 by Yuwadee Wongbundhit","Baseline 2013 Grade 7 Civics August 2013"]
[null,null,"Total # students","Overall (39 pts max)",null,null,null,null,null,"Government Policies and Political Processes (8 pts max)",null,null,null,null,null,"Organization and Function of Government (12 pts max)",null,null,null,null,null,"Origins and Purposes of Law and Government (11 pts max)",null,null,null,null,null,"Roles, Rights, and Responsibilities of Citizens (8 pts max)"]
[null,null,null,"Avg Raw Score","Avg % Correct","# in Performance Band",null,"% in Performance Band",null,"Avg Raw Score","Avg % Correct","# in Performance Band",null,"% in Performance Band",null,"Avg Raw Score","Avg % Correct","# in Performance Band",null,"% in Performance Band",null,"Avg Raw Score","Avg % Correct","# in Performance Band",null,"% in Performance Band",null,"Avg Raw Score","Avg % Correct","# in Performance Band",null,"% in Performance Band"]
[null,"School Name",null,"","","Non Proficient","Proficient","Non Proficient","Proficient","","","Non Proficient","Proficient","Non Proficient","Proficient","","","Non Proficient","Proficient","Non Proficient","Proficient","","","Non Proficient","Proficient","Non Proficient","Proficient","","","Non Proficient","Proficient","Non Proficient","Proficient"]
[{"$f":"IFERROR(VALUE(LEFT(B14,4)),\"\")","v":70},"0070 Coral Reef Montessori Academy",20,16.299999237060547,0.42,19,1,"95.00%","5.00%",3.2000000476837158,0.4,17,3,"85.00%","15.00%",4.5,0.37,20,null,"100.00%",null,4.5,0.4,17,3,"85.00%","15.00%",4.3000001907348633,0.53,17,3,"85.00%","15.00%"]
[71,"0071 Eugenia B. Thomas K-8",149,15.800000190734863,0.41,148,1,"99.33%","0.67%",3.5999999046325684,0.45,129,20,"86.58%","13.42%",4.5,0.37,144,5,"96.64%","3.36%",4.1999998092651367,0.38,145,4,"97.32%","2.68%",3.5999999046325684,0.45,134,15,"89.93%","10.07%"]
[73,"0073 Mandarin Lakes K-8 Center",106,13,0.33,106,null,"100.00%",null,2.7000000476837158,0.35,103,3,"97.17%","2.83%",3.5999999046325684,0.3,106,null,"100.00%",null,3.4000000953674316,0.31,105,1,"99.06%","0.94%",3.2000000476837158,0.41,103,3,"97.17%","2.83%"]
[91,"0091 Bob Graham Education Center",217,14.199999809265137,0.36,215,2,"99.08%","0.92%",3.0999999046325684,0.38,201,16,"92.63%","7.37%",4.0999999046325684,0.34,214,3,"98.62%","1.38%",3.7000000476837158,0.33,212,5,"97.70%","2.30%",3.2999999523162842,0.42,204,13,"94.01%","5.99%"]
[92,"0092 Sunny Isles Beach Community School K-8",176,14.899999618530273,0.38,175,1,"99.43%","0.57%",3.4000000953674316,0.43,151,25,"85.80%","14.20%",4,0.33,173,3,"98.30%","1.70%",4,0.36,170,6,"96.59%","3.41%",3.5,0.44,166,10,"94.32%","5.68%"]
[122,"0122 Dr. Rolando Espinosa K-8 Center",171,15.5,0.4,169,2,"98.83%","1.17%",3.2999999523162842,0.41,154,17,"90.06%","9.94%",4.4000000953674316,0.37,167,4,"97.66%","2.34%",4.3000001907348633,0.39,164,7,"95.91%","4.09%",3.5999999046325684,0.46,156,15,"91.23%","8.77%"]
[231,"0231 Aventura Waterways K-8",161,13.699999809265137,0.35,160,1,"99.38%","0.62%",3,0.38,152,9,"94.41%","5.59%",3.5,0.28999999999999998,161,null,"100.00%",null,3.9000000953674316,0.35,155,6,"96.27%","3.73%",3.2999999523162842,0.42,151,10,"93.79%","6.21%"]
[241,"0241 Ruth K. Broad/Bay Harbor K-8",155,15.199999809265137,0.39,154,1,"99.35%","0.65%",3.5,0.44,140,15,"90.32%","9.68%",3.9000000953674316,0.32,154,1,"99.35%","0.65%",4.0999999046325684,0.37,145,10,"93.55%","6.45%",3.7999999523162842,0.48,138,17,"89.03%","10.97%"]
[332,"0332 Somerset Silver Palms K-8",132,14.100000381469727,0.36,132,null,"100.00%",null,3.0999999046325684,0.39,129,3,"97.73%","2.27%",3.5999999046325684,0.3,131,1,"99.24%","0.76%",4.0999999046325684,0.38,129,3,"97.73%","2.27%",3.2000000476837158,0.41,128,4,"96.97%","3.03%"]
[451,"0451 Doolin /Ashe K-8 Academy",152,12.5,0.32,152,null,"100.00%",null,2.5999999046325684,0.33,150,2,"98.68%","1.32%",3.5,0.28999999999999998,151,1,"99.34%","0.66%",3.2999999523162842,0.3,151,1,"99.34%","0.66%",3,0.38,150,2,"98.68%","1.32%"]
[651,"0651 Campbell Drive Elementary",63,13.300000190734863,0.34,63,null,"100.00%",null,2.7000000476837158,0.35,60,3,"95.24%","4.76%",3.5,0.28999999999999998,63,null,"100.00%",null,3.7999999523162842,0.34,61,2,"96.83%","3.17%",3.2999999523162842,0.41,62,1,"98.41%","1.59%"]
[761,"0761 Fienberg Fisher K-8 Center",98,13.600000381469727,0.35,95,3,"96.94%","3.06%",3,0.37,94,4,"95.92%","4.08%",4,0.33,94,4,"95.92%","4.08%",3.5999999046325684,0.32,95,3,"96.94%","3.06%",3.0999999046325684,0.39,92,6,"93.88%","6.12%"]
[950,"0950 Aventura City Of Excellence School",105,17,0.44,103,2,"98.10%","1.90%",3.9000000953674316,0.48,86,19,"81.90%","18.10%",4.5,0.37,102,3,"97.14%","2.86%",4.8000001907348633,0.43,95,10,"90.48%","9.52%",3.7999999523162842,0.48,98,7,"93.33%","6.67%"]
[961,"0961 Coral Gables Elementary",71,17.299999237060547,0.44,70,1,"98.59%","1.41%",3.9000000953674316,0.49,57,14,"80.28%","19.72%",4.5999999046325684,0.39,70,1,"98.59%","1.41%",4.6999998092651367,0.43,66,5,"92.96%","7.04%",4.0999999046325684,0.51,61,10,"85.92%","14.08%"]
[1020,"1020 Youth Co-op Charter School",64,15.5,0.4,61,3,"95.31%","4.69%",3.4000000953674316,0.43,57,7,"89.06%","10.94%",4.3000001907348633,0.36,61,3,"95.31%","4.69%",4.3000001907348633,0.39,59,5,"92.19%","7.81%",3.4000000953674316,0.43,59,5,"92.19%","7.81%"]
[1121,"1121 Coral Way K-8 Center",157,14.5,0.37,156,1,"99.36%","0.64%",3.2000000476837158,0.4,145,12,"92.36%","7.64%",3.5,0.3,156,1,"99.36%","0.64%",4,0.36,150,7,"95.54%","4.46%",3.7999999523162842,0.48,142,15,"90.45%","9.55%"]
[1331,"1331 Devon Aire K-8 Center",204,12.899999618530273,0.33,202,2,"99.02%","0.98%",2.7999999523162842,0.35,185,19,"90.69%","9.31%",3.5,0.28999999999999998,200,4,"98.04%","1.96%",3.5,0.32,194,10,"95.10%","4.90%",3,0.38,194,10,"95.10%","4.90%"]
[1401,"1401 Charles R. Drew Elementary",37,13.399999618530273,0.34,37,null,"100.00%",null,2.7999999523162842,0.35,37,null,"100.00%",null,3.7999999523162842,0.32,37,null,"100.00%",null,3.5,0.31,37,null,"100.00%",null,3.2999999523162842,0.42,35,2,"94.59%","5.41%"]
[1441,"1441 Paul Lawrence Dunbar Elementary",18,12,0.31,18,null,"100.00%",null,2.7000000476837158,0.34,18,null,"100.00%",null,3.2999999523162842,0.28000000000000003,18,null,"100.00%",null,2.7999999523162842,0.25,18,null,"100.00%",null,3.2000000476837158,0.41,16,2,"88.89%","11.11%"]
[1601,"1601 Edison Park Elementary",18,12.699999809265137,0.33,18,null,"100.00%",null,2.0999999046325684,0.27,18,null,"100.00%",null,3.5,0.28999999999999998,18,null,"100.00%",null,3.4000000953674316,0.31,18,null,"100.00%",null,3.7000000476837158,0.46,16,2,"88.89%","11.11%"]
[1681,"1681 Lillie C. Evans Elementary",44,13,0.33,44,null,"100.00%",null,2.4000000953674316,0.31,44,null,"100.00%",null,3.5999999046325684,0.3,44,null,"100.00%",null,3.7999999523162842,0.34,44,null,"100.00%",null,3.2000000476837158,0.4,44,null,"100.00%"]
[1721,"1721 Everglades K-8 Center",139,14.899999618530273,0.38,138,1,"99.28%","0.72%",3.0999999046325684,0.39,130,9,"93.53%","6.47%",4.3000001907348633,0.36,135,4,"97.12%","2.88%",4,0.36,136,3,"97.84%","2.16%",3.5,0.44,131,8,"94.24%","5.76%"]
[2041,"2041 Benjamin Franklin Elementary School",53,12.399999618530273,0.32,53,null,"100.00%",null,2.2999999523162842,0.28999999999999998,52,1,"98.11%","1.89%",3.4000000953674316,0.28999999999999998,53,null,"100.00%",null,3.5999999046325684,0.32,52,1,"98.11%","1.89%",3.0999999046325684,0.38,50,3,"94.34%","5.66%"]
[2060,"2060 Theodore R. And Thelma A. Gibson Charter",32,13.300000190734863,0.34,32,null,"100.00%",null,2.9000000953674316,0.36,31,1,"96.88%","3.12%",3.4000000953674316,0.28000000000000003,32,null,"100.00%",null,3.7000000476837158,0.33,32,null,"100.00%",null,3.4000000953674316,0.43,30,2,"93.75%","6.25%"]
[2701,"2701 Kenwood K-8 Center",142,15.5,0.4,140,2,"98.59%","1.41%",3.5,0.44,125,17,"88.03%","11.97%",4,0.33,140,2,"98.59%","1.41%",4.1999998092651367,0.38,136,6,"95.77%","4.23%",3.7999999523162842,0.48,134,8,"94.37%","5.63%"]
[2741,"2741 Key Biscayne K-8 Center ",134,15.100000381469727,0.39,132,2,"98.51%","1.49%",3.2999999523162842,0.41,121,13,"90.30%","9.70%",4.3000001907348633,0.36,126,8,"94.03%","5.97%",4.0999999046325684,0.37,126,8,"94.03%","5.97%",3.5,0.44,120,14,"89.55%","10.45%"]
[2881,"2881 Leewood K-8 Center",73,17.299999237060547,0.44,72,1,"98.63%","1.37%",3.7999999523162842,0.48,59,14,"80.82%","19.18%",4.4000000953674316,0.37,72,1,"98.63%","1.37%",5,0.45,67,6,"91.78%","8.22%",4.0999999046325684,0.51,63,10,"86.30%","13.70%"]
[2901,"2901 Leisure City K-8 Center",98,13.5,0.35,98,null,"100.00%",null,2.7999999523162842,0.35,95,3,"96.94%","3.06%",3.5999999046325684,0.3,98,null,"100.00%",null,3.9000000953674316,0.36,97,1,"98.98%","1.02%",3.2000000476837158,0.41,96,2,"97.96%","2.04%"]
[2911,"2911 Linda Lentin K - 8 Center",119,13,0.33,119,null,"100.00%",null,2.7000000476837158,0.34,116,3,"97.48%","2.52%",3.5999999046325684,0.3,118,1,"99.16%","0.84%",3.5999999046325684,0.32,117,2,"98.32%","1.68%",3.2000000476837158,0.4,114,5,"95.80%","4.20%"]
[3029,"3029 Doral Academy Of Technology",71,18.700000762939453,0.48,69,2,"97.18%","2.82%",4.4000000953674316,0.55000000000000004,55,16,"77.46%","22.54%",4.6999998092651367,0.39,68,3,"95.77%","4.23%",5.4000000953674316,0.49,64,7,"90.14%","9.86%",4.3000001907348633,0.54,56,15,"78.87%","21.13%"]
[3032,"3032 Palm Glades Preparatory Academy",152,14,0.36,152,null,"100.00%",null,3.0999999046325684,0.39,145,7,"95.39%","4.61%",3.5999999046325684,0.3,152,null,"100.00%",null,4,0.36,149,3,"98.03%","1.97%",3.2999999523162842,0.41,145,7,"95.39%","4.61%"]
[3101,"3101 Frank C. Martin K-8 Center",121,17.200000762939453,0.44,119,2,"98.35%","1.65%",4,0.5,99,22,"81.82%","18.18%",4.5,0.37,119,2,"98.35%","1.65%",4.8000001907348633,0.44,113,8,"93.39%","6.61%",3.9000000953674316,0.49,107,14,"88.43%","11.57%"]
[3191,"3191 Ada Merritt K-8 Center",88,18.5,0.48,84,4,"95.45%","4.55%",4.0999999046325684,0.52,70,18,"79.55%","20.45%",4.9000000953674316,0.41,85,3,"96.59%","3.41%",5.3000001907348633,0.49,77,11,"87.50%","12.50%",4.0999999046325684,0.52,78,10,"88.64%","11.36%"]
[3281,"3281 Miami Lakes K-8 Center",91,13.399999618530273,0.34,91,null,"100.00%",null,2.9000000953674316,0.37,88,3,"96.70%","3.30%",3.5999999046325684,0.3,91,null,"100.00%",null,3.7999999523162842,0.35,89,2,"97.80%","2.20%",3.0999999046325684,0.39,87,4,"95.60%","4.40%"]
[3421,"3421 Milam K-8 Center",127,14.899999618530273,0.38,126,1,"99.21%","0.79%",3.0999999046325684,0.39,116,11,"91.34%","8.66%",4.0999999046325684,0.34,126,1,"99.21%","0.79%",4.1999998092651367,0.38,123,4,"96.85%","3.15%",3.5,0.45,119,8,"93.70%","6.30%"]
[3501,"3501 Morningside Elementary",22,11.800000190734863,0.3,22,null,"100.00%",null,2.7000000476837158,0.34,22,null,"100.00%",null,3.0999999046325684,0.26,22,null,"100.00%",null,3,0.27,22,null,"100.00%",null,3,0.38,22,null,"100.00%"]
[3581,"3581 Myrtle Grove Elementary",38,13.800000190734863,0.35,37,1,"97.37%","2.63%",2.7000000476837158,0.34,34,4,"89.47%","10.53%",4.0999999046325684,0.34,37,1,"97.37%","2.63%",3.5999999046325684,0.32,37,1,"97.37%","2.63%",3.4000000953674316,0.43,35,3,"92.11%","7.89%"]
[3610,"3610 Keys Gate Charter School",1,18,0.46,1,null,"100.00%",null,4,0.5,1,null,"100.00%",null,3,0.25,1,null,"100.00%",null,7,0.64,1,null,"100.00%",null,4,0.5,1,null,"100.00%"]
[3621,"3621 Coconut Palms K-8 Academy",109,12.800000190734863,0.33,109,null,"100.00%",null,2.5,0.32,108,1,"99.08%","0.92%",3.5,0.28999999999999998,109,null,"100.00%",null,3.5999999046325684,0.32,109,null,"100.00%",null,3.0999999046325684,0.39,105,4,"96.33%","3.67%"]
[3821,"3821 North County Elementary School",35,13.300000190734863,0.34,35,null,"100.00%",null,2.9000000953674316,0.36,35,null,"100.00%",null,3.9000000953674316,0.32,35,null,"100.00%",null,3.4000000953674316,0.3,35,null,"100.00%",null,3.2000000476837158,0.4,35,null,"100.00%"]
[4031,"4031 Gateway Environmental K-8 Learning Center ",130,13.5,0.35,130,null,"100.00%",null,2.9000000953674316,0.36,129,1,"99.23%","0.77%",3.7000000476837158,0.31,130,null,"100.00%",null,3.5999999046325684,0.33,129,1,"99.23%","0.77%",3.2999999523162842,0.41,123,7,"94.62%","5.38%"]
[4391,"4391 Irving and Beatrice Peskoe Elementary School",60,12.5,0.32,60,null,"100.00%",null,2.7000000476837158,0.34,60,null,"100.00%",null,3.5999999046325684,0.3,59,1,"98.33%","1.67%",3.2999999523162842,0.3,59,1,"98.33%","1.67%",2.7999999523162842,0.36,59,1,"98.33%","1.67%"]
[4691,"4691 Jane S. Roberts K-8 Center",74,14.699999809265137,0.38,74,null,"100.00%",null,3.0999999046325684,0.4,68,6,"91.89%","8.11%",3.7000000476837158,0.31,74,null,"100.00%",null,4.5,0.41,69,5,"93.24%","6.76%",3.2999999523162842,0.42,70,4,"94.59%","5.41%"]
[5003,"5003 South Dade Middle School ",240,12.899999618530273,0.33,240,null,"100.00%",null,2.7000000476837158,0.34,231,9,"96.25%","3.75%",3.5999999046325684,0.3,240,null,"100.00%",null,3.4000000953674316,0.31,237,3,"98.75%","1.25%",3.0999999046325684,0.4,226,14,"94.17%","5.83%"]
[5005,"5005 David Lawrence Jr. K8 Center",184,13.699999809265137,0.35,184,null,"100.00%",null,2.9000000953674316,0.37,176,8,"95.65%","4.35%",3.7999999523162842,0.31,184,null,"100.00%",null,3.7999999523162842,0.34,180,4,"97.83%","2.17%",3.2000000476837158,0.4,175,9,"95.11%","4.89%"]
[5006,"5006 Everglades Preparatory Academy",226,13.699999809265137,0.35,226,null,"100.00%",null,3,0.38,211,15,"93.36%","6.64%",3.5999999046325684,0.3,226,null,"100.00%",null,3.9000000953674316,0.35,224,2,"99.12%","0.88%",3.2999999523162842,0.41,212,14,"93.81%","6.19%"]
[5007,"5007 Lincoln-marti Charter Schools (Hialeah) ",27,14.300000190734863,0.37,27,null,"100.00%",null,3,0.38,27,null,"100.00%",null,3.7999999523162842,0.32,27,null,"100.00%",null,3.7000000476837158,0.33,27,null,"100.00%",null,3.7000000476837158,0.47,26,1,"96.30%","3.70%"]
[5010,"5010 Oxford Academy Of Miami",19,15.699999809265137,0.4,19,null,"100.00%",null,3.5999999046325684,0.46,17,2,"89.47%","10.53%",4.4000000953674316,0.36,19,null,"100.00%",null,4,0.36,18,1,"94.74%","5.26%",3.7000000476837158,0.46,18,1,"94.74%","5.26%"]
[5020,"5020 Bridgepoint Academy Interamerican",16,13.199999809265137,0.34,15,1,"93.75%","6.25%",2.0999999046325684,0.27,15,1,"93.75%","6.25%",3.5999999046325684,0.3,15,1,"93.75%","6.25%",4,0.36,15,1,"93.75%","6.25%",3.4000000953674316,0.43,15,1,"93.75%","6.25%"]
[5022,"5022 Ben Gamla Charter School (Miami Beach) ",21,14.899999618530273,0.38,20,1,"95.24%","4.76%",3,0.38,20,1,"95.24%","4.76%",4.4000000953674316,0.36,19,2,"90.48%","9.52%",4.1999998092651367,0.38,20,1,"95.24%","4.76%",3.2000000476837158,0.41,19,2,"90.48%","9.52%"]
[5025,"5025 Lincoln-marti Charter Schools(Little Havana) ",51,13.800000190734863,0.35,50,1,"98.04%","1.96%",2.5999999046325684,0.33,48,3,"94.12%","5.88%",4,0.33,47,4,"92.16%","7.84%",3.7999999523162842,0.34,49,2,"96.08%","3.92%",3.4000000953674316,0.42,47,4,"92.16%","7.84%"]
[5032,"5032 Excelsior Charter Academy",14,13.5,0.35,14,null,"100.00%",null,2.5999999046325684,0.33,14,null,"100.00%",null,4.0999999046325684,0.34,14,null,"100.00%",null,3.4000000953674316,0.3,14,null,"100.00%",null,3.4000000953674316,0.43,13,1,"92.86%","7.14%"]
[5044,"5044 Academy for International Education Charter ",46,16,0.41,45,1,"97.83%","2.17%",3.2999999523162842,0.42,38,8,"82.61%","17.39%",4.5,0.38,46,null,"100.00%",null,4.3000001907348633,0.39,43,3,"93.48%","6.52%",3.9000000953674316,0.49,41,5,"89.13%","10.87%"]
[5045,"5045 Mater Grove Academy",16,15.100000381469727,0.39,16,null,"100.00%",null,3.2999999523162842,0.42,16,null,"100.00%",null,4,0.33,16,null,"100.00%",null,4.5,0.41,15,1,"93.75%","6.25%",3.2999999523162842,0.41,15,1,"93.75%","6.25%"]
[5046,"5046 Mater Brickell Preparatory Academy",14,15.5,0.4,14,null,"100.00%",null,3.0999999046325684,0.39,12,2,"85.71%","14.29%",4.3000001907348633,0.36,14,null,"100.00%",null,4.5999999046325684,0.41,14,null,"100.00%",null,3.5999999046325684,0.45,13,1,"92.86%","7.14%"]
[5047,"5047 Mater Academy (Miami Beach) ",39,14.800000190734863,0.38,39,null,"100.00%",null,3.2000000476837158,0.4,38,1,"97.44%","2.56%",4,0.33,38,1,"97.44%","2.56%",4.3000001907348633,0.39,37,2,"94.87%","5.13%",3.2999999523162842,0.42,36,3,"92.31%","7.69%"]
[5049,"5049 Pinecrest Cove Academy",78,14.899999618530273,0.38,77,1,"98.72%","1.28%",3.2000000476837158,0.4,74,4,"94.87%","5.13%",3.7999999523162842,0.32,76,2,"97.44%","2.56%",4.1999998092651367,0.38,74,4,"94.87%","5.13%",3.7000000476837158,0.47,73,5,"93.59%","6.41%"]
[5051,"5051 Ernest R Graham Elementary",130,13.800000190734863,0.35,130,null,"100.00%",null,3,0.37,122,8,"93.85%","6.15%",3.5,0.28999999999999998,130,null,"100.00%",null,3.7000000476837158,0.33,129,1,"99.23%","0.77%",3.5999999046325684,0.46,122,8,"93.85%","6.15%"]
[5101,"5101 John I. Smith Elementary",79,12.699999809265137,0.33,79,null,"100.00%",null,2.7999999523162842,0.35,74,5,"93.67%","6.33%",3.7000000476837158,0.31,78,1,"98.73%","1.27%",3.5,0.32,78,1,"98.73%","1.27%",2.7000000476837158,0.35,75,4,"94.94%","5.06%"]
[5141,"5141 Hubert O. Sibley Elem.",89,12.399999618530273,0.32,89,null,"100.00%",null,2.5,0.31,87,2,"97.75%","2.25%",3.2000000476837158,0.27,89,null,"100.00%",null,3.5999999046325684,0.33,88,1,"98.88%","1.12%",3.2000000476837158,0.4,83,6,"93.26%","6.74%"]
[5241,"5241 South Miami K-8 Center",64,16.700000762939453,0.43,61,3,"95.31%","4.69%",3.5,0.44,56,8,"87.50%","12.50%",4.5999999046325684,0.38,60,4,"93.75%","6.25%",5,0.45,58,6,"90.62%","9.38%",3.5999999046325684,0.45,57,7,"89.06%","10.94%"]
[5671,"5671 Vineland K-8 Center",80,15.199999809265137,0.39,79,1,"98.75%","1.25%",3.4000000953674316,0.42,72,8,"90.00%","10.00%",4,0.34,78,2,"97.50%","2.50%",4.4000000953674316,0.4,78,2,"97.50%","2.50%",3.5,0.44,77,3,"96.25%","3.75%"]
[5861,"5861 Dr. Henry W. Mack/West Little River Elem.",40,13.100000381469727,0.34,40,null,"100.00%",null,2.7000000476837158,0.34,39,1,"97.50%","2.50%",3.5999999046325684,0.3,40,null,"100.00%",null,3.4000000953674316,0.3,40,null,"100.00%",null,3.5,0.43,35,5,"87.50%","12.50%"]
[5901,"5901 Carrie P. Meek/Westview Elementary",71,12.399999618530273,0.32,71,null,"100.00%",null,2.7000000476837158,0.35,71,null,"100.00%",null,3.2999999523162842,0.27,71,null,"100.00%",null,3.2999999523162842,0.3,71,null,"100.00%",null,3,0.38,69,2,"97.18%","2.82%"]
[{"$f":"IFERROR(VALUE(LEFT(B78,4)),\"\")","v":5961},"5961 Winston Park K-8 Center",146,10.600000381469727,0.27,146,null,"100.00%",null,2,0.26,146,null,"100.00%",null,3.2999999523162842,0.27,146,null,"100.00%",null,3,0.27,146,null,"100.00%",null,2.2000000476837158,0.28000000000000003,145,1,"99.32%","0.68%"]
[6001,"6001 Herbert A. Ammons Middle School",401,18.200000762939453,0.47,378,23,"94.26%","5.74%",4,0.5,316,85,"78.80%","21.20%",5,0.42,370,31,"92.27%","7.73%",5.0999999046325684,0.46,353,48,"88.03%","11.97%",4.0999999046325684,0.52,348,53,"86.78%","13.22%"]
[6004,"6004 Somerset Academy Charter Middle",71,14.600000381469727,0.37,71,null,"100.00%",null,2.9000000953674316,0.37,69,2,"97.18%","2.82%",3.7000000476837158,0.31,71,null,"100.00%",null,4.0999999046325684,0.37,68,3,"95.77%","4.23%",3.7999999523162842,0.48,66,5,"92.96%","7.04%"]
[6005,"6005 Ramz Academy Middle – Miami",45,13.300000190734863,0.34,45,null,"100.00%",null,2.9000000953674316,0.37,45,null,"100.00%",null,3.2999999523162842,0.27,45,null,"100.00%",null,3.7999999523162842,0.34,44,1,"97.78%","2.22%",3.2000000476837158,0.41,43,2,"95.56%","4.44%"]
[6006,"6006 Archimedean Middle Conservatory",109,17.200000762939453,0.44,108,1,"99.08%","0.92%",4.0999999046325684,0.52,84,25,"77.06%","22.94%",4.1999998092651367,0.35,108,1,"99.08%","0.92%",5,0.45,103,6,"94.50%","5.50%",3.7999999523162842,0.48,102,7,"93.58%","6.42%"]
[6008,"6008 Lawrence Academy",25,13.300000190734863,0.34,25,null,"100.00%",null,2.4000000953674316,0.31,25,null,"100.00%",null,3.5999999046325684,0.3,25,null,"100.00%",null,4.0999999046325684,0.37,25,null,"100.00%",null,3.2000000476837158,0.4,25,null,"100.00%"]
[6009,"6009 Mater East Academy Middle School",109,14.5,0.37,109,null,"100.00%",null,3.2000000476837158,0.4,101,8,"92.66%","7.34%",3.7999999523162842,0.32,109,null,"100.00%",null,4.0999999046325684,0.37,107,2,"98.17%","1.83%",3.4000000953674316,0.42,102,7,"93.58%","6.42%"]
[6010,"6010 Florida International Academy ",66,12.899999618530273,0.33,66,null,"100.00%",null,2.5999999046325684,0.32,66,null,"100.00%",null,3.4000000953674316,0.28000000000000003,66,null,"100.00%",null,3.5,0.32,66,null,"100.00%",null,3.4000000953674316,0.43,62,4,"93.94%","6.06%"]
[6011,"6011 Allapattah Middle",150,11,0.28000000000000003,150,null,"100.00%",null,2.2999999523162842,0.3,146,4,"97.33%","2.67%",3.2000000476837158,0.27,150,null,"100.00%",null,3,0.27,149,1,"99.33%","0.67%",2.5999999046325684,0.32,148,2,"98.67%","1.33%"]
[6012,"6012 Mater Academy Middle",441,15.300000190734863,0.39,437,4,"99.09%","0.91%",3.2999999523162842,0.42,404,37,"91.61%","8.39%",4.0999999046325684,0.34,438,3,"99.32%","0.68%",4.1999998092651367,0.38,432,9,"97.96%","2.04%",3.5999999046325684,0.45,410,31,"92.97%","7.03%"]
[6013,"6013 Somerset Academy MS (South Campus)",67,13.399999618530273,0.34,66,1,"98.51%","1.49%",2.9000000953674316,0.37,61,6,"91.04%","8.96%",3.5,0.28999999999999998,67,null,"100.00%",null,3.7999999523162842,0.34,66,1,"98.51%","1.49%",3.2000000476837158,0.4,63,4,"94.03%","5.97%"]
[6014,"6014 Imater Academy Middle School ",159,13.800000190734863,0.35,159,null,"100.00%",null,3.0999999046325684,0.39,151,8,"94.97%","5.03%",3.5999999046325684,0.3,159,null,"100.00%",null,3.7000000476837158,0.33,158,1,"99.37%","0.63%",3.4000000953674316,0.43,151,8,"94.97%","5.03%"]
[6015,"6015 Sports Leadership And Management (Slam) Chart",136,14.300000190734863,0.37,136,null,"100.00%",null,3,0.38,132,4,"97.06%","2.94%",3.7000000476837158,0.31,136,null,"100.00%",null,4,0.37,131,5,"96.32%","3.68%",3.5,0.44,126,10,"92.65%","7.35%"]
[6020,"6020 Aspira Charter",227,12.600000381469727,0.32,227,null,"100.00%",null,2.7000000476837158,0.35,216,11,"95.15%","4.85%",3.4000000953674316,0.28999999999999998,226,1,"99.56%","0.44%",3.5,0.32,226,1,"99.56%","0.44%",2.9000000953674316,0.37,223,4,"98.24%","1.76%"]
[6021,"6021 Arvida Middle School",429,15,0.38,424,5,"98.83%","1.17%",3.2999999523162842,0.42,393,36,"91.61%","8.39%",3.9000000953674316,0.33,426,3,"99.30%","0.70%",4.0999999046325684,0.38,412,17,"96.04%","3.96%",3.5,0.44,397,32,"92.54%","7.46%"]
[6022,"6022 Pinecrest Academy Charter Middle",199,14.899999618530273,0.38,197,2,"98.99%","1.01%",3.2000000476837158,0.4,185,14,"92.96%","7.04%",3.7999999523162842,0.32,196,3,"98.49%","1.51%",4.1999998092651367,0.38,195,4,"97.99%","2.01%",3.7000000476837158,0.47,183,16,"91.96%","8.04%"]
[6023,"6023 Andover Middle School",288,13.600000381469727,0.35,288,null,"100.00%",null,2.7999999523162842,0.35,285,3,"98.96%","1.04%",3.7000000476837158,0.31,287,1,"99.65%","0.35%",3.7000000476837158,0.33,284,4,"98.61%","1.39%",3.4000000953674316,0.43,274,14,"95.14%","4.86%"]
[6030,"6030 Doral Academy Charter Middle",460,15.800000190734863,0.4,452,8,"98.26%","1.74%",3.5,0.44,405,55,"88.04%","11.96%",4.0999999046325684,0.34,449,11,"97.61%","2.39%",4.5,0.4,432,28,"93.91%","6.09%",3.7000000476837158,0.46,421,39,"91.52%","8.48%"]
[6031,"6031 Brownsville Middle School",264,12.100000381469727,0.31,264,null,"100.00%",null,2.5999999046325684,0.32,260,4,"98.48%","1.52%",3.2000000476837158,0.27,264,null,"100.00%",null,3.4000000953674316,0.3,261,3,"98.86%","1.14%",2.9000000953674316,0.37,258,6,"97.73%","2.27%"]
[6033,"6033 Mater Academy Lakes Middle School",239,15.100000381469727,0.39,239,null,"100.00%",null,3.4000000953674316,0.43,224,15,"93.72%","6.28%",3.9000000953674316,0.32,237,2,"99.16%","0.84%",4.0999999046325684,0.37,234,5,"97.91%","2.09%",3.7000000476837158,0.47,226,13,"94.56%","5.44%"]
[6040,"6040 Doctors Charter School Of Miami Shores ",88,18.299999237060547,0.47,85,3,"96.59%","3.41%",4,0.51,71,17,"80.68%","19.32%",5,0.42,85,3,"96.59%","3.41%",5,0.46,82,6,"93.18%","6.82%",4.3000001907348633,0.54,72,16,"81.82%","18.18%"]
[6041,"6041 Paul W. Bell Middle School",150,13.399999618530273,0.34,149,1,"99.33%","0.67%",3,0.38,140,10,"93.33%","6.67%",3.5,0.3,150,null,"100.00%",null,3.9000000953674316,0.35,147,3,"98.00%","2.00%",3,0.37,147,3,"98.00%","2.00%"]
[6042,"6042 Mater Gardens Academy Middle School",79,14.600000381469727,0.37,79,null,"100.00%",null,3.2000000476837158,0.4,74,5,"93.67%","6.33%",3.7999999523162842,0.32,79,null,"100.00%",null,3.9000000953674316,0.35,78,1,"98.73%","1.27%",3.7000000476837158,0.46,76,3,"96.20%","3.80%"]
[6045,"6045 International Studies Charter Middle",90,14.699999809265137,0.38,90,null,"100.00%",null,3.4000000953674316,0.43,79,11,"87.78%","12.22%",3.7000000476837158,0.31,90,null,"100.00%",null,4,0.37,90,null,"100.00%",null,3.5999999046325684,0.45,82,8,"91.11%","8.89%"]
[6047,"6047 Mater Acad. MS of International Studies",42,13.5,0.35,42,null,"100.00%",null,2.7999999523162842,0.35,38,4,"90.48%","9.52%",3.7000000476837158,0.31,40,2,"95.24%","4.76%",3.7999999523162842,0.34,42,null,"100.00%",null,3.2000000476837158,0.41,40,2,"95.24%","4.76%"]
[6048,"6048 Miami Community Charter Middle School",107,11.899999618530273,0.3,107,null,"100.00%",null,2.4000000953674316,0.3,106,1,"99.07%","0.93%",3.4000000953674316,0.28000000000000003,107,null,"100.00%",null,3.2999999523162842,0.3,106,1,"99.07%","0.93%",2.7999999523162842,0.35,105,2,"98.13%","1.87%"]
[6049,"6049 River Cities Community Charter School",40,12.100000381469727,0.31,40,null,"100.00%",null,2.5,0.31,40,null,"100.00%",null,3.9000000953674316,0.33,40,null,"100.00%",null,3,0.27,40,null,"100.00%",null,2.7000000476837158,0.33,39,1,"97.50%","2.50%"]
[6051,"6051 Carol City Middle School",142,10.899999618530273,0.28000000000000003,141,1,"99.30%","0.70%",2.2000000476837158,0.27,141,1,"99.30%","0.70%",2.7999999523162842,0.24,141,1,"99.30%","0.70%",3.0999999046325684,0.28000000000000003,141,1,"99.30%","0.70%",2.7999999523162842,0.35,139,3,"97.89%","2.11%"]
[6052,"6052 Zelda Glazer Middle",348,13.5,0.35,348,null,"100.00%",null,3,0.37,329,19,"94.54%","5.46%",3.7000000476837158,0.31,347,1,"99.71%","0.29%",3.5999999046325684,0.32,344,4,"98.85%","1.15%",3.2000000476837158,0.4,326,22,"93.68%","6.32%"]
[6053,"6053 Somerset Academy Middle (South Miami)",34,16.399999618530273,0.42,34,null,"100.00%",null,3.5,0.44,31,3,"91.18%","8.82%",4.0999999046325684,0.35,33,1,"97.06%","2.94%",5,0.45,33,1,"97.06%","2.94%",3.7999999523162842,0.47,32,2,"94.12%","5.88%"]
[6060,"6060 Aspira south",118,13.699999809265137,0.35,118,null,"100.00%",null,2.7999999523162842,0.35,111,7,"94.07%","5.93%",3.9000000953674316,0.33,117,1,"99.15%","0.85%",3.7000000476837158,0.34,115,3,"97.46%","2.54%",3.2000000476837158,0.4,114,4,"96.61%","3.39%"]
[6061,"6061 Campbell Drive Middle School",143,12.5,0.32,143,null,"100.00%",null,2.4000000953674316,0.3,141,2,"98.60%","1.40%",3.2999999523162842,0.28000000000000003,143,null,"100.00%",null,3.7000000476837158,0.33,140,3,"97.90%","2.10%",3.0999999046325684,0.39,132,11,"92.31%","7.69%"]
[6070,"6070 Aspira",161,13.199999809265137,0.34,161,null,"100.00%",null,2.9000000953674316,0.36,155,6,"96.27%","3.73%",3.4000000953674316,0.28999999999999998,161,null,"100.00%",null,3.5999999046325684,0.33,157,4,"97.52%","2.48%",3.2999999523162842,0.41,156,5,"96.89%","3.11%"]
[6071,"6071 G. W. Carver Middle",345,19,0.49,332,13,"96.23%","3.77%",4.4000000953674316,0.55000000000000004,254,91,"73.62%","26.38%",5.1999998092651367,0.43,317,28,"91.88%","8.12%",5.4000000953674316,0.49,303,42,"87.83%","12.17%",4,0.51,304,41,"88.12%","11.88%"]
[6082,"6082 Academir Charter School Middle",7,11.699999809265137,0.3,7,null,"100.00%",null,2.0999999046325684,0.27,7,null,"100.00%",null,3.9000000953674316,0.32,7,null,"100.00%",null,2.5999999046325684,0.23,7,null,"100.00%",null,3.0999999046325684,0.4,7,null,"100.00%"]
[6091,"6091 CItrus Grove Middle School",263,11.899999618530273,0.31,263,null,"100.00%",null,2.4000000953674316,0.31,257,6,"97.72%","2.28%",3.2999999523162842,0.28000000000000003,263,null,"100.00%",null,3.2999999523162842,0.3,259,4,"98.48%","1.52%",2.9000000953674316,0.36,253,10,"96.20%","3.80%"]
[6111,"6111 Cutler Ridge Middle School",402,12.399999618530273,0.32,402,null,"100.00%",null,2.5,0.32,396,6,"98.51%","1.49%",3.5,0.28999999999999998,402,null,"100.00%",null,3.5,0.31,400,2,"99.50%","0.50%",2.9000000953674316,0.37,390,12,"97.01%","2.99%"]
[6121,"6121 Ruben Dario Middle School",200,12.600000381469727,0.32,200,null,"100.00%",null,2.7000000476837158,0.34,196,4,"98.00%","2.00%",3.2999999523162842,0.28000000000000003,200,null,"100.00%",null,3.5999999046325684,0.32,196,4,"98.00%","2.00%",3,0.38,197,3,"98.50%","1.50%"]
[6161,"6161 Lawton Chiles Middle",161,13.5,0.35,161,null,"100.00%",null,2.7000000476837158,0.34,156,5,"96.89%","3.11%",3.7999999523162842,0.32,161,null,"100.00%",null,3.7999999523162842,0.34,159,2,"98.76%","1.24%",3.2000000476837158,0.4,151,10,"93.79%","6.21%"]
[6171,"6171 Henry H. Filer Middle School",320,12.5,0.32,319,1,"99.69%","0.31%",2.7999999523162842,0.35,311,9,"97.19%","2.81%",3.4000000953674316,0.28000000000000003,320,null,"100.00%",null,3.2999999523162842,0.3,313,7,"97.81%","2.19%",3,0.38,309,11,"96.56%","3.44%"]
[6211,"6211 Glades Middle School",407,14.399999618530273,0.37,403,4,"99.02%","0.98%",3.2999999523162842,0.41,365,42,"89.68%","10.32%",3.9000000953674316,0.32,405,2,"99.51%","0.49%",3.9000000953674316,0.35,394,13,"96.81%","3.19%",3.4000000953674316,0.42,391,16,"96.07%","3.93%"]
[6221,"6221 Hammocks Middle School",366,14.699999809265137,0.38,362,4,"98.91%","1.09%",3.2000000476837158,0.4,339,27,"92.62%","7.38%",4.0999999046325684,0.34,356,10,"97.27%","2.73%",4,0.36,356,10,"97.27%","2.73%",3.5,0.44,325,41,"88.80%","11.20%"]
[6231,"6231 Hialeah Middle School",249,12.800000190734863,0.33,249,null,"100.00%",null,2.5999999046325684,0.33,245,4,"98.39%","1.61%",3.5,0.28999999999999998,249,null,"100.00%",null,3.5,0.32,245,4,"98.39%","1.61%",3.0999999046325684,0.39,238,11,"95.58%","4.42%"]
[6241,"6241 Highland Oaks Middle School",436,14.899999618530273,0.38,425,11,"97.48%","2.52%",3.2999999523162842,0.42,391,45,"89.68%","10.32%",4,0.34,422,14,"96.79%","3.21%",4.0999999046325684,0.37,406,30,"93.12%","6.88%",3.5,0.44,395,41,"90.60%","9.40%"]
[6251,"6251 Homestead Middle School",172,13.199999809265137,0.34,172,null,"100.00%",null,2.5999999046325684,0.33,169,3,"98.26%","1.74%",3.5999999046325684,0.3,171,1,"99.42%","0.58%",3.7999999523162842,0.34,170,2,"98.84%","1.16%",3.2000000476837158,0.4,165,7,"95.93%","4.07%"]
[6281,"6281 Thomas Jefferson Middle",127,12.199999809265137,0.31,127,null,"100.00%",null,2.5,0.31,126,1,"99.21%","0.79%",3.5,0.28999999999999998,127,null,"100.00%",null,3.4000000953674316,0.31,126,1,"99.21%","0.79%",2.9000000953674316,0.36,124,3,"97.64%","2.36%"]
[6301,"6301 JFK Middle School",387,15.5,0.4,385,2,"99.48%","0.52%",3.2999999523162842,0.41,351,36,"90.70%","9.30%",4.1999998092651367,0.35,385,2,"99.48%","0.52%",4.5,0.41,363,24,"93.80%","6.20%",3.5,0.44,362,25,"93.54%","6.46%"]
[6331,"6331 Kinloch Park Middle School",364,12.5,0.32,364,null,"100.00%",null,2.7000000476837158,0.34,349,15,"95.88%","4.12%",3.2999999523162842,0.27,364,null,"100.00%",null,3.5,0.32,358,6,"98.35%","1.65%",3,0.37,357,7,"98.08%","1.92%"]
[6351,"6351 Lake Stevens Middle School",200,13.300000190734863,0.34,199,1,"99.50%","0.50%",2.9000000953674316,0.36,190,10,"95.00%","5.00%",3.5,0.28999999999999998,198,2,"99.00%","1.00%",3.7000000476837158,0.33,197,3,"98.50%","1.50%",3.2000000476837158,0.4,191,9,"95.50%","4.50%"]
[6361,"6361 Jose de Diego Middle School",198,10.600000381469727,0.27,198,null,"100.00%",null,2.2000000476837158,0.28000000000000003,196,2,"98.99%","1.01%",2.7999999523162842,0.24,198,null,"100.00%",null,2.9000000953674316,0.26,197,1,"99.49%","0.51%",2.5999999046325684,0.33,194,4,"97.98%","2.02%"]
[6391,"6391 Madison Middle School",146,12.699999809265137,0.33,146,null,"100.00%",null,2.5999999046325684,0.33,144,2,"98.63%","1.37%",3.2999999523162842,0.27,146,null,"100.00%",null,3.5,0.32,146,null,"100.00%",null,3.2999999523162842,0.42,139,7,"95.21%","4.79%"]
[6411,"6411 Horace Mann Middle School",234,12.800000190734863,0.33,234,null,"100.00%",null,2.7000000476837158,0.34,224,10,"95.73%","4.27%",3.5,0.28999999999999998,234,null,"100.00%",null,3.5999999046325684,0.33,231,3,"98.72%","1.28%",3.0999999046325684,0.39,222,12,"94.87%","5.13%"]
[6441,"6441 Howard D. McMillan Middle",281,14.600000381469727,0.37,277,4,"98.58%","1.42%",3.2000000476837158,0.4,254,27,"90.39%","9.61%",3.9000000953674316,0.32,272,9,"96.80%","3.20%",4.0999999046325684,0.37,275,6,"97.86%","2.14%",3.5,0.44,256,25,"91.10%","8.90%"]
[6501,"6501 Miami Lakes Middle School",262,13.600000381469727,0.35,259,3,"98.85%","1.15%",2.9000000953674316,0.36,246,16,"93.89%","6.11%",3.7999999523162842,0.31,260,2,"99.24%","0.76%",3.7999999523162842,0.34,255,7,"97.33%","2.67%",3.2000000476837158,0.41,244,18,"93.13%","6.87%"]
[6521,"6521 Miami Springs Middle School",456,13.300000190734863,0.34,453,3,"99.34%","0.66%",2.7999999523162842,0.35,436,20,"95.61%","4.39%",3.7000000476837158,0.31,453,3,"99.34%","0.66%",3.7000000476837158,0.34,439,17,"96.27%","3.73%",3.0999999046325684,0.39,426,30,"93.42%","6.58%"]
[6541,"6541 Nautilus Middle",344,14.199999809265137,0.36,343,1,"99.71%","0.29%",3.2000000476837158,0.41,312,32,"90.70%","9.30%",3.9000000953674316,0.32,342,2,"99.42%","0.58%",3.7999999523162842,0.35,332,12,"96.51%","3.49%",3.2999999523162842,0.41,327,17,"95.06%","4.94%"]
[6571,"6571 Norland Middle",283,13.199999809265137,0.34,283,null,"100.00%",null,2.7999999523162842,0.35,271,12,"95.76%","4.24%",3.5,0.28999999999999998,282,1,"99.65%","0.35%",3.5,0.32,282,1,"99.65%","0.35%",3.2999999523162842,0.41,265,18,"93.64%","6.36%"]
[6591,"6591 North Dade Middle School",263,13,0.33,263,null,"100.00%",null,2.7999999523162842,0.35,254,9,"96.58%","3.42%",3.5999999046325684,0.3,262,1,"99.62%","0.38%",3.4000000953674316,0.31,263,null,"100.00%",null,3.2000000476837158,0.4,250,13,"95.06%","4.94%"]
[6611,"6611 Country Club Middle School",371,12.300000190734863,0.32,371,null,"100.00%",null,2.5,0.32,358,13,"96.50%","3.50%",3.2999999523162842,0.28000000000000003,371,null,"100.00%",null,3.4000000953674316,0.31,365,6,"98.38%","1.62%",3,0.38,358,13,"96.50%","3.50%"]
[6631,"6631 North Miami Middle School",327,12.800000190734863,0.33,327,null,"100.00%",null,2.7000000476837158,0.34,313,14,"95.72%","4.28%",3.5,0.28999999999999998,326,1,"99.69%","0.31%",3.5999999046325684,0.32,326,1,"99.69%","0.31%",3.0999999046325684,0.39,316,11,"96.64%","3.36%"]
[6681,"6681 Palm Springs Middle",386,12.899999618530273,0.33,385,1,"99.74%","0.26%",2.7000000476837158,0.34,375,11,"97.15%","2.85%",3.5,0.28999999999999998,386,null,"100.00%",null,3.5999999046325684,0.33,381,5,"98.70%","1.30%",3.0999999046325684,0.39,368,18,"95.34%","4.66%"]
[6701,"6701 Palmetto Middle School",336,14.800000190734863,0.38,331,5,"98.51%","1.49%",3.2999999523162842,0.41,299,37,"88.99%","11.01%",3.7999999523162842,0.31,329,7,"97.92%","2.08%",4.3000001907348633,0.39,308,28,"91.67%","8.33%",3.4000000953674316,0.43,307,29,"91.37%","8.63%"]
[6741,"6741 Ponce de Leon Middle School",317,13.800000190734863,0.35,316,1,"99.68%","0.32%",3,0.38,293,24,"92.43%","7.57%",3.7000000476837158,0.31,313,4,"98.74%","1.26%",3.9000000953674316,0.36,306,11,"96.53%","3.47%",3.0999999046325684,0.39,297,20,"93.69%","6.31%"]
[6751,"6751 Hialeah Gardens Middle School",582,14.399999618530273,0.37,577,5,"99.14%","0.86%",3.0999999046325684,0.4,544,38,"93.47%","6.53%",3.9000000953674316,0.32,574,8,"98.63%","1.37%",3.9000000953674316,0.36,566,16,"97.25%","2.75%",3.5,0.44,538,44,"92.44%","7.56%"]
[{"$f":"IFERROR(VALUE(LEFT(B142,4)),\"\")","v":6761},"6761 Redland Middle School",154,13.100000381469727,0.34,154,null,"100.00%",null,2.7000000476837158,0.34,150,4,"97.40%","2.60%",3.7000000476837158,0.31,153,1,"99.35%","0.65%",3.7000000476837158,0.33,152,2,"98.70%","1.30%",3,0.38,143,11,"92.86%","7.14%"]
[6771,"6771 Jorge Mas Canosa Middle School",639,14.399999618530273,0.37,632,7,"98.90%","1.10%",3.2999999523162842,0.41,593,46,"92.80%","7.20%",3.7999999523162842,0.31,633,6,"99.06%","0.94%",3.9000000953674316,0.35,620,19,"97.03%","2.97%",3.5,0.44,592,47,"92.64%","7.36%"]
[6781,"6781 Richmond heights Middle School",144,12.600000381469727,0.32,144,null,"100.00%",null,2.5,0.32,142,2,"98.61%","1.39%",3.5999999046325684,0.3,144,null,"100.00%",null,3.5,0.31,143,1,"99.31%","0.69%",3.0999999046325684,0.39,139,5,"96.53%","3.47%"]
[6801,"6801 Riviera Middle School",259,14.5,0.37,255,4,"98.46%","1.54%",3.0999999046325684,0.4,241,18,"93.05%","6.95%",3.9000000953674316,0.33,257,2,"99.23%","0.77%",4.1999998092651367,0.38,253,6,"97.68%","2.32%",3.2999999523162842,0.41,243,16,"93.82%","6.18%"]
[6821,"6821 Rockway Middle School",302,13.600000381469727,0.35,301,1,"99.67%","0.33%",3,0.37,280,22,"92.72%","7.28%",3.5,0.28999999999999998,302,null,"100.00%",null,3.7999999523162842,0.34,297,5,"98.34%","1.66%",3.2999999523162842,0.42,289,13,"95.70%","4.30%"]
[6841,"6841 Shenandoah Middle School",373,13,0.33,371,2,"99.46%","0.54%",2.7999999523162842,0.35,360,13,"96.51%","3.49%",3.5999999046325684,0.3,371,2,"99.46%","0.54%",3.5999999046325684,0.33,367,6,"98.39%","1.61%",3.0999999046325684,0.38,359,14,"96.25%","3.75%"]
[6861,"6861 Southwood Middle School",409,15.600000381469727,0.4,402,7,"98.29%","1.71%",3.4000000953674316,0.43,369,40,"90.22%","9.78%",4.0999999046325684,0.34,401,8,"98.04%","1.96%",4.4000000953674316,0.4,378,31,"92.42%","7.58%",3.5999999046325684,0.45,372,37,"90.95%","9.05%"]
[6881,"6881 South Miami Middle School",348,16.600000381469727,0.43,339,9,"97.41%","2.59%",3.9000000953674316,0.49,292,56,"83.91%","16.09%",4.3000001907348633,0.36,335,13,"96.26%","3.74%",4.6999998092651367,0.42,321,27,"92.24%","7.76%",3.7999999523162842,0.48,314,34,"90.23%","9.77%"]
[6901,"6901 WR Thomas Middle School",380,15.5,0.4,376,4,"98.95%","1.05%",3.5999999046325684,0.45,336,44,"88.42%","11.58%",4.0999999046325684,0.34,375,5,"98.68%","1.32%",4.3000001907348633,0.39,366,14,"96.32%","3.68%",3.5,0.44,356,24,"93.68%","6.32%"]
[6921,"6921 Lamar Louise Curry Middle School",359,16.5,0.42,351,8,"97.77%","2.23%",3.7000000476837158,0.46,312,47,"86.91%","13.09%",4.3000001907348633,0.36,352,7,"98.05%","1.95%",4.6999998092651367,0.43,329,30,"91.64%","8.36%",3.9000000953674316,0.48,318,41,"88.58%","11.42%"]
[6961,"6961 West Miami Middle School",318,13.300000190734863,0.34,317,1,"99.69%","0.31%",2.7999999523162842,0.35,306,12,"96.23%","3.77%",3.5999999046325684,0.3,317,1,"99.69%","0.31%",3.7000000476837158,0.33,315,3,"99.06%","0.94%",3.2999999523162842,0.41,301,17,"94.65%","5.35%"]
[7055,"7055 Young Women's Preparatory Academy",80,16,0.41,80,null,"100.00%",null,3.7000000476837158,0.47,74,6,"92.50%","7.50%",4,0.33,78,2,"97.50%","2.50%",4.5,0.41,78,2,"97.50%","2.50%",3.7999999523162842,0.47,74,6,"92.50%","7.50%"]
[7056,"7056 Young Men's Preparatory High School",53,12.699999809265137,0.33,53,null,"100.00%",null,2.5999999046325684,0.33,52,1,"98.11%","1.89%",4.1999998092651367,0.35,53,null,"100.00%",null,2.7999999523162842,0.25,52,1,"98.11%","1.89%",3.2000000476837158,0.4,50,3,"94.34%","5.66%"]
[7059,"7059 Miami Arts Charter",117,16.899999618530273,0.43,114,3,"97.44%","2.56%",3.9000000953674316,0.49,105,12,"89.74%","10.26%",4.5999999046325684,0.38,116,1,"99.15%","0.85%",4.8000001907348633,0.43,113,4,"96.58%","3.42%",3.7000000476837158,0.46,110,7,"94.02%","5.98%"]
[7262,"7262 City of Hialeah Education Academy",39,13.600000381469727,0.35,38,1,"97.44%","2.56%",2.7000000476837158,0.34,37,2,"94.87%","5.13%",3.4000000953674316,0.28000000000000003,39,null,"100.00%",null,4.0999999046325684,0.37,38,1,"97.44%","2.56%",3.4000000953674316,0.43,37,2,"94.87%","5.13%"]
[7291,"7291 Jose Marti ",150,17.200000762939453,0.44,147,3,"98.00%","2.00%",3.9000000953674316,0.49,135,15,"90.00%","10.00%",4.5999999046325684,0.38,146,4,"97.33%","2.67%",4.9000000953674316,0.45,137,13,"91.33%","8.67%",3.9000000953674316,0.49,137,13,"91.33%","8.67%"]
[7351,"7351 Arthur And Polly Mays 6-12 Conservatory Of Th",111,14,0.36,111,null,"100.00%",null,2.9000000953674316,0.36,105,6,"94.59%","5.41%",3.7999999523162842,0.31,110,1,"99.10%","0.90%",3.9000000953674316,0.35,105,6,"94.59%","5.41%",3.5,0.44,101,10,"90.99%","9.01%"]
[7631,"7631 MacArthur South Senior High",5,8.3999996185302734,0.21,5,null,"100.00%",null,1.7999999523162842,0.23,5,null,"100.00%",null,2.2000000476837158,0.18,5,null,"100.00%",null,2,0.18,5,null,"100.00%",null,2.4000000953674316,0.3,5,null,"100.00%"]
[8014,"8014 Educational Alt. Outreach Program",8,7,0.18,8,null,"100.00%",null,1.5,0.19,8,null,"100.00%",null,2.4000000953674316,0.2,8,null,"100.00%",null,2,0.18,8,null,"100.00%",null,1.1000000238418579,0.14000000000000001,8,null,"100.00%"]
[8017,"8017 Outreachprograms",17,9.8999996185302734,0.25,17,null,"100.00%",null,1.7999999523162842,0.22,17,null,"100.00%",null,2.7999999523162842,0.23,17,null,"100.00%",null,2.7999999523162842,0.25,17,null,"100.00%",null,2.5,0.32,16,1,"94.12%","5.88%"]
[{"$f":"IFERROR(VALUE(LEFT(B162,4)),\"\")","v":8101},"8101 Jan Mann Opp. Center",9,9.6999998092651367,0.25,9,null,"100.00%",null,2.4000000953674316,0.31,9,null,"100.00%",null,2.2999999523162842,0.2,9,null,"100.00%",null,2.4000000953674316,0.22,9,null,"100.00%",null,2.4000000953674316,0.31,9,null,"100.00%"]
[8121,"8121 C.O.P.E. Center North",2,13.5,0.34,2,null,"100.00%",null,1.5,0.19,2,null,"100.00%",null,4,0.34,2,null,"100.00%",null,4.5,0.41,2,null,"100.00%",null,3.5,0.44,2,null,"100.00%"]
[8131,"8131 Dorothy M. Wallace COPE Center",2,10,0.26,2,null,"100.00%",null,2,0.25,2,null,"100.00%",null,3,0.25,2,null,"100.00%",null,2,0.18,2,null,"100.00%",null,3,0.38,2,null,"100.00%"]
[8151,"8151 Renick, Robert Educational Center",6,10.800000190734863,0.28000000000000003,6,null,"100.00%",null,2.2000000476837158,0.27,6,null,"100.00%",null,3.2999999523162842,0.28000000000000003,6,null,"100.00%",null,3,0.27,6,null,"100.00%",null,2.2999999523162842,0.28999999999999998,6,null,"100.00%"]
[8181,"8181 Ruth Owens Kruse Educational Center",10,12.600000381469727,0.32,10,null,"100.00%",null,2.4000000953674316,0.3,10,null,"100.00%",null,3.7000000476837158,0.31,10,null,"100.00%",null,3.5,0.32,10,null,"100.00%",null,3,0.38,9,1,"90.00%","10.00%"]
[9732,"9732 Merrick Educational Center",10,10.600000381469727,0.27,10,null,"100.00%",null,2.4000000953674316,0.3,10,null,"100.00%",null,2.7000000476837158,0.22,10,null,"100.00%",null,3.2000000476837158,0.28999999999999998,10,null,"100.00%",null,2.2999999523162842,0.28999999999999998,10,null,"100.00%"]
["","Female",12004,14.399999618530273,0.37,11927,77,"99.36%","0.64%",3.0999999046325684,0.39,11184,820,"93.17%","6.83%",3.7999999523162842,0.32,11880,124,"98.97%","1.03%",4,0.36,11639,365,"96.96%","3.04%",3.4000000953674316,0.43,11281,723,"93.98%","6.02%"]
["","Male",12835,13.899999618530273,0.36,12708,127,"99.01%","0.99%",3,0.38,11908,927,"92.78%","7.22%",3.7999999523162842,0.32,12666,169,"98.68%","1.32%",3.9000000953674316,0.35,12402,433,"96.63%","3.37%",3.2999999523162842,0.41,12012,823,"93.59%","6.41%"]
[9999,"9999 District",{"$f":"SUM(C168:C169)","v":24839},{"$f":"SUMPRODUCT(C168:C169,D168:D169)/C170","v":14.141635755250753},{"$f":"D170/(MID(D$11,(SEARCH(\"(\",D$11)+1),(LEN(D$11)-SEARCH(\"(\",D$11)-9)))","v":0.36260604500642957},{"$f":"SUM(F168:F169)","v":24635},{"$f":"SUM(G168:G169)","v":204},{"$f":"F170/C170","v":0.99178710898184308},{"$f":"G170/C170","v":8.2128910181569308E-3},{"$f":"SUMPRODUCT(C168:C169,J168:J169)/C170","v":3.0483271812556603},{"$f":"J170/(MID(J$11,(SEARCH(\"(\",J$11)+1),(LEN(J$11)-SEARCH(\"(\",J$11)-9)))","v":0.38104089765695753},{"$f":"SUM(L168:L169)","v":23092},{"$f":"SUM(M168:M169)","v":1747},{"$f":"L170/C170","v":0.92966705583960707},{"$f":"M170/C170","v":7.033294416039293E-2},{"$f":"SUMPRODUCT(C168:C169,P168:P169)/C170","v":3.7999999523162842},{"$f":"P170/(MID(P$11,(SEARCH(\"(\",P$11)+1),(LEN(P$11)-SEARCH(\"(\",P$11)-9)))","v":0.31666666269302368},{"$f":"SUM(R168:R169)","v":24546},{"$f":"SUM(S168:S169)","v":293},{"$f":"R170/C170","v":0.98820403397882361},{"$f":"S170/C170","v":1.1795966021176376E-2},{"$f":"SUMPRODUCT(C168:C169,V168:V169)/C170","v":3.9483272766230919},{"$f":"V170/(MID(V$11,(SEARCH(\"(\",V$11)+1),(LEN(V$11)-SEARCH(\"(\",V$11)-9)))","v":0.35893884332937198},{"$f":"SUM(X168:X169)","v":24041},{"$f":"SUM(Y168:Y169)","v":798},{"$f":"X170/C170","v":0.96787310278191552},{"$f":"Y170/C170","v":3.2126897218084462E-2},{"$f":"SUMPRODUCT(C168:C169,AB168:AB169)/C170","v":3.3483272487930336},{"$f":"AB170/(MID(AB$11,(SEARCH(\"(\",AB$11)+1),(LEN(AB$11)-SEARCH(\"(\",AB$11)-9)))","v":0.4185409060991292},{"$f":"SUM(AD168:AD169)","v":23293},{"$f":"SUM(AE168:AE169)","v":1546},{"$f":"AD170/C170","v":0.9377591690486734},{"$f":"AE170/C170","v":6.2240830951326542E-2}]
[""]
[""]
[""]
[""]
[""]
[""]
[""]
[""]
[""]
[""]
[""]
[""]
[""]
[""]
[""]
[""]
[""]
[""]
[""]
[""]
[""]
[""]
[""]
[""]
[""]
[""]
[""]
[""]
[""]
[""]
[""]
[""]
[""]
[""]
[""]
[{"$f":"IFERROR(VALUE(LEFT(B206,4)),\"\")","v":""}]
[""]
[""]
[""]
[""]
[""]
[""]
[""]
[""]
[""]
[""]
[""]
[""]
[""]
[""]
[""]
[""]
[""]
[""]
[""]
[""]
[""]
[""]
[""]
[""]
[""]
[""]
[""]
[""]
[""]
[""]
[""]
[""]
[""]
[""]
[""]
[""]
[""]
[""]
[""]
[""]
[""]
[""]
[""]
[""]
[""]
[""]
[""]
[""]
[""]
[""]
[""]
[""]
[""]
[""]
[""]
[""]
[""]
[""]
[""]
[""]
[""]
[""]
[""]
[{"$f":"IFERROR(VALUE(LEFT(B270,4)),\"\")","v":""}]
[""]
[""]
[""]
[""]
[""]
[""]
[""]
[""]
[""]
[""]
[""]
[""]
[""]
[""]
[""]
[""]
[""]
[""]
[""]
[""]
[""]
[""]
[""]
[""]
[""]
[""]
[""]
[""]
[""]
[""]
[""]
[""]
[""]
[""]
[""]
[""]
[""]
[""]
[""]
[""]
[""]
[""]
[""]
[""]
[""]
[""]
[""]
[""]
[""]
[""]
[""]
[""]
[""]
[""]
[""]
[""]
[""]
[""]
[""]
[""]
[""]
[""]
[""]
[{"$f":"IFERROR(VALUE(LEFT(B334,4)),\"\")","v":""}]
[""]
[""]
[""]
[""]
[""]
[""]
[""]
[""]
[""]
[""]
[""]
[""]
[""]
[""]
[""]
[""]
[""]
[""]
[""]
[""]
[""]
[""]
[""]
[""]
[""]
[""]
[""]
[""]
[""]
[""]
[""]
[""]
[""]
[""]
[""]
[""]
[""]
[""]
[""]
[""]
[""]
[""]
[""]
[""]
[""]
[""]
[""]
[""]
[""]
[""]
[""]
[""]
[""]
[""]
[""]
[""]
[""]
[""]
[""]
[""]
[""]
[""]
[""]
[{"$f":"IFERROR(VALUE(LEFT(B398,4)),\"\")","v":""}]
[""]
[""]
[""]
[""]
[""]
[""]
[""]
[""]
[""]
[""]
[""]
[""]
[""]
[""]
[""]

{"sheet":"2012-13 BL USH","index":17,"n_rows":413,"n_cols":33,"rows_kept":413,"cut":false,"hidden":true,"merged":[[9,1,11,1],[9,2,9,26],[10,2,12,2],[10,3,10,8],[10,9,10,14],[10,15,10,20],[10,21,10,26],[11,5,11,6],[11,7,11,8],[11,11,11,12],[11,13,11,14],[11,17,11,18],[11,19,11,20],[11,23,11,24],[11,25,11,26]]}
[null,"SS-USH-RC-SCHL-ALL"]
[]
[null,"Description:","US History RC school all "]
[null,"Student Selection:","All Schools | 2012-2013 Fall, 2012-2013 School Year"]
[null,"Group By Data:","School"]
[null,"Assessments:","Baseline 2012:  Grade 11 United States History August 2012"]
[null,"Scores:","Overall Avg Raw Score, Overall Avg % Correct, Overall # in Performance Band, Overall % in Performance Band, Question Groups Avg Raw Score, Question Groups Avg % Correct, Question Groups # in Performance Band, Question Groups % in Performance Band"]
[null,"Author Name:","Yuwadee Wongbundhit"]
[{"$f":"COLUMN()","v":1},{"$f":"COLUMN()","v":2},{"$f":"COLUMN()","v":3},{"$f":"COLUMN()","v":4},{"$f":"COLUMN()","v":5},{"$f":"COLUMN()","v":6},{"$f":"COLUMN()","v":7},{"$f":"COLUMN()","v":8},{"$f":"COLUMN()","v":9},{"$f":"COLUMN()","v":10},{"$f":"COLUMN()","v":11},{"$f":"COLUMN()","v":12},{"$f":"COLUMN()","v":13},{"$f":"COLUMN()","v":14},{"$f":"COLUMN()","v":15},{"$f":"COLUMN()","v":16},{"$f":"COLUMN()","v":17},{"$f":"COLUMN()","v":18},{"$f":"COLUMN()","v":19},{"$f":"COLUMN()","v":20},{"$f":"COLUMN()","v":21},{"$f":"COLUMN()","v":22},{"$f":"COLUMN()","v":23},{"$f":"COLUMN()","v":24},{"$f":"COLUMN()","v":25},{"$f":"COLUMN()","v":26},{"$f":"COLUMN()","v":27}]
[null,"Total Row(s): 86 Generated on Sep-22-2012 by Yuwadee Wongbundhit","Baseline 2012:  Grade 11 United States History August 2012"]
[null,null,"Total # students","Overall (57 pts max)",null,null,null,null,null,"Late Nineeteenth and Early Century, 1860-1910 (9 pts max)",null,null,null,null,null,"Global Military,Political,and Economic Challenges (19 pts max)",null,null,null,null,null,"The U.S. & Defense of the International  Peace (29 pts max)"]
[null,null,null,"Avg Raw Score","Avg % Correct","# in Performance Band",null,"% in Performance Band",null,"Avg Raw Score","Avg % Correct","# in Performance Band",null,"% in Performance Band",null,"Avg Raw Score","Avg % Correct","# in Performance Band",null,"% in Performance Band",null,"Avg Raw Score","Avg % Correct","# in Performance Band",null,"% in Performance Band"]
[null,"School Name",null,"","","Non Proficient","Proficient","Non Proficient","Proficient","","","Non Proficient","Proficient","Non Proficient","Proficient","","","Non Proficient","Proficient","Non Proficient","Proficient","","","Non Proficient","Proficient","Non Proficient","Proficient"]
[{"$f":"IFERROR(VALUE(LEFT(B14,4)),\"\")","v":6004},"6004 Somerset Academy Charter Middle",28,20.899999618530273,0.37,28,null,"100.00%",null,3.5,0.38,28,null,"100.00%",null,6.9000000953674316,0.36,28,null,"100.00%",null,10.5,0.36,28,null,"100.00%"]
[6040,"6040 Doctors Charter School Of Miami Shores ",63,21.799999237060547,0.38,62,1,"98.41%","1.59%",4.0999999046325684,0.45,61,2,"96.83%","3.17%",7.3000001907348633,0.38,62,1,"98.41%","1.59%",10.5,0.36,62,1,"98.41%","1.59%"]
[6042,"6042 Mater Gardens Academy Middle School",1,21,0.37,1,null,"100.00%",null,5,0.56000000000000005,1,null,"100.00%",null,8,0.42,1,null,"100.00%",null,8,0.28000000000000003,1,null,"100.00%"]
[6049,"6049 River Cities Community Charter School",29,15.199999809265137,0.27,29,null,"100.00%",null,2.7999999523162842,0.3,29,null,"100.00%",null,5.3000001907348633,0.28000000000000003,29,null,"100.00%",null,7.1999998092651367,0.25,29,null,"100.00%"]
[6901,"6901 WR Thomas Middle School",1,12,0.21,1,null,"100.00%",null,1,0.11,1,null,"100.00%",null,4,0.21,1,null,"100.00%",null,7,0.24,1,null,"100.00%"]
[7007,"7007 International Studies Charter High School",96,20.100000381469727,0.35,96,null,"100.00%",null,4,0.45,85,11,"88.54%","11.46%",6.5999999046325684,0.35,95,1,"98.96%","1.04%",9.6000003814697266,0.33,96,null,"100.00%"]
[7009,"7009 Doral Performing Arts Academy",36,20.299999237060547,0.36,36,null,"100.00%",null,3.7000000476837158,0.41,34,2,"94.44%","5.56%",7.3000001907348633,0.38,34,2,"94.44%","5.56%",9.3000001907348633,0.32,36,null,"100.00%"]
[7011,"7011 American Senior High School",402,17.299999237060547,0.3,402,null,"100.00%",null,3,0.34,397,5,"98.76%","1.24%",5.5,0.28999999999999998,402,null,"100.00%",null,8.8000001907348633,0.3,402,null,"100.00%"]
[7015,"7015 Life Skills Center Miami-dade County",24,15.699999809265137,0.28000000000000003,24,null,"100.00%",null,2.7999999523162842,0.31,24,null,"100.00%",null,5,0.26,24,null,"100.00%",null,7.9000000953674316,0.27,24,null,"100.00%"]
[7018,"7018 Mater Academy Lakes High School",154,18.299999237060547,0.32,154,null,"100.00%",null,3.4000000953674316,0.38,153,1,"99.35%","0.65%",6,0.31,153,1,"99.35%","0.65%",8.8999996185302734,0.31,154,null,"100.00%"]
[7020,"7020 Doral Academy High School",204,18.899999618530273,0.33,204,null,"100.00%",null,3.5,0.39,199,5,"97.55%","2.45%",6.3000001907348633,0.33,202,2,"99.02%","0.98%",9.1000003814697266,0.31,204,null,"100.00%"]
[7022,"7022 Academy Of Arts And Minds",83,20.299999237060547,0.36,83,null,"100.00%",null,3.7999999523162842,0.43,80,3,"96.39%","3.61%",6.6999998092651367,0.35,83,null,"100.00%",null,9.6999998092651367,0.34,83,null,"100.00%"]
[7029,"7029 Terra Environmental Institute",190,22.200000762939453,0.39,190,null,"100.00%",null,4.3000001907348633,0.48,171,19,"90.00%","10.00%",7.1999998092651367,0.38,188,2,"98.95%","1.05%",10.600000381469727,0.37,190,null,"100.00%"]
[7033,"7033 Law Enforcement Officers Memorial High",54,20.799999237060547,0.37,54,null,"100.00%",null,3.9000000953674316,0.43,52,2,"96.30%","3.70%",7,0.37,52,2,"96.30%","3.70%",9.8999996185302734,0.34,54,null,"100.00%"]
[7034,"7034 Somerset Academy Charter High South Campus",16,19.700000762939453,0.35,16,null,"100.00%",null,3.2999999523162842,0.37,16,null,"100.00%",null,6.9000000953674316,0.36,16,null,"100.00%",null,9.5,0.33,16,null,"100.00%"]
[7036,"7036 Lawrence Academy  Senior High  Charter School",16,19,0.33,16,null,"100.00%",null,3.2000000476837158,0.35,16,null,"100.00%",null,6.8000001907348633,0.35,16,null,"100.00%",null,9.1000003814697266,0.31,16,null,"100.00%"]
[7037,"7037 Mater Academy  East Charter  High School",76,21.100000381469727,0.37,76,null,"100.00%",null,3.7000000476837158,0.41,75,1,"98.68%","1.32%",7.5,0.4,74,2,"97.37%","2.63%",9.8999996185302734,0.34,76,null,"100.00%"]
[7042,"7042 Somerset Academy Charter High School",80,17.5,0.31,80,null,"100.00%",null,3.0999999046325684,0.34,79,1,"98.75%","1.25%",5.8000001907348633,0.3,80,null,"100.00%",null,8.6999998092651367,0.3,80,null,"100.00%"]
[7048,"7048 Alonzo Andtracy Mourning High (Biscanye Bay)",368,18.700000762939453,0.33,366,2,"99.46%","0.54%",3.4000000953674316,0.37,357,11,"97.01%","2.99%",6,0.32,368,null,"100.00%",null,9.3999996185302734,0.32,365,3,"99.18%","0.82%"]
[7049,"7049 Westland Hialeah Senior",428,16.299999237060547,0.28999999999999998,428,null,"100.00%",null,3,0.33,425,3,"99.30%","0.70%",5.1999998092651367,0.27,428,null,"100.00%",null,8.1999998092651367,0.28000000000000003,428,null,"100.00%"]
[7050,"7050 Keys Gate Charter High School",209,18.100000381469727,0.32,208,1,"99.52%","0.48%",3.4000000953674316,0.37,198,11,"94.74%","5.26%",6,0.32,207,2,"99.04%","0.96%",8.6999998092651367,0.3,208,1,"99.52%","0.48%"]
[7051,"7051 G Holmes Braddock Senior High",563,17.799999237060547,0.31,563,null,"100.00%",null,3.2000000476837158,0.35,543,20,"96.45%","3.55%",5.6999998092651367,0.3,561,2,"99.64%","0.36%",8.8999996185302734,0.31,563,null,"100.00%"]
[7053,"7053 Pinecrest Preparatory Academy Charter HS",40,16.200000762939453,0.28000000000000003,40,null,"100.00%",null,2.7000000476837158,0.3,40,null,"100.00%",null,5.6999998092651367,0.3,40,null,"100.00%",null,7.8000001907348633,0.27,40,null,"100.00%"]
[7054,"7054 Excelsior Charter High School",15,17.899999618530273,0.31,15,null,"100.00%",null,3.2999999523162842,0.36,15,null,"100.00%",null,5.5,0.28999999999999998,15,null,"100.00%",null,9.1000003814697266,0.31,15,null,"100.00%"]
[7055,"7055 Young Women's Preparatory Academy",1,10,0.18,1,null,"100.00%",null,3,0.33,1,null,"100.00%",null,2,0.11,1,null,"100.00%",null,5,0.17,1,null,"100.00%"]
[7056,"7056 Young Men's Preparatory High School",20,18.799999237060547,0.33,20,null,"100.00%",null,3.5999999046325684,0.39,20,null,"100.00%",null,5.6999998092651367,0.3,20,null,"100.00%",null,9.6000003814697266,0.33,20,null,"100.00%"]
[7058,"7058 Miami Community Charter High",30,17.200000762939453,0.3,30,null,"100.00%",null,2.7000000476837158,0.28999999999999998,30,null,"100.00%",null,5.5999999046325684,0.3,30,null,"100.00%",null,8.8999996185302734,0.31,30,null,"100.00%"]
[7059,"7059 Miami Arts Charter",58,21.200000762939453,0.37,58,null,"100.00%",null,4.0999999046325684,0.45,53,5,"91.38%","8.62%",6.8000001907348633,0.36,58,null,"100.00%",null,10.300000190734863,0.36,58,null,"100.00%"]
[7067,"7067 Florida High School Of Accelerated  Learning-",51,15.100000381469727,0.26,51,null,"100.00%",null,2.5,0.27,50,1,"98.04%","1.96%",4.3000001907348633,0.23,51,null,"100.00%",null,8.3000001907348633,0.28999999999999998,51,null,"100.00%"]
[7068,"7068 North Gardens High School",30,17.600000381469727,0.31,30,null,"100.00%",null,3.2000000476837158,0.35,28,2,"93.33%","6.67%",5.8000001907348633,0.3,30,null,"100.00%",null,8.6999998092651367,0.3,30,null,"100.00%"]
[7069,"7069 North Park High School ",42,18,0.32,42,null,"100.00%",null,3.2999999523162842,0.36,40,2,"95.24%","4.76%",5.9000000953674316,0.31,42,null,"100.00%",null,8.8999996185302734,0.3,42,null,"100.00%"]
[7071,"7071 Coral Gables Senior High School",583,16.5,0.28999999999999998,583,null,"100.00%",null,2.9000000953674316,0.32,574,9,"98.46%","1.54%",5.3000001907348633,0.28000000000000003,582,1,"99.83%","0.17%",8.3000001907348633,0.28999999999999998,583,null,"100.00%"]
[7081,"7081 DASH",130,23.899999618530273,0.42,128,2,"98.46%","1.54%",4.4000000953674316,0.49,114,16,"87.69%","12.31%",8.1999998092651367,0.43,124,6,"95.38%","4.62%",11.300000190734863,0.39,129,1,"99.23%","0.77%"]
[7101,"7101 Coral Reef Senior High School",438,18.5,0.33,437,1,"99.77%","0.23%",3.4000000953674316,0.38,413,25,"94.29%","5.71%",6.0999999046325684,0.32,436,2,"99.54%","0.46%",9,0.31,437,1,"99.77%","0.23%"]
[7111,"7111 Hialeah Senior high",595,16.299999237060547,0.28999999999999998,595,null,"100.00%",null,2.7999999523162842,0.31,587,8,"98.66%","1.34%",5.0999999046325684,0.27,594,1,"99.83%","0.17%",8.3000001907348633,0.28999999999999998,595,null,"100.00%"]
[7121,"7121 John A. Ferguson Senior High School",875,18.299999237060547,0.32,874,1,"99.89%","0.11%",3.2999999523162842,0.37,841,34,"96.11%","3.89%",5.9000000953674316,0.31,871,4,"99.54%","0.46%",9,0.31,874,1,"99.89%","0.11%"]
[7131,"7131 Hialeah-Miami Lakes Senior High",342,16.700000762939453,0.28999999999999998,342,null,"100.00%",null,2.7000000476837158,0.3,338,4,"98.83%","1.17%",5.4000000953674316,0.28000000000000003,342,null,"100.00%",null,8.6000003814697266,0.3,341,1,"99.71%","0.29%"]
[7141,"7141 Dr. Michael M. Krop Senior High School",546,19.799999237060547,0.35,546,null,"100.00%",null,3.7999999523162842,0.42,518,28,"94.87%","5.13%",6.5999999046325684,0.35,541,5,"99.08%","0.92%",9.3999996185302734,0.32,546,null,"100.00%"]
[7151,"7151 Homestead Sr. High School",389,16.899999618530273,0.3,389,null,"100.00%",null,2.9000000953674316,0.32,380,9,"97.69%","2.31%",5.5999999046325684,0.28999999999999998,388,1,"99.74%","0.26%",8.3999996185302734,0.28999999999999998,389,null,"100.00%"]
[7160,"7160 Mater Academy High",269,18.200000762939453,0.32,269,null,"100.00%",null,3.2000000476837158,0.36,254,15,"94.42%","5.58%",6,0.32,269,null,"100.00%",null,9,0.31,269,null,"100.00%"]
[7161,"7161 MAST Academy",37,23.299999237060547,0.41,37,null,"100.00%",null,4,0.44,37,null,"100.00%",null,7.5,0.39,37,null,"100.00%",null,11.800000190734863,0.41,37,null,"100.00%"]
[7171,"7171 M.A.S.T At Homestead",79,21,0.37,79,null,"100.00%",null,3.7000000476837158,0.41,76,3,"96.20%","3.80%",7.1999998092651367,0.38,78,1,"98.73%","1.27%",10.100000381469727,0.35,79,null,"100.00%"]
[7191,"7191 Hialeah Gardens High School",529,16.5,0.28999999999999998,528,1,"99.81%","0.19%",2.9000000953674316,0.32,515,14,"97.35%","2.65%",5.3000001907348633,0.28000000000000003,528,1,"99.81%","0.19%",8.3000001907348633,0.28999999999999998,528,1,"99.81%","0.19%"]
[7201,"7201 Miami Beach Senior high School",301,17.600000381469727,0.31,301,null,"100.00%",null,3.0999999046325684,0.34,294,7,"97.67%","2.33%",5.5999999046325684,0.3,300,1,"99.67%","0.33%",8.8000001907348633,0.3,301,null,"100.00%"]
[7231,"7231 Miami Carol City Sr. High",350,17.200000762939453,0.3,350,null,"100.00%",null,3,0.33,347,3,"99.14%","0.86%",5.6999998092651367,0.3,350,null,"100.00%",null,8.5,0.28999999999999998,350,null,"100.00%"]
[7241,"7241 Ronald W. Reagan/Doral Senior High",438,17.899999618530273,0.31,437,1,"99.77%","0.23%",3.2999999523162842,0.37,416,22,"94.98%","5.02%",5.8000001907348633,0.3,435,3,"99.32%","0.68%",8.8000001907348633,0.3,438,null,"100.00%"]
[7251,"7251 Miami Central Senior High",392,16.5,0.28999999999999998,392,null,"100.00%",null,2.7999999523162842,0.31,384,8,"97.96%","2.04%",5.4000000953674316,0.28000000000000003,392,null,"100.00%",null,8.1999998092651367,0.28000000000000003,392,null,"100.00%"]
[7262,"7262 City of Hialeah Education Academy",104,17.899999618530273,0.31,104,null,"100.00%",null,3.5999999046325684,0.4,100,4,"96.15%","3.85%",5.5999999046325684,0.28999999999999998,104,null,"100.00%",null,8.6999998092651367,0.3,104,null,"100.00%"]
[7271,"7271 Miami Coral Park Senior High School",641,16.700000762939453,0.28999999999999998,641,null,"100.00%",null,2.7999999523162842,0.31,635,6,"99.06%","0.94%",5.3000001907348633,0.28000000000000003,640,1,"99.84%","0.16%",8.6000003814697266,0.3,641,null,"100.00%"]
[7301,"7301 Miami Edison Senior High",176,17.100000381469727,0.3,176,null,"100.00%",null,3,0.33,172,4,"97.73%","2.27%",5.5,0.28999999999999998,176,null,"100.00%",null,8.6000003814697266,0.3,176,null,"100.00%"]
[7341,"7341 Miami Jackson Senior High",217,15.899999618530273,0.28000000000000003,216,1,"99.54%","0.46%",2.7999999523162842,0.31,216,1,"99.54%","0.46%",4.8000001907348633,0.25,216,1,"99.54%","0.46%",8.3000001907348633,0.28999999999999998,216,1,"99.54%","0.46%"]
[7361,"7361 Miami Killian Senior High",486,17,0.3,486,null,"100.00%",null,3,0.34,482,4,"99.18%","0.82%",5.4000000953674316,0.28000000000000003,485,1,"99.79%","0.21%",8.6000003814697266,0.3,486,null,"100.00%"]
[7371,"7371 Robert Morgan Education Center",374,18.200000762939453,0.32,373,1,"99.73%","0.27%",3.4000000953674316,0.38,366,8,"97.86%","2.14%",5.9000000953674316,0.31,374,null,"100.00%",null,8.8000001907348633,0.3,374,null,"100.00%"]
[7381,"7381 Miami Norland Senior High",398,17.299999237060547,0.3,398,null,"100.00%",null,3,0.33,384,14,"96.48%","3.52%",5.5999999046325684,0.28999999999999998,398,null,"100.00%",null,8.6999998092651367,0.3,398,null,"100.00%"]
[7391,"7391 Miami Lakes Educational Center",316,20.899999618530273,0.37,315,1,"99.68%","0.32%",4,0.45,296,20,"93.67%","6.33%",6.9000000953674316,0.36,313,3,"99.05%","0.95%",9.8999996185302734,0.34,316,null,"100.00%"]
[7411,"7411 Miami Northwestern Senior",294,17.399999618530273,0.31,294,null,"100.00%",null,3.0999999046325684,0.34,288,6,"97.96%","2.04%",5.8000001907348633,0.3,294,null,"100.00%",null,8.5,0.28999999999999998,294,null,"100.00%"]
[7431,"7431 Miami Palmetto Sr High",421,18.799999237060547,0.33,419,2,"99.52%","0.48%",3.5999999046325684,0.4,402,19,"95.49%","4.51%",6.1999998092651367,0.33,418,3,"99.29%","0.71%",9,0.31,420,1,"99.76%","0.24%"]
[7461,"7461 Miami Senior High",587,16.600000381469727,0.28999999999999998,586,1,"99.83%","0.17%",3,0.33,575,12,"97.96%","2.04%",5.0999999046325684,0.27,586,1,"99.83%","0.17%",8.5,0.28999999999999998,586,1,"99.83%","0.17%"]
[7511,"7511 Miami Springs Senior High",389,17.700000762939453,0.31,389,null,"100.00%",null,3.2000000476837158,0.36,384,5,"98.71%","1.29%",5.6999998092651367,0.3,388,1,"99.74%","0.26%",8.8000001907348633,0.3,389,null,"100.00%"]
[7531,"7531 Miami SunSET Senior",475,17,0.3,475,null,"100.00%",null,2.9000000953674316,0.32,467,8,"98.32%","1.68%",5.4000000953674316,0.28000000000000003,475,null,"100.00%",null,8.6999998092651367,0.3,475,null,"100.00%"]
[7541,"7541 North Miami Beach Sr.",404,17.899999618530273,0.32,403,1,"99.75%","0.25%",3.2000000476837158,0.35,395,9,"97.77%","2.23%",6.0999999046325684,0.32,402,2,"99.50%","0.50%",8.6999998092651367,0.3,403,1,"99.75%","0.25%"]
[7571,"7571 International Studies Preparatory Academy",24,20,0.35,24,null,"100.00%",null,3.5999999046325684,0.4,24,null,"100.00%",null,6.3000001907348633,0.33,24,null,"100.00%",null,10.100000381469727,0.35,24,null,"100.00%"]
[7591,"7591 North Miami Senior High School",506,18,0.32,506,null,"100.00%",null,3.2999999523162842,0.37,488,18,"96.44%","3.56%",6,0.32,506,null,"100.00%",null,8.6000003814697266,0.3,506,null,"100.00%"]
[7601,"7601 Turner Tech",263,17.700000762939453,0.31,262,1,"99.62%","0.38%",3.2999999523162842,0.37,254,9,"96.58%","3.42%",5.8000001907348633,0.31,263,null,"100.00%",null,8.6000003814697266,0.28999999999999998,262,1,"99.62%","0.38%"]
[{"$f":"IFERROR(VALUE(LEFT(B78,4)),\"\")","v":7631},"7631 MacArthur South Senior High",9,16.100000381469727,0.28000000000000003,9,null,"100.00%",null,2.4000000953674316,0.27,9,null,"100.00%",null,4.8000001907348633,0.25,9,null,"100.00%",null,8.8999996185302734,0.31,9,null,"100.00%"]
[7701,"7701 South Dade Senior",650,17,0.3,650,null,"100.00%",null,3.0999999046325684,0.34,639,11,"98.31%","1.69%",5.5999999046325684,0.28999999999999998,650,null,"100.00%",null,8.3000001907348633,0.28999999999999998,650,null,"100.00%"]
[7721,"7721 South Miami Senior High",414,18.100000381469727,0.32,414,null,"100.00%",null,3.2999999523162842,0.37,399,15,"96.38%","3.62%",5.6999998092651367,0.3,414,null,"100.00%",null,9.1000003814697266,0.31,414,null,"100.00%"]
[7731,"7731 Miami Southridge Senior High",434,16,0.28000000000000003,434,null,"100.00%",null,2.7000000476837158,0.3,425,9,"97.93%","2.07%",5.0999999046325684,0.27,433,1,"99.77%","0.23%",8.1999998092651367,0.28000000000000003,434,null,"100.00%"]
[7741,"7741 Southwest Miami High School",640,18.100000381469727,0.32,640,null,"100.00%",null,3.2999999523162842,0.36,617,23,"96.41%","3.59%",5.9000000953674316,0.31,636,4,"99.37%","0.63%",8.8999996185302734,0.31,637,3,"99.53%","0.47%"]
[7751,"7751 Barbara Goleman High School",334,17.299999237060547,0.3,334,null,"100.00%",null,3,0.34,327,7,"97.90%","2.10%",5.4000000953674316,0.28000000000000003,333,1,"99.70%","0.30%",8.8999996185302734,0.31,334,null,"100.00%"]
[7781,"7781 Felix Varela Senior High School",569,17.600000381469727,0.31,567,2,"99.65%","0.35%",3.2000000476837158,0.36,544,25,"95.61%","4.39%",5.5999999046325684,0.3,566,3,"99.47%","0.53%",8.6999998092651367,0.3,569,null,"100.00%"]
[7791,"7791 Booker T. Washington Senior High School",194,16.100000381469727,0.28000000000000003,194,null,"100.00%",null,2.7999999523162842,0.3,191,3,"98.45%","1.55%",5.3000001907348633,0.28000000000000003,194,null,"100.00%",null,8.1000003814697266,0.28000000000000003,194,null,"100.00%"]
[7801,"7801 George T. Baker",103,18.899999618530273,0.33,103,null,"100.00%",null,3.2999999523162842,0.37,101,2,"98.06%","1.94%",6,0.32,103,null,"100.00%",null,9.6000003814697266,0.33,103,null,"100.00%"]
[7901,"7901 New World School of Arts",74,20.799999237060547,0.36,74,null,"100.00%",null,4.0999999046325684,0.46,70,4,"94.59%","5.41%",6.6999998092651367,0.35,74,null,"100.00%",null,10,0.34,74,null,"100.00%"]
[8005,"8005 Lindsey Hopkins TEC",29,17.299999237060547,0.3,29,null,"100.00%",null,2.7000000476837158,0.3,29,null,"100.00%",null,5.9000000953674316,0.31,29,null,"100.00%",null,8.6000003814697266,0.3,29,null,"100.00%"]
[8014,"8014 Educational Alt. Outreach Program",25,15.399999618530273,0.27,25,null,"100.00%",null,2.7000000476837158,0.3,25,null,"100.00%",null,4.5,0.24,25,null,"100.00%",null,8.1999998092651367,0.28000000000000003,25,null,"100.00%"]
[8017,"8017 Outreachprograms",25,16,0.28000000000000003,25,null,"100.00%",null,2.4000000953674316,0.27,25,null,"100.00%",null,6,0.31,25,null,"100.00%",null,7.5999999046325684,0.26,25,null,"100.00%"]
[8019,"8019 Academy For Comm. Ed.",24,16.799999237060547,0.3,24,null,"100.00%",null,3,0.34,23,1,"95.83%","4.17%",5.3000001907348633,0.28000000000000003,24,null,"100.00%",null,8.3999996185302734,0.28999999999999998,24,null,"100.00%"]
[8121,"8121 C.O.P.E. Center North",35,17.899999618530273,0.32,35,null,"100.00%",null,2.9000000953674316,0.32,34,1,"97.14%","2.86%",6,0.32,35,null,"100.00%",null,9.1000003814697266,0.31,35,null,"100.00%"]
[8131,"8131 Dorothy M. Wallace COPE Center",21,18.200000762939453,0.32,21,null,"100.00%",null,3.2999999523162842,0.37,19,2,"90.48%","9.52%",6.1999998092651367,0.33,21,null,"100.00%",null,8.6999998092651367,0.3,21,null,"100.00%"]
[8141,"8141 Juvenile Justice Center",4,19,0.33,4,null,"100.00%",null,3.7999999523162842,0.42,4,null,"100.00%",null,5.3000001907348633,0.27,4,null,"100.00%",null,10,0.34,4,null,"100.00%"]
[8151,"8151 Renick, Robert Educational Center",4,20.799999237060547,0.37,4,null,"100.00%",null,3.2999999523162842,0.36,4,null,"100.00%",null,7.8000001907348633,0.41,4,null,"100.00%",null,9.8000001907348633,0.34,4,null,"100.00%"]
[8181,"8181 Ruth Owens Kruse Educational Center",8,10.300000190734863,0.18,8,null,"100.00%",null,0.89999997615814209,0.1,8,null,"100.00%",null,4.4000000953674316,0.23,8,null,"100.00%",null,5,0.17,8,null,"100.00%"]
[8901,"8901 Miami Lakes Educational Center",1,15,0.26,1,null,"100.00%",null,1,0.11,1,null,"100.00%",null,5,0.26,1,null,"100.00%",null,9,0.31,1,null,"100.00%"]
[8981,"8981 South Dade Skill Center",4,16.5,0.28999999999999998,4,null,"100.00%",null,3.2999999523162842,0.36,4,null,"100.00%",null,4.5,0.24,4,null,"100.00%",null,8.8000001907348633,0.3,4,null,"100.00%"]
[9732,"9732 Merrick Educational Center",16,18.799999237060547,0.33,15,1,"93.75%","6.25%",3.4000000953674316,0.38,15,1,"93.75%","6.25%",5.9000000953674316,0.31,15,1,"93.75%","6.25%",9.3999996185302734,0.32,15,1,"93.75%","6.25%"]
[9999,"9999-DISTRICT",19032,17.751528980452356,0.31143033299039219,19011,21,0.99889659520807061,1.1034047919293822E-3,3.1484709701877827,0.34983010779864254,18476,556,0.97078604455653639,2.9213955443463641E-2,5.7484709903842113,0.30255110475706376,18966,66,0.9965321563682219,3.4678436317780582E-3,8.8061162000345856,0.30365917931153741,19013,19,0.99900168137873058,9.9831862126944105E-4]
[""]
[""]
[""]
[""]
[""]
[""]
[""]
[""]
[""]
[""]
[""]
[""]
[""]
[""]
[""]
[""]
[""]
[""]
[""]
[""]
[""]
[""]
[""]
[""]
[""]
[""]
[""]
[""]
[""]
[""]
[""]
[""]
[""]
[""]
[""]
[""]
[""]
[""]
[""]
["",null,null,null,null,null,null,null,null,null,null,null,null,null,null,null,null,null,null,null,null,null,null,null,null,null,null,0,{"$error":"#VALUE!"},0,0,0,0]
[""]
[{"$f":"IFERROR(VALUE(LEFT(B142,4)),\"\")","v":""}]
[""]
[""]
[""]
[""]
[""]
[""]
[""]
[""]
[""]
[""]
[""]
[""]
[""]
[""]
[""]
[""]
[""]
[""]
[""]
[""]
[""]
[""]
[""]
[""]
[""]
[""]
[""]
[""]
[""]
[""]
[""]
[""]
[""]
[""]
[""]
[""]
[""]
[""]
[""]
[""]
[""]
[""]
[""]
[""]
[""]
[""]
[""]
[""]
[""]
[""]
[""]
[""]
[""]
[""]
[""]
[""]
[""]
[""]
[""]
[""]
[""]
[""]
[""]
[{"$f":"IFERROR(VALUE(LEFT(B206,4)),\"\")","v":""}]
[""]
[""]
[""]
[""]
[""]
[""]
[""]
[""]
[""]
[""]
[""]
[""]
[""]
[""]
[""]
[""]
[""]
[""]
[""]
[""]
[""]
[""]
[""]
[""]
[""]
[""]
[""]
[""]
[""]
[""]
[""]
[""]
[""]
[""]
[""]
[""]
[""]
[""]
[""]
[""]
[""]
[""]
[""]
[""]
[""]
[""]
[""]
[""]
[""]
[""]
[""]
[""]
[""]
[""]
[""]
[""]
[""]
[""]
[""]
[""]
[""]
[""]
[""]
[{"$f":"IFERROR(VALUE(LEFT(B270,4)),\"\")","v":""}]
[""]
[""]
[""]
[""]
[""]
[""]
[""]
[""]
[""]
[""]
[""]
[""]
[""]
[""]
[""]
[""]
[""]
[""]
[""]
[""]
[""]
[""]
[""]
[""]
[""]
[""]
[""]
[""]
[""]
[""]
[""]
[""]
[""]
[""]
[""]
[""]
[""]
[""]
[""]
[""]
[""]
[""]
[""]
[""]
[""]
[""]
[""]
[""]
[""]
[""]
[""]
[""]
[""]
[""]
[""]
[""]
[""]
[""]
[""]
[""]
[""]
[""]
[""]
[{"$f":"IFERROR(VALUE(LEFT(B334,4)),\"\")","v":""}]
[""]
[""]
[""]
[""]
[""]
[""]
[""]
[""]
[""]
[""]
[""]
[""]
[""]
[""]
[""]
[""]
[""]
[""]
[""]
[""]
[""]
[""]
[""]
[""]
[""]
[""]
[""]
[""]
[""]
[""]
[""]
[""]
[""]
[""]
[""]
[""]
[""]
[""]
[""]
[""]
[""]
[""]
[""]
[""]
[""]
[""]
[""]
[""]
[""]
[""]
[""]
[""]
[""]
[""]
[""]
[""]
[""]
[""]
[""]
[""]
[""]
[""]
[""]
[{"$f":"IFERROR(VALUE(LEFT(B398,4)),\"\")","v":""}]
[""]
[""]
[""]
[""]
[""]
[""]
[""]
[""]
[""]
[""]
[""]
[""]
[""]
[""]
[""]

{"sheet":"WIA USH","index":18,"n_rows":415,"n_cols":33,"rows_kept":415,"cut":false,"hidden":true,"merged":[[11,25,11,26],[9,1,11,1],[9,2,9,32],[10,2,12,2],[10,3,10,8],[10,9,10,14],[10,15,10,20],[10,21,10,26],[10,27,10,32],[11,5,11,6],[11,7,11,8],[11,29,11,30],[11,31,11,32],[11,11,11,12],[11,13,11,14],[11,17,11,18],[11,19,11,20],[11,23,11,24]]}
[null,"SS-USH-RC-SCHL-ALL"]
[]
[null,"Description:","Social Studies US History  RC School ALL"]
[null,"Student Selection:","All Schools | 2012-2013 Fall, 2012-2013 School Year"]
[null,"Group By Data:","School"]
[null,"Assessments:","Winter 2013:  Grade 11 United States History January 2013  Teacher __________  Period _____"]
[null,"Scores:","Overall Avg Raw Score, Overall Avg % Correct, Overall # in Performance Band, Overall % in Performance Band, Question Groups Avg Raw Score, Question Groups Avg % Correct, Question Groups # in Performance Band, Question Groups % in Performance Band"]
[null,"Author Name:","Yuwadee Wongbundhit"]
[{"$f":"COLUMN()","v":1},{"$f":"COLUMN()","v":2},{"$f":"COLUMN()","v":3},{"$f":"COLUMN()","v":4},{"$f":"COLUMN()","v":5},{"$f":"COLUMN()","v":6},{"$f":"COLUMN()","v":7},{"$f":"COLUMN()","v":8},{"$f":"COLUMN()","v":9},{"$f":"COLUMN()","v":10},{"$f":"COLUMN()","v":11},{"$f":"COLUMN()","v":12},{"$f":"COLUMN()","v":13},{"$f":"COLUMN()","v":14},{"$f":"COLUMN()","v":15},{"$f":"COLUMN()","v":16},{"$f":"COLUMN()","v":17},{"$f":"COLUMN()","v":18},{"$f":"COLUMN()","v":19},{"$f":"COLUMN()","v":20},{"$f":"COLUMN()","v":21},{"$f":"COLUMN()","v":22},{"$f":"COLUMN()","v":23},{"$f":"COLUMN()","v":24},{"$f":"COLUMN()","v":25},{"$f":"COLUMN()","v":26},{"$f":"COLUMN()","v":27},{"$f":"COLUMN()","v":28},{"$f":"COLUMN()","v":29},{"$f":"COLUMN()","v":30},{"$f":"COLUMN()","v":31},{"$f":"COLUMN()","v":32},{"$f":"COLUMN()","v":33}]
[null,"Total Row(s): 85 Generated on Feb-06-2013 by Yuwadee Wongbundhit","Winter 2013:  Grade 11 United States History January 2013  Teacher __________  Period _____"]
[null,null,"Total # students","Overall (54 pts max)",null,null,null,null,null,"Global Military, Political, & Economic Challenges (18 pts max)",null,null,null,null,null,"Late Nineteenth & Early Twentieth Century (9 pts max)",null,null,null,null,null,"The U.S. & the Defense of the International Peace (27 pts max)",null,null,null,null,null,"Q1 and Q2 Instructional Focus (27 pts max)"]
[null,null,null,"Avg Raw Score","Avg % Correct","# in Performance Band",null,"% in Performance Band",null,"Avg Raw Score","Avg % Correct","# in Performance Band",null,"% in Performance Band",null,"Avg Raw Score","Avg % Correct","# in Performance Band",null,"% in Performance Band",null,"Avg Raw Score","Avg % Correct","# in Performance Band",null,"% in Performance Band",null,"Avg Raw Score","Avg % Correct","# in Performance Band",null,"% in Performance Band"]
[null,"School Name",null,"","","Non Proficient","Proficient","Non Proficient","Proficient","","","Non Proficient","Proficient","Non Proficient","Proficient","","","Non Proficient","Proficient","Non Proficient","Proficient","","","Non Proficient","Proficient","Non Proficient","Proficient","","","Non Proficient","Proficient","Non Proficient","Proficient"]
[{"$f":"IFERROR(VALUE(LEFT(B14,4)),\"\")","v":6040},"6040 Doctors Charter School Of Miami Shores ",61,29,0.54,57,4,"93.44%","6.56%",10.5,0.57999999999999996,44,17,"72.13%","27.87%",6.1999998092651367,0.69,32,29,"52.46%","47.54%",12.399999618530273,0.46,59,2,"96.72%","3.28%",16.700000762939453,0.62,44,17,"72.13%","27.87%"]
[7007,"7007 International Studies Charter High School",95,26.799999237060547,0.5,90,5,"94.74%","5.26%",8.5,0.47,90,5,"94.74%","5.26%",6.3000001907348633,0.7,46,49,"48.42%","51.58%",12,0.44,91,4,"95.79%","4.21%",14.800000190734863,0.55000000000000004,79,16,"83.16%","16.84%"]
[7009,"7009 Doral Performing Arts Academy",37,27,0.5,35,2,"94.59%","5.41%",8.5,0.47,34,3,"91.89%","8.11%",6.5999999046325684,0.74,13,24,"35.14%","64.86%",11.899999618530273,0.44,33,4,"89.19%","10.81%",15.100000381469727,0.56000000000000005,30,7,"81.08%","18.92%"]
[7011,"7011 American Senior High School",376,21.899999618530273,0.41,373,3,"99.20%","0.80%",7.0999999046325684,0.39,373,3,"99.20%","0.80%",4.8000001907348633,0.54,305,71,"81.12%","18.88%",10,0.37,374,2,"99.47%","0.53%",11.899999618530273,0.44,363,13,"96.54%","3.46%"]
[7018,"7018 Mater Academy Lakes High School",147,22.5,0.42,145,2,"98.64%","1.36%",6.9000000953674316,0.38,145,2,"98.64%","1.36%",5.0999999046325684,0.56000000000000005,110,37,"74.83%","25.17%",10.600000381469727,0.39,145,2,"98.64%","1.36%",11.899999618530273,0.44,141,6,"95.92%","4.08%"]
[7020,"7020 Doral Academy High School",202,25.200000762939453,0.47,196,6,"97.03%","2.97%",8.3999996185302734,0.47,189,13,"93.56%","6.44%",5.9000000953674316,0.66,116,86,"57.43%","42.57%",10.899999618530273,0.4,197,5,"97.52%","2.48%",14.300000190734863,0.53,170,32,"84.16%","15.84%"]
[7022,"7022 Academy Of Arts And Minds",73,20.5,0.38,73,null,"100.00%",null,6.5,0.36,72,1,"98.63%","1.37%",4.5,0.5,60,13,"82.19%","17.81%",9.5,0.35,73,null,"100.00%",null,10.899999618530273,0.4,71,2,"97.26%","2.74%"]
[7029,"7029 Terra Environmental Institute",194,25.899999618530273,0.48,189,5,"97.42%","2.58%",7.8000001907348633,0.43,191,3,"98.45%","1.55%",6,0.66,116,78,"59.79%","40.21%",12.100000381469727,0.45,183,11,"94.33%","5.67%",13.800000190734863,0.51,178,16,"91.75%","8.25%"]
[7033,"7033 Law Enforcement Officers Memorial High",50,26,0.48,48,2,"96.00%","4.00%",9.1999998092651367,0.51,41,9,"82.00%","18.00%",5.6999998092651367,0.64,33,17,"66.00%","34.00%",11.100000381469727,0.41,49,1,"98.00%","2.00%",14.899999618530273,0.55000000000000004,39,11,"78.00%","22.00%"]
[7034,"7034 Somerset Academy Charter High South Campus",20,26.399999618530273,0.49,19,1,"95.00%","5.00%",8.6000003814697266,0.48,18,2,"90.00%","10.00%",5.8000001907348633,0.64,14,6,"70.00%","30.00%",12.100000381469727,0.45,18,2,"90.00%","10.00%",14.399999618530273,0.53,18,2,"90.00%","10.00%"]
[7036,"7036 Lawrence Academy  Senior High  Charter School",20,20.100000381469727,0.37,20,null,"100.00%",null,6.6999998092651367,0.37,20,null,"100.00%",null,3.9000000953674316,0.43,19,1,"95.00%","5.00%",9.6000003814697266,0.36,20,null,"100.00%",null,10.5,0.39,20,null,"100.00%"]
[7037,"7037 Mater Academy  East Charter  High School",61,23.899999618530273,0.44,61,null,"100.00%",null,8.1999998092651367,0.46,56,5,"91.80%","8.20%",5.5,0.61,41,20,"67.21%","32.79%",10.199999809265137,0.38,60,1,"98.36%","1.64%",13.699999809265137,0.51,55,6,"90.16%","9.84%"]
[7042,"7042 Somerset Academy Charter High School",73,16,0.3,73,null,"100.00%",null,4.9000000953674316,0.27,73,null,"100.00%",null,3.2999999523162842,0.36,71,2,"97.26%","2.74%",7.8000001907348633,0.28999999999999998,72,1,"98.63%","1.37%",8.1999998092651367,0.3,73,null,"100.00%"]
[7048,"7048 Alonzo Andtracy Mourning High (Biscanye Bay)",355,23.399999618530273,0.43,339,16,"95.49%","4.51%",7.9000000953674316,0.44,321,34,"90.42%","9.58%",5,0.55000000000000004,262,93,"73.80%","26.20%",10.5,0.39,341,14,"96.06%","3.94%",12.899999618530273,0.48,310,45,"87.32%","12.68%"]
[7049,"7049 Westland Hialeah Senior",423,19.899999618530273,0.37,420,3,"99.29%","0.71%",6.5999999046325684,0.37,412,11,"97.40%","2.60%",4.4000000953674316,0.48,348,75,"82.27%","17.73%",9,0.33,421,2,"99.53%","0.47%",10.899999618530273,0.41,403,20,"95.27%","4.73%"]
[7051,"7051 G Holmes Braddock Senior High",570,20.700000762939453,0.38,558,12,"97.89%","2.11%",6.8000001907348633,0.38,551,19,"96.67%","3.33%",4.4000000953674316,0.49,463,107,"81.23%","18.77%",9.5,0.35,562,8,"98.60%","1.40%",11.199999809265137,0.42,532,38,"93.33%","6.67%"]
[7053,"7053 Pinecrest Preparatory Academy Charter HS",38,22.399999618530273,0.41,38,null,"100.00%",null,7,0.39,38,null,"100.00%",null,4.9000000953674316,0.55000000000000004,27,11,"71.05%","28.95%",10.5,0.39,38,null,"100.00%",null,11.899999618530273,0.44,38,null,"100.00%"]
[7054,"7054 Excelsior Charter High School",15,20.299999237060547,0.38,15,null,"100.00%",null,6.3000001907348633,0.35,15,null,"100.00%",null,5.5999999046325684,0.62,8,7,"53.33%","46.67%",8.3999996185302734,0.31,15,null,"100.00%",null,11.899999618530273,0.44,14,1,"93.33%","6.67%"]
[7056,"7056 Young Men's Preparatory High School",20,20.700000762939453,0.38,20,null,"100.00%",null,7,0.39,20,null,"100.00%",null,5.0999999046325684,0.56000000000000005,18,2,"90.00%","10.00%",8.6999998092651367,0.32,20,null,"100.00%",null,12,0.44,20,null,"100.00%"]
[7058,"7058 Miami Community Charter High",29,19.700000762939453,0.37,29,null,"100.00%",null,6.4000000953674316,0.36,29,null,"100.00%",null,4,0.45,25,4,"86.21%","13.79%",9.3000001907348633,0.34,29,null,"100.00%",null,10.399999618530273,0.39,28,1,"96.55%","3.45%"]
[7059,"7059 Miami Arts Charter",59,24.399999618530273,0.45,58,1,"98.31%","1.69%",7.0999999046325684,0.39,58,1,"98.31%","1.69%",5.5,0.61,37,22,"62.71%","37.29%",11.899999618530273,0.44,59,null,"100.00%",null,12.5,0.46,56,3,"94.92%","5.08%"]
[7062,"7062 Mavericks High Of North Miami Dade County",49,14.899999618530273,0.28000000000000003,49,null,"100.00%",null,4.5999999046325684,0.26,49,null,"100.00%",null,2.7000000476837158,0.3,48,1,"97.96%","2.04%",7.5999999046325684,0.28000000000000003,49,null,"100.00%",null,7.3000001907348633,0.27,49,null,"100.00%"]
[7065,"7065 Mavericks High Of South Miami Dade County",30,17.700000762939453,0.33,29,1,"96.67%","3.33%",5.5999999046325684,0.31,29,1,"96.67%","3.33%",3.5,0.38,27,3,"90.00%","10.00%",8.6999998092651367,0.32,29,1,"96.67%","3.33%",9,0.33,28,2,"93.33%","6.67%"]
[7068,"7068 North Gardens High School",30,16.700000762939453,0.31,30,null,"100.00%",null,5.4000000953674316,0.3,30,null,"100.00%",null,3.0999999046325684,0.34,29,1,"96.67%","3.33%",8.3000001907348633,0.31,30,null,"100.00%",null,8.5,0.31,30,null,"100.00%"]
[7069,"7069 North Park High School ",40,16.100000381469727,0.3,40,null,"100.00%",null,4.6999998092651367,0.26,40,null,"100.00%",null,3.5999999046325684,0.4,38,2,"95.00%","5.00%",7.8000001907348633,0.28999999999999998,39,1,"97.50%","2.50%",8.3000001907348633,0.31,40,null,"100.00%"]
[7071,"7071 Coral Gables Senior High School",532,21.299999237060547,0.39,522,10,"98.12%","1.88%",7.1999998092651367,0.4,503,29,"94.55%","5.45%",4.5999999046325684,0.51,423,109,"79.51%","20.49%",9.5,0.35,526,6,"98.87%","1.13%",11.800000190734863,0.44,475,57,"89.29%","10.71%"]
[7081,"7081 DASH",91,30.100000381469727,0.56000000000000005,84,7,"92.31%","7.69%",9.8999996185302734,0.55000000000000004,86,5,"94.51%","5.49%",6.5999999046325684,0.74,39,52,"42.86%","57.14%",13.5,0.5,83,8,"91.21%","8.79%",16.5,0.61,71,20,"78.02%","21.98%"]
[7091,"7091 School For Advanced Studies - South",1,42,0.78,null,1,null,"100.00%",10,0.56000000000000005,1,null,"100.00%",null,9,1,null,1,null,"100.00%",23,0.85,null,1,null,"100.00%",19,0.7,null,1,null,"100.00%"]
[7101,"7101 Coral Reef Senior High School",349,22.799999237060547,0.42,340,9,"97.42%","2.58%",7.5999999046325684,0.42,315,34,"90.26%","9.74%",4.8000001907348633,0.53,280,69,"80.23%","19.77%",10.399999618530273,0.39,339,10,"97.13%","2.87%",12.399999618530273,0.46,309,40,"88.54%","11.46%"]
[7111,"7111 Hialeah Senior high",620,19.899999618530273,0.37,609,11,"98.23%","1.77%",6.5,0.36,605,15,"97.58%","2.42%",4.0999999046325684,0.46,530,90,"85.48%","14.52%",9.3000001907348633,0.34,610,10,"98.39%","1.61%",10.699999809265137,0.4,592,28,"95.48%","4.52%"]
[7121,"7121 John A. Ferguson Senior High School",859,23.600000381469727,0.44,822,37,"95.69%","4.31%",8,0.44,792,67,"92.20%","7.80%",4.9000000953674316,0.55000000000000004,657,202,"76.48%","23.52%",10.699999809265137,0.4,830,29,"96.62%","3.38%",12.899999618530273,0.48,749,110,"87.19%","12.81%"]
[7131,"7131 Hialeah-Miami Lakes Senior High",316,19,0.35,313,3,"99.05%","0.95%",6.4000000953674316,0.36,310,6,"98.10%","1.90%",4.0999999046325684,0.45,280,36,"88.61%","11.39%",8.5,0.32,314,2,"99.37%","0.63%",10.5,0.39,304,12,"96.20%","3.80%"]
[7141,"7141 Dr. Michael M. Krop Senior High School",540,26.600000381469727,0.49,483,57,"89.44%","10.56%",9.3000001907348633,0.52,438,102,"81.11%","18.89%",5.8000001907348633,0.64,310,230,"57.41%","42.59%",11.5,0.43,509,31,"94.26%","5.74%",15.100000381469727,0.56000000000000005,381,159,"70.56%","29.44%"]
[7151,"7151 Homestead Sr. High School",380,18.299999237060547,0.34,378,2,"99.47%","0.53%",6.0999999046325684,0.34,380,null,"100.00%",null,3.9000000953674316,0.44,342,38,"90.00%","10.00%",8.3000001907348633,0.31,377,3,"99.21%","0.79%",10,0.37,369,11,"97.11%","2.89%"]
[7160,"7160 Mater Academy High",275,20.399999618530273,0.38,272,3,"98.91%","1.09%",6.5,0.36,270,5,"98.18%","1.82%",4.4000000953674316,0.49,229,46,"83.27%","16.73%",9.5,0.35,272,3,"98.91%","1.09%",10.899999618530273,0.4,259,16,"94.18%","5.82%"]
[7161,"7161 MAST Academy",35,36.5,0.68,19,16,"54.29%","45.71%",12.899999618530273,0.72,15,20,"42.86%","57.14%",7.5999999046325684,0.85,6,29,"17.14%","82.86%",16,0.59,25,10,"71.43%","28.57%",20.5,0.76,9,26,"25.71%","74.29%"]
[7171,"7171 M.A.S.T At Homestead",71,23.399999618530273,0.43,70,1,"98.59%","1.41%",7,0.39,70,1,"98.59%","1.41%",5.4000000953674316,0.6,48,23,"67.61%","32.39%",11,0.41,70,1,"98.59%","1.41%",12.399999618530273,0.46,68,3,"95.77%","4.23%"]
[7191,"7191 Hialeah Gardens High School",532,19.600000381469727,0.36,524,8,"98.50%","1.50%",6.5,0.36,518,14,"97.37%","2.63%",4.0999999046325684,0.46,468,64,"87.97%","12.03%",9,0.33,525,7,"98.68%","1.32%",10.600000381469727,0.39,508,24,"95.49%","4.51%"]
[7201,"7201 Miami Beach Senior high School",287,18.899999618530273,0.35,282,5,"98.26%","1.74%",6.3000001907348633,0.35,278,9,"96.86%","3.14%",4,0.44,252,35,"87.80%","12.20%",8.6000003814697266,0.32,281,6,"97.91%","2.09%",10.300000190734863,0.38,276,11,"96.17%","3.83%"]
[7231,"7231 Miami Carol City Sr. High",402,19.700000762939453,0.36,399,3,"99.25%","0.75%",6.6999998092651367,0.37,394,8,"98.01%","1.99%",4.1999998092651367,0.46,363,39,"90.30%","9.70%",8.8000001907348633,0.33,400,2,"99.50%","0.50%",10.899999618530273,0.4,391,11,"97.26%","2.74%"]
[7241,"7241 Ronald W. Reagan/Doral Senior High",429,25.399999618530273,0.47,410,19,"95.57%","4.43%",9.1000003814697266,0.51,351,78,"81.82%","18.18%",5.5,0.61,282,147,"65.73%","34.27%",10.800000190734863,0.4,423,6,"98.60%","1.40%",14.600000381469727,0.54,327,102,"76.22%","23.78%"]
[7251,"7251 Miami Central Senior High",379,19.299999237060547,0.36,378,1,"99.74%","0.26%",6.5,0.36,379,null,"100.00%",null,3.9000000953674316,0.44,352,27,"92.88%","7.12%",8.8999996185302734,0.33,378,1,"99.74%","0.26%",10.5,0.39,375,4,"98.94%","1.06%"]
[7262,"7262 City of Hialeah Education Academy",105,23.299999237060547,0.43,104,1,"99.05%","0.95%",7.4000000953674316,0.41,104,1,"99.05%","0.95%",5.4000000953674316,0.6,74,31,"70.48%","29.52%",10.5,0.39,101,4,"96.19%","3.81%",12.800000190734863,0.48,99,6,"94.29%","5.71%"]
[7265,"7265 Archimedean Upper Conservatory",40,29.100000381469727,0.54,34,6,"85.00%","15.00%",9.8000001907348633,0.54,33,7,"82.50%","17.50%",6,0.67,22,18,"55.00%","45.00%",13.399999618530273,0.49,36,4,"90.00%","10.00%",15.800000190734863,0.57999999999999996,32,8,"80.00%","20.00%"]
[7271,"7271 Miami Coral Park Senior High School",644,20.5,0.38,632,12,"98.14%","1.86%",6.9000000953674316,0.38,611,33,"94.88%","5.12%",4.4000000953674316,0.49,547,97,"84.94%","15.06%",9.1999998092651367,0.34,634,10,"98.45%","1.55%",11.300000190734863,0.42,596,48,"92.55%","7.45%"]
[7301,"7301 Miami Edison Senior High",211,18,0.33,209,2,"99.05%","0.95%",5.8000001907348633,0.32,210,1,"99.53%","0.47%",3.7999999523162842,0.42,192,19,"91.00%","9.00%",8.3999996185302734,0.31,209,2,"99.05%","0.95%",9.6000003814697266,0.36,209,2,"99.05%","0.95%"]
[7341,"7341 Miami Jackson Senior High",218,17.5,0.32,218,null,"100.00%",null,5.8000001907348633,0.32,217,1,"99.54%","0.46%",3.5999999046325684,0.4,205,13,"94.04%","5.96%",8,0.3,218,null,"100.00%",null,9.5,0.35,217,1,"99.54%","0.46%"]
[7351,"7351 Arthur And Polly Mays 6-12 Conservatory Of Th",56,21.399999618530273,0.4,53,3,"94.64%","5.36%",7.3000001907348633,0.4,50,6,"89.29%","10.71%",4.4000000953674316,0.48,46,10,"82.14%","17.86%",9.8000001907348633,0.36,55,1,"98.21%","1.79%",11.600000381469727,0.43,49,7,"87.50%","12.50%"]
[7361,"7361 Miami Killian Senior High",488,19.899999618530273,0.37,483,5,"98.98%","1.02%",6.8000001907348633,0.38,464,24,"95.08%","4.92%",4.0999999046325684,0.46,431,57,"88.32%","11.68%",9,0.33,484,4,"99.18%","0.82%",10.899999618530273,0.4,455,33,"93.24%","6.76%"]
[7371,"7371 Robert Morgan Education Center",378,24.399999618530273,0.45,366,12,"96.83%","3.17%",8.1999998092651367,0.45,354,24,"93.65%","6.35%",5.4000000953674316,0.6,250,128,"66.14%","33.86%",10.800000190734863,0.4,370,8,"97.88%","2.12%",13.600000381469727,0.5,331,47,"87.57%","12.43%"]
[7381,"7381 Miami Norland Senior High",338,20.600000381469727,0.38,337,1,"99.70%","0.30%",6.6999998092651367,0.37,336,2,"99.41%","0.59%",4.4000000953674316,0.49,291,47,"86.09%","13.91%",9.5,0.35,337,1,"99.70%","0.30%",11.100000381469727,0.41,321,17,"94.97%","5.03%"]
[7391,"7391 Miami Lakes Educational Center",313,25.299999237060547,0.47,295,18,"94.25%","5.75%",8.1000003814697266,0.45,292,21,"93.29%","6.71%",5.5,0.62,208,105,"66.45%","33.55%",11.699999809265137,0.43,301,12,"96.17%","3.83%",13.699999809265137,0.51,269,44,"85.94%","14.06%"]
[7411,"7411 Miami Northwestern Senior",348,20.399999618530273,0.38,346,2,"99.43%","0.57%",6.8000001907348633,0.38,341,7,"97.99%","2.01%",4.5,0.5,284,64,"81.61%","18.39%",9,0.34,346,2,"99.43%","0.57%",11.300000190734863,0.42,332,16,"95.40%","4.60%"]
[7431,"7431 Miami Palmetto Sr High",456,23.299999237060547,0.43,438,18,"96.05%","3.95%",7.5999999046325684,0.42,429,27,"94.08%","5.92%",5.0999999046325684,0.56000000000000005,323,133,"70.83%","29.17%",10.600000381469727,0.39,440,16,"96.49%","3.51%",12.699999809265137,0.47,399,57,"87.50%","12.50%"]
[7461,"7461 Miami Senior High",557,22.600000381469727,0.42,516,41,"92.64%","7.36%",8.1000003814697266,0.45,460,97,"82.59%","17.41%",4.9000000953674316,0.55000000000000004,404,153,"72.53%","27.47%",9.6000003814697266,0.36,548,9,"98.38%","1.62%",13,0.48,445,112,"79.89%","20.11%"]
[7511,"7511 Miami Springs Senior High",378,25.399999618530273,0.47,359,19,"94.97%","5.03%",9.3999996185302734,0.52,314,64,"83.07%","16.93%",5.4000000953674316,0.6,251,127,"66.40%","33.60%",10.5,0.39,372,6,"98.41%","1.59%",14.800000190734863,0.55000000000000004,287,91,"75.93%","24.07%"]
[7531,"7531 Miami SunSET Senior",463,21,0.39,452,11,"97.62%","2.38%",7.1999998092651367,0.4,444,19,"95.90%","4.10%",4.5999999046325684,0.51,364,99,"78.62%","21.38%",9.1999998092651367,0.34,455,8,"98.27%","1.73%",11.800000190734863,0.44,424,39,"91.58%","8.42%"]
[7541,"7541 North Miami Beach Sr.",397,20.799999237060547,0.38,391,6,"98.49%","1.51%",7.3000001907348633,0.4,379,18,"95.47%","4.53%",4.3000001907348633,0.48,341,56,"85.89%","14.11%",9.1999998092651367,0.34,391,6,"98.49%","1.51%",11.600000381469727,0.43,375,22,"94.46%","5.54%"]
[7571,"7571 International Studies Preparatory Academy",23,29.100000381469727,0.54,20,3,"86.96%","13.04%",9.5,0.53,18,5,"78.26%","21.74%",6.3000001907348633,0.7,13,10,"56.52%","43.48%",13.300000190734863,0.49,20,3,"86.96%","13.04%",15.800000190734863,0.57999999999999996,16,7,"69.57%","30.43%"]
[7591,"7591 North Miami Senior High School",511,21.600000381469727,0.4,503,8,"98.43%","1.57%",7.5999999046325684,0.42,484,27,"94.72%","5.28%",4.6999998092651367,0.52,401,110,"78.47%","21.53%",9.3000001907348633,0.34,509,2,"99.61%","0.39%",12.300000190734863,0.46,471,40,"92.17%","7.83%"]
[7601,"7601 Turner Tech",238,20.700000762939453,0.38,237,1,"99.58%","0.42%",6.9000000953674316,0.38,237,1,"99.58%","0.42%",4.3000001907348633,0.48,207,31,"86.97%","13.03%",9.5,0.35,236,2,"99.16%","0.84%",11.199999809265137,0.41,236,2,"99.16%","0.84%"]
[7631,"7631 MacArthur South Senior High",11,17.399999618530273,0.32,11,null,"100.00%",null,4.5999999046325684,0.26,11,null,"100.00%",null,4,0.44,9,2,"81.82%","18.18%",8.6999998092651367,0.32,11,null,"100.00%",null,8.6000003814697266,0.32,11,null,"100.00%"]
[7701,"7701 South Dade Senior",613,19.100000381469727,0.35,611,2,"99.67%","0.33%",6.1999998092651367,0.34,609,4,"99.35%","0.65%",4.1999998092651367,0.47,537,76,"87.60%","12.40%",8.6999998092651367,0.32,610,3,"99.51%","0.49%",10.399999618530273,0.39,600,13,"97.88%","2.12%"]
[7721,"7721 South Miami Senior High",385,22.5,0.42,375,10,"97.40%","2.60%",7.9000000953674316,0.44,360,25,"93.51%","6.49%",4.8000001907348633,0.54,293,92,"76.10%","23.90%",9.6999998092651367,0.36,380,5,"98.70%","1.30%",12.699999809265137,0.47,344,41,"89.35%","10.65%"]
[{"$f":"IFERROR(VALUE(LEFT(B78,4)),\"\")","v":7731},"7731 Miami Southridge Senior High",387,19.5,0.36,385,2,"99.48%","0.52%",6.5999999046325684,0.36,376,11,"97.16%","2.84%",4.1999998092651367,0.47,334,53,"86.30%","13.70%",8.6999998092651367,0.32,385,2,"99.48%","0.52%",10.800000190734863,0.4,375,12,"96.90%","3.10%"]
[7741,"7741 Southwest Miami High School",628,21.299999237060547,0.39,611,17,"97.29%","2.71%",6.9000000953674316,0.38,594,34,"94.59%","5.41%",4.4000000953674316,0.49,518,110,"82.48%","17.52%",9.8999996185302734,0.37,613,15,"97.61%","2.39%",11.399999618530273,0.42,568,60,"90.45%","9.55%"]
[7751,"7751 Barbara Goleman High School",332,19.5,0.36,329,3,"99.10%","0.90%",6.4000000953674316,0.36,325,7,"97.89%","2.11%",4.0999999046325684,0.46,284,48,"85.54%","14.46%",9,0.33,328,4,"98.80%","1.20%",10.600000381469727,0.39,318,14,"95.78%","4.22%"]
[7781,"7781 Felix Varela Senior High School",541,22,0.41,528,13,"97.60%","2.40%",7.1999998092651367,0.4,526,15,"97.23%","2.77%",4.8000001907348633,0.54,431,110,"79.67%","20.33%",9.8999996185302734,0.37,530,11,"97.97%","2.03%",12.100000381469727,0.45,510,31,"94.27%","5.73%"]
[7791,"7791 Booker T. Washington Senior High School",181,18,0.33,175,6,"96.69%","3.31%",5.6999998092651367,0.31,176,5,"97.24%","2.76%",3.7999999523162842,0.42,166,15,"91.71%","8.29%",8.5,0.32,173,8,"95.58%","4.42%",9.3999996185302734,0.35,172,9,"95.03%","4.97%"]
[7801,"7801 George T. Baker",87,24.100000381469727,0.45,81,6,"93.10%","6.90%",7.9000000953674316,0.44,74,13,"85.06%","14.94%",5.3000001907348633,0.59,58,29,"66.67%","33.33%",10.899999618530273,0.4,83,4,"95.40%","4.60%",13.199999809265137,0.49,70,17,"80.46%","19.54%"]
[7901,"7901 New World School of Arts",79,25.100000381469727,0.47,77,2,"97.47%","2.53%",8.3000001907348633,0.46,72,7,"91.14%","8.86%",5.9000000953674316,0.66,44,35,"55.70%","44.30%",10.800000190734863,0.4,78,1,"98.73%","1.27%",14.199999809265137,0.53,67,12,"84.81%","15.19%"]
[8005,"8005 Lindsey Hopkins TEC",19,18.700000762939453,0.35,19,null,"100.00%",null,6.3000001907348633,0.35,19,null,"100.00%",null,3.7000000476837158,0.41,18,1,"94.74%","5.26%",8.6999998092651367,0.32,19,null,"100.00%",null,10.100000381469727,0.37,18,1,"94.74%","5.26%"]
[8014,"8014 Educational Alt. Outreach Program",9,20.299999237060547,0.38,9,null,"100.00%",null,5.6999998092651367,0.32,9,null,"100.00%",null,3.9000000953674316,0.43,9,null,"100.00%",null,10.800000190734863,0.4,9,null,"100.00%",null,9.6000003814697266,0.35,9,null,"100.00%"]
[8017,"8017 Outreachprograms",4,19,0.35,4,null,"100.00%",null,6.8000001907348633,0.38,4,null,"100.00%",null,3.7999999523162842,0.42,4,null,"100.00%",null,8.5,0.31,4,null,"100.00%",null,10.5,0.39,4,null,"100.00%"]
[8019,"8019 Academy For Comm. Ed.",22,16.899999618530273,0.31,22,null,"100.00%",null,4.8000001907348633,0.27,22,null,"100.00%",null,3.5999999046325684,0.4,21,1,"95.45%","4.55%",8.5,0.32,22,null,"100.00%",null,8.3999996185302734,0.31,22,null,"100.00%"]
[8101,"8101 Jan Mann Opp. Center",3,20.700000762939453,0.38,3,null,"100.00%",null,6,0.34,3,null,"100.00%",null,5.3000001907348633,0.59,2,1,"66.67%","33.33%",9.3000001907348633,0.34,3,null,"100.00%",null,11.300000190734863,0.42,2,1,"66.67%","33.33%"]
[8121,"8121 C.O.P.E. Center North",38,19.200000762939453,0.36,38,null,"100.00%",null,6.5999999046325684,0.37,37,1,"97.37%","2.63%",4.4000000953674316,0.49,32,6,"84.21%","15.79%",8.3000001907348633,0.31,38,null,"100.00%",null,10.899999618530273,0.4,36,2,"94.74%","5.26%"]
[8131,"8131 Dorothy M. Wallace COPE Center",14,16.700000762939453,0.31,14,null,"100.00%",null,5.5999999046325684,0.31,14,null,"100.00%",null,3.0999999046325684,0.34,14,null,"100.00%",null,8,0.3,14,null,"100.00%",null,8.6999998092651367,0.32,14,null,"100.00%"]
[8141,"8141 Juvenile Justice Center",10,10.800000190734863,0.2,10,null,"100.00%",null,3.5,0.19,10,null,"100.00%",null,2,0.22,10,null,"100.00%",null,5.3000001907348633,0.2,10,null,"100.00%",null,5.5,0.2,10,null,"100.00%"]
[8151,"8151 Renick, Robert Educational Center",2,19.5,0.36,2,null,"100.00%",null,6.5,0.36,2,null,"100.00%",null,4,0.44,2,null,"100.00%",null,9,0.33,2,null,"100.00%",null,10.5,0.38,2,null,"100.00%"]
[8181,"8181 Ruth Owens Kruse Educational Center",9,13.399999618530273,0.25,9,null,"100.00%",null,3,0.17,9,null,"100.00%",null,3.2000000476837158,0.36,9,null,"100.00%",null,7.1999998092651367,0.27,9,null,"100.00%",null,6.1999998092651367,0.23,9,null,"100.00%"]
[8901,"8901 Miami Lakes Educational Center",77,26.200000762939453,0.49,71,6,"92.21%","7.79%",8.3000001907348633,0.46,71,6,"92.21%","7.79%",5.5999999046325684,0.63,51,26,"66.23%","33.77%",12.199999809265137,0.45,72,5,"93.51%","6.49%",14,0.52,64,13,"83.12%","16.88%"]
[8911,"8911 Robert Morgan Educational Center",52,24.700000762939453,0.46,50,2,"96.15%","3.85%",8.1000003814697266,0.45,49,3,"94.23%","5.77%",5.5,0.61,32,20,"61.54%","38.46%",11.100000381469727,0.41,51,1,"98.08%","1.92%",13.600000381469727,0.5,40,12,"76.92%","23.08%"]
[8981,"8981 South Dade Skill Center",3,14.699999809265137,0.27,3,null,"100.00%",null,2.7000000476837158,0.15,3,null,"100.00%",null,2.7000000476837158,0.28999999999999998,3,null,"100.00%",null,9.3000001907348633,0.34,3,null,"100.00%",null,5.3000001907348633,0.2,3,null,"100.00%"]
[9732,"9732 Merrick Educational Center",24,20.5,0.38,24,null,"100.00%",null,6,0.34,24,null,"100.00%",null,4.4000000953674316,0.49,21,3,"87.50%","12.50%",10.100000381469727,0.37,23,1,"95.83%","4.17%",10.399999618530273,0.39,23,1,"95.83%","4.17%"]
[null,"Female",9110,21.299999237060547,0.39,8961,149,"98.36%","1.64%",7.3000001907348633,0.4,8680,430,"95.28%","4.72%",4.5999999046325684,0.51,7369,1741,"80.89%","19.11%",9.3999996185302734,0.35,9011,99,"98.91%","1.09%",11.899999618530273,0.44,8396,714,"92.16%","7.84%"]
[null,"Male",9502,21.899999618530273,0.41,9172,330,"96.53%","3.47%",7.1999998092651367,0.4,8916,586,"93.83%","6.17%",4.6999998092651367,0.52,7387,2115,"77.74%","22.26%",10,0.37,9255,247,"97.40%","2.60%",11.899999618530273,0.44,8549,953,"89.97%","10.03%"]
[{"$f":"IFERROR(VALUE(LEFT(B101,4)),\"\")","v":9999},"9999 District",{"$f":"SUM(C99:C100)","v":18612},{"$f":"SUMPRODUCT(C99:C100,D99:D100)/C101","v":21.606317936003453},{"$f":"D101/(MID(D$11,(SEARCH(\"(\",D$11)+1),(LEN(D$11)-SEARCH(\"(\",D$11)-9)))","v":0.40011699881487878},{"$f":"SUM(F99:F100)","v":18133},{"$f":"SUM(G99:G100)","v":479},{"$f":"F101/C101","v":0.97426391575327742},{"$f":"G101/C101","v":2.5736084246722545E-2},{"$f":"SUMPRODUCT($C99:$C100,J99:J100)/$C101","v":7.2489469119509957},{"$f":"J101/(MID(J$11,(SEARCH(\"(\",J$11)+1),(LEN(J$11)-SEARCH(\"(\",J$11)-9)))","v":0.40271927288616644},{"$f":"SUM(L99:L100)","v":17596},{"$f":"SUM(M99:M100)","v":1016},{"$f":"L101/$C101","v":0.94541156243283908},{"$f":"M101/$C101","v":5.4588437567160975E-2},{"$f":"SUMPRODUCT($C99:$C100,P99:P100)/$C101","v":4.6510529399763607},{"$f":"P101/(MID(P$11,(SEARCH(\"(\",P$11)+1),(LEN(P$11)-SEARCH(\"(\",P$11)-9)))","v":0.51678365999737341},{"$f":"SUM(R99:R100)","v":14756},{"$f":"SUM(S99:S100)","v":3856},{"$f":"R101/$C101","v":0.79282183537502682},{"$f":"S101/$C101","v":0.20717816462497313},{"$f":"SUMPRODUCT($C99:$C100,V99:V100)/$C101","v":9.706318317473178},{"$f":"V101/(MID(V$11,(SEARCH(\"(\",V$11)+1),(LEN(V$11)-SEARCH(\"(\",V$11)-9)))","v":0.3594932710175251},{"$f":"SUM(X99:X100)","v":18266},{"$f":"SUM(Y99:Y100)","v":346},{"$f":"X101/$C101","v":0.98140984311197077},{"$f":"Y101/$C101","v":1.859015688802923E-2},{"$f":"SUMPRODUCT($C99:$C100,AB99:AB100)/$C101","v":11.899999618530273},{"$f":"AB101/(MID(AB$11,(SEARCH(\"(\",AB$11)+1),(LEN(AB$11)-SEARCH(\"(\",AB$11)-9)))","v":0.44074072661223235},{"$f":"SUM(AD99:AD100)","v":16945},{"$f":"SUM(AE99:AE100)","v":1667},{"$f":"AD101/$C101","v":0.91043412851923489},{"$f":"AE101/$C101","v":8.95658714807651E-2}]
[""]
[""]
[""]
[""]
[""]
[""]
[""]
[""]
[""]
[""]
[""]
[""]
[""]
[""]
[""]
[""]
[""]
[""]
[""]
[""]
[""]
[""]
[""]
[""]
[""]
[""]
[""]
[""]
[""]
[""]
[""]
[""]
[""]
[""]
[""]
[""]
[""]
[""]
[""]
[""]
[""]
[""]
[{"$f":"IFERROR(VALUE(LEFT(B144,4)),\"\")","v":""}]
[""]
[""]
[""]
[""]
[""]
[""]
[""]
[""]
[""]
[""]
[""]
[""]
[""]
[""]
[""]
[""]
[""]
[""]
[""]
[""]
[""]
[""]
[""]
[""]
[""]
[""]
[""]
[""]
[""]
[""]
[""]
[""]
[""]
[""]
[""]
[""]
[""]
[""]
[""]
[""]
[""]
[""]
[""]
[""]
[""]
[""]
[""]
[""]
[""]
[""]
[""]
[""]
[""]
[""]
[""]
[""]
[""]
[""]
[""]
[""]
[""]
[""]
[""]
[{"$f":"IFERROR(VALUE(LEFT(B208,4)),\"\")","v":""}]
[""]
[""]
[""]
[""]
[""]
[""]
[""]
[""]
[""]
[""]
[""]
[""]
[""]
[""]
[""]
[""]
[""]
[""]
[""]
[""]
[""]
[""]
[""]
[""]
[""]
[""]
[""]
[""]
[""]
[""]
[""]
[""]
[""]
[""]
[""]
[""]
[""]
[""]
[""]
[""]
[""]
[""]
[""]
[""]
[""]
[""]
[""]
[""]
[""]
[""]
[""]
[""]
[""]
[""]
[""]
[""]
[""]
[""]
[""]
[""]
[""]
[""]
[""]
[{"$f":"IFERROR(VALUE(LEFT(B272,4)),\"\")","v":""}]
[""]
[""]
[""]
[""]
[""]
[""]
[""]
[""]
[""]
[""]
[""]
[""]
[""]
[""]
[""]
[""]
[""]
[""]
[""]
[""]
[""]
[""]
[""]
[""]
[""]
[""]
[""]
[""]
[""]
[""]
[""]
[""]
[""]
[""]
[""]
[""]
[""]
[""]
[""]
[""]
[""]
[""]
[""]
[""]
[""]
[""]
[""]
[""]
[""]
[""]
[""]
[""]
[""]
[""]
[""]
[""]
[""]
[""]
[""]
[""]
[""]
[""]
[""]
[{"$f":"IFERROR(VALUE(LEFT(B336,4)),\"\")","v":""}]
[""]
[""]
[""]
[""]
[""]
[""]
[""]
[""]
[""]
[""]
[""]
[""]
[""]
[""]
[""]
[""]
[""]
[""]
[""]
[""]
[""]
[""]
[""]
[""]
[""]
[""]
[""]
[""]
[""]
[""]
[""]
[""]
[""]
[""]
[""]
[""]
[""]
[""]
[""]
[""]
[""]
[""]
[""]
[""]
[""]
[""]
[""]
[""]
[""]
[""]
[""]
[""]
[""]
[""]
[""]
[""]
[""]
[""]
[""]
[""]
[""]
[""]
[""]
[{"$f":"IFERROR(VALUE(LEFT(B400,4)),\"\")","v":""}]
[""]
[""]
[""]
[""]
[""]
[""]
[""]
[""]
[""]
[""]
[""]
[""]
[""]
[""]
[""]

{"sheet":"2013-14 BL USH","index":19,"n_rows":415,"n_cols":27,"rows_kept":415,"cut":false,"hidden":true,"merged":[[9,1,11,1],[9,2,9,26],[10,2,12,2],[10,3,10,8],[10,9,10,14],[10,15,10,20],[10,21,10,26],[11,5,11,6],[11,7,11,8],[11,11,11,12],[11,13,11,14],[11,17,11,18],[11,19,11,20],[11,23,11,24],[11,25,11,26]]}
[null,"SS-USH-RC-Schl-All"]
[1,2,3,4,5,6,7,8,9,10,11,12,13,14,15,16,17,18,19,20,21,22,23,24,25,26,27]
[null,"Description:","Social Science US History RC-Schl-All"]
[null,"Student Selection:","All Schools | 2013-2014 Fall, 2013-2014 School Year"]
[null,"Group By Data:","School"]
[null,"Assessments:","Baseline 2013 U.S. History August 2013"]
[null,"Scores:","Overall Avg Raw Score, Overall Avg % Correct, Overall # in Performance Band, Overall % in Performance Band, Question Groups Avg Raw Score, Question Groups Avg % Correct, Question Groups # in Performance Band, Question Groups % in Performance Band"]
[null,"Author Name:","Yuwadee Wongbundhit"]
[{"$f":"COLUMN()","v":1}]
[null,"Total Row(s): 90 Generated on Sep-18-2013 by Yuwadee Wongbundhit","Baseline 2013 U.S. History August 2013"]
[null,null,"Total # students","Overall (57 pts max)",null,null,null,null,null,"Late Nineteenth and Early Twentieth Century (9 pts max)",null,null,null,null,null,"Global Military, Political, & Economic Challenges (19 pts max)",null,null,null,null,null,"The US & the Defense of International Peace (29 pts max)"]
[null,null,null,"Avg Raw Score","Avg % Correct","# in Performance Band",null,"% in Performance Band",null,"Avg Raw Score","Avg % Correct","# in Performance Band",null,"% in Performance Band",null,"Avg Raw Score","Avg % Correct","# in Performance Band",null,"% in Performance Band",null,"Avg Raw Score","Avg % Correct","# in Performance Band",null,"% in Performance Band"]
[null,"School Name",null,"","","Non Proficient","Proficient","Non Proficient","Proficient","","","Non Proficient","Proficient","Non Proficient","Proficient","","","Non Proficient","Proficient","Non Proficient","Proficient","","","Non Proficient","Proficient","Non Proficient","Proficient"]
[{"$f":"IFERROR(VALUE(LEFT(B14,4)),\"\")","v":2041},"2041 Benjamin Franklin Elementary School",45,16.399999618530273,0.28999999999999998,45,null,"100.00%",null,2.7999999523162842,0.31,44,1,"97.78%","2.22%",6,0.32,45,null,"100.00%",null,7.5,0.26,45,null,"100.00%"]
[5022,"5022 Ben Gamla Charter School (Miami Beach) ",14,17.399999618530273,0.31,14,null,"100.00%",null,3.2000000476837158,0.36,14,null,"100.00%",null,6,0.32,14,null,"100.00%",null,8.1999998092651367,0.28000000000000003,14,null,"100.00%"]
[6040,"6040 Doctors Charter School Of Miami Shores ",50,20.899999618530273,0.37,50,null,"100.00%",null,3.4000000953674316,0.38,47,3,"94.00%","6.00%",7.1999998092651367,0.38,49,1,"98.00%","2.00%",10.300000190734863,0.35,50,null,"100.00%"]
[6501,"6501 Miami Lakes Middle School",121,10.699999809265137,0.19,121,null,"100.00%",null,1.2999999523162842,0.14000000000000001,121,null,"100.00%",null,3.9000000953674316,0.21,121,null,"100.00%",null,5.5,0.19,121,null,"100.00%"]
[7007,"7007 International Studies Charter High School",80,21.200000762939453,0.37,80,null,"100.00%",null,3.5999999046325684,0.4,76,4,"95.00%","5.00%",7.5999999046325684,0.4,79,1,"98.75%","1.25%",10.100000381469727,0.35,79,1,"98.75%","1.25%"]
[7009,"7009 Doral Performing Arts Academy",51,21,0.37,51,null,"100.00%",null,3.7999999523162842,0.42,49,2,"96.08%","3.92%",7.1999998092651367,0.38,51,null,"100.00%",null,10,0.34,51,null,"100.00%"]
[7011,"7011 American Senior High School",349,16.5,0.28999999999999998,349,null,"100.00%",null,2.5,0.28000000000000003,349,null,"100.00%",null,5.5999999046325684,0.3,349,null,"100.00%",null,8.3000001907348633,0.28999999999999998,349,null,"100.00%"]
[7014,"7014 Mater Performing Arts & Entertainment Academy",21,21.600000381469727,0.38,21,null,"100.00%",null,3.5,0.39,20,1,"95.24%","4.76%",7,0.37,21,null,"100.00%",null,11.100000381469727,0.38,21,null,"100.00%"]
[7015,"7015 Life Skills Center Miami-dade County",48,16.100000381469727,0.28000000000000003,48,null,"100.00%",null,2.7000000476837158,0.3,47,1,"97.92%","2.08%",5.5,0.28999999999999998,48,null,"100.00%",null,7.9000000953674316,0.27,48,null,"100.00%"]
[7016,"7016 Sports Leadership Academy Of Miami Chs",52,19.799999237060547,0.35,52,null,"100.00%",null,3.5,0.38,52,null,"100.00%",null,6.9000000953674316,0.37,52,null,"100.00%",null,9.3999996185302734,0.32,52,null,"100.00%"]
[7018,"7018 Mater Academy Lakes High School",222,19.299999237060547,0.34,222,null,"100.00%",null,3.0999999046325684,0.34,216,6,"97.30%","2.70%",6.4000000953674316,0.34,219,3,"98.65%","1.35%",9.6999998092651367,0.34,222,null,"100.00%"]
[7020,"7020 Doral Academy High School",269,20.299999237060547,0.36,269,null,"100.00%",null,3.4000000953674316,0.37,260,9,"96.65%","3.35%",6.9000000953674316,0.37,267,2,"99.26%","0.74%",9.8999996185302734,0.34,269,null,"100.00%"]
[7022,"7022 Academy Of Arts And Minds",95,19.299999237060547,0.34,95,null,"100.00%",null,3.0999999046325684,0.35,93,2,"97.89%","2.11%",6.6999998092651367,0.35,95,null,"100.00%",null,9.6000003814697266,0.33,95,null,"100.00%"]
[7029,"7029 Terra Environmental Institute",269,22.700000762939453,0.4,269,null,"100.00%",null,4,0.44,256,13,"95.17%","4.83%",7.6999998092651367,0.41,265,4,"98.51%","1.49%",11,0.38,269,null,"100.00%"]
[7032,"7032 Palm Glades Preparatory High School",194,17,0.3,194,null,"100.00%",null,2.7999999523162842,0.31,193,1,"99.48%","0.52%",5.8000001907348633,0.3,194,null,"100.00%",null,8.3999996185302734,0.28999999999999998,194,null,"100.00%"]
[7033,"7033 Law Enforcement Officers Memorial High",60,22.100000381469727,0.39,60,null,"100.00%",null,3.7000000476837158,0.41,57,3,"95.00%","5.00%",7.8000001907348633,0.41,58,2,"96.67%","3.33%",10.600000381469727,0.36,60,null,"100.00%"]
[7034,"7034 Somerset Academy Charter High South Campus",21,21.299999237060547,0.37,21,null,"100.00%",null,3.0999999046325684,0.35,21,null,"100.00%",null,7.9000000953674316,0.42,21,null,"100.00%",null,10.300000190734863,0.35,21,null,"100.00%"]
[7036,"7036 Lawrence Academy  Senior High  Charter School",6,14.300000190734863,0.25,6,null,"100.00%",null,1.7999999523162842,0.2,6,null,"100.00%",null,5.6999998092651367,0.3,6,null,"100.00%",null,6.8000001907348633,0.24,6,null,"100.00%"]
[7037,"7037 Mater Academy  East Charter  High School",79,19.5,0.34,78,1,"98.73%","1.27%",3.5,0.39,76,3,"96.20%","3.80%",6.4000000953674316,0.34,78,1,"98.73%","1.27%",9.6999998092651367,0.33,79,null,"100.00%"]
[7042,"7042 Somerset Academy Charter High School",51,18.299999237060547,0.32,51,null,"100.00%",null,3,0.33,51,null,"100.00%",null,6.1999998092651367,0.33,51,null,"100.00%",null,9.1000003814697266,0.31,51,null,"100.00%"]
[7048,"7048 Alonzo Andtracy Mourning High (Biscanye Bay)",407,19.299999237060547,0.34,407,null,"100.00%",null,3.2999999523162842,0.36,394,13,"96.81%","3.19%",6.6999998092651367,0.35,404,3,"99.26%","0.74%",9.3000001907348633,0.32,406,1,"99.75%","0.25%"]
[7049,"7049 Westland Hialeah Senior",416,15.399999618530273,0.27,416,null,"100.00%",null,2.5,0.27,413,3,"99.28%","0.72%",5.1999998092651367,0.27,412,4,"99.04%","0.96%",7.6999998092651367,0.27,416,null,"100.00%"]
[7051,"7051 G Holmes Braddock Senior High",634,17.299999237060547,0.3,633,1,"99.84%","0.16%",2.7999999523162842,0.31,629,5,"99.21%","0.79%",5.8000001907348633,0.31,633,1,"99.84%","0.16%",8.6999998092651367,0.3,634,null,"100.00%"]
[7053,"7053 Pinecrest Preparatory Academy Charter HS",82,18.100000381469727,0.32,82,null,"100.00%",null,2.9000000953674316,0.32,82,null,"100.00%",null,6,0.32,82,null,"100.00%",null,9.1000003814697266,0.32,82,null,"100.00%"]
[7055,"7055 Young Women's Preparatory Academy",2,23.5,0.41,2,null,"100.00%",null,4,0.44,2,null,"100.00%",null,7,0.37,2,null,"100.00%",null,12.5,0.43,2,null,"100.00%"]
[7056,"7056 Young Men's Preparatory High School",26,18.799999237060547,0.33,26,null,"100.00%",null,2.7999999523162842,0.31,25,1,"96.15%","3.85%",6.6999998092651367,0.35,26,null,"100.00%",null,9.3000001907348633,0.32,26,null,"100.00%"]
[7058,"7058 Miami Community Charter High",39,18.299999237060547,0.32,39,null,"100.00%",null,3.5,0.39,38,1,"97.44%","2.56%",5.8000001907348633,0.31,39,null,"100.00%",null,8.8999996185302734,0.31,39,null,"100.00%"]
[7059,"7059 Miami Arts Charter",59,25.799999237060547,0.45,57,2,"96.61%","3.39%",4.3000001907348633,0.48,54,5,"91.53%","8.47%",9.1000003814697266,0.48,54,5,"91.53%","8.47%",12.300000190734863,0.42,57,2,"96.61%","3.39%"]
[7060,"7060 Everglades Preparatory Academy High School",28,14.899999618530273,0.26,28,null,"100.00%",null,2,0.22,28,null,"100.00%",null,5.3000001907348633,0.28000000000000003,28,null,"100.00%",null,7.5999999046325684,0.26,28,null,"100.00%"]
[7067,"7067 Florida High School Of Accelerated  Learning-",25,15.199999809265137,0.27,25,null,"100.00%",null,1.8999999761581421,0.21,25,null,"100.00%",null,5.5999999046325684,0.3,25,null,"100.00%",null,7.5999999046325684,0.26,25,null,"100.00%"]
[7068,"7068 North Gardens High School",34,16.200000762939453,0.28000000000000003,34,null,"100.00%",null,2.4000000953674316,0.27,33,1,"97.06%","2.94%",5.6999998092651367,0.3,34,null,"100.00%",null,8.1000003814697266,0.28000000000000003,34,null,"100.00%"]
[7069,"7069 North Park High School ",18,18.100000381469727,0.32,17,1,"94.44%","5.56%",2.7000000476837158,0.28999999999999998,17,1,"94.44%","5.56%",6.6999998092651367,0.35,17,1,"94.44%","5.56%",8.6999998092651367,0.3,18,null,"100.00%"]
[7071,"7071 Coral Gables Senior High School",605,16.399999618530273,0.28999999999999998,605,null,"100.00%",null,2.5,0.28000000000000003,597,8,"98.68%","1.32%",5.5999999046325684,0.3,604,1,"99.83%","0.17%",8.3000001907348633,0.28000000000000003,605,null,"100.00%"]
[7081,"7081 DASH",97,23.100000381469727,0.41,96,1,"98.97%","1.03%",4.0999999046325684,0.46,93,4,"95.88%","4.12%",7.8000001907348633,0.41,95,2,"97.94%","2.06%",11.199999809265137,0.39,96,1,"98.97%","1.03%"]
[7101,"7101 Coral Reef Senior High School",322,20.700000762939453,0.36,321,1,"99.69%","0.31%",3.5,0.39,308,14,"95.65%","4.35%",7.0999999046325684,0.37,317,5,"98.45%","1.55%",10.100000381469727,0.35,321,1,"99.69%","0.31%"]
[7111,"7111 Hialeah Senior high",619,15.699999809265137,0.28000000000000003,619,null,"100.00%",null,2.4000000953674316,0.26,616,3,"99.52%","0.48%",5.1999998092651367,0.27,619,null,"100.00%",null,8.1000003814697266,0.28000000000000003,619,null,"100.00%"]
[7121,"7121 John A. Ferguson Senior High School",762,18.299999237060547,0.32,760,2,"99.74%","0.26%",3.0999999046325684,0.34,749,13,"98.29%","1.71%",6.3000001907348633,0.33,757,5,"99.34%","0.66%",8.8999996185302734,0.31,761,1,"99.87%","0.13%"]
[7131,"7131 Hialeah-Miami Lakes Senior High",357,18.100000381469727,0.32,356,1,"99.72%","0.28%",3,0.33,350,7,"98.04%","1.96%",6.1999998092651367,0.32,355,2,"99.44%","0.56%",9,0.31,356,1,"99.72%","0.28%"]
[7141,"7141 Dr. Michael M. Krop Senior High School",523,20.100000381469727,0.35,521,2,"99.62%","0.38%",3.4000000953674316,0.37,506,17,"96.75%","3.25%",6.8000001907348633,0.36,519,4,"99.24%","0.76%",9.8999996185302734,0.34,522,1,"99.81%","0.19%"]
[7151,"7151 Homestead Sr. High School",316,17,0.3,316,null,"100.00%",null,2.9000000953674316,0.32,312,4,"98.73%","1.27%",5.5999999046325684,0.28999999999999998,316,null,"100.00%",null,8.6000003814697266,0.28999999999999998,316,null,"100.00%"]
[7160,"7160 Mater Academy High",246,19.399999618530273,0.34,244,2,"99.19%","0.81%",3.2999999523162842,0.36,241,5,"97.97%","2.03%",6.5999999046325684,0.35,243,3,"98.78%","1.22%",9.6000003814697266,0.33,246,null,"100.00%"]
[7161,"7161 MAST Academy",32,25.299999237060547,0.44,32,null,"100.00%",null,4.5,0.5,30,2,"93.75%","6.25%",8.3000001907348633,0.44,31,1,"96.88%","3.12%",12.399999618530273,0.43,32,null,"100.00%"]
[7171,"7171 M.A.S.T At Homestead",133,22.5,0.39,132,1,"99.25%","0.75%",3.7999999523162842,0.42,129,4,"96.99%","3.01%",7.8000001907348633,0.41,130,3,"97.74%","2.26%",11,0.38,133,null,"100.00%"]
[7191,"7191 Hialeah Gardens High School",537,16.799999237060547,0.3,537,null,"100.00%",null,2.5999999046325684,0.28999999999999998,530,7,"98.70%","1.30%",5.6999998092651367,0.3,535,2,"99.63%","0.37%",8.5,0.28999999999999998,537,null,"100.00%"]
[7201,"7201 Miami Beach Senior high School",371,17.399999618530273,0.31,371,null,"100.00%",null,2.9000000953674316,0.32,366,5,"98.65%","1.35%",5.6999998092651367,0.3,369,2,"99.46%","0.54%",8.8000001907348633,0.3,370,1,"99.73%","0.27%"]
[7231,"7231 Miami Carol City Sr. High",411,17.200000762939453,0.3,410,1,"99.76%","0.24%",2.7000000476837158,0.3,409,2,"99.51%","0.49%",5.9000000953674316,0.31,410,1,"99.76%","0.24%",8.6000003814697266,0.3,410,1,"99.76%","0.24%"]
[7241,"7241 Ronald W. Reagan/Doral Senior High",392,16.600000381469727,0.28999999999999998,391,1,"99.74%","0.26%",2.7000000476837158,0.3,385,7,"98.21%","1.79%",5.5,0.28999999999999998,389,3,"99.23%","0.77%",8.3999996185302734,0.28999999999999998,392,null,"100.00%"]
[7251,"7251 Miami Central Senior High",360,16.799999237060547,0.28999999999999998,360,null,"100.00%",null,2.9000000953674316,0.32,346,14,"96.11%","3.89%",5.5999999046325684,0.3,360,null,"100.00%",null,8.3000001907348633,0.28999999999999998,360,null,"100.00%"]
[7262,"7262 City of Hialeah Education Academy",59,19.899999618530273,0.35,59,null,"100.00%",null,3.7999999523162842,0.43,58,1,"98.31%","1.69%",6.8000001907348633,0.36,59,null,"100.00%",null,9.1999998092651367,0.32,59,null,"100.00%"]
[7265,"7265 Archimedean Upper Conservatory",45,28.399999618530273,0.5,41,4,"91.11%","8.89%",4.5999999046325684,0.51,38,7,"84.44%","15.56%",9,0.48,40,5,"88.89%","11.11%",14.800000190734863,0.51,40,5,"88.89%","11.11%"]
[7271,"7271 Miami Coral Park Senior High School",545,17.5,0.31,543,2,"99.63%","0.37%",2.9000000953674316,0.32,534,11,"97.98%","2.02%",6,0.32,544,1,"99.82%","0.18%",8.6000003814697266,0.3,543,2,"99.63%","0.37%"]
[7291,"7291 Jose Marti ",41,24.399999618530273,0.43,38,3,"92.68%","7.32%",4.5,0.5,35,6,"85.37%","14.63%",8.1000003814697266,0.43,38,3,"92.68%","7.32%",11.699999809265137,0.4,40,1,"97.56%","2.44%"]
[7301,"7301 Miami Edison Senior High",209,15.899999618530273,0.28000000000000003,209,null,"100.00%",null,2.5,0.28000000000000003,208,1,"99.52%","0.48%",5.3000001907348633,0.28000000000000003,209,null,"100.00%",null,8.1000003814697266,0.28000000000000003,209,null,"100.00%"]
[7341,"7341 Miami Jackson Senior High",247,16.299999237060547,0.28999999999999998,247,null,"100.00%",null,2.7000000476837158,0.28999999999999998,246,1,"99.60%","0.40%",5.5,0.28999999999999998,247,null,"100.00%",null,8.1000003814697266,0.28000000000000003,247,null,"100.00%"]
[7351,"7351 Arthur And Polly Mays 6-12 Conservatory Of Th",82,16.299999237060547,0.28999999999999998,82,null,"100.00%",null,2.2999999523162842,0.25,82,null,"100.00%",null,5.6999998092651367,0.3,82,null,"100.00%",null,8.3000001907348633,0.28000000000000003,82,null,"100.00%"]
[7361,"7361 Miami Killian Senior High",406,17.399999618530273,0.31,406,null,"100.00%",null,2.7000000476837158,0.3,401,5,"98.77%","1.23%",6.0999999046325684,0.32,406,null,"100.00%",null,8.6000003814697266,0.3,406,null,"100.00%"]
[7371,"7371 Robert Morgan Education Center",452,19.600000381469727,0.34,452,null,"100.00%",null,3.2999999523162842,0.37,438,14,"96.90%","3.10%",6.5999999046325684,0.35,450,2,"99.56%","0.44%",9.6000003814697266,0.33,452,null,"100.00%"]
[7381,"7381 Miami Norland Senior High",328,17.600000381469727,0.31,328,null,"100.00%",null,2.7999999523162842,0.3,321,7,"97.87%","2.13%",5.9000000953674316,0.31,327,1,"99.70%","0.30%",8.8999996185302734,0.31,328,null,"100.00%"]
[7391,"7391 Miami Lakes Educational Center",249,20.299999237060547,0.36,249,null,"100.00%",null,3.4000000953674316,0.37,244,5,"97.99%","2.01%",6.9000000953674316,0.36,247,2,"99.20%","0.80%",10.100000381469727,0.35,249,null,"100.00%"]
[7411,"7411 Miami Northwestern Senior",202,18.700000762939453,0.33,202,null,"100.00%",null,3.2000000476837158,0.36,196,6,"97.03%","2.97%",6.4000000953674316,0.34,202,null,"100.00%",null,9.1000003814697266,0.31,202,null,"100.00%"]
[7431,"7431 Miami Palmetto Sr High",391,18.299999237060547,0.32,390,1,"99.74%","0.26%",3,0.33,383,8,"97.95%","2.05%",6.1999998092651367,0.33,389,2,"99.49%","0.51%",9.1000003814697266,0.31,390,1,"99.74%","0.26%"]
[7461,"7461 Miami Senior High",588,16.700000762939453,0.28999999999999998,588,null,"100.00%",null,2.5999999046325684,0.28999999999999998,582,6,"98.98%","1.02%",5.6999998092651367,0.3,588,null,"100.00%",null,8.3999996185302734,0.28999999999999998,588,null,"100.00%"]
[7511,"7511 Miami Springs Senior High",416,18.5,0.33,416,null,"100.00%",null,3.0999999046325684,0.34,406,10,"97.60%","2.40%",6.4000000953674316,0.34,415,1,"99.76%","0.24%",9,0.31,416,null,"100.00%"]
[7531,"7531 Miami SunSET Senior",354,17.299999237060547,0.3,353,1,"99.72%","0.28%",2.7000000476837158,0.3,350,4,"98.87%","1.13%",5.8000001907348633,0.31,352,2,"99.44%","0.56%",8.6999998092651367,0.3,354,null,"100.00%"]
[{"$f":"IFERROR(VALUE(LEFT(B78,4)),\"\")","v":7541},"7541 North Miami Beach Sr.",336,16.799999237060547,0.3,336,null,"100.00%",null,2.5999999046325684,0.28999999999999998,335,1,"99.70%","0.30%",5.6999998092651367,0.3,336,null,"100.00%",null,8.6000003814697266,0.28999999999999998,336,null,"100.00%"]
[7571,"7571 International Studies Preparatory Academy",22,21.799999237060547,0.38,22,null,"100.00%",null,3.7999999523162842,0.42,22,null,"100.00%",null,7.4000000953674316,0.39,22,null,"100.00%",null,10.600000381469727,0.37,22,null,"100.00%"]
[7581,"7581 IPreparatory Academy",24,22.799999237060547,0.4,24,null,"100.00%",null,4.1999998092651367,0.46,20,4,"83.33%","16.67%",7.5999999046325684,0.4,24,null,"100.00%",null,11,0.38,24,null,"100.00%"]
[7591,"7591 North Miami Senior High School",552,18,0.32,552,null,"100.00%",null,3,0.33,543,9,"98.37%","1.63%",6.3000001907348633,0.33,551,1,"99.82%","0.18%",8.6000003814697266,0.3,552,null,"100.00%"]
[7601,"7601 Turner Tech",323,20.5,0.36,321,2,"99.38%","0.62%",3.7000000476837158,0.41,310,13,"95.98%","4.02%",7.0999999046325684,0.37,317,6,"98.14%","1.86%",9.8000001907348633,0.34,322,1,"99.69%","0.31%"]
[7631,"7631 MacArthur South Senior High",15,13.699999809265137,0.24,15,null,"100.00%",null,2.2999999523162842,0.25,15,null,"100.00%",null,4.4000000953674316,0.23,15,null,"100.00%",null,7.0999999046325684,0.24,15,null,"100.00%"]
[7701,"7701 South Dade Senior",673,16.899999618530273,0.3,672,1,"99.85%","0.15%",2.7000000476837158,0.3,669,4,"99.41%","0.59%",5.6999998092651367,0.3,670,3,"99.55%","0.45%",8.3999996185302734,0.28999999999999998,672,1,"99.85%","0.15%"]
[7721,"7721 South Miami Senior High",441,18.100000381469727,0.32,441,null,"100.00%",null,3,0.33,433,8,"98.19%","1.81%",6.1999998092651367,0.32,440,1,"99.77%","0.23%",8.8999996185302734,0.31,441,null,"100.00%"]
[7731,"7731 Miami Southridge Senior High",438,16.700000762939453,0.28999999999999998,438,null,"100.00%",null,2.7000000476837158,0.3,437,1,"99.77%","0.23%",5.5999999046325684,0.28999999999999998,437,1,"99.77%","0.23%",8.3999996185302734,0.28999999999999998,438,null,"100.00%"]
[7741,"7741 Southwest Miami High School",661,18.799999237060547,0.33,660,1,"99.85%","0.15%",3.0999999046325684,0.34,646,15,"97.73%","2.27%",6.5,0.34,658,3,"99.55%","0.45%",9.3000001907348633,0.32,661,null,"100.00%"]
[7751,"7751 Barbara Goleman High School",374,17.200000762939453,0.3,373,1,"99.73%","0.27%",2.7999999523162842,0.3,371,3,"99.20%","0.80%",6,0.31,373,1,"99.73%","0.27%",8.5,0.28999999999999998,374,null,"100.00%"]
[7781,"7781 Felix Varela Senior High School",668,18.700000762939453,0.33,668,null,"100.00%",null,3.0999999046325684,0.34,656,12,"98.20%","1.80%",6.4000000953674316,0.34,668,null,"100.00%",null,9.3000001907348633,0.32,668,null,"100.00%"]
[7791,"7791 Booker T. Washington Senior High School",191,17.399999618530273,0.31,190,1,"99.48%","0.52%",2.7000000476837158,0.3,190,1,"99.48%","0.52%",5.8000001907348633,0.31,190,1,"99.48%","0.52%",8.8000001907348633,0.3,191,null,"100.00%"]
[7801,"7801 George T. Baker",76,18.100000381469727,0.32,76,null,"100.00%",null,2.7999999523162842,0.31,74,2,"97.37%","2.63%",6.0999999046325684,0.32,76,null,"100.00%",null,9.1999998092651367,0.32,76,null,"100.00%"]
[7901,"7901 New World School of Arts",65,21.899999618530273,0.38,64,1,"98.46%","1.54%",3.5999999046325684,0.4,59,6,"90.77%","9.23%",7.5999999046325684,0.4,64,1,"98.46%","1.54%",10.600000381469727,0.37,64,1,"98.46%","1.54%"]
[8005,"8005 Lindsey Hopkins TEC",22,17.700000762939453,0.31,22,null,"100.00%",null,3,0.33,22,null,"100.00%",null,5.8000001907348633,0.31,22,null,"100.00%",null,9,0.31,22,null,"100.00%"]
[8014,"8014 Educational Alt. Outreach Program",20,14.199999809265137,0.25,20,null,"100.00%",null,2,0.22,20,null,"100.00%",null,5.0999999046325684,0.27,20,null,"100.00%",null,7.1999998092651367,0.25,20,null,"100.00%"]
[8017,"8017 Outreachprograms",41,14.899999618530273,0.26,41,null,"100.00%",null,2.2000000476837158,0.25,41,null,"100.00%",null,5,0.26,41,null,"100.00%",null,7.5999999046325684,0.26,41,null,"100.00%"]
[8019,"8019 Academy For Comm. Ed.",22,15.199999809265137,0.27,22,null,"100.00%",null,2.7000000476837158,0.3,21,1,"95.45%","4.55%",5,0.26,22,null,"100.00%",null,7.5,0.26,22,null,"100.00%"]
[8101,"8101 Jan Mann Opp. Center",6,13.800000190734863,0.25,6,null,"100.00%",null,1.2000000476837158,0.13,6,null,"100.00%",null,4.6999998092651367,0.25,6,null,"100.00%",null,8,0.28000000000000003,6,null,"100.00%"]
[8121,"8121 C.O.P.E. Center North",24,18.700000762939453,0.33,24,null,"100.00%",null,3.0999999046325684,0.34,23,1,"95.83%","4.17%",7.3000001907348633,0.38,24,null,"100.00%",null,8.3000001907348633,0.28999999999999998,24,null,"100.00%"]
[8131,"8131 Dorothy M. Wallace COPE Center",23,15.800000190734863,0.28000000000000003,23,null,"100.00%",null,2.7000000476837158,0.3,23,null,"100.00%",null,6.1999998092651367,0.33,23,null,"100.00%",null,6.9000000953674316,0.24,23,null,"100.00%"]
[8141,"8141 Juvenile Justice Center",15,12.399999618530273,0.22,15,null,"100.00%",null,2,0.22,15,null,"100.00%",null,4.5,0.24,15,null,"100.00%",null,5.9000000953674316,0.2,15,null,"100.00%"]
[8151,"8151 Renick, Robert Educational Center",4,12.800000190734863,0.22,4,null,"100.00%",null,2,0.22,4,null,"100.00%",null,4.5,0.24,4,null,"100.00%",null,6.3000001907348633,0.22,4,null,"100.00%"]
[8911,"8911 Robert Morgan Educational Center",4,14.5,0.25,4,null,"100.00%",null,1.5,0.16,4,null,"100.00%",null,5.3000001907348633,0.28000000000000003,4,null,"100.00%",null,7.8000001907348633,0.27,4,null,"100.00%"]
[{"$f":"IFERROR(VALUE(LEFT(B103,4)),\"\")","v":9732},"9732 Merrick Educational Center",9,21.399999618530273,0.38,8,1,"88.89%","11.11%",3.5999999046325684,0.39,8,1,"88.89%","11.11%",7.4000000953674316,0.39,8,1,"88.89%","11.11%",10.399999618530273,0.36,8,1,"88.89%","11.11%"]
["","Female",9414,18,0.32,9404,10,"99.89%","0.11%",3,0.33,9226,188,"98.00%","2.00%",6.1999998092651367,0.32,9382,32,"99.66%","0.34%",8.8000001907348633,0.3,9407,7,"99.93%","0.07%"]
["","Male",10097,18,0.32,10071,26,"99.74%","0.26%",2.9000000953674316,0.32,9918,179,"98.23%","1.77%",6.0999999046325684,0.32,10029,68,"99.33%","0.67%",9,0.31,10080,17,"99.83%","0.17%"]
[9999,"9999 District",{"$f":"SUM(C104:C105)","v":19511},{"$f":"SUMPRODUCT(C104:C105,D104:D105)/C106","v":18},{"$f":"D106/(MID(D$11,(SEARCH(\"(\",D$11)+1),(LEN(D$11)-SEARCH(\"(\",D$11)-9)))","v":0.31578947368421051},{"$f":"SUM(F104:F105)","v":19475},{"$f":"SUM(G104:G105)","v":36},{"$f":"F106/C106","v":0.99815488698682797},{"$f":"G106/C106","v":1.8451130131720568E-3},{"$f":"SUMPRODUCT(C104:C105,J104:J105)/C106","v":2.9482497546473763},{"$f":"J106/(MID(J$11,(SEARCH(\"(\",J$11)+1),(LEN(J$11)-SEARCH(\"(\",J$11)-9)))","v":0.3275833060719307},{"$f":"SUM(L104:L105)","v":19144},{"$f":"SUM(M104:M105)","v":367},{"$f":"L106/C106","v":0.98119009789349598},{"$f":"M106/C106","v":1.8809902106504024E-2},{"$f":"SUMPRODUCT(C104:C105,P104:P105)/C106","v":6.148249563912513},{"$f":"P106/(MID(P$11,(SEARCH(\"(\",P$11)+1),(LEN(P$11)-SEARCH(\"(\",P$11)-9)))","v":0.32359208231118491},{"$f":"SUM(R104:R105)","v":19411},{"$f":"SUM(S104:S105)","v":100},{"$f":"R106/C106","v":0.99487468607452212},{"$f":"S106/C106","v":5.1253139254779359E-3},{"$f":"SUMPRODUCT(C104:C105,V104:V105)/C106","v":8.9035006814401108},{"$f":"V106/(MID(V$11,(SEARCH(\"(\",V$11)+1),(LEN(V$11)-SEARCH(\"(\",V$11)-9)))","v":0.30701726487724518},{"$f":"SUM(X104:X105)","v":19487},{"$f":"SUM(Y104:Y105)","v":24},{"$f":"X106/C106","v":0.99876992465788528},{"$f":"Y106/C106","v":1.2300753421147046E-3}]
[""]
[""]
[""]
[{"$f":"IFERROR(VALUE(LEFT(B110,4)),\"\")","v":""}]
[""]
[""]
[""]
[""]
[""]
[""]
[""]
[""]
[""]
[""]
[""]
[""]
[""]
[""]
[""]
[""]
[""]
[""]
[""]
[""]
[""]
[""]
[""]
[""]
[""]
[""]
[""]
[""]
[""]
[""]
[""]
[""]
[""]
[{"$f":"IFERROR(VALUE(LEFT(B144,4)),\"\")","v":""}]
[""]
[""]
[""]
[""]
[""]
[""]
[""]
[""]
[""]
[""]
[""]
[""]
[""]
[""]
[""]
[""]
[""]
[""]
[""]
[""]
[""]
[""]
[""]
[""]
[""]
[""]
[""]
[""]
[""]
[""]
[""]
[""]
[""]
[""]
[""]
[""]
[""]
[""]
[""]
[""]
[""]
[""]
[""]
[""]
[""]
[""]
[""]
[""]
[""]
[""]
[""]
[""]
[""]
[""]
[""]
[""]
[""]
[""]
[""]
[""]
[""]
[""]
[""]
[{"$f":"IFERROR(VALUE(LEFT(B208,4)),\"\")","v":""}]
[""]
[""]
[""]
[""]
[""]
[""]
[""]
[""]
[""]
[""]
[""]
[""]
[""]
[""]
[""]
[""]
[""]
[""]
[""]
[""]
[""]
[""]
[""]
[""]
[""]
[""]
[""]
[""]
[""]
[""]
[""]
[""]
[""]
[""]
[""]
[""]
[""]
[""]
[""]
[""]
[""]
[""]
[""]
[""]
[""]
[""]
[""]
[""]
[""]
[""]
[""]
[""]
[""]
[""]
[""]
[""]
[""]
[""]
[""]
[""]
[""]
[""]
[""]
[{"$f":"IFERROR(VALUE(LEFT(B272,4)),\"\")","v":""}]
[""]
[""]
[""]
[""]
[""]
[""]
[""]
[""]
[""]
[""]
[""]
[""]
[""]
[""]
[""]
[""]
[""]
[""]
[""]
[""]
[""]
[""]
[""]
[""]
[""]
[""]
[""]
[""]
[""]
[""]
[""]
[""]
[""]
[""]
[""]
[""]
[""]
[""]
[""]
[""]
[""]
[""]
[""]
[""]
[""]
[""]
[""]
[""]
[""]
[""]
[""]
[""]
[""]
[""]
[""]
[""]
[""]
[""]
[""]
[""]
[""]
[""]
[""]
[{"$f":"IFERROR(VALUE(LEFT(B336,4)),\"\")","v":""}]
[""]
[""]
[""]
[""]
[""]
[""]
[""]
[""]
[""]
[""]
[""]
[""]
[""]
[""]
[""]
[""]
[""]
[""]
[""]
[""]
[""]
[""]
[""]
[""]
[""]
[""]
[""]
[""]
[""]
[""]
[""]
[""]
[""]
[""]
[""]
[""]
[""]
[""]
[""]
[""]
[""]
[""]
[""]
[""]
[""]
[""]
[""]
[""]
[""]
[""]
[""]
[""]
[""]
[""]
[""]
[""]
[""]
[""]
[""]
[""]
[""]
[""]
[""]
[{"$f":"IFERROR(VALUE(LEFT(B400,4)),\"\")","v":""}]
[""]
[""]
[""]
[""]
[""]
[""]
[""]
[""]
[""]
[""]
[""]
[""]
[""]
[""]
[""]

{"sheet":"SchList","index":20,"n_rows":231,"n_cols":10,"rows_kept":231,"cut":false,"hidden":true,"merged":[]}
["9999","District",{"$f":"A1","v":"9999"},null,null,null,null,null,{"$f":"ROW()","v":1},{"$f":"C1","v":"9999"}]
["6082","ACADEMIR CHARTER SCHOOL MIDDLE",{"$f":"A2","v":"6082"},"Y",null,null,null,null,{"$f":"ROW()","v":2},{"$f":"C2","v":"6082"}]
["8019","ACADEMY FOR COMMUNITY ED      ","8019","Y",null,null,null,null,{"$f":"ROW()","v":3},"8019"]
["5044","ACADEMY FOR INT'L EDUCATION CH","5044","Y",null,null,null,null,{"$f":"ROW()","v":4},"5044"]
["7022","ACADEMY OF ARTS AND MINDS     ","7022","Y",null,null,null,null,{"$f":"ROW()","v":5},"7022"]
["3191","ADA MERRITT K-8 CENTER        ","3191","Y",null,null,null,null,{"$f":"ROW()","v":6},"3191"]
["6011","ALLAPATTAH MIDDLE             ","6011","Y",null,null,null,null,{"$f":"ROW()","v":7},"6011"]
["7048","ALONZO & TRACY MOURNING SH    ","7048","Y",null,null,null,null,{"$f":"ROW()","v":8},"7048"]
["8017","ALTERNATIVE OUTREACH PROGRAM  ","8017","Y",null,null,null,null,{"$f":"ROW()","v":9},"8017"]
["8014","ALTERNATIVE OUTREACH-EXT. YR  ","8014","Y",null,null,null,null,{"$f":"ROW()","v":10},"8014"]
["7011","AMERICAN SENIOR               ","7011","Y",null,null,null,null,{"$f":"ROW()","v":11},"7011"]
["6023","ANDOVER MIDDLE SCHOOL         ","6023","Y",null,null,null,null,{"$f":"ROW()","v":12},"6023"]
["6006","ARCHIMEDEAN CONSERVATORY      ","6006","Y",null,null,null,null,{"$f":"ROW()","v":13},"6006"]
["7265","ARCHIMEDEAN UPPER CONSERV CHAR","7265","Y",null,null,null,null,{"$f":"ROW()","v":14},"7265"]
["7351","ARTHUR AND POLLY MAYS CONSERVA","7351","Y",null,null,null,null,{"$f":"ROW()","v":15},"7351"]
["6021","ARVIDA MIDDLE SCHOOL          ","6021","Y",null,null,null,null,{"$f":"ROW()","v":16},"6021"]
["6070","ASPIRA EUGENIO MARIA DE HOSTOS","6070","Y",null,null,null,null,{"$f":"ROW()","v":17},"6070"]
["6020","ASPIRA RAUL A. MARTINEZ CHTR  ","6020","Y",null,null,null,null,{"$f":"ROW()","v":18},"6020"]
["6060","ASPIRA SOUTH YOUTH LEADERSHIP ","6060","Y",null,null,null,null,{"$f":"ROW()","v":19},"6060"]
["0950","AVENTURA CITY OF EXCELLENCE   ","0950","Y",null,null,null,null,{"$f":"ROW()","v":20},"0950"]
["0231","AVENTURA WATERWAYS K-8 CENTER ","0231","Y",null,null,null,null,{"$f":"ROW()","v":21},"0231"]
["7751","BARBARA GOLEMAN SENIOR HIGH   ","7751","Y",null,null,null,null,{"$f":"ROW()","v":22},"7751"]
["5022","BEN GAMLA CHARTER SCHL        ","5022","Y",null,null,null,null,{"$f":"ROW()","v":23},"5022"]
["2041","BENJAMIN FRANKLIN K-8 CENTER  ","2041","Y",null,null,null,null,{"$f":"ROW()","v":24},"2041"]
["0091","BOB GRAHAM EDUCATION CTR      ","0091","Y",null,null,null,null,{"$f":"ROW()","v":25},"0091"]
["7791","BOOKER T. WASHINGTON SR. HIGH ","7791","Y",null,null,null,null,{"$f":"ROW()","v":26},"7791"]
["0451","BOWMAN ASHE/DOOLIN K-8 ACAD   ","0451","Y",null,null,null,null,{"$f":"ROW()","v":27},"0451"]
["5020","BRIDGEPOINT ACAD INTERAMERICAN","5020","Y",null,null,null,null,{"$f":"ROW()","v":28},"5020"]
["6031","BROWNSVILLE MIDDLE            ","6031","Y",null,null,null,null,{"$f":"ROW()","v":29},"6031"]
["0651","CAMPBELL DRIVE K-8 CENTER     ","0651","Y",null,null,null,null,{"$f":"ROW()","v":30},"0651"]
["6061","CAMPBELL DRIVE MIDDLE         ","6061","Y",null,null,null,null,{"$f":"ROW()","v":31},"6061"]
["6051","CAROL CITY MIDDLE             ","6051","Y",null,null,null,null,{"$f":"ROW()","v":32},"6051"]
["5901","CARRIE P MEEK/WESTVIEW K-8 CTR","5901","Y",null,null,null,null,{"$f":"ROW()","v":33},"5901"]
["1401","CHARLES R. DREW ELEMENTARY    ","1401","Y",null,null,null,null,{"$f":"ROW()","v":34},"1401"]
["6091","CITRUS GROVE MIDDLE SCHOOL    ","6091","Y",null,null,null,null,{"$f":"ROW()","v":35},"6091"]
["7262","CITY OF HIALEAH EDUCATION ACAD","7262","Y",null,null,null,null,{"$f":"ROW()","v":36},"7262"]
["3621","COCONUT PALM K-8 ACADEMY      ","3621","Y",null,null,null,null,{"$f":"ROW()","v":37},"3621"]
["8121","COPE CENTER NORTH             ","8121","Y",null,null,null,null,{"$f":"ROW()","v":38},"8121"]
["0961","CORAL GABLES PREPARATORY ACAD ","0961","Y",null,null,null,null,{"$f":"ROW()","v":39},"0961"]
["7071","CORAL GABLES SENIOR HIGH      ","7071","Y",null,null,null,null,{"$f":"ROW()","v":40},"7071"]
["0070","CORAL REEF MONTESSORI ACAD CH ","0070","Y",null,null,null,null,{"$f":"ROW()","v":41},"0070"]
["7101","CORAL REEF SENIOR HIGH        ","7101","Y",null,null,null,null,{"$f":"ROW()","v":42},"7101"]
["1121","CORAL WAY K-8 CENTER          ","1121","Y",null,null,null,null,{"$f":"ROW()","v":43},"1121"]
["6611","COUNTRY CLUB MIDDLE SCHOOL    ","6611","Y",null,null,null,null,{"$f":"ROW()","v":44},"6611"]
["6111","CUTLER RIDGE MIDDLE           ","6111","Y",null,null,null,null,{"$f":"ROW()","v":45},"6111"]
["5005","DAVID LAWRENCE JR K-8 CENTER  ","5005","Y",null,null,null,null,{"$f":"ROW()","v":46},"5005"]
["7081","DESIGN & ARCHITECTURE SENIOR  ","7081","Y",null,null,null,null,{"$f":"ROW()","v":47},"7081"]
["1331","DEVON AIRE K-8 CENTER         ","1331","Y",null,null,null,null,{"$f":"ROW()","v":48},"1331"]
["6040","DOCTORS CHARTER/MIAMI SHORES  ","6040","Y",null,null,null,null,{"$f":"ROW()","v":49},"6040"]
["6030","DORAL ACADEMY CHARTER MIDDLE  ","6030","Y",null,null,null,null,{"$f":"ROW()","v":50},"6030"]
["7020","DORAL ACADEMY HIGH SCHOOL     ","7020","Y",null,null,null,null,{"$f":"ROW()","v":51},"7020"]
["3029","DORAL ACADEMY OF TECHNOLOGY   ","3029","Y",null,null,null,null,{"$f":"ROW()","v":52},"3029"]
["7009","DORAL PERFORMING ARTS ACADEMY ","7009","Y",null,null,null,null,{"$f":"ROW()","v":53},"7009"]
["8131","DOROTHY M WALLACE COPE CENTER ","8131","Y",null,null,null,null,{"$f":"ROW()","v":54},"8131"]
["5861","DR H W MACK/W LITTLE RIVER K8 ","5861","Y",null,null,null,null,{"$f":"ROW()","v":55},"5861"]
["7141","DR MICHAEL M KROP SENIOR HIGH ","7141","Y",null,null,null,null,{"$f":"ROW()","v":56},"7141"]
["0122","DR ROLANDO ESPINOSA K-8       ","0122","Y",null,null,null,null,{"$f":"ROW()","v":57},"0122"]
["1601","EDISON PARK ELEMENTARY        ","1601","Y",null,null,null,null,{"$f":"ROW()","v":58},"1601"]
["5051","ERNEST R GRAHAM K-8 CENTER    ","5051","Y",null,null,null,null,{"$f":"ROW()","v":59},"5051"]
["0071","EUGENIA B. THOMAS K-8 CENTER  ","0071","Y",null,null,null,null,{"$f":"ROW()","v":60},"0071"]
["1721","EVERGLADES K-8 CENTER         ","1721","Y",null,null,null,null,{"$f":"ROW()","v":61},"1721"]
["7060","EVERGLADES PREP ACADEMY HIGH  ","7060","Y",null,null,null,null,{"$f":"ROW()","v":62},"7060"]
["5006","EVERGLADES PREPARATORY ACADEMY","5006","Y",null,null,null,null,{"$f":"ROW()","v":63},"5006"]
["5032","EXCELSIOR CHARTER ACADEMY     ","5032","Y",null,null,null,null,{"$f":"ROW()","v":64},"5032"]
["7781","FELIX VARELA SENIOR HIGH      ","7781","Y",null,null,null,null,{"$f":"ROW()","v":65},"7781"]
["0761","FIENBERG/FISHER K-8 CENTER    ",{"$f":"A66","v":"0761"},"Y",null,null,null,null,{"$f":"ROW()","v":66},{"$f":"C66","v":"0761"}]
["6010","FLORIDA INTERNATIONAL ACADEMY ","6010","Y",null,null,null,null,{"$f":"ROW()","v":67},"6010"]
["3101","FRANK C. MARTIN K-8 CENTER    ","3101","Y",null,null,null,null,{"$f":"ROW()","v":68},"3101"]
["7051","G. HOLMES BRADDOCK SENIOR HIGH","7051","Y",null,null,null,null,{"$f":"ROW()","v":69},"7051"]
["4031","GATEWAY ENVIRONMENTAL K-8     ","4031","Y",null,null,null,null,{"$f":"ROW()","v":70},"4031"]
["7801","GEORGE T. BAKER AVIATION      ","7801","Y",null,null,null,null,{"$f":"ROW()","v":71},"7801"]
["6071","GEORGE WASHINGTON CARVER      ","6071","Y",null,null,null,null,{"$f":"ROW()","v":72},"6071"]
["2060","GIBSON CHARTER SCHOOL         ","2060","Y",null,null,null,null,{"$f":"ROW()","v":73},"2060"]
["6211","GLADES MIDDLE                 ","6211","Y",null,null,null,null,{"$f":"ROW()","v":74},"6211"]
["7067","GREEN SPRINGS HIGH SCHOOL     ","7067","Y",null,null,null,null,{"$f":"ROW()","v":75},"7067"]
["6221","HAMMOCKS MIDDLE               ","6221","Y",null,null,null,null,{"$f":"ROW()","v":76},"6221"]
["6171","HENRY H. FILER MIDDLE         ","6171","Y",null,null,null,null,{"$f":"ROW()","v":77},"6171"]
["6001","HERBERT A. AMMONS MIDDLE      ","6001","Y",null,null,null,null,{"$f":"ROW()","v":78},"6001"]
["6751","HIALEAH GARDENS MIDDLE SCHOOL ","6751","Y",null,null,null,null,{"$f":"ROW()","v":79},"6751"]
["7191","HIALEAH GARDENS SENIOR        ","7191","Y",null,null,null,null,{"$f":"ROW()","v":80},"7191"]
["6231","HIALEAH MIDDLE                ","6231","Y",null,null,null,null,{"$f":"ROW()","v":81},"6231"]
["7111","HIALEAH SENIOR                ","7111","Y",null,null,null,null,{"$f":"ROW()","v":82},"7111"]
["7131","HIALEAH-MIAMI LAKES SENIOR    ","7131","Y",null,null,null,null,{"$f":"ROW()","v":83},"7131"]
["6241","HIGHLAND OAKS MIDDLE          ","6241","Y",null,null,null,null,{"$f":"ROW()","v":84},"6241"]
["6251","HOMESTEAD MIDDLE              ","6251","Y",null,null,null,null,{"$f":"ROW()","v":85},"6251"]
["7151","HOMESTEAD SENIOR HIGH         ","7151","Y",null,null,null,null,{"$f":"ROW()","v":86},"7151"]
["6411","HORACE MANN MIDDLE            ","6411","Y",null,null,null,null,{"$f":"ROW()","v":87},"6411"]
["6441","HOWARD D. MCMILLAN MIDDLE     ","6441","Y",null,null,null,null,{"$f":"ROW()","v":88},"6441"]
["5141","HUBERT O. SIBLEY K-8 CENTER   ","5141","Y",null,null,null,null,{"$f":"ROW()","v":89},"5141"]
["6014","Imater Academy Middle School","6014","Y",null,null,null,null,{"$f":"ROW()","v":90},"6014"]
["7030","INTEGRATED ACADEMICS (SIATECH)","7030","Y",null,null,null,null,{"$f":"ROW()","v":91},"7030"]
["7571","INTL STUDIES PREP ACADEMY     ","7571","Y",null,null,null,null,{"$f":"ROW()","v":92},"7571"]
["6045","INTL. STUDIES CHARTER MIDDLE  ","6045","Y",null,null,null,null,{"$f":"ROW()","v":93},"6045"]
["7007","INTL. STUDIES CHARTER SENIOR  ","7007","Y",null,null,null,null,{"$f":"ROW()","v":94},"7007"]
["7581","IPREPARATORY ACADEMY          ","7581","Y",null,null,null,null,{"$f":"ROW()","v":95},"7581"]
["4391","IRVING & BEATRICE PESKOE K-8  ","4391","Y",null,null,null,null,{"$f":"ROW()","v":96},"4391"]
["8101","JAN MANN OPPORTUNITY SCHOOL   ","8101","Y",null,null,null,null,{"$f":"ROW()","v":97},"8101"]
["4691","JANE ROBERTS K-8 CENTER       ","4691","Y",null,null,null,null,{"$f":"ROW()","v":98},"4691"]
["7121","JOHN A FERGUSON SENIOR HIGH   ","7121","Y",null,null,null,null,{"$f":"ROW()","v":99},"7121"]
["6301","JOHN F. KENNEDY MIDDLE        ","6301","Y",null,null,null,null,{"$f":"ROW()","v":100},"6301"]
["5101","JOHN I. SMITH K-8 CENTER      ","5101","Y",null,null,null,null,{"$f":"ROW()","v":101},"5101"]
["6771","JORGE MAS CANOSA MIDDLE       ","6771","Y",null,null,null,null,{"$f":"ROW()","v":102},"6771"]
["6361","JOSE DE DIEGO MIDDLE SCHOOL   ","6361","Y",null,null,null,null,{"$f":"ROW()","v":103},"6361"]
["7291","JOSE MARTI MAST 6-12 ACADEMY  ","7291","Y",null,null,null,null,{"$f":"ROW()","v":104},"7291"]
["8141","JUVENILE JUSTICE CENTER       ","8141","Y",null,null,null,null,{"$f":"ROW()","v":105},"8141"]
["2701","KENWOOD K-8 CENTER            ","2701","Y",null,null,null,null,{"$f":"ROW()","v":106},"2701"]
["2741","KEY BISCAYNE K-8 CENTER       ","2741","Y",null,null,null,null,{"$f":"ROW()","v":107},"2741"]
["7050","KEYS GATE CHARTER HIGH SCHL","7050","Y",null,null,null,null,{"$f":"ROW()","v":108},"7050"]
["3610","KEYS GATE CHARTER SCHOOL      ","3610","Y",null,null,null,null,{"$f":"ROW()","v":109},"3610"]
["6331","KINLOCH PARK MIDDLE           ","6331","Y",null,null,null,null,{"$f":"ROW()","v":110},"6331"]
["6351","LAKE STEVENS MIDDLE           ","6351","Y",null,null,null,null,{"$f":"ROW()","v":111},"6351"]
["6921","LAMAR LOUISE CURRY MIDDLE SCH ","6921","Y",null,null,null,null,{"$f":"ROW()","v":112},"6921"]
["7033","LAW ENFORCEMENT OFFICERS HS   ","7033","Y",null,null,null,null,{"$f":"ROW()","v":113},"7033"]
["6008","LAWRENCE ACADEMY MIDDLE       ","6008","Y",null,null,null,null,{"$f":"ROW()","v":114},"6008"]
["7036","LAWRENCE ACADEMY SENIOR       ","7036","Y",null,null,null,null,{"$f":"ROW()","v":115},"7036"]
["6161","LAWTON CHILES MIDDLE SCHOOL   ","6161","Y",null,null,null,null,{"$f":"ROW()","v":116},"6161"]
["2881","LEEWOOD K-8 CENTER            ","2881","Y",null,null,null,null,{"$f":"ROW()","v":117},"2881"]
["2901","LEISURE CITY K-8 CENTER       ","2901","Y",null,null,null,null,{"$f":"ROW()","v":118},"2901"]
["1681","LILLIE C. EVANS K-8 CENTER    ","1681","Y",null,null,null,null,{"$f":"ROW()","v":119},"1681"]
["5007","LINCOLN-MARTI CHARTER HIALEAH ","5007","Y",null,null,null,null,{"$f":"ROW()","v":120},"5007"]
["5025","LINCOLN-MARTI CS LITTLE HAVANA","5025","Y",null,null,null,null,{"$f":"ROW()","v":121},"5025"]
["2911","LINDA LENTIN K-8 CENTER       ","2911","Y",null,null,null,null,{"$f":"ROW()","v":122},"2911"]
["3421","M.A. MILAM K-8 CENTER         ","3421","Y",null,null,null,null,{"$f":"ROW()","v":123},"3421"]
["6391","MADISON MIDDLE SCHOOL         ","6391","Y",null,null,null,null,{"$f":"ROW()","v":124},"6391"]
["0073","MANDARIN LAKES K-8 CENTER     ","0073","Y",null,null,null,null,{"$f":"ROW()","v":125},"0073"]
["7161","MAST @ VIRGINIA KEY           ","7161","Y",null,null,null,null,{"$f":"ROW()","v":126},"7161"]
["5047","MATER ACADEMY (MIAMI BEACH)   ","5047","Y",null,null,null,null,{"$f":"ROW()","v":127},"5047"]
["7160","MATER ACADEMY CHARTER HIGH    ","7160","Y",null,null,null,null,{"$f":"ROW()","v":128},"7160"]
["6012","MATER ACADEMY CHARTER MIDDLE  ","6012","Y",null,null,null,null,{"$f":"ROW()","v":129},"6012"]
["7037","MATER ACADEMY EAST HIGH SCHOOL",{"$f":"A130","v":"7037"},"Y",null,null,null,null,{"$f":"ROW()","v":130},{"$f":"C130","v":"7037"}]
["6009","MATER ACADEMY EAST MIDDLE     ","6009","Y",null,null,null,null,{"$f":"ROW()","v":131},"6009"]
["7018","MATER ACADEMY LAKES HIGH SCH  ","7018","Y",null,null,null,null,{"$f":"ROW()","v":132},"7018"]
["6033","MATER ACADEMY LAKES MIDDLE    ","6033","Y",null,null,null,null,{"$f":"ROW()","v":133},"6033"]
["6047","MATER ACADEMY MIDDLE-INTL STUD","6047","Y",null,null,null,null,{"$f":"ROW()","v":134},"6047"]
["5046","MATER BRICKELL PREP ACADEMY   ","5046","Y",null,null,null,null,{"$f":"ROW()","v":135},"5046"]
["6042","MATER GARDENS ACADEMY MIDDLE  ","6042","Y",null,null,null,null,{"$f":"ROW()","v":136},"6042"]
["5045","MATER GROVE ACADEMY           ","5045","Y",null,null,null,null,{"$f":"ROW()","v":137},"5045"]
["7014","MATER PERFORMING ARTS ACADEMY ","7014","Y",null,null,null,null,{"$f":"ROW()","v":138},"7014"]
["7062","MAVERICKS HIGH OF NORTH M-DADE","7062","Y",null,null,null,null,{"$f":"ROW()","v":139},"7062"]
["7065","MAVERICKS HIGH OF SOUTH M-DADE","7065","Y",null,null,null,null,{"$f":"ROW()","v":140},"7065"]
["7171","MED ACAD SCIENCE & TECHNOLOGY ","7171","Y",null,null,null,null,{"$f":"ROW()","v":141},"7171"]
["9732","MERRICK EDUCATIONAL CENTER    ","9732","Y",null,null,null,null,{"$f":"ROW()","v":142},"9732"]
["7059","MIAMI ARTS CHARTER            ","7059","Y",null,null,null,null,{"$f":"ROW()","v":143},"7059"]
["7201","MIAMI BEACH SENIOR HIGH       ","7201","Y",null,null,null,null,{"$f":"ROW()","v":144},"7201"]
["7231","MIAMI CAROL CITY SENIOR HIGH  ","7231","Y",null,null,null,null,{"$f":"ROW()","v":145},"7231"]
["7251","MIAMI CENTRAL SENIOR HIGH     ","7251","Y",null,null,null,null,{"$f":"ROW()","v":146},"7251"]
["7058","MIAMI COMMUNITY CH HIGH SCHOOL","7058","Y",null,null,null,null,{"$f":"ROW()","v":147},"7058"]
["6048","MIAMI COMMUNITY CHARTER MIDDLE","6048","Y",null,null,null,null,{"$f":"ROW()","v":148},"6048"]
["7271","MIAMI CORAL PARK SENIOR HIGH  ","7271","Y",null,null,null,null,{"$f":"ROW()","v":149},"7271"]
["7301","MIAMI EDISON SENIOR HIGH      ","7301","Y",null,null,null,null,{"$f":"ROW()","v":150},"7301"]
["7341","MIAMI JACKSON SENIOR HIGH     ","7341","Y",null,null,null,null,{"$f":"ROW()","v":151},"7341"]
["7361","MIAMI KILLIAN SENIOR HIGH     ","7361","Y",null,null,null,null,{"$f":"ROW()","v":152},"7361"]
["7391","MIAMI LAKES EDUCATIONAL CENTER","7391","Y",null,null,null,null,{"$f":"ROW()","v":153},"7391"]
["3281","MIAMI LAKES K-8 CENTER        ","3281","Y",null,null,null,null,{"$f":"ROW()","v":154},"3281"]
["6501","MIAMI LAKES MIDDLE            ","6501","Y",null,null,null,null,{"$f":"ROW()","v":155},"6501"]
["7631","MIAMI MACARTHUR SOUTH         ","7631","Y",null,null,null,null,{"$f":"ROW()","v":156},"7631"]
["7381","MIAMI NORLAND SENIOR HIGH     ","7381","Y",null,null,null,null,{"$f":"ROW()","v":157},"7381"]
["7411","MIAMI NORTHWESTERN SENIOR HIGH","7411","Y",null,null,null,null,{"$f":"ROW()","v":158},"7411"]
["7431","MIAMI PALMETTO SENIOR HIGH    ","7431","Y",null,null,null,null,{"$f":"ROW()","v":159},"7431"]
["7461","MIAMI SENIOR HIGH             ","7461","Y",null,null,null,null,{"$f":"ROW()","v":160},"7461"]
["7731","MIAMI SOUTHRIDGE SENIOR HIGH  ","7731","Y",null,null,null,null,{"$f":"ROW()","v":161},"7731"]
["6521","MIAMI SPRINGS MIDDLE          ","6521","Y",null,null,null,null,{"$f":"ROW()","v":162},"6521"]
["7511","MIAMI SPRINGS SENIOR HIGH     ","7511","Y",null,null,null,null,{"$f":"ROW()","v":163},"7511"]
["7531","MIAMI SUNSET SENIOR HIGH      ","7531","Y",null,null,null,null,{"$f":"ROW()","v":164},"7531"]
["7001","MIAMI-DADE ONLINE ACADEMY","7001","Y",null,null,null,null,{"$f":"ROW()","v":165},"7001"]
["3501","MORNINGSIDE ELEMENTARY        ","3501","Y",null,null,null,null,{"$f":"ROW()","v":166},"3501"]
["3581","MYRTLE GROVE ELEMENTARY       ","3581","Y",null,null,null,null,{"$f":"ROW()","v":167},"3581"]
["6541","NAUTILUS MIDDLE               ","6541","Y",null,null,null,null,{"$f":"ROW()","v":168},"6541"]
["7901","NEW WORLD SCHOOL OF THE ARTS  ","7901","Y",null,null,null,null,{"$f":"ROW()","v":169},"7901"]
["6571","NORLAND MIDDLE                ","6571","Y",null,null,null,null,{"$f":"ROW()","v":170},"6571"]
["0092","NORMAN S. EDELCUP/SUNNY ISLES ","0092","Y",null,null,null,null,{"$f":"ROW()","v":171},"0092"]
["3821","NORTH COUNTY K-8 CENTER       ","3821","Y",null,null,null,null,{"$f":"ROW()","v":172},"3821"]
["6591","NORTH DADE MIDDLE             ","6591","Y",null,null,null,null,{"$f":"ROW()","v":173},"6591"]
["7068","NORTH GARDENS HIGH SCHOOL     ","7068","Y",null,null,null,null,{"$f":"ROW()","v":174},"7068"]
["7541","NORTH MIAMI BEACH SENIOR HIGH ","7541","Y",null,null,null,null,{"$f":"ROW()","v":175},"7541"]
["6631","NORTH MIAMI MIDDLE            ","6631","Y",null,null,null,null,{"$f":"ROW()","v":176},"6631"]
["7591","NORTH MIAMI SENIOR HIGH       ","7591","Y",null,null,null,null,{"$f":"ROW()","v":177},"7591"]
["7069","NORTH PARK HIGH SCHOOL        ","7069","Y",null,null,null,null,{"$f":"ROW()","v":178},"7069"]
["5010","OXFORD ACADEMY OF MIAMI       ","5010","Y",null,null,null,null,{"$f":"ROW()","v":179},"5010"]
["7032","PALM GLADES PREP HIGH SCHOOL  ","7032","Y",null,null,null,null,{"$f":"ROW()","v":180},"7032"]
["3032","PALM GLADES PREPATORY ACADEMY ","3032","Y",null,null,null,null,{"$f":"ROW()","v":181},"3032"]
["6681","PALM SPRINGS MIDDLE           ","6681","Y",null,null,null,null,{"$f":"ROW()","v":182},"6681"]
["6701","PALMETTO MIDDLE               ","6701","Y",null,null,null,null,{"$f":"ROW()","v":183},"6701"]
["1441","PAUL LAURENCE DUNBAR ELEM     ","1441","Y",null,null,null,null,{"$f":"ROW()","v":184},"1441"]
["6041","PAUL W. BELL MIDDLE           ","6041","Y",null,null,null,null,{"$f":"ROW()","v":185},"6041"]
["7053","PINECREST ACADEMY CHARTER HIGH","7053","Y",null,null,null,null,{"$f":"ROW()","v":186},"7053"]
["6022","PINECREST ACADEMY CHARTER MIDD","6022","Y",null,null,null,null,{"$f":"ROW()","v":187},"6022"]
["5049","PINECREST COVE ACADEMY        ","5049","Y",null,null,null,null,{"$f":"ROW()","v":188},"5049"]
["6741","PONCE DE LEON MIDDLE          ","6741","Y",null,null,null,null,{"$f":"ROW()","v":189},"6741"]
["6005","RAMZ ACAD MIDDLE MIAMI CAMPUS ","6005","Y",null,null,null,null,{"$f":"ROW()","v":190},"6005"]
["6761","REDLAND MIDDLE                ","6761","Y",null,null,null,null,{"$f":"ROW()","v":191},"6761"]
["6028","RENAISSANCE MIDDLE CHARTER","6028","Y",null,null,null,null,{"$f":"ROW()","v":192},"6028"]
["6781","RICHMOND HEIGHTS MIDDLE       ","6781","Y",null,null,null,null,{"$f":"ROW()","v":193},"6781"]
["6049","RIVER CITIES COMMUNITY CHARTER",{"$f":"A194","v":"6049"},"Y",null,null,null,null,{"$f":"ROW()","v":194},{"$f":"C194","v":"6049"}]
["6801","RIVIERA MIDDLE                ","6801","Y",null,null,null,null,{"$f":"ROW()","v":195},"6801"]
["7371","ROBERT MORGAN EDUCATIONAL CTR ","7371","Y",null,null,null,null,{"$f":"ROW()","v":196},"7371"]
["8151","ROBERT RENICK EDUCATION CTR   ","8151","Y",null,null,null,null,{"$f":"ROW()","v":197},"8151"]
["6821","ROCKWAY MIDDLE                ","6821","Y",null,null,null,null,{"$f":"ROW()","v":198},"6821"]
["7241","RONALD W REAGAN/DORAL SENIOR  ","7241","Y",null,null,null,null,{"$f":"ROW()","v":199},"7241"]
["6121","RUBEN DARIO MIDDLE            ","6121","Y",null,null,null,null,{"$f":"ROW()","v":200},"6121"]
["0241","RUTH K BROAD/BAY HARBOR K-8   ","0241","Y",null,null,null,null,{"$f":"ROW()","v":201},"0241"]
["8181","RUTH OWENS KRUSE' EDUC CENTER ","8181","Y",null,null,null,null,{"$f":"ROW()","v":202},"8181"]
["6841","SHENANDOAH MIDDLE             ","6841","Y",null,null,null,null,{"$f":"ROW()","v":203},"6841"]
["7034","SOMERSET ACAD HIGH SOUTH-HMSTD","7034","Y",null,null,null,null,{"$f":"ROW()","v":204},"7034"]
["6053","SOMERSET ACAD MIDDLE (S-MIAMI)","6053","Y",null,null,null,null,{"$f":"ROW()","v":205},"6053"]
["7042","SOMERSET ACADEMY CHARTER HIGH ","7042","Y",null,null,null,null,{"$f":"ROW()","v":206},"7042"]
["6004","SOMERSET ACADEMY MIDDLE       ","6004","Y",null,null,null,null,{"$f":"ROW()","v":207},"6004"]
["6013","SOMERSET ACADEMY MIDDLE-SOUTH ","6013","Y",null,null,null,null,{"$f":"ROW()","v":208},"6013"]
["0332","SOMERSET ACADEMY(SILVER PALMS)","0332","Y",null,null,null,null,{"$f":"ROW()","v":209},"0332"]
["5003","SOUTH DADE MIDDLE SCHOOL      ","5003","Y",null,null,null,null,{"$f":"ROW()","v":210},"5003"]
["7701","SOUTH DADE SENIOR HIGH        ","7701","Y",null,null,null,null,{"$f":"ROW()","v":211},"7701"]
["5241","SOUTH MIAMI K-8 CENTER        ","5241","Y",null,null,null,null,{"$f":"ROW()","v":212},"5241"]
["6881","SOUTH MIAMI MIDDLE SCHOOL     ","6881","Y",null,null,null,null,{"$f":"ROW()","v":213},"6881"]
["7721","SOUTH MIAMI SENIOR HIGH       ","7721","Y",null,null,null,null,{"$f":"ROW()","v":214},"7721"]
["7741","SOUTHWEST MIAMI SENIOR HIGH   ","7741","Y",null,null,null,null,{"$f":"ROW()","v":215},"7741"]
["6861","SOUTHWOOD MIDDLE              ","6861","Y",null,null,null,null,{"$f":"ROW()","v":216},"6861"]
["6015","Sports Leadership And Management (Slam) Chart","6015","Y",null,null,null,null,{"$f":"ROW()","v":217},"6015"]
["7016","SPORTS LEADERSHIP OF MIAMI CHS","7016","Y",null,null,null,null,{"$f":"ROW()","v":218},"7016"]
["7015","STELLAR LEADERSHIP ACADEMY    ","7015","Y",null,null,null,null,{"$f":"ROW()","v":219},"7015"]
["7029","TERRA ENVIRONMENTAL RESEARCH  ","7029","Y",null,null,null,null,{"$f":"ROW()","v":220},"7029"]
["6281","THOMAS JEFFERSON MIDDLE       ","6281","Y",null,null,null,null,{"$f":"ROW()","v":221},"6281"]
["5671","VINELAND K-8 CENTER           ","5671","Y",null,null,null,null,{"$f":"ROW()","v":222},"5671"]
["6901","W. R. THOMAS MIDDLE           ","6901","Y",null,null,null,null,{"$f":"ROW()","v":223},"6901"]
["6961","WEST MIAMI MIDDLE             ","6961","Y",null,null,null,null,{"$f":"ROW()","v":224},"6961"]
["7049","WESTLAND HIALEAH SENIOR HIGH  ","7049","Y",null,null,null,null,{"$f":"ROW()","v":225},"7049"]
["7601","WILLIAM H. TURNER TECHNICAL   ","7601","Y",null,null,null,null,{"$f":"ROW()","v":226},"7601"]
["5961","WINSTON PARK K-8 CENTER       ","5961","Y",null,null,null,null,{"$f":"ROW()","v":227},"5961"]
["7056","YOUNG MENS PREPARATORY ACADEMY","7056","Y",null,null,null,null,{"$f":"ROW()","v":228},"7056"]
["7055","YOUNG WOMEN'S PREPARATORY ACAD","7055","Y",null,null,null,null,{"$f":"ROW()","v":229},"7055"]
["1020","YOUTH CO-OP CHARTER SCHOOL    ","1020","Y",null,null,null,null,{"$f":"ROW()","v":230},"1020"]
["6052","ZELDA GLAZER MIDDLE SCHOOL    ","6052","Y",null,null,null,null,{"$f":"ROW()","v":231},"6052"]

{"sheet":"Sch-Region","index":21,"n_rows":476,"n_cols":3,"rows_kept":476,"cut":false,"hidden":true,"merged":[]}
["SCHOOL_NUMBER","Region","School Name"]
["0041","5","AIR BASE ELEMENTARY           "]
["0070","7","CORAL REEF MONTESSORI ACAD CH "]
["0071","4","EUGENIA B. THOMAS K-8 CENTER  "]
["0072","7","SUMMERVILLE CHARTER SCHOOL    "]
["0073","6","MANDARIN LAKES K-8 CENTER     "]
["0081","6","LENORA B. SMITH ELEMENTARY    "]
["0091","1","BOB GRAHAM EDUCATION CTR      "]
["0092","1","NORMAN S. EDELCUP/SUNNY ISLES "]
["0100","7","MATER ACADEMY                 "]
["0101","4","ARCOLA LAKE ELEMENTARY        "]
["0102","7","MIAMI COMMUNITY CHARTER SCHOOL"]
["0111","4","MAYA ANGELOU ELEMENTARY       "]
["0121","4","AUBURNDALE ELEMENTARY         "]
["0122","4","DR ROLANDO ESPINOSA K-8       "]
["0125","5","NORMA BUTLER BOSSARD ELEM     "]
["0161","5","AVOCADO ELEMENTARY            "]
["0201","4","BANYAN ELEMENTARY             "]
["0211","5","DR. MANUEL C. BARREIRO ELEM   "]
["0231","1","AVENTURA WATERWAYS K-8 CENTER "]
["0241","1","RUTH K BROAD/BAY HARBOR K-8   "]
["0251","5","ETHEL KOGER BECKHAM ELEMENTARY"]
["0261","6","BEL-AIRE ELEMENTARY           "]
["0271","5","BENT TREE ELEMENTARY          "]
["0311","5","GOULDS ELEMENTARY             "]
["0312","7","MATER GARDENS ACADEMY         "]
["0321","1","BISCAYNE ELEMENTARY           "]
["0331","4","CHAPMAN PARTNERSHIP ECC NORTH "]
["0332","7","SOMERSET ACADEMY(SILVER PALMS)"]
["0339","7","SOMERSET ACADEMY CHARTER ELEM "]
["0341","1","ARCH CREEK ELEMENTARY SCHOOL  "]
["0342","7","PINECREST ACADEMY SOUTH CAMPUS"]
["0351","5","CHAPMAN PARTNERSHIP ECC SOUTH "]
["0361","6","BISCAYNE GARDENS ELEMENTARY   "]
["0400","7","RENAISSANCE ELEMENTARY CHARTER"]
["0401","4","VAN E. BLANTON ELEMENTARY     "]
["0410","7","ACADEMIR CHARTER SCHOOL WEST  "]
["0441","5","BLUE LAKES ELEMENTARY         "]
["0451","5","BOWMAN ASHE/DOOLIN K-8 ACAD   "]
["0461","1","BRENTWOOD ELEMENTARY          "]
["0481","1","JAMES H. BRIGHT/JW JOHNSON ES "]
["0510","7","ARCHIMEDEAN ACADEMY           "]
["0520","7","SOMERSET ACADEMY              "]
["0521","4","BROADMOOR ELEMENTARY          "]
["0561","1","W.J. BRYAN ELEMENTARY         "]
["0600","7","PINECREST PREP ACADEMY        "]
["0641","1","BUNCHE PARK ELEMENTARY        "]
["0651","5","CAMPBELL DRIVE K-8 CENTER     "]
["0661","6","CARIBBEAN ELEMENTARY          "]
["0671","5","CALUSA ELEMENTARY             "]
["0681","6","CAROL CITY ELEMENTARY         "]
["0721","4","GEORGE WASHINGTON CARVER ELEM "]
["0761","1","FIENBERG/FISHER K-8 CENTER    "]
["0771","5","WILLIAM A. CHAPMAN ELEMENTARY "]
["0801","4","CITRUS GROVE ELEMENTARY       "]
["0831","5","CLAUDE PEPPER ELEMENTARY      "]
["0841","4","COCONUT GROVE ELEMENTARY      "]
["0861","6","COLONIAL DRIVE ELEMENTARY     "]
["0881","4","COMSTOCK ELEMENTARY           "]
["0921","5","NEVA KING COOPER EDUCATIONAL  "]
["0950","7","AVENTURA CITY OF EXCELLENCE   "]
["0961","4","CORAL GABLES PREPARATORY ACAD "]
["1001","4","CORAL PARK ELEMENTARY         "]
["1010","7","CHARTER SCHOOL AT WATERSTONE  "]
["1014","7","ADVANCED LEARNING CHARTER SCH "]
["1017","7","MATER ACADEMY OF INTL STUDIES "]
["1020","7","YOUTH CO-OP CHARTER SCHOOL    "]
["1041","5","CORAL REEF ELEMENTARY         "]
["1070","7","SOUTH FLORIDA AUTISM CHARTER  "]
["1081","4","CORAL TERRACE ELEMENTARY      "]
["1121","4","CORAL WAY K-8 CENTER          "]
["1161","1","CRESTVIEW ELEMENTARY          "]
["1241","5","CUTLER RIDGE ELEMENTARY       "]
["1281","5","CYPRESS ELEMENTARY            "]
["1331","5","DEVON AIRE K-8 CENTER         "]
["1361","6","FREDERICK DOUGLASS ELEMENTARY "]
["1371","5","MARJORY STONEMAN DOUGLAS ELEM "]
["1401","6","CHARLES R. DREW ELEMENTARY    "]
["1441","6","PAUL LAURENCE DUNBAR ELEM     "]
["1481","1","JOHN G. DUPUIS ELEMENTARY     "]
["1521","1","AMELIA EARHART ELEMENTARY     "]
["1561","6","EARLINGTON HEIGHTS ELEMENTARY "]
["1601","4","EDISON PARK ELEMENTARY        "]
["1641","4","EMERSON ELEMENTARY            "]
["1681","4","LILLIE C. EVANS K-8 CENTER    "]
["1691","5","CHRISTINA M. EVE ELEMENTARY   "]
["1721","4","EVERGLADES K-8 CENTER         "]
["1761","4","DAVID FAIRCHILD ELEMENTARY    "]
["1801","4","FAIRLAWN ELEMENTARY           "]
["1811","5","DANTE B. FASCELL ELEMENTARY   "]
["1841","4","FLAGAMI ELEMENTARY            "]
["1881","4","HENRY M. FLAGLER ELEMENTARY   "]
["1921","1","FLAMINGO ELEMENTARY           "]
["2001","6","FLORIDA CITY ELEMENTARY       "]
["2003","7","BRIDGEPOINT ACADEMY           "]
["2004","7","ISAAC ACADEMY K-8             "]
["2006","7","RICHARD ALLEN LEADERSHIP ACAD "]
["2007","7","SOMERSET ACADEMY ELEMENTARY   "]
["2012","7","SOMERSET ARTS ACADEMY         "]
["2013","7","BRIDGEPOINT ACAD GREATER MIAMI"]
["2021","5","GLORIA FLOYD ELEMENTARY       "]
["2041","4","BENJAMIN FRANKLIN K-8 CENTER  "]
["2060","7","GIBSON CHARTER SCHOOL         "]
["2081","1","FULFORD ELEMENTARY            "]
["2111","1","HIALEAH GARDENS ELEMENTARY    "]
["2151","5","JACK D. GORDON ELEMENTARY     "]
["2161","6","GOLDEN GLADES ELEMENTARY      "]
["2181","1","JOELLA C. GOOD ELEMENTARY     "]
["2191","1","SPANISH LAKE ELEMENTARY       "]
["2241","6","GRATIGNY ELEMENTARY           "]
["2261","5","GREENGLADE ELEMENTARY         "]
["2281","1","GREYNOLDS PARK ELEMENTARY     "]
["2321","5","GULFSTREAM ELEMENTARY         "]
["2331","4","CHARLES R. HADLEY ELEMENTARY  "]
["2341","5","JOE HALL ELEMENTARY           "]
["2351","4","ENEIDA MASSAS HARTNER ELEM    "]
["2361","4","HIALEAH ELEMENTARY            "]
["2371","1","WEST HIALEAH GARDENS ELEM     "]
["2401","1","HIBISCUS ELEMENTARY           "]
["2441","1","VIRGINIA A BOONE/HIGHLAND OAKS"]
["2501","6","HOLMES ELEMENTARY             "]
["2511","5","ZORA NEALE HURSTON ELEMENTARY "]
["2521","5","OLIVER HOOVER ELEMENTARY      "]
["2531","8","THENA C. CROWDER EARLY CHLDHD "]
["2541","5","HOWARD DRIVE ELEMENTARY       "]
["2581","1","MADIE IVES ELEMENTARY         "]
["2641","5","KENDALE ELEMENTARY            "]
["2651","5","KENDALE LAKES ELEMENTARY      "]
["2661","4","KENSINGTON PARK ELEMENTARY    "]
["2701","5","KENWOOD K-8 CENTER            "]
["2741","4","KEY BISCAYNE K-8 CENTER       "]
["2781","4","KINLOCH PARK ELEMENTARY       "]
["2801","1","LAKE STEVENS ELEMENTARY       "]
["2821","4","LAKEVIEW ELEMENTARY           "]
["2881","5","LEEWOOD K-8 CENTER            "]
["2891","5","WILLIAM LEHMAN ELEMENTARY     "]
["2901","5","LEISURE CITY K-8 CENTER       "]
["2911","1","LINDA LENTIN K-8 CENTER       "]
["2941","6","LAURA C. SAUNDERS ELEMENTARY  "]
["2981","6","LIBERTY CITY ELEMENTARY       "]
["3021","6","JESSE J MCCRARY JR ELEMENTARY "]
["3024","7","FLORIDA INTERNATIONAL EL ACAD "]
["3025","7","ADVANTAGE ACADEMY SANTA FE    "]
["3026","7","ADVANTAGE ACAD AT SUMMERVILLE "]
["3027","7","ADVANTAGE ACAD AT WATERSTONE  "]
["3029","7","DORAL ACADEMY OF TECHNOLOGY   "]
["3030","7","DORAL ACADEMY                 "]
["3032","7","PALM GLADES PREPATORY ACADEMY "]
["3033","7","SOMERSET OAKS ACADEMY         "]
["3034","7","BRIDGEPOINT ACAD VILLAGE GREEN"]
["3035","7","RAMZ ACADEMY ELEM MIAMI CAMPUS"]
["3041","6","LORAH PARK ELEMENTARY         "]
["3051","4","TOUSSAINT L'OUVERTURE ELEM    "]
["3061","4","LUDLAM ELEMENTARY             "]
["3100","7","MATER ACADEMY EAST CHARTER    "]
["3101","5","FRANK C. MARTIN K-8 CENTER    "]
["3111","5","WESLEY MATTHEWS ELEMENTARY    "]
["3141","1","MEADOWLANE ELEMENTARY         "]
["3181","4","MELROSE ELEMENTARY            "]
["3191","4","ADA MERRITT K-8 CENTER        "]
["3241","1","MIAMI GARDENS ELEMENTARY      "]
["3261","5","MIAMI HEIGHTS ELEMENTARY      "]
["3281","1","MIAMI LAKES K-8 CENTER        "]
["3301","6","MIAMI PARK ELEMENTARY         "]
["3341","4","MIAMI SHORES ELEMENTARY       "]
["3381","4","MIAMI SPRINGS ELEMENTARY      "]
["3421","1","M.A. MILAM K-8 CENTER         "]
["3431","4","PHYLLIS RUTH MILLER ELEMENTARY"]
["3501","6","MORNINGSIDE ELEMENTARY        "]
["3518","8","DOE SCHOLARSHIP/CHOICE PROGRAM"]
["3541","5","ROBERT RUSSA MOTON ELEMENTARY "]
["3581","1","MYRTLE GROVE ELEMENTARY       "]
["3600","7","DOWNTOWN MIAMI CHARTER SCHOOL "]
["3610","7","KEYS GATE CHARTER SCHOOL      "]
["3621","5","COCONUT PALM K-8 ACADEMY      "]
["3661","1","NATURAL BRIDGE ELEMENTARY     "]
["3701","1","NORLAND ELEMENTARY            "]
["3741","1","NORTH BEACH ELEMENTARY        "]
["3781","6","BARBARA HAWKINS ELEMENTARY    "]
["3821","6","NORTH COUNTY K-8 CENTER       "]
["3861","1","NORTH GLADE ELEMENTARY        "]
["3901","1","NORTH HIALEAH ELEMENTARY      "]
["3941","1","NORTH MIAMI ELEMENTARY        "]
["3981","1","NORTH TWIN LAKES ELEMENTARY   "]
["4000","7","MIAMI CHILDREN'S MUSEUM       "]
["4001","1","NORWOOD ELEMENTARY            "]
["4012","7","SOMERSET ACAD AT SILVER PALMS "]
["4021","1","OAK GROVE ELEMENTARY          "]
["4031","5","GATEWAY ENVIRONMENTAL K-8     "]
["4061","1","OJUS ELEMENTARY               "]
["4070","7","EARLY BEGINNINGS ACADEMY-CIVIC"]
["4071","4","OLINDA ELEMENTARY             "]
["4081","4","PRIMARY LEARNING CENTER       "]
["4091","5","OLYMPIA HEIGHTS ELEMENTARY    "]
["4121","6","DR. ROBERT B. INGRAM EL       "]
["4171","6","ORCHARD VILLA ELEMENTARY      "]
["4221","5","PALMETTO ELEMENTARY           "]
["4241","1","PALM LAKES ELEMENTARY         "]
["4261","1","PALM SPRINGS ELEMENTARY       "]
["4281","1","PALM SPRINGS NORTH ELEMENTARY "]
["4301","1","PARKVIEW ELEMENTARY           "]
["4341","6","PARKWAY ELEMENTARY            "]
["4381","5","DR HENRY E PERRINE ACADEMY    "]
["4391","5","IRVING & BEATRICE PESKOE K-8  "]
["4401","6","KELSEY L. PHARR ELEMENTARY    "]
["4421","5","PINECREST ELEMENTARY          "]
["4441","5","PINE LAKE ELEMENTARY          "]
["4461","6","PINE VILLA ELEMENTARY         "]
["4491","4","HENRY E.S. REEVES ELEMENTARY  "]
["4501","6","POINCIANA PARK ELEMENTARY     "]
["4511","5","DR GILBERT L. PORTER ELEM     "]
["4541","1","RAINBOW PARK ELEMENTARY       "]
["4581","5","REDLAND ELEMENTARY            "]
["4611","5","REDONDO ELEMENTARY            "]
["4651","6","ETHEL F BECKFORD/RICHMOND ELEM"]
["4681","4","RIVERSIDE ELEMENTARY          "]
["4691","5","JANE ROBERTS K-8 CENTER       "]
["4721","4","ROCKWAY ELEMENTARY            "]
["4741","5","ROYAL GREEN ELEMENTARY        "]
["4761","5","ROYAL PALM ELEMENTARY         "]
["4801","1","GERTRUDE EDELMAN/SABAL PALM EL"]
["4841","6","SANTA CLARA ELEMENTARY        "]
["4881","1","SCOTT LAKE ELEMENTARY         "]
["4921","4","SEMINOLE ELEMENTARY           "]
["4961","4","SHADOWLAWN ELEMENTARY         "]
["5001","4","SHENANDOAH ELEMENTARY         "]
["5003","5","SOUTH DADE MIDDLE SCHOOL      "]
["5005","1","DAVID LAWRENCE JR K-8 CENTER  "]
["5006","7","EVERGLADES PREPARATORY ACADEMY"]
["5007","7","LINCOLN-MARTI CHARTER HIALEAH "]
["5008","7","SOMERSET GABLES ACADEMY       "]
["5010","7","OXFORD ACADEMY OF MIAMI       "]
["5020","7","BRIDGEPOINT ACAD INTERAMERICAN"]
["5021","1","BEN SHEPPARD ELEMENTARY       "]
["5022","7","BEN GAMLA CHARTER SCHL        "]
["5025","7","LINCOLN-MARTI CS LITTLE HAVANA"]
["5029","7","EXCELSIOR LANGUAGE ACADEMY K-8"]
["5032","7","EXCELSIOR CHARTER ACADEMY     "]
["5041","4","SILVER BLUFF ELEMENTARY       "]
["5043","7","LINCOLN-MARTI CS INT'L CAMPUS "]
["5044","7","ACADEMY FOR INT'L EDUCATION CH"]
["5045","7","MATER GROVE ACADEMY           "]
["5046","7","MATER BRICKELL PREP ACADEMY   "]
["5047","7","MATER ACADEMY (MIAMI BEACH)   "]
["5048","7","PINECREST ACADEMY (NORTH)     "]
["5049","7","PINECREST COVE ACADEMY        "]
["5051","1","ERNEST R GRAHAM K-8 CENTER    "]
["5054","7","MATER ACADEMY AT MOUNT SINAI  "]
["5061","5","DR. CARLOS J FINLAY ELEMENTARY"]
["5081","6","SKYWAY ELEMENTARY             "]
["5091","1","SOUTH POINTE ELEMENTARY       "]
["5101","4","JOHN I. SMITH K-8 CENTER      "]
["5121","5","SNAPPER CREEK ELEMENTARY      "]
["5131","1","N. DADE CTR FOR MODERN LANG   "]
["5141","1","HUBERT O. SIBLEY K-8 CENTER   "]
["5201","4","SOUTH HIALEAH ELEMENTARY      "]
["5241","4","SOUTH MIAMI K-8 CENTER        "]
["5281","5","SOUTH MIAMI HEIGHTS ELEMENTARY"]
["5321","4","SOUTHSIDE ELEMENTARY          "]
["5361","4","SPRINGVIEW ELEMENTARY         "]
["5381","4","E.W.F. STIRRUP ELEMENTARY     "]
["5401","4","SUNSET ELEMENTARY             "]
["5410","7","ALPHA CHARTER OF EXCELLENCE   "]
["5421","5","SUNSET PARK ELEMENTARY        "]
["5431","4","SWEETWATER ELEMENTARY         "]
["5441","4","SYLVANIA HEIGHTS ELEMENTARY   "]
["5481","1","TREASURE ISLAND ELEMENTARY    "]
["5521","5","TROPICAL ELEMENTARY           "]
["5561","4","FRANCES S. TUCKER ELEMENTARY  "]
["5601","1","TWIN LAKES ELEMENTARY         "]
["5641","5","VILLAGE GREEN ELEMENTARY      "]
["5671","5","VINELAND K-8 CENTER           "]
["5711","1","MAE WALTERS ELEMENTARY        "]
["5791","5","WEST HOMESTEAD ELEMENTARY     "]
["5831","4","HENRY S. WEST LABORATORY SCHL "]
["5861","6","DR H W MACK/W LITTLE RIVER K8 "]
["5901","4","CARRIE P MEEK/WESTVIEW K-8 CTR"]
["5931","6","PHILLIS WHEATLEY ELEMENTARY   "]
["5951","5","WHISPERING PINES ELEMENTARY   "]
["5961","5","WINSTON PARK K-8 CENTER       "]
["5971","6","NATHAN YOUNG ELEMENTARY       "]
["5981","5","DR. EDWARD L. WHIGHAM         "]
["5991","6","CHARLES DAVID WYCHE JR ELEM   "]
["6001","5","HERBERT A. AMMONS MIDDLE      "]
["6003","7","PINECREST ACADEMY MIDDLE NORTH"]
["6004","7","SOMERSET ACADEMY MIDDLE       "]
["6005","7","RAMZ ACAD MIDDLE MIAMI CAMPUS "]
["6006","7","ARCHIMEDEAN CONSERVATORY      "]
["6008","7","LAWRENCE ACADEMY MIDDLE       "]
["6009","7","MATER ACADEMY EAST MIDDLE     "]
["6010","7","FLORIDA INTERNATIONAL ACADEMY "]
["6011","6","ALLAPATTAH MIDDLE             "]
["6012","7","MATER ACADEMY CHARTER MIDDLE  "]
["6013","7","SOMERSET ACADEMY MIDDLE-SOUTH "]
["6020","7","ASPIRA RAUL A. MARTINEZ CHTR  "]
["6021","5","ARVIDA MIDDLE SCHOOL          "]
["6022","7","PINECREST ACADEMY CHARTER MIDD"]
["6023","1","ANDOVER MIDDLE SCHOOL         "]
["6028","7","RENAISSANCE MIDDLE CHARTER    "]
["6030","7","DORAL ACADEMY CHARTER MIDDLE  "]
["6031","6","BROWNSVILLE MIDDLE            "]
["6033","7","MATER ACADEMY LAKES MIDDLE    "]
["6040","7","DOCTORS CHARTER/MIAMI SHORES  "]
["6041","5","PAUL W. BELL MIDDLE           "]
["6042","7","MATER GARDENS ACADEMY MIDDLE  "]
["6043","7","SOMERSET ACAD MIDDLE (C-PALMS)"]
["6045","7","INTL. STUDIES CHARTER MIDDLE  "]
["6047","7","MATER ACADEMY MIDDLE-INTL STUD"]
["6048","7","MIAMI COMMUNITY CHARTER MIDDLE"]
["6049","7","RIVER CITIES COMMUNITY CHARTER"]
["6051","6","CAROL CITY MIDDLE             "]
["6052","5","ZELDA GLAZER MIDDLE SCHOOL    "]
["6053","7","SOMERSET ACAD MIDDLE (S-MIAMI)"]
["6060","7","ASPIRA SOUTH YOUTH LEADERSHIP "]
["6061","6","CAMPBELL DRIVE MIDDLE         "]
["6070","7","ASPIRA EUGENIO MARIA DE HOSTOS"]
["6071","4","GEORGE WASHINGTON CARVER      "]
["6081","5","CENTENNIAL MIDDLE             "]
["6082","7","ACADEMIR CHARTER SCHOOL MIDDLE"]
["6083","7","JUST ARTS AND MANAGEMENT CMS  "]
["6091","6","CITRUS GROVE MIDDLE SCHOOL    "]
["6111","5","CUTLER RIDGE MIDDLE           "]
["6121","4","RUBEN DARIO MIDDLE            "]
["6141","6","CHARLES R. DREW MIDDLE        "]
["6151","4","DORAL MIDDLE SCHOOL           "]
["6161","1","LAWTON CHILES MIDDLE SCHOOL   "]
["6171","1","HENRY H. FILER MIDDLE         "]
["6211","5","GLADES MIDDLE                 "]
["6221","5","HAMMOCKS MIDDLE               "]
["6231","6","HIALEAH MIDDLE                "]
["6241","1","HIGHLAND OAKS MIDDLE          "]
["6251","6","HOMESTEAD MIDDLE              "]
["6281","6","THOMAS JEFFERSON MIDDLE       "]
["6301","1","JOHN F. KENNEDY MIDDLE        "]
["6331","4","KINLOCH PARK MIDDLE           "]
["6351","1","LAKE STEVENS MIDDLE           "]
["6361","6","JOSE DE DIEGO MIDDLE SCHOOL   "]
["6391","6","MADISON MIDDLE SCHOOL         "]
["6411","4","HORACE MANN MIDDLE            "]
["6421","1","JOSE MARTI MIDDLE             "]
["6431","6","MAYS MIDDLE                   "]
["6441","5","HOWARD D. MCMILLAN MIDDLE     "]
["6481","6","MIAMI EDISON MIDDLE           "]
["6501","1","MIAMI LAKES MIDDLE            "]
["6521","4","MIAMI SPRINGS MIDDLE          "]
["6541","1","NAUTILUS MIDDLE               "]
["6571","1","NORLAND MIDDLE                "]
["6591","6","NORTH DADE MIDDLE             "]
["6611","1","COUNTRY CLUB MIDDLE SCHOOL    "]
["6631","6","NORTH MIAMI MIDDLE            "]
["6681","1","PALM SPRINGS MIDDLE           "]
["6701","5","PALMETTO MIDDLE               "]
["6721","6","PARKWAY MIDDLE                "]
["6741","4","PONCE DE LEON MIDDLE          "]
["6751","1","HIALEAH GARDENS MIDDLE SCHOOL "]
["6761","6","REDLAND MIDDLE                "]
["6771","5","JORGE MAS CANOSA MIDDLE       "]
["6781","5","RICHMOND HEIGHTS MIDDLE       "]
["6801","5","RIVIERA MIDDLE                "]
["6821","4","ROCKWAY MIDDLE                "]
["6841","4","SHENANDOAH MIDDLE             "]
["6861","5","SOUTHWOOD MIDDLE              "]
["6881","4","SOUTH MIAMI MIDDLE SCHOOL     "]
["6901","5","W. R. THOMAS MIDDLE           "]
["6921","5","LAMAR LOUISE CURRY MIDDLE SCH "]
["6961","4","WEST MIAMI MIDDLE             "]
["6981","6","WESTVIEW MIDDLE               "]
["7001","8","MIAMI-DADE ONLINE ACADEMY     "]
["7007","7","INTL. STUDIES CHARTER SENIOR  "]
["7009","7","DORAL PERFORMING ARTS ACADEMY "]
["7011","1","AMERICAN SENIOR               "]
["7014","7","MATER PERFORMING ARTS ACADEMY "]
["7015","7","STELLAR LEADERSHIP ACADEMY    "]
["7016","7","SPORTS LEADERSHIP OF MIAMI CHS"]
["7018","7","MATER ACADEMY LAKES HIGH SCH  "]
["7020","7","DORAL ACADEMY HIGH SCHOOL     "]
["7022","7","ACADEMY OF ARTS AND MINDS     "]
["7024","7","MATER ACADEMY HIGH-INTL STUDIE"]
["7025","7","MATER ACAD HIGH (MIAMI BEACH) "]
["7029","5","TERRA ENVIRONMENTAL RESEARCH  "]
["7030","7","INTEGRATED ACADEMICS (SIATECH)"]
["7032","7","PALM GLADES PREP HIGH SCHOOL  "]
["7033","4","LAW ENFORCEMENT OFFICERS HS   "]
["7034","7","SOMERSET ACAD HIGH SOUTH-HMSTD"]
["7036","7","LAWRENCE ACADEMY SENIOR       "]
["7037","7","MATER ACADEMY EAST HIGH SCHOOL"]
["7038","7","SOMERSET ACADEMY HIGH (SOUTH) "]
["7041","5","SCHOOL FOR ADVANCED STUDIES WC"]
["7042","7","SOMERSET ACADEMY CHARTER HIGH "]
["7048","1","ALONZO & TRACY MOURNING SH    "]
["7049","1","WESTLAND HIALEAH SENIOR HIGH  "]
["7050","7","KEYS GATE CHARTER HIGH SCHL   "]
["7051","5","G. HOLMES BRADDOCK SENIOR HIGH"]
["7053","7","PINECREST ACADEMY CHARTER HIGH"]
["7054","7","EXCELSIOR CHARTER HIGH SCHOOL "]
["7055","4","YOUNG WOMEN'S PREPARATORY ACAD"]
["7056","4","YOUNG MENS PREPARATORY ACADEMY"]
["7058","7","MIAMI COMMUNITY CH HIGH SCHOOL"]
["7059","7","MIAMI ARTS CHARTER            "]
["7060","7","EVERGLADES PREP ACADEMY HIGH  "]
["7061","5","SCHOOL FOR ADVANCED STUDIES NO"]
["7062","7","MAVERICKS HIGH OF NORTH M-DADE"]
["7065","7","MAVERICKS HIGH OF SOUTH M-DADE"]
["7066","7","LBA CONSTR & BUS MGMT ACAD    "]
["7067","7","GREEN SPRINGS HIGH SCHOOL     "]
["7068","7","NORTH GARDENS HIGH SCHOOL     "]
["7069","7","NORTH PARK HIGH SCHOOL        "]
["7070","7","YOUTH CO-OP PREP HIGH SCHOOL  "]
["7071","4","CORAL GABLES SENIOR HIGH      "]
["7080","7","CHARTER HS OF THE AMERICAS    "]
["7081","4","DESIGN & ARCHITECTURE SENIOR  "]
["7091","5","SCHOOL FOR ADV STUDIES SOUTH  "]
["7101","5","CORAL REEF SENIOR HIGH        "]
["7111","1","HIALEAH SENIOR                "]
["7121","5","JOHN A FERGUSON SENIOR HIGH   "]
["7131","6","HIALEAH-MIAMI LAKES SENIOR    "]
["7141","1","DR MICHAEL M KROP SENIOR HIGH "]
["7151","6","HOMESTEAD SENIOR HIGH         "]
["7160","7","MATER ACADEMY CHARTER HIGH    "]
["7161","4","MAST @ VIRGINIA KEY           "]
["7171","5","MED ACAD SCIENCE & TECHNOLOGY "]
["7191","1","HIALEAH GARDENS SENIOR        "]
["7201","1","MIAMI BEACH SENIOR HIGH       "]
["7231","6","MIAMI CAROL CITY SENIOR HIGH  "]
["7241","4","RONALD W REAGAN/DORAL SENIOR  "]
["7251","6","MIAMI CENTRAL SENIOR HIGH     "]
["7262","7","CITY OF HIALEAH EDUCATION ACAD"]
["7265","7","ARCHIMEDEAN UPPER CONSERV CHAR"]
["7271","4","MIAMI CORAL PARK SENIOR HIGH  "]
["7291","1","JOSE MARTI MAST 6-12 ACADEMY  "]
["7301","6","MIAMI EDISON SENIOR HIGH      "]
["7341","6","MIAMI JACKSON SENIOR HIGH     "]
["7351","6","ARTHUR AND POLLY MAYS CONSERVA"]
["7361","5","MIAMI KILLIAN SENIOR HIGH     "]
["7371","5","ROBERT MORGAN EDUCATIONAL CTR "]
["7381","6","MIAMI NORLAND SENIOR HIGH     "]
["7391","1","MIAMI LAKES EDUCATIONAL CENTER"]
["7411","6","MIAMI NORTHWESTERN SENIOR HIGH"]
["7431","5","MIAMI PALMETTO SENIOR HIGH    "]
["7461","4","MIAMI SENIOR HIGH             "]
["7511","4","MIAMI SPRINGS SENIOR HIGH     "]
["7531","5","MIAMI SUNSET SENIOR HIGH      "]
["7541","6","NORTH MIAMI BEACH SENIOR HIGH "]
["7551","5","SCHOOL FOR ADV STUDIES-HOMESTD"]
["7571","4","INTL STUDIES PREP ACADEMY     "]
["7581","4","IPREPARATORY ACADEMY          "]
["7591","6","NORTH MIAMI SENIOR HIGH       "]
["7601","4","WILLIAM H. TURNER TECHNICAL   "]
["7631","5","MIAMI MACARTHUR SOUTH         "]
["7701","5","SOUTH DADE SENIOR HIGH        "]
["7721","4","SOUTH MIAMI SENIOR HIGH       "]
["7731","6","MIAMI SOUTHRIDGE SENIOR HIGH  "]
["7741","5","SOUTHWEST MIAMI SENIOR HIGH   "]
["7751","1","BARBARA GOLEMAN SENIOR HIGH   "]
["7781","5","FELIX VARELA SENIOR HIGH      "]
["7791","6","BOOKER T. WASHINGTON SR. HIGH "]
["7801","8","GEORGE T. BAKER AVIATION      "]
["7901","4","NEW WORLD SCHOOL OF THE ARTS  "]
["8013","8","    NON-MDCPS CHILD           "]
["8014","8","ALTERNATIVE OUTREACH-EXT. YR  "]
["8015","8","FLORIDA HOME EDUCATION PROGRAM"]
["8016","8","TAP PROGRAM FACILITIES        "]
["8017","8","ALTERNATIVE OUTREACH PROGRAM  "]
["8019","4","ACADEMY FOR COMMUNITY ED      "]
["8021","4","TITLE I MIGRANT EDUC PROGRAM  "]
["8101","1","JAN MANN OPPORTUNITY SCHOOL   "]
["8121","4","COPE CENTER NORTH             "]
["8131","5","DOROTHY M WALLACE COPE CENTER "]
["8141","8","JUVENILE JUSTICE CENTER       "]
["8151","1","ROBERT RENICK EDUCATION CTR   "]
["8181","5","RUTH OWENS KRUSE' EDUC CENTER "]
["8301","8","TITLE I MIGRANT EDUC PROGRAM  "]
["9013","8","PRE K - INTERVENTION          "]
["9731","8","INSTRUCTIONAL SYSTEMWIDE      "]
["9732","8","MERRICK EDUCATIONAL CENTER    "]
["9999","9","District"]

{"sheet":"Sch-Region (2)","index":22,"n_rows":476,"n_cols":5,"rows_kept":476,"cut":false,"hidden":true,"merged":[]}
["SCHOOL_NUMBER","School Name","Civics","USH","Count in SchList"]
["0041","AIR BASE ELEMENTARY           ",{"$f":"IFERROR(VLOOKUP(VALUE($A2),'2013-14 BL Civics'!$A$14:$C$500,3,FALSE),\"\")","v":""},{"$f":"IFERROR(VLOOKUP(VALUE($A2),'2013-14 BL USH'!$A$14:$C$500,3,FALSE),\"\")","v":""},{"$f":"IF(AND(C2=\"\",D2=\"\"),\"No\",\"Yes\")","v":"No"}]
["0070","CORAL REEF MONTESSORI ACAD CH ",{"$f":"IFERROR(VLOOKUP(VALUE($A3),'2013-14 BL Civics'!$A$14:$C$500,3,FALSE),\"\")","v":20},{"$f":"IFERROR(VLOOKUP(VALUE($A3),'2013-14 BL USH'!$A$14:$C$500,3,FALSE),\"\")","v":""},{"$f":"IF(AND(C3=\"\",D3=\"\"),\"No\",\"Yes\")","v":"Yes"}]
["0071","EUGENIA B. THOMAS K-8 CENTER  ",{"$f":"IFERROR(VLOOKUP(VALUE($A4),'2013-14 BL Civics'!$A$14:$C$500,3,FALSE),\"\")","v":149},{"$f":"IFERROR(VLOOKUP(VALUE($A4),'2013-14 BL USH'!$A$14:$C$500,3,FALSE),\"\")","v":""},"Yes"]
["0072","SUMMERVILLE CHARTER SCHOOL    ",{"$f":"IFERROR(VLOOKUP(VALUE($A5),'2013-14 BL Civics'!$A$14:$C$500,3,FALSE),\"\")","v":""},{"$f":"IFERROR(VLOOKUP(VALUE($A5),'2013-14 BL USH'!$A$14:$C$500,3,FALSE),\"\")","v":""},"No"]
["0073","MANDARIN LAKES K-8 CENTER     ",{"$f":"IFERROR(VLOOKUP(VALUE($A6),'2013-14 BL Civics'!$A$14:$C$500,3,FALSE),\"\")","v":106},{"$f":"IFERROR(VLOOKUP(VALUE($A6),'2013-14 BL USH'!$A$14:$C$500,3,FALSE),\"\")","v":""},"Yes"]
["0081","LENORA B. SMITH ELEMENTARY    ",{"$f":"IFERROR(VLOOKUP(VALUE($A7),'2013-14 BL Civics'!$A$14:$C$500,3,FALSE),\"\")","v":""},{"$f":"IFERROR(VLOOKUP(VALUE($A7),'2013-14 BL USH'!$A$14:$C$500,3,FALSE),\"\")","v":""},"No"]
["0091","BOB GRAHAM EDUCATION CTR      ",{"$f":"IFERROR(VLOOKUP(VALUE($A8),'2013-14 BL Civics'!$A$14:$C$500,3,FALSE),\"\")","v":217},{"$f":"IFERROR(VLOOKUP(VALUE($A8),'2013-14 BL USH'!$A$14:$C$500,3,FALSE),\"\")","v":""},"Yes"]
["0092","NORMAN S. EDELCUP/SUNNY ISLES ",{"$f":"IFERROR(VLOOKUP(VALUE($A9),'2013-14 BL Civics'!$A$14:$C$500,3,FALSE),\"\")","v":176},{"$f":"IFERROR(VLOOKUP(VALUE($A9),'2013-14 BL USH'!$A$14:$C$500,3,FALSE),\"\")","v":""},"Yes"]
["0100","MATER ACADEMY                 ",{"$f":"IFERROR(VLOOKUP(VALUE($A10),'2013-14 BL Civics'!$A$14:$C$500,3,FALSE),\"\")","v":""},{"$f":"IFERROR(VLOOKUP(VALUE($A10),'2013-14 BL USH'!$A$14:$C$500,3,FALSE),\"\")","v":""},"No"]
["0101","ARCOLA LAKE ELEMENTARY        ",{"$f":"IFERROR(VLOOKUP(VALUE($A11),'2013-14 BL Civics'!$A$14:$C$500,3,FALSE),\"\")","v":""},{"$f":"IFERROR(VLOOKUP(VALUE($A11),'2013-14 BL USH'!$A$14:$C$500,3,FALSE),\"\")","v":""},"No"]
["0102","MIAMI COMMUNITY CHARTER SCHOOL",{"$f":"IFERROR(VLOOKUP(VALUE($A12),'2013-14 BL Civics'!$A$14:$C$500,3,FALSE),\"\")","v":""},{"$f":"IFERROR(VLOOKUP(VALUE($A12),'2013-14 BL USH'!$A$14:$C$500,3,FALSE),\"\")","v":""},"No"]
["0111","MAYA ANGELOU ELEMENTARY       ",{"$f":"IFERROR(VLOOKUP(VALUE($A13),'2013-14 BL Civics'!$A$14:$C$500,3,FALSE),\"\")","v":""},{"$f":"IFERROR(VLOOKUP(VALUE($A13),'2013-14 BL USH'!$A$14:$C$500,3,FALSE),\"\")","v":""},"No"]
["0121","AUBURNDALE ELEMENTARY         ",{"$f":"IFERROR(VLOOKUP(VALUE($A14),'2013-14 BL Civics'!$A$14:$C$500,3,FALSE),\"\")","v":""},{"$f":"IFERROR(VLOOKUP(VALUE($A14),'2013-14 BL USH'!$A$14:$C$500,3,FALSE),\"\")","v":""},"No"]
["0122","DR ROLANDO ESPINOSA K-8       ",{"$f":"IFERROR(VLOOKUP(VALUE($A15),'2013-14 BL Civics'!$A$14:$C$500,3,FALSE),\"\")","v":171},{"$f":"IFERROR(VLOOKUP(VALUE($A15),'2013-14 BL USH'!$A$14:$C$500,3,FALSE),\"\")","v":""},"Yes"]
["0125","NORMA BUTLER BOSSARD ELEM     ",{"$f":"IFERROR(VLOOKUP(VALUE($A16),'2013-14 BL Civics'!$A$14:$C$500,3,FALSE),\"\")","v":""},{"$f":"IFERROR(VLOOKUP(VALUE($A16),'2013-14 BL USH'!$A$14:$C$500,3,FALSE),\"\")","v":""},"No"]
["0161","AVOCADO ELEMENTARY            ",{"$f":"IFERROR(VLOOKUP(VALUE($A17),'2013-14 BL Civics'!$A$14:$C$500,3,FALSE),\"\")","v":""},{"$f":"IFERROR(VLOOKUP(VALUE($A17),'2013-14 BL USH'!$A$14:$C$500,3,FALSE),\"\")","v":""},"No"]
["0201","BANYAN ELEMENTARY             ",{"$f":"IFERROR(VLOOKUP(VALUE($A18),'2013-14 BL Civics'!$A$14:$C$500,3,FALSE),\"\")","v":""},{"$f":"IFERROR(VLOOKUP(VALUE($A18),'2013-14 BL USH'!$A$14:$C$500,3,FALSE),\"\")","v":""},"No"]
["0211","DR. MANUEL C. BARREIRO ELEM   ",{"$f":"IFERROR(VLOOKUP(VALUE($A19),'2013-14 BL Civics'!$A$14:$C$500,3,FALSE),\"\")","v":""},{"$f":"IFERROR(VLOOKUP(VALUE($A19),'2013-14 BL USH'!$A$14:$C$500,3,FALSE),\"\")","v":""},"No"]
["0231","AVENTURA WATERWAYS K-8 CENTER ",{"$f":"IFERROR(VLOOKUP(VALUE($A20),'2013-14 BL Civics'!$A$14:$C$500,3,FALSE),\"\")","v":161},{"$f":"IFERROR(VLOOKUP(VALUE($A20),'2013-14 BL USH'!$A$14:$C$500,3,FALSE),\"\")","v":""},"Yes"]
["0241","RUTH K BROAD/BAY HARBOR K-8   ",{"$f":"IFERROR(VLOOKUP(VALUE($A21),'2013-14 BL Civics'!$A$14:$C$500,3,FALSE),\"\")","v":155},{"$f":"IFERROR(VLOOKUP(VALUE($A21),'2013-14 BL USH'!$A$14:$C$500,3,FALSE),\"\")","v":""},"Yes"]
["0251","ETHEL KOGER BECKHAM ELEMENTARY",{"$f":"IFERROR(VLOOKUP(VALUE($A22),'2013-14 BL Civics'!$A$14:$C$500,3,FALSE),\"\")","v":""},{"$f":"IFERROR(VLOOKUP(VALUE($A22),'2013-14 BL USH'!$A$14:$C$500,3,FALSE),\"\")","v":""},"No"]
["0261","BEL-AIRE ELEMENTARY           ",{"$f":"IFERROR(VLOOKUP(VALUE($A23),'2013-14 BL Civics'!$A$14:$C$500,3,FALSE),\"\")","v":""},{"$f":"IFERROR(VLOOKUP(VALUE($A23),'2013-14 BL USH'!$A$14:$C$500,3,FALSE),\"\")","v":""},"No"]
["0271","BENT TREE ELEMENTARY          ",{"$f":"IFERROR(VLOOKUP(VALUE($A24),'2013-14 BL Civics'!$A$14:$C$500,3,FALSE),\"\")","v":""},{"$f":"IFERROR(VLOOKUP(VALUE($A24),'2013-14 BL USH'!$A$14:$C$500,3,FALSE),\"\")","v":""},"No"]
["0311","GOULDS ELEMENTARY             ",{"$f":"IFERROR(VLOOKUP(VALUE($A25),'2013-14 BL Civics'!$A$14:$C$500,3,FALSE),\"\")","v":""},{"$f":"IFERROR(VLOOKUP(VALUE($A25),'2013-14 BL USH'!$A$14:$C$500,3,FALSE),\"\")","v":""},"No"]
["0312","MATER GARDENS ACADEMY         ",{"$f":"IFERROR(VLOOKUP(VALUE($A26),'2013-14 BL Civics'!$A$14:$C$500,3,FALSE),\"\")","v":""},{"$f":"IFERROR(VLOOKUP(VALUE($A26),'2013-14 BL USH'!$A$14:$C$500,3,FALSE),\"\")","v":""},"No"]
["0321","BISCAYNE ELEMENTARY           ",{"$f":"IFERROR(VLOOKUP(VALUE($A27),'2013-14 BL Civics'!$A$14:$C$500,3,FALSE),\"\")","v":""},{"$f":"IFERROR(VLOOKUP(VALUE($A27),'2013-14 BL USH'!$A$14:$C$500,3,FALSE),\"\")","v":""},"No"]
["0331","CHAPMAN PARTNERSHIP ECC NORTH ",{"$f":"IFERROR(VLOOKUP(VALUE($A28),'2013-14 BL Civics'!$A$14:$C$500,3,FALSE),\"\")","v":""},{"$f":"IFERROR(VLOOKUP(VALUE($A28),'2013-14 BL USH'!$A$14:$C$500,3,FALSE),\"\")","v":""},"No"]
["0332","SOMERSET ACADEMY(SILVER PALMS)",{"$f":"IFERROR(VLOOKUP(VALUE($A29),'2013-14 BL Civics'!$A$14:$C$500,3,FALSE),\"\")","v":132},{"$f":"IFERROR(VLOOKUP(VALUE($A29),'2013-14 BL USH'!$A$14:$C$500,3,FALSE),\"\")","v":""},"Yes"]
["0339","SOMERSET ACADEMY CHARTER ELEM ",{"$f":"IFERROR(VLOOKUP(VALUE($A30),'2013-14 BL Civics'!$A$14:$C$500,3,FALSE),\"\")","v":""},{"$f":"IFERROR(VLOOKUP(VALUE($A30),'2013-14 BL USH'!$A$14:$C$500,3,FALSE),\"\")","v":""},"No"]
["0341","ARCH CREEK ELEMENTARY SCHOOL  ",{"$f":"IFERROR(VLOOKUP(VALUE($A31),'2013-14 BL Civics'!$A$14:$C$500,3,FALSE),\"\")","v":""},{"$f":"IFERROR(VLOOKUP(VALUE($A31),'2013-14 BL USH'!$A$14:$C$500,3,FALSE),\"\")","v":""},"No"]
["0342","PINECREST ACADEMY SOUTH CAMPUS",{"$f":"IFERROR(VLOOKUP(VALUE($A32),'2013-14 BL Civics'!$A$14:$C$500,3,FALSE),\"\")","v":""},{"$f":"IFERROR(VLOOKUP(VALUE($A32),'2013-14 BL USH'!$A$14:$C$500,3,FALSE),\"\")","v":""},"No"]
["0351","CHAPMAN PARTNERSHIP ECC SOUTH ",{"$f":"IFERROR(VLOOKUP(VALUE($A33),'2013-14 BL Civics'!$A$14:$C$500,3,FALSE),\"\")","v":""},{"$f":"IFERROR(VLOOKUP(VALUE($A33),'2013-14 BL USH'!$A$14:$C$500,3,FALSE),\"\")","v":""},"No"]
["0361","BISCAYNE GARDENS ELEMENTARY   ",{"$f":"IFERROR(VLOOKUP(VALUE($A34),'2013-14 BL Civics'!$A$14:$C$500,3,FALSE),\"\")","v":""},{"$f":"IFERROR(VLOOKUP(VALUE($A34),'2013-14 BL USH'!$A$14:$C$500,3,FALSE),\"\")","v":""},"No"]
["0400","RENAISSANCE ELEMENTARY CHARTER",{"$f":"IFERROR(VLOOKUP(VALUE($A35),'2013-14 BL Civics'!$A$14:$C$500,3,FALSE),\"\")","v":""},{"$f":"IFERROR(VLOOKUP(VALUE($A35),'2013-14 BL USH'!$A$14:$C$500,3,FALSE),\"\")","v":""},"No"]
["0401","VAN E. BLANTON ELEMENTARY     ",{"$f":"IFERROR(VLOOKUP(VALUE($A36),'2013-14 BL Civics'!$A$14:$C$500,3,FALSE),\"\")","v":""},{"$f":"IFERROR(VLOOKUP(VALUE($A36),'2013-14 BL USH'!$A$14:$C$500,3,FALSE),\"\")","v":""},"No"]
["0410","ACADEMIR CHARTER SCHOOL WEST  ",{"$f":"IFERROR(VLOOKUP(VALUE($A37),'2013-14 BL Civics'!$A$14:$C$500,3,FALSE),\"\")","v":""},{"$f":"IFERROR(VLOOKUP(VALUE($A37),'2013-14 BL USH'!$A$14:$C$500,3,FALSE),\"\")","v":""},"No"]
["0441","BLUE LAKES ELEMENTARY         ",{"$f":"IFERROR(VLOOKUP(VALUE($A38),'2013-14 BL Civics'!$A$14:$C$500,3,FALSE),\"\")","v":""},{"$f":"IFERROR(VLOOKUP(VALUE($A38),'2013-14 BL USH'!$A$14:$C$500,3,FALSE),\"\")","v":""},"No"]
["0451","BOWMAN ASHE/DOOLIN K-8 ACAD   ",{"$f":"IFERROR(VLOOKUP(VALUE($A39),'2013-14 BL Civics'!$A$14:$C$500,3,FALSE),\"\")","v":152},{"$f":"IFERROR(VLOOKUP(VALUE($A39),'2013-14 BL USH'!$A$14:$C$500,3,FALSE),\"\")","v":""},"Yes"]
["0461","BRENTWOOD ELEMENTARY          ",{"$f":"IFERROR(VLOOKUP(VALUE($A40),'2013-14 BL Civics'!$A$14:$C$500,3,FALSE),\"\")","v":""},{"$f":"IFERROR(VLOOKUP(VALUE($A40),'2013-14 BL USH'!$A$14:$C$500,3,FALSE),\"\")","v":""},"No"]
["0481","JAMES H. BRIGHT/JW JOHNSON ES ",{"$f":"IFERROR(VLOOKUP(VALUE($A41),'2013-14 BL Civics'!$A$14:$C$500,3,FALSE),\"\")","v":""},{"$f":"IFERROR(VLOOKUP(VALUE($A41),'2013-14 BL USH'!$A$14:$C$500,3,FALSE),\"\")","v":""},"No"]
["0510","ARCHIMEDEAN ACADEMY           ",{"$f":"IFERROR(VLOOKUP(VALUE($A42),'2013-14 BL Civics'!$A$14:$C$500,3,FALSE),\"\")","v":""},{"$f":"IFERROR(VLOOKUP(VALUE($A42),'2013-14 BL USH'!$A$14:$C$500,3,FALSE),\"\")","v":""},"No"]
["0520","SOMERSET ACADEMY              ",{"$f":"IFERROR(VLOOKUP(VALUE($A43),'2013-14 BL Civics'!$A$14:$C$500,3,FALSE),\"\")","v":""},{"$f":"IFERROR(VLOOKUP(VALUE($A43),'2013-14 BL USH'!$A$14:$C$500,3,FALSE),\"\")","v":""},"No"]
["0521","BROADMOOR ELEMENTARY          ",{"$f":"IFERROR(VLOOKUP(VALUE($A44),'2013-14 BL Civics'!$A$14:$C$500,3,FALSE),\"\")","v":""},{"$f":"IFERROR(VLOOKUP(VALUE($A44),'2013-14 BL USH'!$A$14:$C$500,3,FALSE),\"\")","v":""},"No"]
["0561","W.J. BRYAN ELEMENTARY         ",{"$f":"IFERROR(VLOOKUP(VALUE($A45),'2013-14 BL Civics'!$A$14:$C$500,3,FALSE),\"\")","v":""},{"$f":"IFERROR(VLOOKUP(VALUE($A45),'2013-14 BL USH'!$A$14:$C$500,3,FALSE),\"\")","v":""},"No"]
["0600","PINECREST PREP ACADEMY        ",{"$f":"IFERROR(VLOOKUP(VALUE($A46),'2013-14 BL Civics'!$A$14:$C$500,3,FALSE),\"\")","v":""},{"$f":"IFERROR(VLOOKUP(VALUE($A46),'2013-14 BL USH'!$A$14:$C$500,3,FALSE),\"\")","v":""},"No"]
["0641","BUNCHE PARK ELEMENTARY        ",{"$f":"IFERROR(VLOOKUP(VALUE($A47),'2013-14 BL Civics'!$A$14:$C$500,3,FALSE),\"\")","v":""},{"$f":"IFERROR(VLOOKUP(VALUE($A47),'2013-14 BL USH'!$A$14:$C$500,3,FALSE),\"\")","v":""},"No"]
["0651","CAMPBELL DRIVE K-8 CENTER     ",{"$f":"IFERROR(VLOOKUP(VALUE($A48),'2013-14 BL Civics'!$A$14:$C$500,3,FALSE),\"\")","v":63},{"$f":"IFERROR(VLOOKUP(VALUE($A48),'2013-14 BL USH'!$A$14:$C$500,3,FALSE),\"\")","v":""},"Yes"]
["0661","CARIBBEAN ELEMENTARY          ",{"$f":"IFERROR(VLOOKUP(VALUE($A49),'2013-14 BL Civics'!$A$14:$C$500,3,FALSE),\"\")","v":""},{"$f":"IFERROR(VLOOKUP(VALUE($A49),'2013-14 BL USH'!$A$14:$C$500,3,FALSE),\"\")","v":""},"No"]
["0671","CALUSA ELEMENTARY             ",{"$f":"IFERROR(VLOOKUP(VALUE($A50),'2013-14 BL Civics'!$A$14:$C$500,3,FALSE),\"\")","v":""},{"$f":"IFERROR(VLOOKUP(VALUE($A50),'2013-14 BL USH'!$A$14:$C$500,3,FALSE),\"\")","v":""},"No"]
["0681","CAROL CITY ELEMENTARY         ",{"$f":"IFERROR(VLOOKUP(VALUE($A51),'2013-14 BL Civics'!$A$14:$C$500,3,FALSE),\"\")","v":""},{"$f":"IFERROR(VLOOKUP(VALUE($A51),'2013-14 BL USH'!$A$14:$C$500,3,FALSE),\"\")","v":""},"No"]
["0721","GEORGE WASHINGTON CARVER ELEM ",{"$f":"IFERROR(VLOOKUP(VALUE($A52),'2013-14 BL Civics'!$A$14:$C$500,3,FALSE),\"\")","v":""},{"$f":"IFERROR(VLOOKUP(VALUE($A52),'2013-14 BL USH'!$A$14:$C$500,3,FALSE),\"\")","v":""},"No"]
["0761","FIENBERG/FISHER K-8 CENTER    ",{"$f":"IFERROR(VLOOKUP(VALUE($A53),'2013-14 BL Civics'!$A$14:$C$500,3,FALSE),\"\")","v":98},{"$f":"IFERROR(VLOOKUP(VALUE($A53),'2013-14 BL USH'!$A$14:$C$500,3,FALSE),\"\")","v":""},"Yes"]
["0771","WILLIAM A. CHAPMAN ELEMENTARY ",{"$f":"IFERROR(VLOOKUP(VALUE($A54),'2013-14 BL Civics'!$A$14:$C$500,3,FALSE),\"\")","v":""},{"$f":"IFERROR(VLOOKUP(VALUE($A54),'2013-14 BL USH'!$A$14:$C$500,3,FALSE),\"\")","v":""},"No"]
["0801","CITRUS GROVE ELEMENTARY       ",{"$f":"IFERROR(VLOOKUP(VALUE($A55),'2013-14 BL Civics'!$A$14:$C$500,3,FALSE),\"\")","v":""},{"$f":"IFERROR(VLOOKUP(VALUE($A55),'2013-14 BL USH'!$A$14:$C$500,3,FALSE),\"\")","v":""},"No"]
["0831","CLAUDE PEPPER ELEMENTARY      ",{"$f":"IFERROR(VLOOKUP(VALUE($A56),'2013-14 BL Civics'!$A$14:$C$500,3,FALSE),\"\")","v":""},{"$f":"IFERROR(VLOOKUP(VALUE($A56),'2013-14 BL USH'!$A$14:$C$500,3,FALSE),\"\")","v":""},"No"]
["0841","COCONUT GROVE ELEMENTARY      ",{"$f":"IFERROR(VLOOKUP(VALUE($A57),'2013-14 BL Civics'!$A$14:$C$500,3,FALSE),\"\")","v":""},{"$f":"IFERROR(VLOOKUP(VALUE($A57),'2013-14 BL USH'!$A$14:$C$500,3,FALSE),\"\")","v":""},"No"]
["0861","COLONIAL DRIVE ELEMENTARY     ",{"$f":"IFERROR(VLOOKUP(VALUE($A58),'2013-14 BL Civics'!$A$14:$C$500,3,FALSE),\"\")","v":""},{"$f":"IFERROR(VLOOKUP(VALUE($A58),'2013-14 BL USH'!$A$14:$C$500,3,FALSE),\"\")","v":""},"No"]
["0881","COMSTOCK ELEMENTARY           ",{"$f":"IFERROR(VLOOKUP(VALUE($A59),'2013-14 BL Civics'!$A$14:$C$500,3,FALSE),\"\")","v":""},{"$f":"IFERROR(VLOOKUP(VALUE($A59),'2013-14 BL USH'!$A$14:$C$500,3,FALSE),\"\")","v":""},"No"]
["0921","NEVA KING COOPER EDUCATIONAL  ",{"$f":"IFERROR(VLOOKUP(VALUE($A60),'2013-14 BL Civics'!$A$14:$C$500,3,FALSE),\"\")","v":""},{"$f":"IFERROR(VLOOKUP(VALUE($A60),'2013-14 BL USH'!$A$14:$C$500,3,FALSE),\"\")","v":""},"No"]
["0950","AVENTURA CITY OF EXCELLENCE   ",{"$f":"IFERROR(VLOOKUP(VALUE($A61),'2013-14 BL Civics'!$A$14:$C$500,3,FALSE),\"\")","v":105},{"$f":"IFERROR(VLOOKUP(VALUE($A61),'2013-14 BL USH'!$A$14:$C$500,3,FALSE),\"\")","v":""},"Yes"]
["0961","CORAL GABLES PREPARATORY ACAD ",{"$f":"IFERROR(VLOOKUP(VALUE($A62),'2013-14 BL Civics'!$A$14:$C$500,3,FALSE),\"\")","v":71},{"$f":"IFERROR(VLOOKUP(VALUE($A62),'2013-14 BL USH'!$A$14:$C$500,3,FALSE),\"\")","v":""},"Yes"]
["1001","CORAL PARK ELEMENTARY         ",{"$f":"IFERROR(VLOOKUP(VALUE($A63),'2013-14 BL Civics'!$A$14:$C$500,3,FALSE),\"\")","v":""},{"$f":"IFERROR(VLOOKUP(VALUE($A63),'2013-14 BL USH'!$A$14:$C$500,3,FALSE),\"\")","v":""},"No"]
["1010","CHARTER SCHOOL AT WATERSTONE  ",{"$f":"IFERROR(VLOOKUP(VALUE($A64),'2013-14 BL Civics'!$A$14:$C$500,3,FALSE),\"\")","v":""},{"$f":"IFERROR(VLOOKUP(VALUE($A64),'2013-14 BL USH'!$A$14:$C$500,3,FALSE),\"\")","v":""},"No"]
["1014","ADVANCED LEARNING CHARTER SCH ",{"$f":"IFERROR(VLOOKUP(VALUE($A65),'2013-14 BL Civics'!$A$14:$C$500,3,FALSE),\"\")","v":""},{"$f":"IFERROR(VLOOKUP(VALUE($A65),'2013-14 BL USH'!$A$14:$C$500,3,FALSE),\"\")","v":""},"No"]
["1017","MATER ACADEMY OF INTL STUDIES ",{"$f":"IFERROR(VLOOKUP(VALUE($A66),'2013-14 BL Civics'!$A$14:$C$500,3,FALSE),\"\")","v":""},{"$f":"IFERROR(VLOOKUP(VALUE($A66),'2013-14 BL USH'!$A$14:$C$500,3,FALSE),\"\")","v":""},"No"]
["1020","YOUTH CO-OP CHARTER SCHOOL    ",{"$f":"IFERROR(VLOOKUP(VALUE($A67),'2013-14 BL Civics'!$A$14:$C$500,3,FALSE),\"\")","v":64},{"$f":"IFERROR(VLOOKUP(VALUE($A67),'2013-14 BL USH'!$A$14:$C$500,3,FALSE),\"\")","v":""},{"$f":"IF(AND(C67=\"\",D67=\"\"),\"No\",\"Yes\")","v":"Yes"}]
["1041","CORAL REEF ELEMENTARY         ",{"$f":"IFERROR(VLOOKUP(VALUE($A68),'2013-14 BL Civics'!$A$14:$C$500,3,FALSE),\"\")","v":""},{"$f":"IFERROR(VLOOKUP(VALUE($A68),'2013-14 BL USH'!$A$14:$C$500,3,FALSE),\"\")","v":""},"No"]
["1070","SOUTH FLORIDA AUTISM CHARTER  ",{"$f":"IFERROR(VLOOKUP(VALUE($A69),'2013-14 BL Civics'!$A$14:$C$500,3,FALSE),\"\")","v":""},{"$f":"IFERROR(VLOOKUP(VALUE($A69),'2013-14 BL USH'!$A$14:$C$500,3,FALSE),\"\")","v":""},"No"]
["1081","CORAL TERRACE ELEMENTARY      ",{"$f":"IFERROR(VLOOKUP(VALUE($A70),'2013-14 BL Civics'!$A$14:$C$500,3,FALSE),\"\")","v":""},{"$f":"IFERROR(VLOOKUP(VALUE($A70),'2013-14 BL USH'!$A$14:$C$500,3,FALSE),\"\")","v":""},"No"]
["1121","CORAL WAY K-8 CENTER          ",{"$f":"IFERROR(VLOOKUP(VALUE($A71),'2013-14 BL Civics'!$A$14:$C$500,3,FALSE),\"\")","v":157},{"$f":"IFERROR(VLOOKUP(VALUE($A71),'2013-14 BL USH'!$A$14:$C$500,3,FALSE),\"\")","v":""},"Yes"]
["1161","CRESTVIEW ELEMENTARY          ",{"$f":"IFERROR(VLOOKUP(VALUE($A72),'2013-14 BL Civics'!$A$14:$C$500,3,FALSE),\"\")","v":""},{"$f":"IFERROR(VLOOKUP(VALUE($A72),'2013-14 BL USH'!$A$14:$C$500,3,FALSE),\"\")","v":""},"No"]
["1241","CUTLER RIDGE ELEMENTARY       ",{"$f":"IFERROR(VLOOKUP(VALUE($A73),'2013-14 BL Civics'!$A$14:$C$500,3,FALSE),\"\")","v":""},{"$f":"IFERROR(VLOOKUP(VALUE($A73),'2013-14 BL USH'!$A$14:$C$500,3,FALSE),\"\")","v":""},"No"]
["1281","CYPRESS ELEMENTARY            ",{"$f":"IFERROR(VLOOKUP(VALUE($A74),'2013-14 BL Civics'!$A$14:$C$500,3,FALSE),\"\")","v":""},{"$f":"IFERROR(VLOOKUP(VALUE($A74),'2013-14 BL USH'!$A$14:$C$500,3,FALSE),\"\")","v":""},"No"]
["1331","DEVON AIRE K-8 CENTER         ",{"$f":"IFERROR(VLOOKUP(VALUE($A75),'2013-14 BL Civics'!$A$14:$C$500,3,FALSE),\"\")","v":204},{"$f":"IFERROR(VLOOKUP(VALUE($A75),'2013-14 BL USH'!$A$14:$C$500,3,FALSE),\"\")","v":""},"Yes"]
["1361","FREDERICK DOUGLASS ELEMENTARY ",{"$f":"IFERROR(VLOOKUP(VALUE($A76),'2013-14 BL Civics'!$A$14:$C$500,3,FALSE),\"\")","v":""},{"$f":"IFERROR(VLOOKUP(VALUE($A76),'2013-14 BL USH'!$A$14:$C$500,3,FALSE),\"\")","v":""},"No"]
["1371","MARJORY STONEMAN DOUGLAS ELEM ",{"$f":"IFERROR(VLOOKUP(VALUE($A77),'2013-14 BL Civics'!$A$14:$C$500,3,FALSE),\"\")","v":""},{"$f":"IFERROR(VLOOKUP(VALUE($A77),'2013-14 BL USH'!$A$14:$C$500,3,FALSE),\"\")","v":""},"No"]
["1401","CHARLES R. DREW ELEMENTARY    ",{"$f":"IFERROR(VLOOKUP(VALUE($A78),'2013-14 BL Civics'!$A$14:$C$500,3,FALSE),\"\")","v":37},{"$f":"IFERROR(VLOOKUP(VALUE($A78),'2013-14 BL USH'!$A$14:$C$500,3,FALSE),\"\")","v":""},"Yes"]
["1441","PAUL LAURENCE DUNBAR ELEM     ",{"$f":"IFERROR(VLOOKUP(VALUE($A79),'2013-14 BL Civics'!$A$14:$C$500,3,FALSE),\"\")","v":18},{"$f":"IFERROR(VLOOKUP(VALUE($A79),'2013-14 BL USH'!$A$14:$C$500,3,FALSE),\"\")","v":""},"Yes"]
["1481","JOHN G. DUPUIS ELEMENTARY     ",{"$f":"IFERROR(VLOOKUP(VALUE($A80),'2013-14 BL Civics'!$A$14:$C$500,3,FALSE),\"\")","v":""},{"$f":"IFERROR(VLOOKUP(VALUE($A80),'2013-14 BL USH'!$A$14:$C$500,3,FALSE),\"\")","v":""},"No"]
["1521","AMELIA EARHART ELEMENTARY     ",{"$f":"IFERROR(VLOOKUP(VALUE($A81),'2013-14 BL Civics'!$A$14:$C$500,3,FALSE),\"\")","v":""},{"$f":"IFERROR(VLOOKUP(VALUE($A81),'2013-14 BL USH'!$A$14:$C$500,3,FALSE),\"\")","v":""},"No"]
["1561","EARLINGTON HEIGHTS ELEMENTARY ",{"$f":"IFERROR(VLOOKUP(VALUE($A82),'2013-14 BL Civics'!$A$14:$C$500,3,FALSE),\"\")","v":""},{"$f":"IFERROR(VLOOKUP(VALUE($A82),'2013-14 BL USH'!$A$14:$C$500,3,FALSE),\"\")","v":""},"No"]
["1601","EDISON PARK ELEMENTARY        ",{"$f":"IFERROR(VLOOKUP(VALUE($A83),'2013-14 BL Civics'!$A$14:$C$500,3,FALSE),\"\")","v":18},{"$f":"IFERROR(VLOOKUP(VALUE($A83),'2013-14 BL USH'!$A$14:$C$500,3,FALSE),\"\")","v":""},"Yes"]
["1641","EMERSON ELEMENTARY            ",{"$f":"IFERROR(VLOOKUP(VALUE($A84),'2013-14 BL Civics'!$A$14:$C$500,3,FALSE),\"\")","v":""},{"$f":"IFERROR(VLOOKUP(VALUE($A84),'2013-14 BL USH'!$A$14:$C$500,3,FALSE),\"\")","v":""},"No"]
["1681","LILLIE C. EVANS K-8 CENTER    ",{"$f":"IFERROR(VLOOKUP(VALUE($A85),'2013-14 BL Civics'!$A$14:$C$500,3,FALSE),\"\")","v":44},{"$f":"IFERROR(VLOOKUP(VALUE($A85),'2013-14 BL USH'!$A$14:$C$500,3,FALSE),\"\")","v":""},"Yes"]
["1691","CHRISTINA M. EVE ELEMENTARY   ",{"$f":"IFERROR(VLOOKUP(VALUE($A86),'2013-14 BL Civics'!$A$14:$C$500,3,FALSE),\"\")","v":""},{"$f":"IFERROR(VLOOKUP(VALUE($A86),'2013-14 BL USH'!$A$14:$C$500,3,FALSE),\"\")","v":""},"No"]
["1721","EVERGLADES K-8 CENTER         ",{"$f":"IFERROR(VLOOKUP(VALUE($A87),'2013-14 BL Civics'!$A$14:$C$500,3,FALSE),\"\")","v":139},{"$f":"IFERROR(VLOOKUP(VALUE($A87),'2013-14 BL USH'!$A$14:$C$500,3,FALSE),\"\")","v":""},"Yes"]
["1761","DAVID FAIRCHILD ELEMENTARY    ",{"$f":"IFERROR(VLOOKUP(VALUE($A88),'2013-14 BL Civics'!$A$14:$C$500,3,FALSE),\"\")","v":""},{"$f":"IFERROR(VLOOKUP(VALUE($A88),'2013-14 BL USH'!$A$14:$C$500,3,FALSE),\"\")","v":""},"No"]
["1801","FAIRLAWN ELEMENTARY           ",{"$f":"IFERROR(VLOOKUP(VALUE($A89),'2013-14 BL Civics'!$A$14:$C$500,3,FALSE),\"\")","v":""},{"$f":"IFERROR(VLOOKUP(VALUE($A89),'2013-14 BL USH'!$A$14:$C$500,3,FALSE),\"\")","v":""},"No"]
["1811","DANTE B. FASCELL ELEMENTARY   ",{"$f":"IFERROR(VLOOKUP(VALUE($A90),'2013-14 BL Civics'!$A$14:$C$500,3,FALSE),\"\")","v":""},{"$f":"IFERROR(VLOOKUP(VALUE($A90),'2013-14 BL USH'!$A$14:$C$500,3,FALSE),\"\")","v":""},"No"]
["1841","FLAGAMI ELEMENTARY            ",{"$f":"IFERROR(VLOOKUP(VALUE($A91),'2013-14 BL Civics'!$A$14:$C$500,3,FALSE),\"\")","v":""},{"$f":"IFERROR(VLOOKUP(VALUE($A91),'2013-14 BL USH'!$A$14:$C$500,3,FALSE),\"\")","v":""},"No"]
["1881","HENRY M. FLAGLER ELEMENTARY   ",{"$f":"IFERROR(VLOOKUP(VALUE($A92),'2013-14 BL Civics'!$A$14:$C$500,3,FALSE),\"\")","v":""},{"$f":"IFERROR(VLOOKUP(VALUE($A92),'2013-14 BL USH'!$A$14:$C$500,3,FALSE),\"\")","v":""},"No"]
["1921","FLAMINGO ELEMENTARY           ",{"$f":"IFERROR(VLOOKUP(VALUE($A93),'2013-14 BL Civics'!$A$14:$C$500,3,FALSE),\"\")","v":""},{"$f":"IFERROR(VLOOKUP(VALUE($A93),'2013-14 BL USH'!$A$14:$C$500,3,FALSE),\"\")","v":""},"No"]
["2001","FLORIDA CITY ELEMENTARY       ",{"$f":"IFERROR(VLOOKUP(VALUE($A94),'2013-14 BL Civics'!$A$14:$C$500,3,FALSE),\"\")","v":""},{"$f":"IFERROR(VLOOKUP(VALUE($A94),'2013-14 BL USH'!$A$14:$C$500,3,FALSE),\"\")","v":""},"No"]
["2003","BRIDGEPOINT ACADEMY           ",{"$f":"IFERROR(VLOOKUP(VALUE($A95),'2013-14 BL Civics'!$A$14:$C$500,3,FALSE),\"\")","v":""},{"$f":"IFERROR(VLOOKUP(VALUE($A95),'2013-14 BL USH'!$A$14:$C$500,3,FALSE),\"\")","v":""},"No"]
["2004","ISAAC ACADEMY K-8             ",{"$f":"IFERROR(VLOOKUP(VALUE($A96),'2013-14 BL Civics'!$A$14:$C$500,3,FALSE),\"\")","v":""},{"$f":"IFERROR(VLOOKUP(VALUE($A96),'2013-14 BL USH'!$A$14:$C$500,3,FALSE),\"\")","v":""},"No"]
["2006","RICHARD ALLEN LEADERSHIP ACAD ",{"$f":"IFERROR(VLOOKUP(VALUE($A97),'2013-14 BL Civics'!$A$14:$C$500,3,FALSE),\"\")","v":""},{"$f":"IFERROR(VLOOKUP(VALUE($A97),'2013-14 BL USH'!$A$14:$C$500,3,FALSE),\"\")","v":""},"No"]
["2007","SOMERSET ACADEMY ELEMENTARY   ",{"$f":"IFERROR(VLOOKUP(VALUE($A98),'2013-14 BL Civics'!$A$14:$C$500,3,FALSE),\"\")","v":""},{"$f":"IFERROR(VLOOKUP(VALUE($A98),'2013-14 BL USH'!$A$14:$C$500,3,FALSE),\"\")","v":""},"No"]
["2012","SOMERSET ARTS ACADEMY         ",{"$f":"IFERROR(VLOOKUP(VALUE($A99),'2013-14 BL Civics'!$A$14:$C$500,3,FALSE),\"\")","v":""},{"$f":"IFERROR(VLOOKUP(VALUE($A99),'2013-14 BL USH'!$A$14:$C$500,3,FALSE),\"\")","v":""},"No"]
["2013","BRIDGEPOINT ACAD GREATER MIAMI",{"$f":"IFERROR(VLOOKUP(VALUE($A100),'2013-14 BL Civics'!$A$14:$C$500,3,FALSE),\"\")","v":""},{"$f":"IFERROR(VLOOKUP(VALUE($A100),'2013-14 BL USH'!$A$14:$C$500,3,FALSE),\"\")","v":""},"No"]
["2021","GLORIA FLOYD ELEMENTARY       ",{"$f":"IFERROR(VLOOKUP(VALUE($A101),'2013-14 BL Civics'!$A$14:$C$500,3,FALSE),\"\")","v":""},{"$f":"IFERROR(VLOOKUP(VALUE($A101),'2013-14 BL USH'!$A$14:$C$500,3,FALSE),\"\")","v":""},"No"]
["2041","BENJAMIN FRANKLIN K-8 CENTER  ",{"$f":"IFERROR(VLOOKUP(VALUE($A102),'2013-14 BL Civics'!$A$14:$C$500,3,FALSE),\"\")","v":53},{"$f":"IFERROR(VLOOKUP(VALUE($A102),'2013-14 BL USH'!$A$14:$C$500,3,FALSE),\"\")","v":45},"Yes"]
["2060","GIBSON CHARTER SCHOOL         ",{"$f":"IFERROR(VLOOKUP(VALUE($A103),'2013-14 BL Civics'!$A$14:$C$500,3,FALSE),\"\")","v":32},{"$f":"IFERROR(VLOOKUP(VALUE($A103),'2013-14 BL USH'!$A$14:$C$500,3,FALSE),\"\")","v":""},"Yes"]
["2081","FULFORD ELEMENTARY            ",{"$f":"IFERROR(VLOOKUP(VALUE($A104),'2013-14 BL Civics'!$A$14:$C$500,3,FALSE),\"\")","v":""},{"$f":"IFERROR(VLOOKUP(VALUE($A104),'2013-14 BL USH'!$A$14:$C$500,3,FALSE),\"\")","v":""},"No"]
["2111","HIALEAH GARDENS ELEMENTARY    ",{"$f":"IFERROR(VLOOKUP(VALUE($A105),'2013-14 BL Civics'!$A$14:$C$500,3,FALSE),\"\")","v":""},{"$f":"IFERROR(VLOOKUP(VALUE($A105),'2013-14 BL USH'!$A$14:$C$500,3,FALSE),\"\")","v":""},"No"]
["2151","JACK D. GORDON ELEMENTARY     ",{"$f":"IFERROR(VLOOKUP(VALUE($A106),'2013-14 BL Civics'!$A$14:$C$500,3,FALSE),\"\")","v":""},{"$f":"IFERROR(VLOOKUP(VALUE($A106),'2013-14 BL USH'!$A$14:$C$500,3,FALSE),\"\")","v":""},"No"]
["2161","GOLDEN GLADES ELEMENTARY      ",{"$f":"IFERROR(VLOOKUP(VALUE($A107),'2013-14 BL Civics'!$A$14:$C$500,3,FALSE),\"\")","v":""},{"$f":"IFERROR(VLOOKUP(VALUE($A107),'2013-14 BL USH'!$A$14:$C$500,3,FALSE),\"\")","v":""},"No"]
["2181","JOELLA C. GOOD ELEMENTARY     ",{"$f":"IFERROR(VLOOKUP(VALUE($A108),'2013-14 BL Civics'!$A$14:$C$500,3,FALSE),\"\")","v":""},{"$f":"IFERROR(VLOOKUP(VALUE($A108),'2013-14 BL USH'!$A$14:$C$500,3,FALSE),\"\")","v":""},"No"]
["2191","SPANISH LAKE ELEMENTARY       ",{"$f":"IFERROR(VLOOKUP(VALUE($A109),'2013-14 BL Civics'!$A$14:$C$500,3,FALSE),\"\")","v":""},{"$f":"IFERROR(VLOOKUP(VALUE($A109),'2013-14 BL USH'!$A$14:$C$500,3,FALSE),\"\")","v":""},"No"]
["2241","GRATIGNY ELEMENTARY           ",{"$f":"IFERROR(VLOOKUP(VALUE($A110),'2013-14 BL Civics'!$A$14:$C$500,3,FALSE),\"\")","v":""},{"$f":"IFERROR(VLOOKUP(VALUE($A110),'2013-14 BL USH'!$A$14:$C$500,3,FALSE),\"\")","v":""},"No"]
["2261","GREENGLADE ELEMENTARY         ",{"$f":"IFERROR(VLOOKUP(VALUE($A111),'2013-14 BL Civics'!$A$14:$C$500,3,FALSE),\"\")","v":""},{"$f":"IFERROR(VLOOKUP(VALUE($A111),'2013-14 BL USH'!$A$14:$C$500,3,FALSE),\"\")","v":""},"No"]
["2281","GREYNOLDS PARK ELEMENTARY     ",{"$f":"IFERROR(VLOOKUP(VALUE($A112),'2013-14 BL Civics'!$A$14:$C$500,3,FALSE),\"\")","v":""},{"$f":"IFERROR(VLOOKUP(VALUE($A112),'2013-14 BL USH'!$A$14:$C$500,3,FALSE),\"\")","v":""},"No"]
["2321","GULFSTREAM ELEMENTARY         ",{"$f":"IFERROR(VLOOKUP(VALUE($A113),'2013-14 BL Civics'!$A$14:$C$500,3,FALSE),\"\")","v":""},{"$f":"IFERROR(VLOOKUP(VALUE($A113),'2013-14 BL USH'!$A$14:$C$500,3,FALSE),\"\")","v":""},"No"]
["2331","CHARLES R. HADLEY ELEMENTARY  ",{"$f":"IFERROR(VLOOKUP(VALUE($A114),'2013-14 BL Civics'!$A$14:$C$500,3,FALSE),\"\")","v":""},{"$f":"IFERROR(VLOOKUP(VALUE($A114),'2013-14 BL USH'!$A$14:$C$500,3,FALSE),\"\")","v":""},"No"]
["2341","JOE HALL ELEMENTARY           ",{"$f":"IFERROR(VLOOKUP(VALUE($A115),'2013-14 BL Civics'!$A$14:$C$500,3,FALSE),\"\")","v":""},{"$f":"IFERROR(VLOOKUP(VALUE($A115),'2013-14 BL USH'!$A$14:$C$500,3,FALSE),\"\")","v":""},"No"]
["2351","ENEIDA MASSAS HARTNER ELEM    ",{"$f":"IFERROR(VLOOKUP(VALUE($A116),'2013-14 BL Civics'!$A$14:$C$500,3,FALSE),\"\")","v":""},{"$f":"IFERROR(VLOOKUP(VALUE($A116),'2013-14 BL USH'!$A$14:$C$500,3,FALSE),\"\")","v":""},"No"]
["2361","HIALEAH ELEMENTARY            ",{"$f":"IFERROR(VLOOKUP(VALUE($A117),'2013-14 BL Civics'!$A$14:$C$500,3,FALSE),\"\")","v":""},{"$f":"IFERROR(VLOOKUP(VALUE($A117),'2013-14 BL USH'!$A$14:$C$500,3,FALSE),\"\")","v":""},"No"]
["2371","WEST HIALEAH GARDENS ELEM     ",{"$f":"IFERROR(VLOOKUP(VALUE($A118),'2013-14 BL Civics'!$A$14:$C$500,3,FALSE),\"\")","v":""},{"$f":"IFERROR(VLOOKUP(VALUE($A118),'2013-14 BL USH'!$A$14:$C$500,3,FALSE),\"\")","v":""},"No"]
["2401","HIBISCUS ELEMENTARY           ",{"$f":"IFERROR(VLOOKUP(VALUE($A119),'2013-14 BL Civics'!$A$14:$C$500,3,FALSE),\"\")","v":""},{"$f":"IFERROR(VLOOKUP(VALUE($A119),'2013-14 BL USH'!$A$14:$C$500,3,FALSE),\"\")","v":""},"No"]
["2441","VIRGINIA A BOONE/HIGHLAND OAKS",{"$f":"IFERROR(VLOOKUP(VALUE($A120),'2013-14 BL Civics'!$A$14:$C$500,3,FALSE),\"\")","v":""},{"$f":"IFERROR(VLOOKUP(VALUE($A120),'2013-14 BL USH'!$A$14:$C$500,3,FALSE),\"\")","v":""},"No"]
["2501","HOLMES ELEMENTARY             ",{"$f":"IFERROR(VLOOKUP(VALUE($A121),'2013-14 BL Civics'!$A$14:$C$500,3,FALSE),\"\")","v":""},{"$f":"IFERROR(VLOOKUP(VALUE($A121),'2013-14 BL USH'!$A$14:$C$500,3,FALSE),\"\")","v":""},"No"]
["2511","ZORA NEALE HURSTON ELEMENTARY ",{"$f":"IFERROR(VLOOKUP(VALUE($A122),'2013-14 BL Civics'!$A$14:$C$500,3,FALSE),\"\")","v":""},{"$f":"IFERROR(VLOOKUP(VALUE($A122),'2013-14 BL USH'!$A$14:$C$500,3,FALSE),\"\")","v":""},"No"]
["2521","OLIVER HOOVER ELEMENTARY      ",{"$f":"IFERROR(VLOOKUP(VALUE($A123),'2013-14 BL Civics'!$A$14:$C$500,3,FALSE),\"\")","v":""},{"$f":"IFERROR(VLOOKUP(VALUE($A123),'2013-14 BL USH'!$A$14:$C$500,3,FALSE),\"\")","v":""},"No"]
["2531","THENA C. CROWDER EARLY CHLDHD ",{"$f":"IFERROR(VLOOKUP(VALUE($A124),'2013-14 BL Civics'!$A$14:$C$500,3,FALSE),\"\")","v":""},{"$f":"IFERROR(VLOOKUP(VALUE($A124),'2013-14 BL USH'!$A$14:$C$500,3,FALSE),\"\")","v":""},"No"]
["2541","HOWARD DRIVE ELEMENTARY       ",{"$f":"IFERROR(VLOOKUP(VALUE($A125),'2013-14 BL Civics'!$A$14:$C$500,3,FALSE),\"\")","v":""},{"$f":"IFERROR(VLOOKUP(VALUE($A125),'2013-14 BL USH'!$A$14:$C$500,3,FALSE),\"\")","v":""},"No"]
["2581","MADIE IVES ELEMENTARY         ",{"$f":"IFERROR(VLOOKUP(VALUE($A126),'2013-14 BL Civics'!$A$14:$C$500,3,FALSE),\"\")","v":""},{"$f":"IFERROR(VLOOKUP(VALUE($A126),'2013-14 BL USH'!$A$14:$C$500,3,FALSE),\"\")","v":""},"No"]
["2641","KENDALE ELEMENTARY            ",{"$f":"IFERROR(VLOOKUP(VALUE($A127),'2013-14 BL Civics'!$A$14:$C$500,3,FALSE),\"\")","v":""},{"$f":"IFERROR(VLOOKUP(VALUE($A127),'2013-14 BL USH'!$A$14:$C$500,3,FALSE),\"\")","v":""},"No"]
["2651","KENDALE LAKES ELEMENTARY      ",{"$f":"IFERROR(VLOOKUP(VALUE($A128),'2013-14 BL Civics'!$A$14:$C$500,3,FALSE),\"\")","v":""},{"$f":"IFERROR(VLOOKUP(VALUE($A128),'2013-14 BL USH'!$A$14:$C$500,3,FALSE),\"\")","v":""},"No"]
["2661","KENSINGTON PARK ELEMENTARY    ",{"$f":"IFERROR(VLOOKUP(VALUE($A129),'2013-14 BL Civics'!$A$14:$C$500,3,FALSE),\"\")","v":""},{"$f":"IFERROR(VLOOKUP(VALUE($A129),'2013-14 BL USH'!$A$14:$C$500,3,FALSE),\"\")","v":""},"No"]
["2701","KENWOOD K-8 CENTER            ",{"$f":"IFERROR(VLOOKUP(VALUE($A130),'2013-14 BL Civics'!$A$14:$C$500,3,FALSE),\"\")","v":142},{"$f":"IFERROR(VLOOKUP(VALUE($A130),'2013-14 BL USH'!$A$14:$C$500,3,FALSE),\"\")","v":""},"Yes"]
["2741","KEY BISCAYNE K-8 CENTER       ",{"$f":"IFERROR(VLOOKUP(VALUE($A131),'2013-14 BL Civics'!$A$14:$C$500,3,FALSE),\"\")","v":134},{"$f":"IFERROR(VLOOKUP(VALUE($A131),'2013-14 BL USH'!$A$14:$C$500,3,FALSE),\"\")","v":""},{"$f":"IF(AND(C131=\"\",D131=\"\"),\"No\",\"Yes\")","v":"Yes"}]
["2781","KINLOCH PARK ELEMENTARY       ",{"$f":"IFERROR(VLOOKUP(VALUE($A132),'2013-14 BL Civics'!$A$14:$C$500,3,FALSE),\"\")","v":""},{"$f":"IFERROR(VLOOKUP(VALUE($A132),'2013-14 BL USH'!$A$14:$C$500,3,FALSE),\"\")","v":""},"No"]
["2801","LAKE STEVENS ELEMENTARY       ",{"$f":"IFERROR(VLOOKUP(VALUE($A133),'2013-14 BL Civics'!$A$14:$C$500,3,FALSE),\"\")","v":""},{"$f":"IFERROR(VLOOKUP(VALUE($A133),'2013-14 BL USH'!$A$14:$C$500,3,FALSE),\"\")","v":""},"No"]
["2821","LAKEVIEW ELEMENTARY           ",{"$f":"IFERROR(VLOOKUP(VALUE($A134),'2013-14 BL Civics'!$A$14:$C$500,3,FALSE),\"\")","v":""},{"$f":"IFERROR(VLOOKUP(VALUE($A134),'2013-14 BL USH'!$A$14:$C$500,3,FALSE),\"\")","v":""},"No"]
["2881","LEEWOOD K-8 CENTER            ",{"$f":"IFERROR(VLOOKUP(VALUE($A135),'2013-14 BL Civics'!$A$14:$C$500,3,FALSE),\"\")","v":73},{"$f":"IFERROR(VLOOKUP(VALUE($A135),'2013-14 BL USH'!$A$14:$C$500,3,FALSE),\"\")","v":""},"Yes"]
["2891","WILLIAM LEHMAN ELEMENTARY     ",{"$f":"IFERROR(VLOOKUP(VALUE($A136),'2013-14 BL Civics'!$A$14:$C$500,3,FALSE),\"\")","v":""},{"$f":"IFERROR(VLOOKUP(VALUE($A136),'2013-14 BL USH'!$A$14:$C$500,3,FALSE),\"\")","v":""},"No"]
["2901","LEISURE CITY K-8 CENTER       ",{"$f":"IFERROR(VLOOKUP(VALUE($A137),'2013-14 BL Civics'!$A$14:$C$500,3,FALSE),\"\")","v":98},{"$f":"IFERROR(VLOOKUP(VALUE($A137),'2013-14 BL USH'!$A$14:$C$500,3,FALSE),\"\")","v":""},"Yes"]
["2911","LINDA LENTIN K-8 CENTER       ",{"$f":"IFERROR(VLOOKUP(VALUE($A138),'2013-14 BL Civics'!$A$14:$C$500,3,FALSE),\"\")","v":119},{"$f":"IFERROR(VLOOKUP(VALUE($A138),'2013-14 BL USH'!$A$14:$C$500,3,FALSE),\"\")","v":""},"Yes"]
["2941","LAURA C. SAUNDERS ELEMENTARY  ",{"$f":"IFERROR(VLOOKUP(VALUE($A139),'2013-14 BL Civics'!$A$14:$C$500,3,FALSE),\"\")","v":""},{"$f":"IFERROR(VLOOKUP(VALUE($A139),'2013-14 BL USH'!$A$14:$C$500,3,FALSE),\"\")","v":""},"No"]
["2981","LIBERTY CITY ELEMENTARY       ",{"$f":"IFERROR(VLOOKUP(VALUE($A140),'2013-14 BL Civics'!$A$14:$C$500,3,FALSE),\"\")","v":""},{"$f":"IFERROR(VLOOKUP(VALUE($A140),'2013-14 BL USH'!$A$14:$C$500,3,FALSE),\"\")","v":""},"No"]
["3021","JESSE J MCCRARY JR ELEMENTARY ",{"$f":"IFERROR(VLOOKUP(VALUE($A141),'2013-14 BL Civics'!$A$14:$C$500,3,FALSE),\"\")","v":""},{"$f":"IFERROR(VLOOKUP(VALUE($A141),'2013-14 BL USH'!$A$14:$C$500,3,FALSE),\"\")","v":""},"No"]
["3024","FLORIDA INTERNATIONAL EL ACAD ",{"$f":"IFERROR(VLOOKUP(VALUE($A142),'2013-14 BL Civics'!$A$14:$C$500,3,FALSE),\"\")","v":""},{"$f":"IFERROR(VLOOKUP(VALUE($A142),'2013-14 BL USH'!$A$14:$C$500,3,FALSE),\"\")","v":""},"No"]
["3025","ADVANTAGE ACADEMY SANTA FE    ",{"$f":"IFERROR(VLOOKUP(VALUE($A143),'2013-14 BL Civics'!$A$14:$C$500,3,FALSE),\"\")","v":""},{"$f":"IFERROR(VLOOKUP(VALUE($A143),'2013-14 BL USH'!$A$14:$C$500,3,FALSE),\"\")","v":""},"No"]
["3026","ADVANTAGE ACAD AT SUMMERVILLE ",{"$f":"IFERROR(VLOOKUP(VALUE($A144),'2013-14 BL Civics'!$A$14:$C$500,3,FALSE),\"\")","v":""},{"$f":"IFERROR(VLOOKUP(VALUE($A144),'2013-14 BL USH'!$A$14:$C$500,3,FALSE),\"\")","v":""},"No"]
["3027","ADVANTAGE ACAD AT WATERSTONE  ",{"$f":"IFERROR(VLOOKUP(VALUE($A145),'2013-14 BL Civics'!$A$14:$C$500,3,FALSE),\"\")","v":""},{"$f":"IFERROR(VLOOKUP(VALUE($A145),'2013-14 BL USH'!$A$14:$C$500,3,FALSE),\"\")","v":""},"No"]
["3029","DORAL ACADEMY OF TECHNOLOGY   ",{"$f":"IFERROR(VLOOKUP(VALUE($A146),'2013-14 BL Civics'!$A$14:$C$500,3,FALSE),\"\")","v":71},{"$f":"IFERROR(VLOOKUP(VALUE($A146),'2013-14 BL USH'!$A$14:$C$500,3,FALSE),\"\")","v":""},"Yes"]
["3030","DORAL ACADEMY                 ",{"$f":"IFERROR(VLOOKUP(VALUE($A147),'2013-14 BL Civics'!$A$14:$C$500,3,FALSE),\"\")","v":""},{"$f":"IFERROR(VLOOKUP(VALUE($A147),'2013-14 BL USH'!$A$14:$C$500,3,FALSE),\"\")","v":""},"No"]
["3032","PALM GLADES PREPATORY ACADEMY ",{"$f":"IFERROR(VLOOKUP(VALUE($A148),'2013-14 BL Civics'!$A$14:$C$500,3,FALSE),\"\")","v":152},{"$f":"IFERROR(VLOOKUP(VALUE($A148),'2013-14 BL USH'!$A$14:$C$500,3,FALSE),\"\")","v":""},"Yes"]
["3033","SOMERSET OAKS ACADEMY         ",{"$f":"IFERROR(VLOOKUP(VALUE($A149),'2013-14 BL Civics'!$A$14:$C$500,3,FALSE),\"\")","v":""},{"$f":"IFERROR(VLOOKUP(VALUE($A149),'2013-14 BL USH'!$A$14:$C$500,3,FALSE),\"\")","v":""},"No"]
["3034","BRIDGEPOINT ACAD VILLAGE GREEN",{"$f":"IFERROR(VLOOKUP(VALUE($A150),'2013-14 BL Civics'!$A$14:$C$500,3,FALSE),\"\")","v":""},{"$f":"IFERROR(VLOOKUP(VALUE($A150),'2013-14 BL USH'!$A$14:$C$500,3,FALSE),\"\")","v":""},"No"]
["3035","RAMZ ACADEMY ELEM MIAMI CAMPUS",{"$f":"IFERROR(VLOOKUP(VALUE($A151),'2013-14 BL Civics'!$A$14:$C$500,3,FALSE),\"\")","v":""},{"$f":"IFERROR(VLOOKUP(VALUE($A151),'2013-14 BL USH'!$A$14:$C$500,3,FALSE),\"\")","v":""},"No"]
["3041","LORAH PARK ELEMENTARY         ",{"$f":"IFERROR(VLOOKUP(VALUE($A152),'2013-14 BL Civics'!$A$14:$C$500,3,FALSE),\"\")","v":""},{"$f":"IFERROR(VLOOKUP(VALUE($A152),'2013-14 BL USH'!$A$14:$C$500,3,FALSE),\"\")","v":""},"No"]
["3051","TOUSSAINT L'OUVERTURE ELEM    ",{"$f":"IFERROR(VLOOKUP(VALUE($A153),'2013-14 BL Civics'!$A$14:$C$500,3,FALSE),\"\")","v":""},{"$f":"IFERROR(VLOOKUP(VALUE($A153),'2013-14 BL USH'!$A$14:$C$500,3,FALSE),\"\")","v":""},"No"]
["3061","LUDLAM ELEMENTARY             ",{"$f":"IFERROR(VLOOKUP(VALUE($A154),'2013-14 BL Civics'!$A$14:$C$500,3,FALSE),\"\")","v":""},{"$f":"IFERROR(VLOOKUP(VALUE($A154),'2013-14 BL USH'!$A$14:$C$500,3,FALSE),\"\")","v":""},"No"]
["3100","MATER ACADEMY EAST CHARTER    ",{"$f":"IFERROR(VLOOKUP(VALUE($A155),'2013-14 BL Civics'!$A$14:$C$500,3,FALSE),\"\")","v":""},{"$f":"IFERROR(VLOOKUP(VALUE($A155),'2013-14 BL USH'!$A$14:$C$500,3,FALSE),\"\")","v":""},"No"]
["3101","FRANK C. MARTIN K-8 CENTER    ",{"$f":"IFERROR(VLOOKUP(VALUE($A156),'2013-14 BL Civics'!$A$14:$C$500,3,FALSE),\"\")","v":121},{"$f":"IFERROR(VLOOKUP(VALUE($A156),'2013-14 BL USH'!$A$14:$C$500,3,FALSE),\"\")","v":""},"Yes"]
["3111","WESLEY MATTHEWS ELEMENTARY    ",{"$f":"IFERROR(VLOOKUP(VALUE($A157),'2013-14 BL Civics'!$A$14:$C$500,3,FALSE),\"\")","v":""},{"$f":"IFERROR(VLOOKUP(VALUE($A157),'2013-14 BL USH'!$A$14:$C$500,3,FALSE),\"\")","v":""},"No"]
["3141","MEADOWLANE ELEMENTARY         ",{"$f":"IFERROR(VLOOKUP(VALUE($A158),'2013-14 BL Civics'!$A$14:$C$500,3,FALSE),\"\")","v":""},{"$f":"IFERROR(VLOOKUP(VALUE($A158),'2013-14 BL USH'!$A$14:$C$500,3,FALSE),\"\")","v":""},"No"]
["3181","MELROSE ELEMENTARY            ",{"$f":"IFERROR(VLOOKUP(VALUE($A159),'2013-14 BL Civics'!$A$14:$C$500,3,FALSE),\"\")","v":""},{"$f":"IFERROR(VLOOKUP(VALUE($A159),'2013-14 BL USH'!$A$14:$C$500,3,FALSE),\"\")","v":""},"No"]
["3191","ADA MERRITT K-8 CENTER        ",{"$f":"IFERROR(VLOOKUP(VALUE($A160),'2013-14 BL Civics'!$A$14:$C$500,3,FALSE),\"\")","v":88},{"$f":"IFERROR(VLOOKUP(VALUE($A160),'2013-14 BL USH'!$A$14:$C$500,3,FALSE),\"\")","v":""},"Yes"]
["3241","MIAMI GARDENS ELEMENTARY      ",{"$f":"IFERROR(VLOOKUP(VALUE($A161),'2013-14 BL Civics'!$A$14:$C$500,3,FALSE),\"\")","v":""},{"$f":"IFERROR(VLOOKUP(VALUE($A161),'2013-14 BL USH'!$A$14:$C$500,3,FALSE),\"\")","v":""},"No"]
["3261","MIAMI HEIGHTS ELEMENTARY      ",{"$f":"IFERROR(VLOOKUP(VALUE($A162),'2013-14 BL Civics'!$A$14:$C$500,3,FALSE),\"\")","v":""},{"$f":"IFERROR(VLOOKUP(VALUE($A162),'2013-14 BL USH'!$A$14:$C$500,3,FALSE),\"\")","v":""},"No"]
["3281","MIAMI LAKES K-8 CENTER        ",{"$f":"IFERROR(VLOOKUP(VALUE($A163),'2013-14 BL Civics'!$A$14:$C$500,3,FALSE),\"\")","v":91},{"$f":"IFERROR(VLOOKUP(VALUE($A163),'2013-14 BL USH'!$A$14:$C$500,3,FALSE),\"\")","v":""},"Yes"]
["3301","MIAMI PARK ELEMENTARY         ",{"$f":"IFERROR(VLOOKUP(VALUE($A164),'2013-14 BL Civics'!$A$14:$C$500,3,FALSE),\"\")","v":""},{"$f":"IFERROR(VLOOKUP(VALUE($A164),'2013-14 BL USH'!$A$14:$C$500,3,FALSE),\"\")","v":""},"No"]
["3341","MIAMI SHORES ELEMENTARY       ",{"$f":"IFERROR(VLOOKUP(VALUE($A165),'2013-14 BL Civics'!$A$14:$C$500,3,FALSE),\"\")","v":""},{"$f":"IFERROR(VLOOKUP(VALUE($A165),'2013-14 BL USH'!$A$14:$C$500,3,FALSE),\"\")","v":""},"No"]
["3381","MIAMI SPRINGS ELEMENTARY      ",{"$f":"IFERROR(VLOOKUP(VALUE($A166),'2013-14 BL Civics'!$A$14:$C$500,3,FALSE),\"\")","v":""},{"$f":"IFERROR(VLOOKUP(VALUE($A166),'2013-14 BL USH'!$A$14:$C$500,3,FALSE),\"\")","v":""},"No"]
["3421","M.A. MILAM K-8 CENTER         ",{"$f":"IFERROR(VLOOKUP(VALUE($A167),'2013-14 BL Civics'!$A$14:$C$500,3,FALSE),\"\")","v":127},{"$f":"IFERROR(VLOOKUP(VALUE($A167),'2013-14 BL USH'!$A$14:$C$500,3,FALSE),\"\")","v":""},"Yes"]
["3431","PHYLLIS RUTH MILLER ELEMENTARY",{"$f":"IFERROR(VLOOKUP(VALUE($A168),'2013-14 BL Civics'!$A$14:$C$500,3,FALSE),\"\")","v":""},{"$f":"IFERROR(VLOOKUP(VALUE($A168),'2013-14 BL USH'!$A$14:$C$500,3,FALSE),\"\")","v":""},"No"]
["3501","MORNINGSIDE ELEMENTARY        ",{"$f":"IFERROR(VLOOKUP(VALUE($A169),'2013-14 BL Civics'!$A$14:$C$500,3,FALSE),\"\")","v":22},{"$f":"IFERROR(VLOOKUP(VALUE($A169),'2013-14 BL USH'!$A$14:$C$500,3,FALSE),\"\")","v":""},"Yes"]
["3518","DOE SCHOLARSHIP/CHOICE PROGRAM",{"$f":"IFERROR(VLOOKUP(VALUE($A170),'2013-14 BL Civics'!$A$14:$C$500,3,FALSE),\"\")","v":""},{"$f":"IFERROR(VLOOKUP(VALUE($A170),'2013-14 BL USH'!$A$14:$C$500,3,FALSE),\"\")","v":""},"No"]
["3541","ROBERT RUSSA MOTON ELEMENTARY ",{"$f":"IFERROR(VLOOKUP(VALUE($A171),'2013-14 BL Civics'!$A$14:$C$500,3,FALSE),\"\")","v":""},{"$f":"IFERROR(VLOOKUP(VALUE($A171),'2013-14 BL USH'!$A$14:$C$500,3,FALSE),\"\")","v":""},"No"]
["3581","MYRTLE GROVE ELEMENTARY       ",{"$f":"IFERROR(VLOOKUP(VALUE($A172),'2013-14 BL Civics'!$A$14:$C$500,3,FALSE),\"\")","v":38},{"$f":"IFERROR(VLOOKUP(VALUE($A172),'2013-14 BL USH'!$A$14:$C$500,3,FALSE),\"\")","v":""},"Yes"]
["3600","DOWNTOWN MIAMI CHARTER SCHOOL ",{"$f":"IFERROR(VLOOKUP(VALUE($A173),'2013-14 BL Civics'!$A$14:$C$500,3,FALSE),\"\")","v":""},{"$f":"IFERROR(VLOOKUP(VALUE($A173),'2013-14 BL USH'!$A$14:$C$500,3,FALSE),\"\")","v":""},"No"]
["3610","KEYS GATE CHARTER SCHOOL      ",{"$f":"IFERROR(VLOOKUP(VALUE($A174),'2013-14 BL Civics'!$A$14:$C$500,3,FALSE),\"\")","v":1},{"$f":"IFERROR(VLOOKUP(VALUE($A174),'2013-14 BL USH'!$A$14:$C$500,3,FALSE),\"\")","v":""},"Yes"]
["3621","COCONUT PALM K-8 ACADEMY      ",{"$f":"IFERROR(VLOOKUP(VALUE($A175),'2013-14 BL Civics'!$A$14:$C$500,3,FALSE),\"\")","v":109},{"$f":"IFERROR(VLOOKUP(VALUE($A175),'2013-14 BL USH'!$A$14:$C$500,3,FALSE),\"\")","v":""},"Yes"]
["3661","NATURAL BRIDGE ELEMENTARY     ",{"$f":"IFERROR(VLOOKUP(VALUE($A176),'2013-14 BL Civics'!$A$14:$C$500,3,FALSE),\"\")","v":""},{"$f":"IFERROR(VLOOKUP(VALUE($A176),'2013-14 BL USH'!$A$14:$C$500,3,FALSE),\"\")","v":""},"No"]
["3701","NORLAND ELEMENTARY            ",{"$f":"IFERROR(VLOOKUP(VALUE($A177),'2013-14 BL Civics'!$A$14:$C$500,3,FALSE),\"\")","v":""},{"$f":"IFERROR(VLOOKUP(VALUE($A177),'2013-14 BL USH'!$A$14:$C$500,3,FALSE),\"\")","v":""},"No"]
["3741","NORTH BEACH ELEMENTARY        ",{"$f":"IFERROR(VLOOKUP(VALUE($A178),'2013-14 BL Civics'!$A$14:$C$500,3,FALSE),\"\")","v":""},{"$f":"IFERROR(VLOOKUP(VALUE($A178),'2013-14 BL USH'!$A$14:$C$500,3,FALSE),\"\")","v":""},"No"]
["3781","BARBARA HAWKINS ELEMENTARY    ",{"$f":"IFERROR(VLOOKUP(VALUE($A179),'2013-14 BL Civics'!$A$14:$C$500,3,FALSE),\"\")","v":""},{"$f":"IFERROR(VLOOKUP(VALUE($A179),'2013-14 BL USH'!$A$14:$C$500,3,FALSE),\"\")","v":""},"No"]
["3821","NORTH COUNTY K-8 CENTER       ",{"$f":"IFERROR(VLOOKUP(VALUE($A180),'2013-14 BL Civics'!$A$14:$C$500,3,FALSE),\"\")","v":35},{"$f":"IFERROR(VLOOKUP(VALUE($A180),'2013-14 BL USH'!$A$14:$C$500,3,FALSE),\"\")","v":""},"Yes"]
["3861","NORTH GLADE ELEMENTARY        ",{"$f":"IFERROR(VLOOKUP(VALUE($A181),'2013-14 BL Civics'!$A$14:$C$500,3,FALSE),\"\")","v":""},{"$f":"IFERROR(VLOOKUP(VALUE($A181),'2013-14 BL USH'!$A$14:$C$500,3,FALSE),\"\")","v":""},"No"]
["3901","NORTH HIALEAH ELEMENTARY      ",{"$f":"IFERROR(VLOOKUP(VALUE($A182),'2013-14 BL Civics'!$A$14:$C$500,3,FALSE),\"\")","v":""},{"$f":"IFERROR(VLOOKUP(VALUE($A182),'2013-14 BL USH'!$A$14:$C$500,3,FALSE),\"\")","v":""},"No"]
["3941","NORTH MIAMI ELEMENTARY        ",{"$f":"IFERROR(VLOOKUP(VALUE($A183),'2013-14 BL Civics'!$A$14:$C$500,3,FALSE),\"\")","v":""},{"$f":"IFERROR(VLOOKUP(VALUE($A183),'2013-14 BL USH'!$A$14:$C$500,3,FALSE),\"\")","v":""},"No"]
["3981","NORTH TWIN LAKES ELEMENTARY   ",{"$f":"IFERROR(VLOOKUP(VALUE($A184),'2013-14 BL Civics'!$A$14:$C$500,3,FALSE),\"\")","v":""},{"$f":"IFERROR(VLOOKUP(VALUE($A184),'2013-14 BL USH'!$A$14:$C$500,3,FALSE),\"\")","v":""},"No"]
["4000","MIAMI CHILDREN'S MUSEUM       ",{"$f":"IFERROR(VLOOKUP(VALUE($A185),'2013-14 BL Civics'!$A$14:$C$500,3,FALSE),\"\")","v":""},{"$f":"IFERROR(VLOOKUP(VALUE($A185),'2013-14 BL USH'!$A$14:$C$500,3,FALSE),\"\")","v":""},"No"]
["4001","NORWOOD ELEMENTARY            ",{"$f":"IFERROR(VLOOKUP(VALUE($A186),'2013-14 BL Civics'!$A$14:$C$500,3,FALSE),\"\")","v":""},{"$f":"IFERROR(VLOOKUP(VALUE($A186),'2013-14 BL USH'!$A$14:$C$500,3,FALSE),\"\")","v":""},"No"]
["4012","SOMERSET ACAD AT SILVER PALMS ",{"$f":"IFERROR(VLOOKUP(VALUE($A187),'2013-14 BL Civics'!$A$14:$C$500,3,FALSE),\"\")","v":""},{"$f":"IFERROR(VLOOKUP(VALUE($A187),'2013-14 BL USH'!$A$14:$C$500,3,FALSE),\"\")","v":""},"No"]
["4021","OAK GROVE ELEMENTARY          ",{"$f":"IFERROR(VLOOKUP(VALUE($A188),'2013-14 BL Civics'!$A$14:$C$500,3,FALSE),\"\")","v":""},{"$f":"IFERROR(VLOOKUP(VALUE($A188),'2013-14 BL USH'!$A$14:$C$500,3,FALSE),\"\")","v":""},"No"]
["4031","GATEWAY ENVIRONMENTAL K-8     ",{"$f":"IFERROR(VLOOKUP(VALUE($A189),'2013-14 BL Civics'!$A$14:$C$500,3,FALSE),\"\")","v":130},{"$f":"IFERROR(VLOOKUP(VALUE($A189),'2013-14 BL USH'!$A$14:$C$500,3,FALSE),\"\")","v":""},"Yes"]
["4061","OJUS ELEMENTARY               ",{"$f":"IFERROR(VLOOKUP(VALUE($A190),'2013-14 BL Civics'!$A$14:$C$500,3,FALSE),\"\")","v":""},{"$f":"IFERROR(VLOOKUP(VALUE($A190),'2013-14 BL USH'!$A$14:$C$500,3,FALSE),\"\")","v":""},"No"]
["4070","EARLY BEGINNINGS ACADEMY-CIVIC",{"$f":"IFERROR(VLOOKUP(VALUE($A191),'2013-14 BL Civics'!$A$14:$C$500,3,FALSE),\"\")","v":""},{"$f":"IFERROR(VLOOKUP(VALUE($A191),'2013-14 BL USH'!$A$14:$C$500,3,FALSE),\"\")","v":""},"No"]
["4071","OLINDA ELEMENTARY             ",{"$f":"IFERROR(VLOOKUP(VALUE($A192),'2013-14 BL Civics'!$A$14:$C$500,3,FALSE),\"\")","v":""},{"$f":"IFERROR(VLOOKUP(VALUE($A192),'2013-14 BL USH'!$A$14:$C$500,3,FALSE),\"\")","v":""},"No"]
["4081","PRIMARY LEARNING CENTER       ",{"$f":"IFERROR(VLOOKUP(VALUE($A193),'2013-14 BL Civics'!$A$14:$C$500,3,FALSE),\"\")","v":""},{"$f":"IFERROR(VLOOKUP(VALUE($A193),'2013-14 BL USH'!$A$14:$C$500,3,FALSE),\"\")","v":""},"No"]
["4091","OLYMPIA HEIGHTS ELEMENTARY    ",{"$f":"IFERROR(VLOOKUP(VALUE($A194),'2013-14 BL Civics'!$A$14:$C$500,3,FALSE),\"\")","v":""},{"$f":"IFERROR(VLOOKUP(VALUE($A194),'2013-14 BL USH'!$A$14:$C$500,3,FALSE),\"\")","v":""},"No"]
["4121","DR. ROBERT B. INGRAM EL       ",{"$f":"IFERROR(VLOOKUP(VALUE($A195),'2013-14 BL Civics'!$A$14:$C$500,3,FALSE),\"\")","v":""},{"$f":"IFERROR(VLOOKUP(VALUE($A195),'2013-14 BL USH'!$A$14:$C$500,3,FALSE),\"\")","v":""},{"$f":"IF(AND(C195=\"\",D195=\"\"),\"No\",\"Yes\")","v":"No"}]
["4171","ORCHARD VILLA ELEMENTARY      ",{"$f":"IFERROR(VLOOKUP(VALUE($A196),'2013-14 BL Civics'!$A$14:$C$500,3,FALSE),\"\")","v":""},{"$f":"IFERROR(VLOOKUP(VALUE($A196),'2013-14 BL USH'!$A$14:$C$500,3,FALSE),\"\")","v":""},"No"]
["4221","PALMETTO ELEMENTARY           ",{"$f":"IFERROR(VLOOKUP(VALUE($A197),'2013-14 BL Civics'!$A$14:$C$500,3,FALSE),\"\")","v":""},{"$f":"IFERROR(VLOOKUP(VALUE($A197),'2013-14 BL USH'!$A$14:$C$500,3,FALSE),\"\")","v":""},"No"]
["4241","PALM LAKES ELEMENTARY         ",{"$f":"IFERROR(VLOOKUP(VALUE($A198),'2013-14 BL Civics'!$A$14:$C$500,3,FALSE),\"\")","v":""},{"$f":"IFERROR(VLOOKUP(VALUE($A198),'2013-14 BL USH'!$A$14:$C$500,3,FALSE),\"\")","v":""},"No"]
["4261","PALM SPRINGS ELEMENTARY       ",{"$f":"IFERROR(VLOOKUP(VALUE($A199),'2013-14 BL Civics'!$A$14:$C$500,3,FALSE),\"\")","v":""},{"$f":"IFERROR(VLOOKUP(VALUE($A199),'2013-14 BL USH'!$A$14:$C$500,3,FALSE),\"\")","v":""},"No"]
["4281","PALM SPRINGS NORTH ELEMENTARY ",{"$f":"IFERROR(VLOOKUP(VALUE($A200),'2013-14 BL Civics'!$A$14:$C$500,3,FALSE),\"\")","v":""},{"$f":"IFERROR(VLOOKUP(VALUE($A200),'2013-14 BL USH'!$A$14:$C$500,3,FALSE),\"\")","v":""},"No"]
["4301","PARKVIEW ELEMENTARY           ",{"$f":"IFERROR(VLOOKUP(VALUE($A201),'2013-14 BL Civics'!$A$14:$C$500,3,FALSE),\"\")","v":""},{"$f":"IFERROR(VLOOKUP(VALUE($A201),'2013-14 BL USH'!$A$14:$C$500,3,FALSE),\"\")","v":""},"No"]
["4341","PARKWAY ELEMENTARY            ",{"$f":"IFERROR(VLOOKUP(VALUE($A202),'2013-14 BL Civics'!$A$14:$C$500,3,FALSE),\"\")","v":""},{"$f":"IFERROR(VLOOKUP(VALUE($A202),'2013-14 BL USH'!$A$14:$C$500,3,FALSE),\"\")","v":""},"No"]
["4381","DR HENRY E PERRINE ACADEMY    ",{"$f":"IFERROR(VLOOKUP(VALUE($A203),'2013-14 BL Civics'!$A$14:$C$500,3,FALSE),\"\")","v":""},{"$f":"IFERROR(VLOOKUP(VALUE($A203),'2013-14 BL USH'!$A$14:$C$500,3,FALSE),\"\")","v":""},"No"]
["4391","IRVING & BEATRICE PESKOE K-8  ",{"$f":"IFERROR(VLOOKUP(VALUE($A204),'2013-14 BL Civics'!$A$14:$C$500,3,FALSE),\"\")","v":60},{"$f":"IFERROR(VLOOKUP(VALUE($A204),'2013-14 BL USH'!$A$14:$C$500,3,FALSE),\"\")","v":""},"Yes"]
["4401","KELSEY L. PHARR ELEMENTARY    ",{"$f":"IFERROR(VLOOKUP(VALUE($A205),'2013-14 BL Civics'!$A$14:$C$500,3,FALSE),\"\")","v":""},{"$f":"IFERROR(VLOOKUP(VALUE($A205),'2013-14 BL USH'!$A$14:$C$500,3,FALSE),\"\")","v":""},"No"]
["4421","PINECREST ELEMENTARY          ",{"$f":"IFERROR(VLOOKUP(VALUE($A206),'2013-14 BL Civics'!$A$14:$C$500,3,FALSE),\"\")","v":""},{"$f":"IFERROR(VLOOKUP(VALUE($A206),'2013-14 BL USH'!$A$14:$C$500,3,FALSE),\"\")","v":""},"No"]
["4441","PINE LAKE ELEMENTARY          ",{"$f":"IFERROR(VLOOKUP(VALUE($A207),'2013-14 BL Civics'!$A$14:$C$500,3,FALSE),\"\")","v":""},{"$f":"IFERROR(VLOOKUP(VALUE($A207),'2013-14 BL USH'!$A$14:$C$500,3,FALSE),\"\")","v":""},"No"]
["4461","PINE VILLA ELEMENTARY         ",{"$f":"IFERROR(VLOOKUP(VALUE($A208),'2013-14 BL Civics'!$A$14:$C$500,3,FALSE),\"\")","v":""},{"$f":"IFERROR(VLOOKUP(VALUE($A208),'2013-14 BL USH'!$A$14:$C$500,3,FALSE),\"\")","v":""},"No"]
["4491","HENRY E.S. REEVES ELEMENTARY  ",{"$f":"IFERROR(VLOOKUP(VALUE($A209),'2013-14 BL Civics'!$A$14:$C$500,3,FALSE),\"\")","v":""},{"$f":"IFERROR(VLOOKUP(VALUE($A209),'2013-14 BL USH'!$A$14:$C$500,3,FALSE),\"\")","v":""},"No"]
["4501","POINCIANA PARK ELEMENTARY     ",{"$f":"IFERROR(VLOOKUP(VALUE($A210),'2013-14 BL Civics'!$A$14:$C$500,3,FALSE),\"\")","v":""},{"$f":"IFERROR(VLOOKUP(VALUE($A210),'2013-14 BL USH'!$A$14:$C$500,3,FALSE),\"\")","v":""},"No"]
["4511","DR GILBERT L. PORTER ELEM     ",{"$f":"IFERROR(VLOOKUP(VALUE($A211),'2013-14 BL Civics'!$A$14:$C$500,3,FALSE),\"\")","v":""},{"$f":"IFERROR(VLOOKUP(VALUE($A211),'2013-14 BL USH'!$A$14:$C$500,3,FALSE),\"\")","v":""},"No"]
["4541","RAINBOW PARK ELEMENTARY       ",{"$f":"IFERROR(VLOOKUP(VALUE($A212),'2013-14 BL Civics'!$A$14:$C$500,3,FALSE),\"\")","v":""},{"$f":"IFERROR(VLOOKUP(VALUE($A212),'2013-14 BL USH'!$A$14:$C$500,3,FALSE),\"\")","v":""},"No"]
["4581","REDLAND ELEMENTARY            ",{"$f":"IFERROR(VLOOKUP(VALUE($A213),'2013-14 BL Civics'!$A$14:$C$500,3,FALSE),\"\")","v":""},{"$f":"IFERROR(VLOOKUP(VALUE($A213),'2013-14 BL USH'!$A$14:$C$500,3,FALSE),\"\")","v":""},"No"]
["4611","REDONDO ELEMENTARY            ",{"$f":"IFERROR(VLOOKUP(VALUE($A214),'2013-14 BL Civics'!$A$14:$C$500,3,FALSE),\"\")","v":""},{"$f":"IFERROR(VLOOKUP(VALUE($A214),'2013-14 BL USH'!$A$14:$C$500,3,FALSE),\"\")","v":""},"No"]
["4651","ETHEL F BECKFORD/RICHMOND ELEM",{"$f":"IFERROR(VLOOKUP(VALUE($A215),'2013-14 BL Civics'!$A$14:$C$500,3,FALSE),\"\")","v":""},{"$f":"IFERROR(VLOOKUP(VALUE($A215),'2013-14 BL USH'!$A$14:$C$500,3,FALSE),\"\")","v":""},"No"]
["4681","RIVERSIDE ELEMENTARY          ",{"$f":"IFERROR(VLOOKUP(VALUE($A216),'2013-14 BL Civics'!$A$14:$C$500,3,FALSE),\"\")","v":""},{"$f":"IFERROR(VLOOKUP(VALUE($A216),'2013-14 BL USH'!$A$14:$C$500,3,FALSE),\"\")","v":""},"No"]
["4691","JANE ROBERTS K-8 CENTER       ",{"$f":"IFERROR(VLOOKUP(VALUE($A217),'2013-14 BL Civics'!$A$14:$C$500,3,FALSE),\"\")","v":74},{"$f":"IFERROR(VLOOKUP(VALUE($A217),'2013-14 BL USH'!$A$14:$C$500,3,FALSE),\"\")","v":""},"Yes"]
["4721","ROCKWAY ELEMENTARY            ",{"$f":"IFERROR(VLOOKUP(VALUE($A218),'2013-14 BL Civics'!$A$14:$C$500,3,FALSE),\"\")","v":""},{"$f":"IFERROR(VLOOKUP(VALUE($A218),'2013-14 BL USH'!$A$14:$C$500,3,FALSE),\"\")","v":""},"No"]
["4741","ROYAL GREEN ELEMENTARY        ",{"$f":"IFERROR(VLOOKUP(VALUE($A219),'2013-14 BL Civics'!$A$14:$C$500,3,FALSE),\"\")","v":""},{"$f":"IFERROR(VLOOKUP(VALUE($A219),'2013-14 BL USH'!$A$14:$C$500,3,FALSE),\"\")","v":""},"No"]
["4761","ROYAL PALM ELEMENTARY         ",{"$f":"IFERROR(VLOOKUP(VALUE($A220),'2013-14 BL Civics'!$A$14:$C$500,3,FALSE),\"\")","v":""},{"$f":"IFERROR(VLOOKUP(VALUE($A220),'2013-14 BL USH'!$A$14:$C$500,3,FALSE),\"\")","v":""},"No"]
["4801","GERTRUDE EDELMAN/SABAL PALM EL",{"$f":"IFERROR(VLOOKUP(VALUE($A221),'2013-14 BL Civics'!$A$14:$C$500,3,FALSE),\"\")","v":""},{"$f":"IFERROR(VLOOKUP(VALUE($A221),'2013-14 BL USH'!$A$14:$C$500,3,FALSE),\"\")","v":""},"No"]
["4841","SANTA CLARA ELEMENTARY        ",{"$f":"IFERROR(VLOOKUP(VALUE($A222),'2013-14 BL Civics'!$A$14:$C$500,3,FALSE),\"\")","v":""},{"$f":"IFERROR(VLOOKUP(VALUE($A222),'2013-14 BL USH'!$A$14:$C$500,3,FALSE),\"\")","v":""},"No"]
["4881","SCOTT LAKE ELEMENTARY         ",{"$f":"IFERROR(VLOOKUP(VALUE($A223),'2013-14 BL Civics'!$A$14:$C$500,3,FALSE),\"\")","v":""},{"$f":"IFERROR(VLOOKUP(VALUE($A223),'2013-14 BL USH'!$A$14:$C$500,3,FALSE),\"\")","v":""},"No"]
["4921","SEMINOLE ELEMENTARY           ",{"$f":"IFERROR(VLOOKUP(VALUE($A224),'2013-14 BL Civics'!$A$14:$C$500,3,FALSE),\"\")","v":""},{"$f":"IFERROR(VLOOKUP(VALUE($A224),'2013-14 BL USH'!$A$14:$C$500,3,FALSE),\"\")","v":""},"No"]
["4961","SHADOWLAWN ELEMENTARY         ",{"$f":"IFERROR(VLOOKUP(VALUE($A225),'2013-14 BL Civics'!$A$14:$C$500,3,FALSE),\"\")","v":""},{"$f":"IFERROR(VLOOKUP(VALUE($A225),'2013-14 BL USH'!$A$14:$C$500,3,FALSE),\"\")","v":""},"No"]
["5001","SHENANDOAH ELEMENTARY         ",{"$f":"IFERROR(VLOOKUP(VALUE($A226),'2013-14 BL Civics'!$A$14:$C$500,3,FALSE),\"\")","v":""},{"$f":"IFERROR(VLOOKUP(VALUE($A226),'2013-14 BL USH'!$A$14:$C$500,3,FALSE),\"\")","v":""},"No"]
["5003","SOUTH DADE MIDDLE SCHOOL      ",{"$f":"IFERROR(VLOOKUP(VALUE($A227),'2013-14 BL Civics'!$A$14:$C$500,3,FALSE),\"\")","v":240},{"$f":"IFERROR(VLOOKUP(VALUE($A227),'2013-14 BL USH'!$A$14:$C$500,3,FALSE),\"\")","v":""},"Yes"]
["5005","DAVID LAWRENCE JR K-8 CENTER  ",{"$f":"IFERROR(VLOOKUP(VALUE($A228),'2013-14 BL Civics'!$A$14:$C$500,3,FALSE),\"\")","v":184},{"$f":"IFERROR(VLOOKUP(VALUE($A228),'2013-14 BL USH'!$A$14:$C$500,3,FALSE),\"\")","v":""},"Yes"]
["5006","EVERGLADES PREPARATORY ACADEMY",{"$f":"IFERROR(VLOOKUP(VALUE($A229),'2013-14 BL Civics'!$A$14:$C$500,3,FALSE),\"\")","v":226},{"$f":"IFERROR(VLOOKUP(VALUE($A229),'2013-14 BL USH'!$A$14:$C$500,3,FALSE),\"\")","v":""},"Yes"]
["5007","LINCOLN-MARTI CHARTER HIALEAH ",{"$f":"IFERROR(VLOOKUP(VALUE($A230),'2013-14 BL Civics'!$A$14:$C$500,3,FALSE),\"\")","v":27},{"$f":"IFERROR(VLOOKUP(VALUE($A230),'2013-14 BL USH'!$A$14:$C$500,3,FALSE),\"\")","v":""},"Yes"]
["5008","SOMERSET GABLES ACADEMY       ",{"$f":"IFERROR(VLOOKUP(VALUE($A231),'2013-14 BL Civics'!$A$14:$C$500,3,FALSE),\"\")","v":""},{"$f":"IFERROR(VLOOKUP(VALUE($A231),'2013-14 BL USH'!$A$14:$C$500,3,FALSE),\"\")","v":""},"No"]
["5010","OXFORD ACADEMY OF MIAMI       ",{"$f":"IFERROR(VLOOKUP(VALUE($A232),'2013-14 BL Civics'!$A$14:$C$500,3,FALSE),\"\")","v":19},{"$f":"IFERROR(VLOOKUP(VALUE($A232),'2013-14 BL USH'!$A$14:$C$500,3,FALSE),\"\")","v":""},"Yes"]
["5020","BRIDGEPOINT ACAD INTERAMERICAN",{"$f":"IFERROR(VLOOKUP(VALUE($A233),'2013-14 BL Civics'!$A$14:$C$500,3,FALSE),\"\")","v":16},{"$f":"IFERROR(VLOOKUP(VALUE($A233),'2013-14 BL USH'!$A$14:$C$500,3,FALSE),\"\")","v":""},"Yes"]
["5021","BEN SHEPPARD ELEMENTARY       ",{"$f":"IFERROR(VLOOKUP(VALUE($A234),'2013-14 BL Civics'!$A$14:$C$500,3,FALSE),\"\")","v":""},{"$f":"IFERROR(VLOOKUP(VALUE($A234),'2013-14 BL USH'!$A$14:$C$500,3,FALSE),\"\")","v":""},"No"]
["5022","BEN GAMLA CHARTER SCHL        ",{"$f":"IFERROR(VLOOKUP(VALUE($A235),'2013-14 BL Civics'!$A$14:$C$500,3,FALSE),\"\")","v":21},{"$f":"IFERROR(VLOOKUP(VALUE($A235),'2013-14 BL USH'!$A$14:$C$500,3,FALSE),\"\")","v":14},"Yes"]
["5025","LINCOLN-MARTI CS LITTLE HAVANA",{"$f":"IFERROR(VLOOKUP(VALUE($A236),'2013-14 BL Civics'!$A$14:$C$500,3,FALSE),\"\")","v":51},{"$f":"IFERROR(VLOOKUP(VALUE($A236),'2013-14 BL USH'!$A$14:$C$500,3,FALSE),\"\")","v":""},"Yes"]
["5029","EXCELSIOR LANGUAGE ACADEMY K-8",{"$f":"IFERROR(VLOOKUP(VALUE($A237),'2013-14 BL Civics'!$A$14:$C$500,3,FALSE),\"\")","v":""},{"$f":"IFERROR(VLOOKUP(VALUE($A237),'2013-14 BL USH'!$A$14:$C$500,3,FALSE),\"\")","v":""},"No"]
["5032","EXCELSIOR CHARTER ACADEMY     ",{"$f":"IFERROR(VLOOKUP(VALUE($A238),'2013-14 BL Civics'!$A$14:$C$500,3,FALSE),\"\")","v":14},{"$f":"IFERROR(VLOOKUP(VALUE($A238),'2013-14 BL USH'!$A$14:$C$500,3,FALSE),\"\")","v":""},"Yes"]
["5041","SILVER BLUFF ELEMENTARY       ",{"$f":"IFERROR(VLOOKUP(VALUE($A239),'2013-14 BL Civics'!$A$14:$C$500,3,FALSE),\"\")","v":""},{"$f":"IFERROR(VLOOKUP(VALUE($A239),'2013-14 BL USH'!$A$14:$C$500,3,FALSE),\"\")","v":""},"No"]
["5043","LINCOLN-MARTI CS INT'L CAMPUS ",{"$f":"IFERROR(VLOOKUP(VALUE($A240),'2013-14 BL Civics'!$A$14:$C$500,3,FALSE),\"\")","v":""},{"$f":"IFERROR(VLOOKUP(VALUE($A240),'2013-14 BL USH'!$A$14:$C$500,3,FALSE),\"\")","v":""},"No"]
["5044","ACADEMY FOR INT'L EDUCATION CH",{"$f":"IFERROR(VLOOKUP(VALUE($A241),'2013-14 BL Civics'!$A$14:$C$500,3,FALSE),\"\")","v":46},{"$f":"IFERROR(VLOOKUP(VALUE($A241),'2013-14 BL USH'!$A$14:$C$500,3,FALSE),\"\")","v":""},"Yes"]
["5045","MATER GROVE ACADEMY           ",{"$f":"IFERROR(VLOOKUP(VALUE($A242),'2013-14 BL Civics'!$A$14:$C$500,3,FALSE),\"\")","v":16},{"$f":"IFERROR(VLOOKUP(VALUE($A242),'2013-14 BL USH'!$A$14:$C$500,3,FALSE),\"\")","v":""},"Yes"]
["5046","MATER BRICKELL PREP ACADEMY   ",{"$f":"IFERROR(VLOOKUP(VALUE($A243),'2013-14 BL Civics'!$A$14:$C$500,3,FALSE),\"\")","v":14},{"$f":"IFERROR(VLOOKUP(VALUE($A243),'2013-14 BL USH'!$A$14:$C$500,3,FALSE),\"\")","v":""},"Yes"]
["5047","MATER ACADEMY (MIAMI BEACH)   ",{"$f":"IFERROR(VLOOKUP(VALUE($A244),'2013-14 BL Civics'!$A$14:$C$500,3,FALSE),\"\")","v":39},{"$f":"IFERROR(VLOOKUP(VALUE($A244),'2013-14 BL USH'!$A$14:$C$500,3,FALSE),\"\")","v":""},"Yes"]
["5048","PINECREST ACADEMY (NORTH)     ",{"$f":"IFERROR(VLOOKUP(VALUE($A245),'2013-14 BL Civics'!$A$14:$C$500,3,FALSE),\"\")","v":""},{"$f":"IFERROR(VLOOKUP(VALUE($A245),'2013-14 BL USH'!$A$14:$C$500,3,FALSE),\"\")","v":""},"No"]
["5049","PINECREST COVE ACADEMY        ",{"$f":"IFERROR(VLOOKUP(VALUE($A246),'2013-14 BL Civics'!$A$14:$C$500,3,FALSE),\"\")","v":78},{"$f":"IFERROR(VLOOKUP(VALUE($A246),'2013-14 BL USH'!$A$14:$C$500,3,FALSE),\"\")","v":""},"Yes"]
["5051","ERNEST R GRAHAM K-8 CENTER    ",{"$f":"IFERROR(VLOOKUP(VALUE($A247),'2013-14 BL Civics'!$A$14:$C$500,3,FALSE),\"\")","v":130},{"$f":"IFERROR(VLOOKUP(VALUE($A247),'2013-14 BL USH'!$A$14:$C$500,3,FALSE),\"\")","v":""},"Yes"]
["5054","MATER ACADEMY AT MOUNT SINAI  ",{"$f":"IFERROR(VLOOKUP(VALUE($A248),'2013-14 BL Civics'!$A$14:$C$500,3,FALSE),\"\")","v":""},{"$f":"IFERROR(VLOOKUP(VALUE($A248),'2013-14 BL USH'!$A$14:$C$500,3,FALSE),\"\")","v":""},"No"]
["5061","DR. CARLOS J FINLAY ELEMENTARY",{"$f":"IFERROR(VLOOKUP(VALUE($A249),'2013-14 BL Civics'!$A$14:$C$500,3,FALSE),\"\")","v":""},{"$f":"IFERROR(VLOOKUP(VALUE($A249),'2013-14 BL USH'!$A$14:$C$500,3,FALSE),\"\")","v":""},"No"]
["5081","SKYWAY ELEMENTARY             ",{"$f":"IFERROR(VLOOKUP(VALUE($A250),'2013-14 BL Civics'!$A$14:$C$500,3,FALSE),\"\")","v":""},{"$f":"IFERROR(VLOOKUP(VALUE($A250),'2013-14 BL USH'!$A$14:$C$500,3,FALSE),\"\")","v":""},"No"]
["5091","SOUTH POINTE ELEMENTARY       ",{"$f":"IFERROR(VLOOKUP(VALUE($A251),'2013-14 BL Civics'!$A$14:$C$500,3,FALSE),\"\")","v":""},{"$f":"IFERROR(VLOOKUP(VALUE($A251),'2013-14 BL USH'!$A$14:$C$500,3,FALSE),\"\")","v":""},"No"]
["5101","JOHN I. SMITH K-8 CENTER      ",{"$f":"IFERROR(VLOOKUP(VALUE($A252),'2013-14 BL Civics'!$A$14:$C$500,3,FALSE),\"\")","v":79},{"$f":"IFERROR(VLOOKUP(VALUE($A252),'2013-14 BL USH'!$A$14:$C$500,3,FALSE),\"\")","v":""},"Yes"]
["5121","SNAPPER CREEK ELEMENTARY      ",{"$f":"IFERROR(VLOOKUP(VALUE($A253),'2013-14 BL Civics'!$A$14:$C$500,3,FALSE),\"\")","v":""},{"$f":"IFERROR(VLOOKUP(VALUE($A253),'2013-14 BL USH'!$A$14:$C$500,3,FALSE),\"\")","v":""},"No"]
["5131","N. DADE CTR FOR MODERN LANG   ",{"$f":"IFERROR(VLOOKUP(VALUE($A254),'2013-14 BL Civics'!$A$14:$C$500,3,FALSE),\"\")","v":""},{"$f":"IFERROR(VLOOKUP(VALUE($A254),'2013-14 BL USH'!$A$14:$C$500,3,FALSE),\"\")","v":""},"No"]
["5141","HUBERT O. SIBLEY K-8 CENTER   ",{"$f":"IFERROR(VLOOKUP(VALUE($A255),'2013-14 BL Civics'!$A$14:$C$500,3,FALSE),\"\")","v":89},{"$f":"IFERROR(VLOOKUP(VALUE($A255),'2013-14 BL USH'!$A$14:$C$500,3,FALSE),\"\")","v":""},"Yes"]
["5201","SOUTH HIALEAH ELEMENTARY      ",{"$f":"IFERROR(VLOOKUP(VALUE($A256),'2013-14 BL Civics'!$A$14:$C$500,3,FALSE),\"\")","v":""},{"$f":"IFERROR(VLOOKUP(VALUE($A256),'2013-14 BL USH'!$A$14:$C$500,3,FALSE),\"\")","v":""},"No"]
["5241","SOUTH MIAMI K-8 CENTER        ",{"$f":"IFERROR(VLOOKUP(VALUE($A257),'2013-14 BL Civics'!$A$14:$C$500,3,FALSE),\"\")","v":64},{"$f":"IFERROR(VLOOKUP(VALUE($A257),'2013-14 BL USH'!$A$14:$C$500,3,FALSE),\"\")","v":""},"Yes"]
["5281","SOUTH MIAMI HEIGHTS ELEMENTARY",{"$f":"IFERROR(VLOOKUP(VALUE($A258),'2013-14 BL Civics'!$A$14:$C$500,3,FALSE),\"\")","v":""},{"$f":"IFERROR(VLOOKUP(VALUE($A258),'2013-14 BL USH'!$A$14:$C$500,3,FALSE),\"\")","v":""},"No"]
["5321","SOUTHSIDE ELEMENTARY          ",{"$f":"IFERROR(VLOOKUP(VALUE($A259),'2013-14 BL Civics'!$A$14:$C$500,3,FALSE),\"\")","v":""},{"$f":"IFERROR(VLOOKUP(VALUE($A259),'2013-14 BL USH'!$A$14:$C$500,3,FALSE),\"\")","v":""},{"$f":"IF(AND(C259=\"\",D259=\"\"),\"No\",\"Yes\")","v":"No"}]
["5361","SPRINGVIEW ELEMENTARY         ",{"$f":"IFERROR(VLOOKUP(VALUE($A260),'2013-14 BL Civics'!$A$14:$C$500,3,FALSE),\"\")","v":""},{"$f":"IFERROR(VLOOKUP(VALUE($A260),'2013-14 BL USH'!$A$14:$C$500,3,FALSE),\"\")","v":""},"No"]
["5381","E.W.F. STIRRUP ELEMENTARY     ",{"$f":"IFERROR(VLOOKUP(VALUE($A261),'2013-14 BL Civics'!$A$14:$C$500,3,FALSE),\"\")","v":""},{"$f":"IFERROR(VLOOKUP(VALUE($A261),'2013-14 BL USH'!$A$14:$C$500,3,FALSE),\"\")","v":""},"No"]
["5401","SUNSET ELEMENTARY             ",{"$f":"IFERROR(VLOOKUP(VALUE($A262),'2013-14 BL Civics'!$A$14:$C$500,3,FALSE),\"\")","v":""},{"$f":"IFERROR(VLOOKUP(VALUE($A262),'2013-14 BL USH'!$A$14:$C$500,3,FALSE),\"\")","v":""},"No"]
["5410","ALPHA CHARTER OF EXCELLENCE   ",{"$f":"IFERROR(VLOOKUP(VALUE($A263),'2013-14 BL Civics'!$A$14:$C$500,3,FALSE),\"\")","v":""},{"$f":"IFERROR(VLOOKUP(VALUE($A263),'2013-14 BL USH'!$A$14:$C$500,3,FALSE),\"\")","v":""},"No"]
["5421","SUNSET PARK ELEMENTARY        ",{"$f":"IFERROR(VLOOKUP(VALUE($A264),'2013-14 BL Civics'!$A$14:$C$500,3,FALSE),\"\")","v":""},{"$f":"IFERROR(VLOOKUP(VALUE($A264),'2013-14 BL USH'!$A$14:$C$500,3,FALSE),\"\")","v":""},"No"]
["5431","SWEETWATER ELEMENTARY         ",{"$f":"IFERROR(VLOOKUP(VALUE($A265),'2013-14 BL Civics'!$A$14:$C$500,3,FALSE),\"\")","v":""},{"$f":"IFERROR(VLOOKUP(VALUE($A265),'2013-14 BL USH'!$A$14:$C$500,3,FALSE),\"\")","v":""},"No"]
["5441","SYLVANIA HEIGHTS ELEMENTARY   ",{"$f":"IFERROR(VLOOKUP(VALUE($A266),'2013-14 BL Civics'!$A$14:$C$500,3,FALSE),\"\")","v":""},{"$f":"IFERROR(VLOOKUP(VALUE($A266),'2013-14 BL USH'!$A$14:$C$500,3,FALSE),\"\")","v":""},"No"]
["5481","TREASURE ISLAND ELEMENTARY    ",{"$f":"IFERROR(VLOOKUP(VALUE($A267),'2013-14 BL Civics'!$A$14:$C$500,3,FALSE),\"\")","v":""},{"$f":"IFERROR(VLOOKUP(VALUE($A267),'2013-14 BL USH'!$A$14:$C$500,3,FALSE),\"\")","v":""},"No"]
["5521","TROPICAL ELEMENTARY           ",{"$f":"IFERROR(VLOOKUP(VALUE($A268),'2013-14 BL Civics'!$A$14:$C$500,3,FALSE),\"\")","v":""},{"$f":"IFERROR(VLOOKUP(VALUE($A268),'2013-14 BL USH'!$A$14:$C$500,3,FALSE),\"\")","v":""},"No"]
["5561","FRANCES S. TUCKER ELEMENTARY  ",{"$f":"IFERROR(VLOOKUP(VALUE($A269),'2013-14 BL Civics'!$A$14:$C$500,3,FALSE),\"\")","v":""},{"$f":"IFERROR(VLOOKUP(VALUE($A269),'2013-14 BL USH'!$A$14:$C$500,3,FALSE),\"\")","v":""},"No"]
["5601","TWIN LAKES ELEMENTARY         ",{"$f":"IFERROR(VLOOKUP(VALUE($A270),'2013-14 BL Civics'!$A$14:$C$500,3,FALSE),\"\")","v":""},{"$f":"IFERROR(VLOOKUP(VALUE($A270),'2013-14 BL USH'!$A$14:$C$500,3,FALSE),\"\")","v":""},"No"]
["5641","VILLAGE GREEN ELEMENTARY      ",{"$f":"IFERROR(VLOOKUP(VALUE($A271),'2013-14 BL Civics'!$A$14:$C$500,3,FALSE),\"\")","v":""},{"$f":"IFERROR(VLOOKUP(VALUE($A271),'2013-14 BL USH'!$A$14:$C$500,3,FALSE),\"\")","v":""},"No"]
["5671","VINELAND K-8 CENTER           ",{"$f":"IFERROR(VLOOKUP(VALUE($A272),'2013-14 BL Civics'!$A$14:$C$500,3,FALSE),\"\")","v":80},{"$f":"IFERROR(VLOOKUP(VALUE($A272),'2013-14 BL USH'!$A$14:$C$500,3,FALSE),\"\")","v":""},"Yes"]
["5711","MAE WALTERS ELEMENTARY        ",{"$f":"IFERROR(VLOOKUP(VALUE($A273),'2013-14 BL Civics'!$A$14:$C$500,3,FALSE),\"\")","v":""},{"$f":"IFERROR(VLOOKUP(VALUE($A273),'2013-14 BL USH'!$A$14:$C$500,3,FALSE),\"\")","v":""},"No"]
["5791","WEST HOMESTEAD ELEMENTARY     ",{"$f":"IFERROR(VLOOKUP(VALUE($A274),'2013-14 BL Civics'!$A$14:$C$500,3,FALSE),\"\")","v":""},{"$f":"IFERROR(VLOOKUP(VALUE($A274),'2013-14 BL USH'!$A$14:$C$500,3,FALSE),\"\")","v":""},"No"]
["5831","HENRY S. WEST LABORATORY SCHL ",{"$f":"IFERROR(VLOOKUP(VALUE($A275),'2013-14 BL Civics'!$A$14:$C$500,3,FALSE),\"\")","v":""},{"$f":"IFERROR(VLOOKUP(VALUE($A275),'2013-14 BL USH'!$A$14:$C$500,3,FALSE),\"\")","v":""},"No"]
["5861","DR H W MACK/W LITTLE RIVER K8 ",{"$f":"IFERROR(VLOOKUP(VALUE($A276),'2013-14 BL Civics'!$A$14:$C$500,3,FALSE),\"\")","v":40},{"$f":"IFERROR(VLOOKUP(VALUE($A276),'2013-14 BL USH'!$A$14:$C$500,3,FALSE),\"\")","v":""},"Yes"]
["5901","CARRIE P MEEK/WESTVIEW K-8 CTR",{"$f":"IFERROR(VLOOKUP(VALUE($A277),'2013-14 BL Civics'!$A$14:$C$500,3,FALSE),\"\")","v":71},{"$f":"IFERROR(VLOOKUP(VALUE($A277),'2013-14 BL USH'!$A$14:$C$500,3,FALSE),\"\")","v":""},"Yes"]
["5931","PHILLIS WHEATLEY ELEMENTARY   ",{"$f":"IFERROR(VLOOKUP(VALUE($A278),'2013-14 BL Civics'!$A$14:$C$500,3,FALSE),\"\")","v":""},{"$f":"IFERROR(VLOOKUP(VALUE($A278),'2013-14 BL USH'!$A$14:$C$500,3,FALSE),\"\")","v":""},"No"]
["5951","WHISPERING PINES ELEMENTARY   ",{"$f":"IFERROR(VLOOKUP(VALUE($A279),'2013-14 BL Civics'!$A$14:$C$500,3,FALSE),\"\")","v":""},{"$f":"IFERROR(VLOOKUP(VALUE($A279),'2013-14 BL USH'!$A$14:$C$500,3,FALSE),\"\")","v":""},"No"]
["5961","WINSTON PARK K-8 CENTER       ",{"$f":"IFERROR(VLOOKUP(VALUE($A280),'2013-14 BL Civics'!$A$14:$C$500,3,FALSE),\"\")","v":146},{"$f":"IFERROR(VLOOKUP(VALUE($A280),'2013-14 BL USH'!$A$14:$C$500,3,FALSE),\"\")","v":""},"Yes"]
["5971","NATHAN YOUNG ELEMENTARY       ",{"$f":"IFERROR(VLOOKUP(VALUE($A281),'2013-14 BL Civics'!$A$14:$C$500,3,FALSE),\"\")","v":""},{"$f":"IFERROR(VLOOKUP(VALUE($A281),'2013-14 BL USH'!$A$14:$C$500,3,FALSE),\"\")","v":""},"No"]
["5981","DR. EDWARD L. WHIGHAM         ",{"$f":"IFERROR(VLOOKUP(VALUE($A282),'2013-14 BL Civics'!$A$14:$C$500,3,FALSE),\"\")","v":""},{"$f":"IFERROR(VLOOKUP(VALUE($A282),'2013-14 BL USH'!$A$14:$C$500,3,FALSE),\"\")","v":""},"No"]
["5991","CHARLES DAVID WYCHE JR ELEM   ",{"$f":"IFERROR(VLOOKUP(VALUE($A283),'2013-14 BL Civics'!$A$14:$C$500,3,FALSE),\"\")","v":""},{"$f":"IFERROR(VLOOKUP(VALUE($A283),'2013-14 BL USH'!$A$14:$C$500,3,FALSE),\"\")","v":""},"No"]
["6001","HERBERT A. AMMONS MIDDLE      ",{"$f":"IFERROR(VLOOKUP(VALUE($A284),'2013-14 BL Civics'!$A$14:$C$500,3,FALSE),\"\")","v":401},{"$f":"IFERROR(VLOOKUP(VALUE($A284),'2013-14 BL USH'!$A$14:$C$500,3,FALSE),\"\")","v":""},"Yes"]
["6003","PINECREST ACADEMY MIDDLE NORTH",{"$f":"IFERROR(VLOOKUP(VALUE($A285),'2013-14 BL Civics'!$A$14:$C$500,3,FALSE),\"\")","v":""},{"$f":"IFERROR(VLOOKUP(VALUE($A285),'2013-14 BL USH'!$A$14:$C$500,3,FALSE),\"\")","v":""},"No"]
["6004","SOMERSET ACADEMY MIDDLE       ",{"$f":"IFERROR(VLOOKUP(VALUE($A286),'2013-14 BL Civics'!$A$14:$C$500,3,FALSE),\"\")","v":71},{"$f":"IFERROR(VLOOKUP(VALUE($A286),'2013-14 BL USH'!$A$14:$C$500,3,FALSE),\"\")","v":""},"Yes"]
["6005","RAMZ ACAD MIDDLE MIAMI CAMPUS ",{"$f":"IFERROR(VLOOKUP(VALUE($A287),'2013-14 BL Civics'!$A$14:$C$500,3,FALSE),\"\")","v":45},{"$f":"IFERROR(VLOOKUP(VALUE($A287),'2013-14 BL USH'!$A$14:$C$500,3,FALSE),\"\")","v":""},"Yes"]
["6006","ARCHIMEDEAN CONSERVATORY      ",{"$f":"IFERROR(VLOOKUP(VALUE($A288),'2013-14 BL Civics'!$A$14:$C$500,3,FALSE),\"\")","v":109},{"$f":"IFERROR(VLOOKUP(VALUE($A288),'2013-14 BL USH'!$A$14:$C$500,3,FALSE),\"\")","v":""},"Yes"]
["6008","LAWRENCE ACADEMY MIDDLE       ",{"$f":"IFERROR(VLOOKUP(VALUE($A289),'2013-14 BL Civics'!$A$14:$C$500,3,FALSE),\"\")","v":25},{"$f":"IFERROR(VLOOKUP(VALUE($A289),'2013-14 BL USH'!$A$14:$C$500,3,FALSE),\"\")","v":""},"Yes"]
["6009","MATER ACADEMY EAST MIDDLE     ",{"$f":"IFERROR(VLOOKUP(VALUE($A290),'2013-14 BL Civics'!$A$14:$C$500,3,FALSE),\"\")","v":109},{"$f":"IFERROR(VLOOKUP(VALUE($A290),'2013-14 BL USH'!$A$14:$C$500,3,FALSE),\"\")","v":""},"Yes"]
["6010","FLORIDA INTERNATIONAL ACADEMY ",{"$f":"IFERROR(VLOOKUP(VALUE($A291),'2013-14 BL Civics'!$A$14:$C$500,3,FALSE),\"\")","v":66},{"$f":"IFERROR(VLOOKUP(VALUE($A291),'2013-14 BL USH'!$A$14:$C$500,3,FALSE),\"\")","v":""},"Yes"]
["6011","ALLAPATTAH MIDDLE             ",{"$f":"IFERROR(VLOOKUP(VALUE($A292),'2013-14 BL Civics'!$A$14:$C$500,3,FALSE),\"\")","v":150},{"$f":"IFERROR(VLOOKUP(VALUE($A292),'2013-14 BL USH'!$A$14:$C$500,3,FALSE),\"\")","v":""},"Yes"]
["6012","MATER ACADEMY CHARTER MIDDLE  ",{"$f":"IFERROR(VLOOKUP(VALUE($A293),'2013-14 BL Civics'!$A$14:$C$500,3,FALSE),\"\")","v":441},{"$f":"IFERROR(VLOOKUP(VALUE($A293),'2013-14 BL USH'!$A$14:$C$500,3,FALSE),\"\")","v":""},"Yes"]
["6013","SOMERSET ACADEMY MIDDLE-SOUTH ",{"$f":"IFERROR(VLOOKUP(VALUE($A294),'2013-14 BL Civics'!$A$14:$C$500,3,FALSE),\"\")","v":67},{"$f":"IFERROR(VLOOKUP(VALUE($A294),'2013-14 BL USH'!$A$14:$C$500,3,FALSE),\"\")","v":""},"Yes"]
["6020","ASPIRA RAUL A. MARTINEZ CHTR  ",{"$f":"IFERROR(VLOOKUP(VALUE($A295),'2013-14 BL Civics'!$A$14:$C$500,3,FALSE),\"\")","v":227},{"$f":"IFERROR(VLOOKUP(VALUE($A295),'2013-14 BL USH'!$A$14:$C$500,3,FALSE),\"\")","v":""},"Yes"]
["6021","ARVIDA MIDDLE SCHOOL          ",{"$f":"IFERROR(VLOOKUP(VALUE($A296),'2013-14 BL Civics'!$A$14:$C$500,3,FALSE),\"\")","v":429},{"$f":"IFERROR(VLOOKUP(VALUE($A296),'2013-14 BL USH'!$A$14:$C$500,3,FALSE),\"\")","v":""},"Yes"]
["6022","PINECREST ACADEMY CHARTER MIDD",{"$f":"IFERROR(VLOOKUP(VALUE($A297),'2013-14 BL Civics'!$A$14:$C$500,3,FALSE),\"\")","v":199},{"$f":"IFERROR(VLOOKUP(VALUE($A297),'2013-14 BL USH'!$A$14:$C$500,3,FALSE),\"\")","v":""},"Yes"]
["6023","ANDOVER MIDDLE SCHOOL         ",{"$f":"IFERROR(VLOOKUP(VALUE($A298),'2013-14 BL Civics'!$A$14:$C$500,3,FALSE),\"\")","v":288},{"$f":"IFERROR(VLOOKUP(VALUE($A298),'2013-14 BL USH'!$A$14:$C$500,3,FALSE),\"\")","v":""},"Yes"]
["6028","RENAISSANCE MIDDLE CHARTER    ",{"$f":"IFERROR(VLOOKUP(VALUE($A299),'2013-14 BL Civics'!$A$14:$C$500,3,FALSE),\"\")","v":""},{"$f":"IFERROR(VLOOKUP(VALUE($A299),'2013-14 BL USH'!$A$14:$C$500,3,FALSE),\"\")","v":""},"No"]
["6030","DORAL ACADEMY CHARTER MIDDLE  ",{"$f":"IFERROR(VLOOKUP(VALUE($A300),'2013-14 BL Civics'!$A$14:$C$500,3,FALSE),\"\")","v":460},{"$f":"IFERROR(VLOOKUP(VALUE($A300),'2013-14 BL USH'!$A$14:$C$500,3,FALSE),\"\")","v":""},"Yes"]
["6031","BROWNSVILLE MIDDLE            ",{"$f":"IFERROR(VLOOKUP(VALUE($A301),'2013-14 BL Civics'!$A$14:$C$500,3,FALSE),\"\")","v":264},{"$f":"IFERROR(VLOOKUP(VALUE($A301),'2013-14 BL USH'!$A$14:$C$500,3,FALSE),\"\")","v":""},"Yes"]
["6033","MATER ACADEMY LAKES MIDDLE    ",{"$f":"IFERROR(VLOOKUP(VALUE($A302),'2013-14 BL Civics'!$A$14:$C$500,3,FALSE),\"\")","v":239},{"$f":"IFERROR(VLOOKUP(VALUE($A302),'2013-14 BL USH'!$A$14:$C$500,3,FALSE),\"\")","v":""},"Yes"]
["6040","DOCTORS CHARTER/MIAMI SHORES  ",{"$f":"IFERROR(VLOOKUP(VALUE($A303),'2013-14 BL Civics'!$A$14:$C$500,3,FALSE),\"\")","v":88},{"$f":"IFERROR(VLOOKUP(VALUE($A303),'2013-14 BL USH'!$A$14:$C$500,3,FALSE),\"\")","v":50},"Yes"]
["6041","PAUL W. BELL MIDDLE           ",{"$f":"IFERROR(VLOOKUP(VALUE($A304),'2013-14 BL Civics'!$A$14:$C$500,3,FALSE),\"\")","v":150},{"$f":"IFERROR(VLOOKUP(VALUE($A304),'2013-14 BL USH'!$A$14:$C$500,3,FALSE),\"\")","v":""},"Yes"]
["6042","MATER GARDENS ACADEMY MIDDLE  ",{"$f":"IFERROR(VLOOKUP(VALUE($A305),'2013-14 BL Civics'!$A$14:$C$500,3,FALSE),\"\")","v":79},{"$f":"IFERROR(VLOOKUP(VALUE($A305),'2013-14 BL USH'!$A$14:$C$500,3,FALSE),\"\")","v":""},"Yes"]
["6043","SOMERSET ACAD MIDDLE (C-PALMS)",{"$f":"IFERROR(VLOOKUP(VALUE($A306),'2013-14 BL Civics'!$A$14:$C$500,3,FALSE),\"\")","v":""},{"$f":"IFERROR(VLOOKUP(VALUE($A306),'2013-14 BL USH'!$A$14:$C$500,3,FALSE),\"\")","v":""},"No"]
["6045","INTL. STUDIES CHARTER MIDDLE  ",{"$f":"IFERROR(VLOOKUP(VALUE($A307),'2013-14 BL Civics'!$A$14:$C$500,3,FALSE),\"\")","v":90},{"$f":"IFERROR(VLOOKUP(VALUE($A307),'2013-14 BL USH'!$A$14:$C$500,3,FALSE),\"\")","v":""},"Yes"]
["6047","MATER ACADEMY MIDDLE-INTL STUD",{"$f":"IFERROR(VLOOKUP(VALUE($A308),'2013-14 BL Civics'!$A$14:$C$500,3,FALSE),\"\")","v":42},{"$f":"IFERROR(VLOOKUP(VALUE($A308),'2013-14 BL USH'!$A$14:$C$500,3,FALSE),\"\")","v":""},"Yes"]
["6048","MIAMI COMMUNITY CHARTER MIDDLE",{"$f":"IFERROR(VLOOKUP(VALUE($A309),'2013-14 BL Civics'!$A$14:$C$500,3,FALSE),\"\")","v":107},{"$f":"IFERROR(VLOOKUP(VALUE($A309),'2013-14 BL USH'!$A$14:$C$500,3,FALSE),\"\")","v":""},"Yes"]
["6049","RIVER CITIES COMMUNITY CHARTER",{"$f":"IFERROR(VLOOKUP(VALUE($A310),'2013-14 BL Civics'!$A$14:$C$500,3,FALSE),\"\")","v":40},{"$f":"IFERROR(VLOOKUP(VALUE($A310),'2013-14 BL USH'!$A$14:$C$500,3,FALSE),\"\")","v":""},"Yes"]
["6051","CAROL CITY MIDDLE             ",{"$f":"IFERROR(VLOOKUP(VALUE($A311),'2013-14 BL Civics'!$A$14:$C$500,3,FALSE),\"\")","v":142},{"$f":"IFERROR(VLOOKUP(VALUE($A311),'2013-14 BL USH'!$A$14:$C$500,3,FALSE),\"\")","v":""},"Yes"]
["6052","ZELDA GLAZER MIDDLE SCHOOL    ",{"$f":"IFERROR(VLOOKUP(VALUE($A312),'2013-14 BL Civics'!$A$14:$C$500,3,FALSE),\"\")","v":348},{"$f":"IFERROR(VLOOKUP(VALUE($A312),'2013-14 BL USH'!$A$14:$C$500,3,FALSE),\"\")","v":""},"Yes"]
["6053","SOMERSET ACAD MIDDLE (S-MIAMI)",{"$f":"IFERROR(VLOOKUP(VALUE($A313),'2013-14 BL Civics'!$A$14:$C$500,3,FALSE),\"\")","v":34},{"$f":"IFERROR(VLOOKUP(VALUE($A313),'2013-14 BL USH'!$A$14:$C$500,3,FALSE),\"\")","v":""},"Yes"]
["6060","ASPIRA SOUTH YOUTH LEADERSHIP ",{"$f":"IFERROR(VLOOKUP(VALUE($A314),'2013-14 BL Civics'!$A$14:$C$500,3,FALSE),\"\")","v":118},{"$f":"IFERROR(VLOOKUP(VALUE($A314),'2013-14 BL USH'!$A$14:$C$500,3,FALSE),\"\")","v":""},"Yes"]
["6061","CAMPBELL DRIVE MIDDLE         ",{"$f":"IFERROR(VLOOKUP(VALUE($A315),'2013-14 BL Civics'!$A$14:$C$500,3,FALSE),\"\")","v":143},{"$f":"IFERROR(VLOOKUP(VALUE($A315),'2013-14 BL USH'!$A$14:$C$500,3,FALSE),\"\")","v":""},"Yes"]
["6070","ASPIRA EUGENIO MARIA DE HOSTOS",{"$f":"IFERROR(VLOOKUP(VALUE($A316),'2013-14 BL Civics'!$A$14:$C$500,3,FALSE),\"\")","v":161},{"$f":"IFERROR(VLOOKUP(VALUE($A316),'2013-14 BL USH'!$A$14:$C$500,3,FALSE),\"\")","v":""},"Yes"]
["6071","GEORGE WASHINGTON CARVER      ",{"$f":"IFERROR(VLOOKUP(VALUE($A317),'2013-14 BL Civics'!$A$14:$C$500,3,FALSE),\"\")","v":345},{"$f":"IFERROR(VLOOKUP(VALUE($A317),'2013-14 BL USH'!$A$14:$C$500,3,FALSE),\"\")","v":""},"Yes"]
["6081","CENTENNIAL MIDDLE             ",{"$f":"IFERROR(VLOOKUP(VALUE($A318),'2013-14 BL Civics'!$A$14:$C$500,3,FALSE),\"\")","v":""},{"$f":"IFERROR(VLOOKUP(VALUE($A318),'2013-14 BL USH'!$A$14:$C$500,3,FALSE),\"\")","v":""},"No"]
["6082","ACADEMIR CHARTER SCHOOL MIDDLE",{"$f":"IFERROR(VLOOKUP(VALUE($A319),'2013-14 BL Civics'!$A$14:$C$500,3,FALSE),\"\")","v":7},{"$f":"IFERROR(VLOOKUP(VALUE($A319),'2013-14 BL USH'!$A$14:$C$500,3,FALSE),\"\")","v":""},"Yes"]
["6083","JUST ARTS AND MANAGEMENT CMS  ",{"$f":"IFERROR(VLOOKUP(VALUE($A320),'2013-14 BL Civics'!$A$14:$C$500,3,FALSE),\"\")","v":""},{"$f":"IFERROR(VLOOKUP(VALUE($A320),'2013-14 BL USH'!$A$14:$C$500,3,FALSE),\"\")","v":""},"No"]
["6091","CITRUS GROVE MIDDLE SCHOOL    ",{"$f":"IFERROR(VLOOKUP(VALUE($A321),'2013-14 BL Civics'!$A$14:$C$500,3,FALSE),\"\")","v":263},{"$f":"IFERROR(VLOOKUP(VALUE($A321),'2013-14 BL USH'!$A$14:$C$500,3,FALSE),\"\")","v":""},"Yes"]
["6111","CUTLER RIDGE MIDDLE           ",{"$f":"IFERROR(VLOOKUP(VALUE($A322),'2013-14 BL Civics'!$A$14:$C$500,3,FALSE),\"\")","v":402},{"$f":"IFERROR(VLOOKUP(VALUE($A322),'2013-14 BL USH'!$A$14:$C$500,3,FALSE),\"\")","v":""},"Yes"]
["6121","RUBEN DARIO MIDDLE            ",{"$f":"IFERROR(VLOOKUP(VALUE($A323),'2013-14 BL Civics'!$A$14:$C$500,3,FALSE),\"\")","v":200},{"$f":"IFERROR(VLOOKUP(VALUE($A323),'2013-14 BL USH'!$A$14:$C$500,3,FALSE),\"\")","v":""},{"$f":"IF(AND(C323=\"\",D323=\"\"),\"No\",\"Yes\")","v":"Yes"}]
["6141","CHARLES R. DREW MIDDLE        ",{"$f":"IFERROR(VLOOKUP(VALUE($A324),'2013-14 BL Civics'!$A$14:$C$500,3,FALSE),\"\")","v":""},{"$f":"IFERROR(VLOOKUP(VALUE($A324),'2013-14 BL USH'!$A$14:$C$500,3,FALSE),\"\")","v":""},"No"]
["6151","DORAL MIDDLE SCHOOL           ",{"$f":"IFERROR(VLOOKUP(VALUE($A325),'2013-14 BL Civics'!$A$14:$C$500,3,FALSE),\"\")","v":""},{"$f":"IFERROR(VLOOKUP(VALUE($A325),'2013-14 BL USH'!$A$14:$C$500,3,FALSE),\"\")","v":""},"No"]
["6161","LAWTON CHILES MIDDLE SCHOOL   ",{"$f":"IFERROR(VLOOKUP(VALUE($A326),'2013-14 BL Civics'!$A$14:$C$500,3,FALSE),\"\")","v":161},{"$f":"IFERROR(VLOOKUP(VALUE($A326),'2013-14 BL USH'!$A$14:$C$500,3,FALSE),\"\")","v":""},"Yes"]
["6171","HENRY H. FILER MIDDLE         ",{"$f":"IFERROR(VLOOKUP(VALUE($A327),'2013-14 BL Civics'!$A$14:$C$500,3,FALSE),\"\")","v":320},{"$f":"IFERROR(VLOOKUP(VALUE($A327),'2013-14 BL USH'!$A$14:$C$500,3,FALSE),\"\")","v":""},"Yes"]
["6211","GLADES MIDDLE                 ",{"$f":"IFERROR(VLOOKUP(VALUE($A328),'2013-14 BL Civics'!$A$14:$C$500,3,FALSE),\"\")","v":407},{"$f":"IFERROR(VLOOKUP(VALUE($A328),'2013-14 BL USH'!$A$14:$C$500,3,FALSE),\"\")","v":""},"Yes"]
["6221","HAMMOCKS MIDDLE               ",{"$f":"IFERROR(VLOOKUP(VALUE($A329),'2013-14 BL Civics'!$A$14:$C$500,3,FALSE),\"\")","v":366},{"$f":"IFERROR(VLOOKUP(VALUE($A329),'2013-14 BL USH'!$A$14:$C$500,3,FALSE),\"\")","v":""},"Yes"]
["6231","HIALEAH MIDDLE                ",{"$f":"IFERROR(VLOOKUP(VALUE($A330),'2013-14 BL Civics'!$A$14:$C$500,3,FALSE),\"\")","v":249},{"$f":"IFERROR(VLOOKUP(VALUE($A330),'2013-14 BL USH'!$A$14:$C$500,3,FALSE),\"\")","v":""},"Yes"]
["6241","HIGHLAND OAKS MIDDLE          ",{"$f":"IFERROR(VLOOKUP(VALUE($A331),'2013-14 BL Civics'!$A$14:$C$500,3,FALSE),\"\")","v":436},{"$f":"IFERROR(VLOOKUP(VALUE($A331),'2013-14 BL USH'!$A$14:$C$500,3,FALSE),\"\")","v":""},"Yes"]
["6251","HOMESTEAD MIDDLE              ",{"$f":"IFERROR(VLOOKUP(VALUE($A332),'2013-14 BL Civics'!$A$14:$C$500,3,FALSE),\"\")","v":172},{"$f":"IFERROR(VLOOKUP(VALUE($A332),'2013-14 BL USH'!$A$14:$C$500,3,FALSE),\"\")","v":""},"Yes"]
["6281","THOMAS JEFFERSON MIDDLE       ",{"$f":"IFERROR(VLOOKUP(VALUE($A333),'2013-14 BL Civics'!$A$14:$C$500,3,FALSE),\"\")","v":127},{"$f":"IFERROR(VLOOKUP(VALUE($A333),'2013-14 BL USH'!$A$14:$C$500,3,FALSE),\"\")","v":""},"Yes"]
["6301","JOHN F. KENNEDY MIDDLE        ",{"$f":"IFERROR(VLOOKUP(VALUE($A334),'2013-14 BL Civics'!$A$14:$C$500,3,FALSE),\"\")","v":387},{"$f":"IFERROR(VLOOKUP(VALUE($A334),'2013-14 BL USH'!$A$14:$C$500,3,FALSE),\"\")","v":""},"Yes"]
["6331","KINLOCH PARK MIDDLE           ",{"$f":"IFERROR(VLOOKUP(VALUE($A335),'2013-14 BL Civics'!$A$14:$C$500,3,FALSE),\"\")","v":364},{"$f":"IFERROR(VLOOKUP(VALUE($A335),'2013-14 BL USH'!$A$14:$C$500,3,FALSE),\"\")","v":""},"Yes"]
["6351","LAKE STEVENS MIDDLE           ",{"$f":"IFERROR(VLOOKUP(VALUE($A336),'2013-14 BL Civics'!$A$14:$C$500,3,FALSE),\"\")","v":200},{"$f":"IFERROR(VLOOKUP(VALUE($A336),'2013-14 BL USH'!$A$14:$C$500,3,FALSE),\"\")","v":""},"Yes"]
["6361","JOSE DE DIEGO MIDDLE SCHOOL   ",{"$f":"IFERROR(VLOOKUP(VALUE($A337),'2013-14 BL Civics'!$A$14:$C$500,3,FALSE),\"\")","v":198},{"$f":"IFERROR(VLOOKUP(VALUE($A337),'2013-14 BL USH'!$A$14:$C$500,3,FALSE),\"\")","v":""},"Yes"]
["6391","MADISON MIDDLE SCHOOL         ",{"$f":"IFERROR(VLOOKUP(VALUE($A338),'2013-14 BL Civics'!$A$14:$C$500,3,FALSE),\"\")","v":146},{"$f":"IFERROR(VLOOKUP(VALUE($A338),'2013-14 BL USH'!$A$14:$C$500,3,FALSE),\"\")","v":""},"Yes"]
["6411","HORACE MANN MIDDLE            ",{"$f":"IFERROR(VLOOKUP(VALUE($A339),'2013-14 BL Civics'!$A$14:$C$500,3,FALSE),\"\")","v":234},{"$f":"IFERROR(VLOOKUP(VALUE($A339),'2013-14 BL USH'!$A$14:$C$500,3,FALSE),\"\")","v":""},"Yes"]
["6421","JOSE MARTI MIDDLE             ",{"$f":"IFERROR(VLOOKUP(VALUE($A340),'2013-14 BL Civics'!$A$14:$C$500,3,FALSE),\"\")","v":""},{"$f":"IFERROR(VLOOKUP(VALUE($A340),'2013-14 BL USH'!$A$14:$C$500,3,FALSE),\"\")","v":""},"No"]
["6431","MAYS MIDDLE                   ",{"$f":"IFERROR(VLOOKUP(VALUE($A341),'2013-14 BL Civics'!$A$14:$C$500,3,FALSE),\"\")","v":""},{"$f":"IFERROR(VLOOKUP(VALUE($A341),'2013-14 BL USH'!$A$14:$C$500,3,FALSE),\"\")","v":""},"No"]
["6441","HOWARD D. MCMILLAN MIDDLE     ",{"$f":"IFERROR(VLOOKUP(VALUE($A342),'2013-14 BL Civics'!$A$14:$C$500,3,FALSE),\"\")","v":281},{"$f":"IFERROR(VLOOKUP(VALUE($A342),'2013-14 BL USH'!$A$14:$C$500,3,FALSE),\"\")","v":""},"Yes"]
["6481","MIAMI EDISON MIDDLE           ",{"$f":"IFERROR(VLOOKUP(VALUE($A343),'2013-14 BL Civics'!$A$14:$C$500,3,FALSE),\"\")","v":""},{"$f":"IFERROR(VLOOKUP(VALUE($A343),'2013-14 BL USH'!$A$14:$C$500,3,FALSE),\"\")","v":""},"No"]
["6501","MIAMI LAKES MIDDLE            ",{"$f":"IFERROR(VLOOKUP(VALUE($A344),'2013-14 BL Civics'!$A$14:$C$500,3,FALSE),\"\")","v":262},{"$f":"IFERROR(VLOOKUP(VALUE($A344),'2013-14 BL USH'!$A$14:$C$500,3,FALSE),\"\")","v":121},"Yes"]
["6521","MIAMI SPRINGS MIDDLE          ",{"$f":"IFERROR(VLOOKUP(VALUE($A345),'2013-14 BL Civics'!$A$14:$C$500,3,FALSE),\"\")","v":456},{"$f":"IFERROR(VLOOKUP(VALUE($A345),'2013-14 BL USH'!$A$14:$C$500,3,FALSE),\"\")","v":""},"Yes"]
["6541","NAUTILUS MIDDLE               ",{"$f":"IFERROR(VLOOKUP(VALUE($A346),'2013-14 BL Civics'!$A$14:$C$500,3,FALSE),\"\")","v":344},{"$f":"IFERROR(VLOOKUP(VALUE($A346),'2013-14 BL USH'!$A$14:$C$500,3,FALSE),\"\")","v":""},"Yes"]
["6571","NORLAND MIDDLE                ",{"$f":"IFERROR(VLOOKUP(VALUE($A347),'2013-14 BL Civics'!$A$14:$C$500,3,FALSE),\"\")","v":283},{"$f":"IFERROR(VLOOKUP(VALUE($A347),'2013-14 BL USH'!$A$14:$C$500,3,FALSE),\"\")","v":""},"Yes"]
["6591","NORTH DADE MIDDLE             ",{"$f":"IFERROR(VLOOKUP(VALUE($A348),'2013-14 BL Civics'!$A$14:$C$500,3,FALSE),\"\")","v":263},{"$f":"IFERROR(VLOOKUP(VALUE($A348),'2013-14 BL USH'!$A$14:$C$500,3,FALSE),\"\")","v":""},"Yes"]
["6611","COUNTRY CLUB MIDDLE SCHOOL    ",{"$f":"IFERROR(VLOOKUP(VALUE($A349),'2013-14 BL Civics'!$A$14:$C$500,3,FALSE),\"\")","v":371},{"$f":"IFERROR(VLOOKUP(VALUE($A349),'2013-14 BL USH'!$A$14:$C$500,3,FALSE),\"\")","v":""},"Yes"]
["6631","NORTH MIAMI MIDDLE            ",{"$f":"IFERROR(VLOOKUP(VALUE($A350),'2013-14 BL Civics'!$A$14:$C$500,3,FALSE),\"\")","v":327},{"$f":"IFERROR(VLOOKUP(VALUE($A350),'2013-14 BL USH'!$A$14:$C$500,3,FALSE),\"\")","v":""},"Yes"]
["6681","PALM SPRINGS MIDDLE           ",{"$f":"IFERROR(VLOOKUP(VALUE($A351),'2013-14 BL Civics'!$A$14:$C$500,3,FALSE),\"\")","v":386},{"$f":"IFERROR(VLOOKUP(VALUE($A351),'2013-14 BL USH'!$A$14:$C$500,3,FALSE),\"\")","v":""},"Yes"]
["6701","PALMETTO MIDDLE               ",{"$f":"IFERROR(VLOOKUP(VALUE($A352),'2013-14 BL Civics'!$A$14:$C$500,3,FALSE),\"\")","v":336},{"$f":"IFERROR(VLOOKUP(VALUE($A352),'2013-14 BL USH'!$A$14:$C$500,3,FALSE),\"\")","v":""},"Yes"]
["6721","PARKWAY MIDDLE                ",{"$f":"IFERROR(VLOOKUP(VALUE($A353),'2013-14 BL Civics'!$A$14:$C$500,3,FALSE),\"\")","v":""},{"$f":"IFERROR(VLOOKUP(VALUE($A353),'2013-14 BL USH'!$A$14:$C$500,3,FALSE),\"\")","v":""},"No"]
["6741","PONCE DE LEON MIDDLE          ",{"$f":"IFERROR(VLOOKUP(VALUE($A354),'2013-14 BL Civics'!$A$14:$C$500,3,FALSE),\"\")","v":317},{"$f":"IFERROR(VLOOKUP(VALUE($A354),'2013-14 BL USH'!$A$14:$C$500,3,FALSE),\"\")","v":""},"Yes"]
["6751","HIALEAH GARDENS MIDDLE SCHOOL ",{"$f":"IFERROR(VLOOKUP(VALUE($A355),'2013-14 BL Civics'!$A$14:$C$500,3,FALSE),\"\")","v":582},{"$f":"IFERROR(VLOOKUP(VALUE($A355),'2013-14 BL USH'!$A$14:$C$500,3,FALSE),\"\")","v":""},"Yes"]
["6761","REDLAND MIDDLE                ",{"$f":"IFERROR(VLOOKUP(VALUE($A356),'2013-14 BL Civics'!$A$14:$C$500,3,FALSE),\"\")","v":154},{"$f":"IFERROR(VLOOKUP(VALUE($A356),'2013-14 BL USH'!$A$14:$C$500,3,FALSE),\"\")","v":""},"Yes"]
["6771","JORGE MAS CANOSA MIDDLE       ",{"$f":"IFERROR(VLOOKUP(VALUE($A357),'2013-14 BL Civics'!$A$14:$C$500,3,FALSE),\"\")","v":639},{"$f":"IFERROR(VLOOKUP(VALUE($A357),'2013-14 BL USH'!$A$14:$C$500,3,FALSE),\"\")","v":""},"Yes"]
["6781","RICHMOND HEIGHTS MIDDLE       ",{"$f":"IFERROR(VLOOKUP(VALUE($A358),'2013-14 BL Civics'!$A$14:$C$500,3,FALSE),\"\")","v":144},{"$f":"IFERROR(VLOOKUP(VALUE($A358),'2013-14 BL USH'!$A$14:$C$500,3,FALSE),\"\")","v":""},"Yes"]
["6801","RIVIERA MIDDLE                ",{"$f":"IFERROR(VLOOKUP(VALUE($A359),'2013-14 BL Civics'!$A$14:$C$500,3,FALSE),\"\")","v":259},{"$f":"IFERROR(VLOOKUP(VALUE($A359),'2013-14 BL USH'!$A$14:$C$500,3,FALSE),\"\")","v":""},"Yes"]
["6821","ROCKWAY MIDDLE                ",{"$f":"IFERROR(VLOOKUP(VALUE($A360),'2013-14 BL Civics'!$A$14:$C$500,3,FALSE),\"\")","v":302},{"$f":"IFERROR(VLOOKUP(VALUE($A360),'2013-14 BL USH'!$A$14:$C$500,3,FALSE),\"\")","v":""},"Yes"]
["6841","SHENANDOAH MIDDLE             ",{"$f":"IFERROR(VLOOKUP(VALUE($A361),'2013-14 BL Civics'!$A$14:$C$500,3,FALSE),\"\")","v":373},{"$f":"IFERROR(VLOOKUP(VALUE($A361),'2013-14 BL USH'!$A$14:$C$500,3,FALSE),\"\")","v":""},"Yes"]
["6861","SOUTHWOOD MIDDLE              ",{"$f":"IFERROR(VLOOKUP(VALUE($A362),'2013-14 BL Civics'!$A$14:$C$500,3,FALSE),\"\")","v":409},{"$f":"IFERROR(VLOOKUP(VALUE($A362),'2013-14 BL USH'!$A$14:$C$500,3,FALSE),\"\")","v":""},"Yes"]
["6881","SOUTH MIAMI MIDDLE SCHOOL     ",{"$f":"IFERROR(VLOOKUP(VALUE($A363),'2013-14 BL Civics'!$A$14:$C$500,3,FALSE),\"\")","v":348},{"$f":"IFERROR(VLOOKUP(VALUE($A363),'2013-14 BL USH'!$A$14:$C$500,3,FALSE),\"\")","v":""},"Yes"]
["6901","W. R. THOMAS MIDDLE           ",{"$f":"IFERROR(VLOOKUP(VALUE($A364),'2013-14 BL Civics'!$A$14:$C$500,3,FALSE),\"\")","v":380},{"$f":"IFERROR(VLOOKUP(VALUE($A364),'2013-14 BL USH'!$A$14:$C$500,3,FALSE),\"\")","v":""},"Yes"]
["6921","LAMAR LOUISE CURRY MIDDLE SCH ",{"$f":"IFERROR(VLOOKUP(VALUE($A365),'2013-14 BL Civics'!$A$14:$C$500,3,FALSE),\"\")","v":359},{"$f":"IFERROR(VLOOKUP(VALUE($A365),'2013-14 BL USH'!$A$14:$C$500,3,FALSE),\"\")","v":""},"Yes"]
["6961","WEST MIAMI MIDDLE             ",{"$f":"IFERROR(VLOOKUP(VALUE($A366),'2013-14 BL Civics'!$A$14:$C$500,3,FALSE),\"\")","v":318},{"$f":"IFERROR(VLOOKUP(VALUE($A366),'2013-14 BL USH'!$A$14:$C$500,3,FALSE),\"\")","v":""},"Yes"]
["6981","WESTVIEW MIDDLE               ",{"$f":"IFERROR(VLOOKUP(VALUE($A367),'2013-14 BL Civics'!$A$14:$C$500,3,FALSE),\"\")","v":""},{"$f":"IFERROR(VLOOKUP(VALUE($A367),'2013-14 BL USH'!$A$14:$C$500,3,FALSE),\"\")","v":""},"No"]
["7001","MIAMI-DADE ONLINE ACADEMY     ",{"$f":"IFERROR(VLOOKUP(VALUE($A368),'2013-14 BL Civics'!$A$14:$C$500,3,FALSE),\"\")","v":""},{"$f":"IFERROR(VLOOKUP(VALUE($A368),'2013-14 BL USH'!$A$14:$C$500,3,FALSE),\"\")","v":""},"No"]
["7007","INTL. STUDIES CHARTER SENIOR  ",{"$f":"IFERROR(VLOOKUP(VALUE($A369),'2013-14 BL Civics'!$A$14:$C$500,3,FALSE),\"\")","v":""},{"$f":"IFERROR(VLOOKUP(VALUE($A369),'2013-14 BL USH'!$A$14:$C$500,3,FALSE),\"\")","v":80},"Yes"]
["7009","DORAL PERFORMING ARTS ACADEMY ",{"$f":"IFERROR(VLOOKUP(VALUE($A370),'2013-14 BL Civics'!$A$14:$C$500,3,FALSE),\"\")","v":""},{"$f":"IFERROR(VLOOKUP(VALUE($A370),'2013-14 BL USH'!$A$14:$C$500,3,FALSE),\"\")","v":51},"Yes"]
["7011","AMERICAN SENIOR               ",{"$f":"IFERROR(VLOOKUP(VALUE($A371),'2013-14 BL Civics'!$A$14:$C$500,3,FALSE),\"\")","v":""},{"$f":"IFERROR(VLOOKUP(VALUE($A371),'2013-14 BL USH'!$A$14:$C$500,3,FALSE),\"\")","v":349},"Yes"]
["7014","MATER PERFORMING ARTS ACADEMY ",{"$f":"IFERROR(VLOOKUP(VALUE($A372),'2013-14 BL Civics'!$A$14:$C$500,3,FALSE),\"\")","v":""},{"$f":"IFERROR(VLOOKUP(VALUE($A372),'2013-14 BL USH'!$A$14:$C$500,3,FALSE),\"\")","v":21},"Yes"]
["7015","STELLAR LEADERSHIP ACADEMY    ",{"$f":"IFERROR(VLOOKUP(VALUE($A373),'2013-14 BL Civics'!$A$14:$C$500,3,FALSE),\"\")","v":""},{"$f":"IFERROR(VLOOKUP(VALUE($A373),'2013-14 BL USH'!$A$14:$C$500,3,FALSE),\"\")","v":48},"Yes"]
["7016","SPORTS LEADERSHIP OF MIAMI CHS",{"$f":"IFERROR(VLOOKUP(VALUE($A374),'2013-14 BL Civics'!$A$14:$C$500,3,FALSE),\"\")","v":""},{"$f":"IFERROR(VLOOKUP(VALUE($A374),'2013-14 BL USH'!$A$14:$C$500,3,FALSE),\"\")","v":52},"Yes"]
["7018","MATER ACADEMY LAKES HIGH SCH  ",{"$f":"IFERROR(VLOOKUP(VALUE($A375),'2013-14 BL Civics'!$A$14:$C$500,3,FALSE),\"\")","v":""},{"$f":"IFERROR(VLOOKUP(VALUE($A375),'2013-14 BL USH'!$A$14:$C$500,3,FALSE),\"\")","v":222},"Yes"]
["7020","DORAL ACADEMY HIGH SCHOOL     ",{"$f":"IFERROR(VLOOKUP(VALUE($A376),'2013-14 BL Civics'!$A$14:$C$500,3,FALSE),\"\")","v":""},{"$f":"IFERROR(VLOOKUP(VALUE($A376),'2013-14 BL USH'!$A$14:$C$500,3,FALSE),\"\")","v":269},"Yes"]
["7022","ACADEMY OF ARTS AND MINDS     ",{"$f":"IFERROR(VLOOKUP(VALUE($A377),'2013-14 BL Civics'!$A$14:$C$500,3,FALSE),\"\")","v":""},{"$f":"IFERROR(VLOOKUP(VALUE($A377),'2013-14 BL USH'!$A$14:$C$500,3,FALSE),\"\")","v":95},"Yes"]
["7024","MATER ACADEMY HIGH-INTL STUDIE",{"$f":"IFERROR(VLOOKUP(VALUE($A378),'2013-14 BL Civics'!$A$14:$C$500,3,FALSE),\"\")","v":""},{"$f":"IFERROR(VLOOKUP(VALUE($A378),'2013-14 BL USH'!$A$14:$C$500,3,FALSE),\"\")","v":""},"No"]
["7025","MATER ACAD HIGH (MIAMI BEACH) ",{"$f":"IFERROR(VLOOKUP(VALUE($A379),'2013-14 BL Civics'!$A$14:$C$500,3,FALSE),\"\")","v":""},{"$f":"IFERROR(VLOOKUP(VALUE($A379),'2013-14 BL USH'!$A$14:$C$500,3,FALSE),\"\")","v":""},"No"]
["7029","TERRA ENVIRONMENTAL RESEARCH  ",{"$f":"IFERROR(VLOOKUP(VALUE($A380),'2013-14 BL Civics'!$A$14:$C$500,3,FALSE),\"\")","v":""},{"$f":"IFERROR(VLOOKUP(VALUE($A380),'2013-14 BL USH'!$A$14:$C$500,3,FALSE),\"\")","v":269},"Yes"]
["7030","INTEGRATED ACADEMICS (SIATECH)",{"$f":"IFERROR(VLOOKUP(VALUE($A381),'2013-14 BL Civics'!$A$14:$C$500,3,FALSE),\"\")","v":""},{"$f":"IFERROR(VLOOKUP(VALUE($A381),'2013-14 BL USH'!$A$14:$C$500,3,FALSE),\"\")","v":""},"No"]
["7032","PALM GLADES PREP HIGH SCHOOL  ",{"$f":"IFERROR(VLOOKUP(VALUE($A382),'2013-14 BL Civics'!$A$14:$C$500,3,FALSE),\"\")","v":""},{"$f":"IFERROR(VLOOKUP(VALUE($A382),'2013-14 BL USH'!$A$14:$C$500,3,FALSE),\"\")","v":194},"Yes"]
["7033","LAW ENFORCEMENT OFFICERS HS   ",{"$f":"IFERROR(VLOOKUP(VALUE($A383),'2013-14 BL Civics'!$A$14:$C$500,3,FALSE),\"\")","v":""},{"$f":"IFERROR(VLOOKUP(VALUE($A383),'2013-14 BL USH'!$A$14:$C$500,3,FALSE),\"\")","v":60},"Yes"]
["7034","SOMERSET ACAD HIGH SOUTH-HMSTD",{"$f":"IFERROR(VLOOKUP(VALUE($A384),'2013-14 BL Civics'!$A$14:$C$500,3,FALSE),\"\")","v":""},{"$f":"IFERROR(VLOOKUP(VALUE($A384),'2013-14 BL USH'!$A$14:$C$500,3,FALSE),\"\")","v":21},"Yes"]
["7036","LAWRENCE ACADEMY SENIOR       ",{"$f":"IFERROR(VLOOKUP(VALUE($A385),'2013-14 BL Civics'!$A$14:$C$500,3,FALSE),\"\")","v":""},{"$f":"IFERROR(VLOOKUP(VALUE($A385),'2013-14 BL USH'!$A$14:$C$500,3,FALSE),\"\")","v":6},"Yes"]
["7037","MATER ACADEMY EAST HIGH SCHOOL",{"$f":"IFERROR(VLOOKUP(VALUE($A386),'2013-14 BL Civics'!$A$14:$C$500,3,FALSE),\"\")","v":""},{"$f":"IFERROR(VLOOKUP(VALUE($A386),'2013-14 BL USH'!$A$14:$C$500,3,FALSE),\"\")","v":79},"Yes"]
["7038","SOMERSET ACADEMY HIGH (SOUTH) ",{"$f":"IFERROR(VLOOKUP(VALUE($A387),'2013-14 BL Civics'!$A$14:$C$500,3,FALSE),\"\")","v":""},{"$f":"IFERROR(VLOOKUP(VALUE($A387),'2013-14 BL USH'!$A$14:$C$500,3,FALSE),\"\")","v":""},{"$f":"IF(AND(C387=\"\",D387=\"\"),\"No\",\"Yes\")","v":"No"}]
["7041","SCHOOL FOR ADVANCED STUDIES WC",{"$f":"IFERROR(VLOOKUP(VALUE($A388),'2013-14 BL Civics'!$A$14:$C$500,3,FALSE),\"\")","v":""},{"$f":"IFERROR(VLOOKUP(VALUE($A388),'2013-14 BL USH'!$A$14:$C$500,3,FALSE),\"\")","v":""},"No"]
["7042","SOMERSET ACADEMY CHARTER HIGH ",{"$f":"IFERROR(VLOOKUP(VALUE($A389),'2013-14 BL Civics'!$A$14:$C$500,3,FALSE),\"\")","v":""},{"$f":"IFERROR(VLOOKUP(VALUE($A389),'2013-14 BL USH'!$A$14:$C$500,3,FALSE),\"\")","v":51},"Yes"]
["7048","ALONZO & TRACY MOURNING SH    ",{"$f":"IFERROR(VLOOKUP(VALUE($A390),'2013-14 BL Civics'!$A$14:$C$500,3,FALSE),\"\")","v":""},{"$f":"IFERROR(VLOOKUP(VALUE($A390),'2013-14 BL USH'!$A$14:$C$500,3,FALSE),\"\")","v":407},"Yes"]
["7049","WESTLAND HIALEAH SENIOR HIGH  ",{"$f":"IFERROR(VLOOKUP(VALUE($A391),'2013-14 BL Civics'!$A$14:$C$500,3,FALSE),\"\")","v":""},{"$f":"IFERROR(VLOOKUP(VALUE($A391),'2013-14 BL USH'!$A$14:$C$500,3,FALSE),\"\")","v":416},"Yes"]
["7050","KEYS GATE CHARTER HIGH SCHL   ",{"$f":"IFERROR(VLOOKUP(VALUE($A392),'2013-14 BL Civics'!$A$14:$C$500,3,FALSE),\"\")","v":""},{"$f":"IFERROR(VLOOKUP(VALUE($A392),'2013-14 BL USH'!$A$14:$C$500,3,FALSE),\"\")","v":""},"No"]
["7051","G. HOLMES BRADDOCK SENIOR HIGH",{"$f":"IFERROR(VLOOKUP(VALUE($A393),'2013-14 BL Civics'!$A$14:$C$500,3,FALSE),\"\")","v":""},{"$f":"IFERROR(VLOOKUP(VALUE($A393),'2013-14 BL USH'!$A$14:$C$500,3,FALSE),\"\")","v":634},"Yes"]
["7053","PINECREST ACADEMY CHARTER HIGH",{"$f":"IFERROR(VLOOKUP(VALUE($A394),'2013-14 BL Civics'!$A$14:$C$500,3,FALSE),\"\")","v":""},{"$f":"IFERROR(VLOOKUP(VALUE($A394),'2013-14 BL USH'!$A$14:$C$500,3,FALSE),\"\")","v":82},"Yes"]
["7054","EXCELSIOR CHARTER HIGH SCHOOL ",{"$f":"IFERROR(VLOOKUP(VALUE($A395),'2013-14 BL Civics'!$A$14:$C$500,3,FALSE),\"\")","v":""},{"$f":"IFERROR(VLOOKUP(VALUE($A395),'2013-14 BL USH'!$A$14:$C$500,3,FALSE),\"\")","v":""},"No"]
["7055","YOUNG WOMEN'S PREPARATORY ACAD",{"$f":"IFERROR(VLOOKUP(VALUE($A396),'2013-14 BL Civics'!$A$14:$C$500,3,FALSE),\"\")","v":80},{"$f":"IFERROR(VLOOKUP(VALUE($A396),'2013-14 BL USH'!$A$14:$C$500,3,FALSE),\"\")","v":2},"Yes"]
["7056","YOUNG MENS PREPARATORY ACADEMY",{"$f":"IFERROR(VLOOKUP(VALUE($A397),'2013-14 BL Civics'!$A$14:$C$500,3,FALSE),\"\")","v":53},{"$f":"IFERROR(VLOOKUP(VALUE($A397),'2013-14 BL USH'!$A$14:$C$500,3,FALSE),\"\")","v":26},"Yes"]
["7058","MIAMI COMMUNITY CH HIGH SCHOOL",{"$f":"IFERROR(VLOOKUP(VALUE($A398),'2013-14 BL Civics'!$A$14:$C$500,3,FALSE),\"\")","v":""},{"$f":"IFERROR(VLOOKUP(VALUE($A398),'2013-14 BL USH'!$A$14:$C$500,3,FALSE),\"\")","v":39},"Yes"]
["7059","MIAMI ARTS CHARTER            ",{"$f":"IFERROR(VLOOKUP(VALUE($A399),'2013-14 BL Civics'!$A$14:$C$500,3,FALSE),\"\")","v":117},{"$f":"IFERROR(VLOOKUP(VALUE($A399),'2013-14 BL USH'!$A$14:$C$500,3,FALSE),\"\")","v":59},"Yes"]
["7060","EVERGLADES PREP ACADEMY HIGH  ",{"$f":"IFERROR(VLOOKUP(VALUE($A400),'2013-14 BL Civics'!$A$14:$C$500,3,FALSE),\"\")","v":""},{"$f":"IFERROR(VLOOKUP(VALUE($A400),'2013-14 BL USH'!$A$14:$C$500,3,FALSE),\"\")","v":28},"Yes"]
["7061","SCHOOL FOR ADVANCED STUDIES NO",{"$f":"IFERROR(VLOOKUP(VALUE($A401),'2013-14 BL Civics'!$A$14:$C$500,3,FALSE),\"\")","v":""},{"$f":"IFERROR(VLOOKUP(VALUE($A401),'2013-14 BL USH'!$A$14:$C$500,3,FALSE),\"\")","v":""},"No"]
["7062","MAVERICKS HIGH OF NORTH M-DADE",{"$f":"IFERROR(VLOOKUP(VALUE($A402),'2013-14 BL Civics'!$A$14:$C$500,3,FALSE),\"\")","v":""},{"$f":"IFERROR(VLOOKUP(VALUE($A402),'2013-14 BL USH'!$A$14:$C$500,3,FALSE),\"\")","v":""},"No"]
["7065","MAVERICKS HIGH OF SOUTH M-DADE",{"$f":"IFERROR(VLOOKUP(VALUE($A403),'2013-14 BL Civics'!$A$14:$C$500,3,FALSE),\"\")","v":""},{"$f":"IFERROR(VLOOKUP(VALUE($A403),'2013-14 BL USH'!$A$14:$C$500,3,FALSE),\"\")","v":""},"No"]
["7066","LBA CONSTR & BUS MGMT ACAD    ",{"$f":"IFERROR(VLOOKUP(VALUE($A404),'2013-14 BL Civics'!$A$14:$C$500,3,FALSE),\"\")","v":""},{"$f":"IFERROR(VLOOKUP(VALUE($A404),'2013-14 BL USH'!$A$14:$C$500,3,FALSE),\"\")","v":""},"No"]
["7067","GREEN SPRINGS HIGH SCHOOL     ",{"$f":"IFERROR(VLOOKUP(VALUE($A405),'2013-14 BL Civics'!$A$14:$C$500,3,FALSE),\"\")","v":""},{"$f":"IFERROR(VLOOKUP(VALUE($A405),'2013-14 BL USH'!$A$14:$C$500,3,FALSE),\"\")","v":25},"Yes"]
["7068","NORTH GARDENS HIGH SCHOOL     ",{"$f":"IFERROR(VLOOKUP(VALUE($A406),'2013-14 BL Civics'!$A$14:$C$500,3,FALSE),\"\")","v":""},{"$f":"IFERROR(VLOOKUP(VALUE($A406),'2013-14 BL USH'!$A$14:$C$500,3,FALSE),\"\")","v":34},"Yes"]
["7069","NORTH PARK HIGH SCHOOL        ",{"$f":"IFERROR(VLOOKUP(VALUE($A407),'2013-14 BL Civics'!$A$14:$C$500,3,FALSE),\"\")","v":""},{"$f":"IFERROR(VLOOKUP(VALUE($A407),'2013-14 BL USH'!$A$14:$C$500,3,FALSE),\"\")","v":18},"Yes"]
["7070","YOUTH CO-OP PREP HIGH SCHOOL  ",{"$f":"IFERROR(VLOOKUP(VALUE($A408),'2013-14 BL Civics'!$A$14:$C$500,3,FALSE),\"\")","v":""},{"$f":"IFERROR(VLOOKUP(VALUE($A408),'2013-14 BL USH'!$A$14:$C$500,3,FALSE),\"\")","v":""},"No"]
["7071","CORAL GABLES SENIOR HIGH      ",{"$f":"IFERROR(VLOOKUP(VALUE($A409),'2013-14 BL Civics'!$A$14:$C$500,3,FALSE),\"\")","v":""},{"$f":"IFERROR(VLOOKUP(VALUE($A409),'2013-14 BL USH'!$A$14:$C$500,3,FALSE),\"\")","v":605},"Yes"]
["7080","CHARTER HS OF THE AMERICAS    ",{"$f":"IFERROR(VLOOKUP(VALUE($A410),'2013-14 BL Civics'!$A$14:$C$500,3,FALSE),\"\")","v":""},{"$f":"IFERROR(VLOOKUP(VALUE($A410),'2013-14 BL USH'!$A$14:$C$500,3,FALSE),\"\")","v":""},"No"]
["7081","DESIGN & ARCHITECTURE SENIOR  ",{"$f":"IFERROR(VLOOKUP(VALUE($A411),'2013-14 BL Civics'!$A$14:$C$500,3,FALSE),\"\")","v":""},{"$f":"IFERROR(VLOOKUP(VALUE($A411),'2013-14 BL USH'!$A$14:$C$500,3,FALSE),\"\")","v":97},"Yes"]
["7091","SCHOOL FOR ADV STUDIES SOUTH  ",{"$f":"IFERROR(VLOOKUP(VALUE($A412),'2013-14 BL Civics'!$A$14:$C$500,3,FALSE),\"\")","v":""},{"$f":"IFERROR(VLOOKUP(VALUE($A412),'2013-14 BL USH'!$A$14:$C$500,3,FALSE),\"\")","v":""},"No"]
["7101","CORAL REEF SENIOR HIGH        ",{"$f":"IFERROR(VLOOKUP(VALUE($A413),'2013-14 BL Civics'!$A$14:$C$500,3,FALSE),\"\")","v":""},{"$f":"IFERROR(VLOOKUP(VALUE($A413),'2013-14 BL USH'!$A$14:$C$500,3,FALSE),\"\")","v":322},"Yes"]
["7111","HIALEAH SENIOR                ",{"$f":"IFERROR(VLOOKUP(VALUE($A414),'2013-14 BL Civics'!$A$14:$C$500,3,FALSE),\"\")","v":""},{"$f":"IFERROR(VLOOKUP(VALUE($A414),'2013-14 BL USH'!$A$14:$C$500,3,FALSE),\"\")","v":619},"Yes"]
["7121","JOHN A FERGUSON SENIOR HIGH   ",{"$f":"IFERROR(VLOOKUP(VALUE($A415),'2013-14 BL Civics'!$A$14:$C$500,3,FALSE),\"\")","v":""},{"$f":"IFERROR(VLOOKUP(VALUE($A415),'2013-14 BL USH'!$A$14:$C$500,3,FALSE),\"\")","v":762},"Yes"]
["7131","HIALEAH-MIAMI LAKES SENIOR    ",{"$f":"IFERROR(VLOOKUP(VALUE($A416),'2013-14 BL Civics'!$A$14:$C$500,3,FALSE),\"\")","v":""},{"$f":"IFERROR(VLOOKUP(VALUE($A416),'2013-14 BL USH'!$A$14:$C$500,3,FALSE),\"\")","v":357},"Yes"]
["7141","DR MICHAEL M KROP SENIOR HIGH ",{"$f":"IFERROR(VLOOKUP(VALUE($A417),'2013-14 BL Civics'!$A$14:$C$500,3,FALSE),\"\")","v":""},{"$f":"IFERROR(VLOOKUP(VALUE($A417),'2013-14 BL USH'!$A$14:$C$500,3,FALSE),\"\")","v":523},"Yes"]
["7151","HOMESTEAD SENIOR HIGH         ",{"$f":"IFERROR(VLOOKUP(VALUE($A418),'2013-14 BL Civics'!$A$14:$C$500,3,FALSE),\"\")","v":""},{"$f":"IFERROR(VLOOKUP(VALUE($A418),'2013-14 BL USH'!$A$14:$C$500,3,FALSE),\"\")","v":316},"Yes"]
["7160","MATER ACADEMY CHARTER HIGH    ",{"$f":"IFERROR(VLOOKUP(VALUE($A419),'2013-14 BL Civics'!$A$14:$C$500,3,FALSE),\"\")","v":""},{"$f":"IFERROR(VLOOKUP(VALUE($A419),'2013-14 BL USH'!$A$14:$C$500,3,FALSE),\"\")","v":246},"Yes"]
["7161","MAST @ VIRGINIA KEY           ",{"$f":"IFERROR(VLOOKUP(VALUE($A420),'2013-14 BL Civics'!$A$14:$C$500,3,FALSE),\"\")","v":""},{"$f":"IFERROR(VLOOKUP(VALUE($A420),'2013-14 BL USH'!$A$14:$C$500,3,FALSE),\"\")","v":32},"Yes"]
["7171","MED ACAD SCIENCE & TECHNOLOGY ",{"$f":"IFERROR(VLOOKUP(VALUE($A421),'2013-14 BL Civics'!$A$14:$C$500,3,FALSE),\"\")","v":""},{"$f":"IFERROR(VLOOKUP(VALUE($A421),'2013-14 BL USH'!$A$14:$C$500,3,FALSE),\"\")","v":133},"Yes"]
["7191","HIALEAH GARDENS SENIOR        ",{"$f":"IFERROR(VLOOKUP(VALUE($A422),'2013-14 BL Civics'!$A$14:$C$500,3,FALSE),\"\")","v":""},{"$f":"IFERROR(VLOOKUP(VALUE($A422),'2013-14 BL USH'!$A$14:$C$500,3,FALSE),\"\")","v":537},"Yes"]
["7201","MIAMI BEACH SENIOR HIGH       ",{"$f":"IFERROR(VLOOKUP(VALUE($A423),'2013-14 BL Civics'!$A$14:$C$500,3,FALSE),\"\")","v":""},{"$f":"IFERROR(VLOOKUP(VALUE($A423),'2013-14 BL USH'!$A$14:$C$500,3,FALSE),\"\")","v":371},"Yes"]
["7231","MIAMI CAROL CITY SENIOR HIGH  ",{"$f":"IFERROR(VLOOKUP(VALUE($A424),'2013-14 BL Civics'!$A$14:$C$500,3,FALSE),\"\")","v":""},{"$f":"IFERROR(VLOOKUP(VALUE($A424),'2013-14 BL USH'!$A$14:$C$500,3,FALSE),\"\")","v":411},"Yes"]
["7241","RONALD W REAGAN/DORAL SENIOR  ",{"$f":"IFERROR(VLOOKUP(VALUE($A425),'2013-14 BL Civics'!$A$14:$C$500,3,FALSE),\"\")","v":""},{"$f":"IFERROR(VLOOKUP(VALUE($A425),'2013-14 BL USH'!$A$14:$C$500,3,FALSE),\"\")","v":392},"Yes"]
["7251","MIAMI CENTRAL SENIOR HIGH     ",{"$f":"IFERROR(VLOOKUP(VALUE($A426),'2013-14 BL Civics'!$A$14:$C$500,3,FALSE),\"\")","v":""},{"$f":"IFERROR(VLOOKUP(VALUE($A426),'2013-14 BL USH'!$A$14:$C$500,3,FALSE),\"\")","v":360},"Yes"]
["7262","CITY OF HIALEAH EDUCATION ACAD",{"$f":"IFERROR(VLOOKUP(VALUE($A427),'2013-14 BL Civics'!$A$14:$C$500,3,FALSE),\"\")","v":39},{"$f":"IFERROR(VLOOKUP(VALUE($A427),'2013-14 BL USH'!$A$14:$C$500,3,FALSE),\"\")","v":59},"Yes"]
["7265","ARCHIMEDEAN UPPER CONSERV CHAR",{"$f":"IFERROR(VLOOKUP(VALUE($A428),'2013-14 BL Civics'!$A$14:$C$500,3,FALSE),\"\")","v":""},{"$f":"IFERROR(VLOOKUP(VALUE($A428),'2013-14 BL USH'!$A$14:$C$500,3,FALSE),\"\")","v":45},"Yes"]
["7271","MIAMI CORAL PARK SENIOR HIGH  ",{"$f":"IFERROR(VLOOKUP(VALUE($A429),'2013-14 BL Civics'!$A$14:$C$500,3,FALSE),\"\")","v":""},{"$f":"IFERROR(VLOOKUP(VALUE($A429),'2013-14 BL USH'!$A$14:$C$500,3,FALSE),\"\")","v":545},"Yes"]
["7291","JOSE MARTI MAST 6-12 ACADEMY  ",{"$f":"IFERROR(VLOOKUP(VALUE($A430),'2013-14 BL Civics'!$A$14:$C$500,3,FALSE),\"\")","v":150},{"$f":"IFERROR(VLOOKUP(VALUE($A430),'2013-14 BL USH'!$A$14:$C$500,3,FALSE),\"\")","v":41},"Yes"]
["7301","MIAMI EDISON SENIOR HIGH      ",{"$f":"IFERROR(VLOOKUP(VALUE($A431),'2013-14 BL Civics'!$A$14:$C$500,3,FALSE),\"\")","v":""},{"$f":"IFERROR(VLOOKUP(VALUE($A431),'2013-14 BL USH'!$A$14:$C$500,3,FALSE),\"\")","v":209},"Yes"]
["7341","MIAMI JACKSON SENIOR HIGH     ",{"$f":"IFERROR(VLOOKUP(VALUE($A432),'2013-14 BL Civics'!$A$14:$C$500,3,FALSE),\"\")","v":""},{"$f":"IFERROR(VLOOKUP(VALUE($A432),'2013-14 BL USH'!$A$14:$C$500,3,FALSE),\"\")","v":247},"Yes"]
["7351","ARTHUR AND POLLY MAYS CONSERVA",{"$f":"IFERROR(VLOOKUP(VALUE($A433),'2013-14 BL Civics'!$A$14:$C$500,3,FALSE),\"\")","v":111},{"$f":"IFERROR(VLOOKUP(VALUE($A433),'2013-14 BL USH'!$A$14:$C$500,3,FALSE),\"\")","v":82},"Yes"]
["7361","MIAMI KILLIAN SENIOR HIGH     ",{"$f":"IFERROR(VLOOKUP(VALUE($A434),'2013-14 BL Civics'!$A$14:$C$500,3,FALSE),\"\")","v":""},{"$f":"IFERROR(VLOOKUP(VALUE($A434),'2013-14 BL USH'!$A$14:$C$500,3,FALSE),\"\")","v":406},"Yes"]
["7371","ROBERT MORGAN EDUCATIONAL CTR ",{"$f":"IFERROR(VLOOKUP(VALUE($A435),'2013-14 BL Civics'!$A$14:$C$500,3,FALSE),\"\")","v":""},{"$f":"IFERROR(VLOOKUP(VALUE($A435),'2013-14 BL USH'!$A$14:$C$500,3,FALSE),\"\")","v":452},"Yes"]
["7381","MIAMI NORLAND SENIOR HIGH     ",{"$f":"IFERROR(VLOOKUP(VALUE($A436),'2013-14 BL Civics'!$A$14:$C$500,3,FALSE),\"\")","v":""},{"$f":"IFERROR(VLOOKUP(VALUE($A436),'2013-14 BL USH'!$A$14:$C$500,3,FALSE),\"\")","v":328},"Yes"]
["7391","MIAMI LAKES EDUCATIONAL CENTER",{"$f":"IFERROR(VLOOKUP(VALUE($A437),'2013-14 BL Civics'!$A$14:$C$500,3,FALSE),\"\")","v":""},{"$f":"IFERROR(VLOOKUP(VALUE($A437),'2013-14 BL USH'!$A$14:$C$500,3,FALSE),\"\")","v":249},"Yes"]
["7411","MIAMI NORTHWESTERN SENIOR HIGH",{"$f":"IFERROR(VLOOKUP(VALUE($A438),'2013-14 BL Civics'!$A$14:$C$500,3,FALSE),\"\")","v":""},{"$f":"IFERROR(VLOOKUP(VALUE($A438),'2013-14 BL USH'!$A$14:$C$500,3,FALSE),\"\")","v":202},"Yes"]
["7431","MIAMI PALMETTO SENIOR HIGH    ",{"$f":"IFERROR(VLOOKUP(VALUE($A439),'2013-14 BL Civics'!$A$14:$C$500,3,FALSE),\"\")","v":""},{"$f":"IFERROR(VLOOKUP(VALUE($A439),'2013-14 BL USH'!$A$14:$C$500,3,FALSE),\"\")","v":391},"Yes"]
["7461","MIAMI SENIOR HIGH             ",{"$f":"IFERROR(VLOOKUP(VALUE($A440),'2013-14 BL Civics'!$A$14:$C$500,3,FALSE),\"\")","v":""},{"$f":"IFERROR(VLOOKUP(VALUE($A440),'2013-14 BL USH'!$A$14:$C$500,3,FALSE),\"\")","v":588},"Yes"]
["7511","MIAMI SPRINGS SENIOR HIGH     ",{"$f":"IFERROR(VLOOKUP(VALUE($A441),'2013-14 BL Civics'!$A$14:$C$500,3,FALSE),\"\")","v":""},{"$f":"IFERROR(VLOOKUP(VALUE($A441),'2013-14 BL USH'!$A$14:$C$500,3,FALSE),\"\")","v":416},"Yes"]
["7531","MIAMI SUNSET SENIOR HIGH      ",{"$f":"IFERROR(VLOOKUP(VALUE($A442),'2013-14 BL Civics'!$A$14:$C$500,3,FALSE),\"\")","v":""},{"$f":"IFERROR(VLOOKUP(VALUE($A442),'2013-14 BL USH'!$A$14:$C$500,3,FALSE),\"\")","v":354},"Yes"]
["7541","NORTH MIAMI BEACH SENIOR HIGH ",{"$f":"IFERROR(VLOOKUP(VALUE($A443),'2013-14 BL Civics'!$A$14:$C$500,3,FALSE),\"\")","v":""},{"$f":"IFERROR(VLOOKUP(VALUE($A443),'2013-14 BL USH'!$A$14:$C$500,3,FALSE),\"\")","v":336},"Yes"]
["7551","SCHOOL FOR ADV STUDIES-HOMESTD",{"$f":"IFERROR(VLOOKUP(VALUE($A444),'2013-14 BL Civics'!$A$14:$C$500,3,FALSE),\"\")","v":""},{"$f":"IFERROR(VLOOKUP(VALUE($A444),'2013-14 BL USH'!$A$14:$C$500,3,FALSE),\"\")","v":""},"No"]
["7571","INTL STUDIES PREP ACADEMY     ",{"$f":"IFERROR(VLOOKUP(VALUE($A445),'2013-14 BL Civics'!$A$14:$C$500,3,FALSE),\"\")","v":""},{"$f":"IFERROR(VLOOKUP(VALUE($A445),'2013-14 BL USH'!$A$14:$C$500,3,FALSE),\"\")","v":22},"Yes"]
["7581","IPREPARATORY ACADEMY          ",{"$f":"IFERROR(VLOOKUP(VALUE($A446),'2013-14 BL Civics'!$A$14:$C$500,3,FALSE),\"\")","v":""},{"$f":"IFERROR(VLOOKUP(VALUE($A446),'2013-14 BL USH'!$A$14:$C$500,3,FALSE),\"\")","v":24},"Yes"]
["7591","NORTH MIAMI SENIOR HIGH       ",{"$f":"IFERROR(VLOOKUP(VALUE($A447),'2013-14 BL Civics'!$A$14:$C$500,3,FALSE),\"\")","v":""},{"$f":"IFERROR(VLOOKUP(VALUE($A447),'2013-14 BL USH'!$A$14:$C$500,3,FALSE),\"\")","v":552},"Yes"]
["7601","WILLIAM H. TURNER TECHNICAL   ",{"$f":"IFERROR(VLOOKUP(VALUE($A448),'2013-14 BL Civics'!$A$14:$C$500,3,FALSE),\"\")","v":""},{"$f":"IFERROR(VLOOKUP(VALUE($A448),'2013-14 BL USH'!$A$14:$C$500,3,FALSE),\"\")","v":323},"Yes"]
["7631","MIAMI MACARTHUR SOUTH         ",{"$f":"IFERROR(VLOOKUP(VALUE($A449),'2013-14 BL Civics'!$A$14:$C$500,3,FALSE),\"\")","v":5},{"$f":"IFERROR(VLOOKUP(VALUE($A449),'2013-14 BL USH'!$A$14:$C$500,3,FALSE),\"\")","v":15},"Yes"]
["7701","SOUTH DADE SENIOR HIGH        ",{"$f":"IFERROR(VLOOKUP(VALUE($A450),'2013-14 BL Civics'!$A$14:$C$500,3,FALSE),\"\")","v":""},{"$f":"IFERROR(VLOOKUP(VALUE($A450),'2013-14 BL USH'!$A$14:$C$500,3,FALSE),\"\")","v":673},"Yes"]
["7721","SOUTH MIAMI SENIOR HIGH       ",{"$f":"IFERROR(VLOOKUP(VALUE($A451),'2013-14 BL Civics'!$A$14:$C$500,3,FALSE),\"\")","v":""},{"$f":"IFERROR(VLOOKUP(VALUE($A451),'2013-14 BL USH'!$A$14:$C$500,3,FALSE),\"\")","v":441},{"$f":"IF(AND(C451=\"\",D451=\"\"),\"No\",\"Yes\")","v":"Yes"}]
["7731","MIAMI SOUTHRIDGE SENIOR HIGH  ",{"$f":"IFERROR(VLOOKUP(VALUE($A452),'2013-14 BL Civics'!$A$14:$C$500,3,FALSE),\"\")","v":""},{"$f":"IFERROR(VLOOKUP(VALUE($A452),'2013-14 BL USH'!$A$14:$C$500,3,FALSE),\"\")","v":438},"Yes"]
["7741","SOUTHWEST MIAMI SENIOR HIGH   ",{"$f":"IFERROR(VLOOKUP(VALUE($A453),'2013-14 BL Civics'!$A$14:$C$500,3,FALSE),\"\")","v":""},{"$f":"IFERROR(VLOOKUP(VALUE($A453),'2013-14 BL USH'!$A$14:$C$500,3,FALSE),\"\")","v":661},"Yes"]
["7751","BARBARA GOLEMAN SENIOR HIGH   ",{"$f":"IFERROR(VLOOKUP(VALUE($A454),'2013-14 BL Civics'!$A$14:$C$500,3,FALSE),\"\")","v":""},{"$f":"IFERROR(VLOOKUP(VALUE($A454),'2013-14 BL USH'!$A$14:$C$500,3,FALSE),\"\")","v":374},"Yes"]
["7781","FELIX VARELA SENIOR HIGH      ",{"$f":"IFERROR(VLOOKUP(VALUE($A455),'2013-14 BL Civics'!$A$14:$C$500,3,FALSE),\"\")","v":""},{"$f":"IFERROR(VLOOKUP(VALUE($A455),'2013-14 BL USH'!$A$14:$C$500,3,FALSE),\"\")","v":668},"Yes"]
["7791","BOOKER T. WASHINGTON SR. HIGH ",{"$f":"IFERROR(VLOOKUP(VALUE($A456),'2013-14 BL Civics'!$A$14:$C$500,3,FALSE),\"\")","v":""},{"$f":"IFERROR(VLOOKUP(VALUE($A456),'2013-14 BL USH'!$A$14:$C$500,3,FALSE),\"\")","v":191},"Yes"]
["7801","GEORGE T. BAKER AVIATION      ",{"$f":"IFERROR(VLOOKUP(VALUE($A457),'2013-14 BL Civics'!$A$14:$C$500,3,FALSE),\"\")","v":""},{"$f":"IFERROR(VLOOKUP(VALUE($A457),'2013-14 BL USH'!$A$14:$C$500,3,FALSE),\"\")","v":76},"Yes"]
["7901","NEW WORLD SCHOOL OF THE ARTS  ",{"$f":"IFERROR(VLOOKUP(VALUE($A458),'2013-14 BL Civics'!$A$14:$C$500,3,FALSE),\"\")","v":""},{"$f":"IFERROR(VLOOKUP(VALUE($A458),'2013-14 BL USH'!$A$14:$C$500,3,FALSE),\"\")","v":65},"Yes"]
["8013","    NON-MDCPS CHILD           ",{"$f":"IFERROR(VLOOKUP(VALUE($A459),'2013-14 BL Civics'!$A$14:$C$500,3,FALSE),\"\")","v":""},{"$f":"IFERROR(VLOOKUP(VALUE($A459),'2013-14 BL USH'!$A$14:$C$500,3,FALSE),\"\")","v":""},"No"]
["8014","ALTERNATIVE OUTREACH-EXT. YR  ",{"$f":"IFERROR(VLOOKUP(VALUE($A460),'2013-14 BL Civics'!$A$14:$C$500,3,FALSE),\"\")","v":8},{"$f":"IFERROR(VLOOKUP(VALUE($A460),'2013-14 BL USH'!$A$14:$C$500,3,FALSE),\"\")","v":20},"Yes"]
["8015","FLORIDA HOME EDUCATION PROGRAM",{"$f":"IFERROR(VLOOKUP(VALUE($A461),'2013-14 BL Civics'!$A$14:$C$500,3,FALSE),\"\")","v":""},{"$f":"IFERROR(VLOOKUP(VALUE($A461),'2013-14 BL USH'!$A$14:$C$500,3,FALSE),\"\")","v":""},"No"]
["8016","TAP PROGRAM FACILITIES        ",{"$f":"IFERROR(VLOOKUP(VALUE($A462),'2013-14 BL Civics'!$A$14:$C$500,3,FALSE),\"\")","v":""},{"$f":"IFERROR(VLOOKUP(VALUE($A462),'2013-14 BL USH'!$A$14:$C$500,3,FALSE),\"\")","v":""},"No"]
["8017","ALTERNATIVE OUTREACH PROGRAM  ",{"$f":"IFERROR(VLOOKUP(VALUE($A463),'2013-14 BL Civics'!$A$14:$C$500,3,FALSE),\"\")","v":17},{"$f":"IFERROR(VLOOKUP(VALUE($A463),'2013-14 BL USH'!$A$14:$C$500,3,FALSE),\"\")","v":41},"Yes"]
["8019","ACADEMY FOR COMMUNITY ED      ",{"$f":"IFERROR(VLOOKUP(VALUE($A464),'2013-14 BL Civics'!$A$14:$C$500,3,FALSE),\"\")","v":""},{"$f":"IFERROR(VLOOKUP(VALUE($A464),'2013-14 BL USH'!$A$14:$C$500,3,FALSE),\"\")","v":22},"Yes"]
["8021","TITLE I MIGRANT EDUC PROGRAM  ",{"$f":"IFERROR(VLOOKUP(VALUE($A465),'2013-14 BL Civics'!$A$14:$C$500,3,FALSE),\"\")","v":""},{"$f":"IFERROR(VLOOKUP(VALUE($A465),'2013-14 BL USH'!$A$14:$C$500,3,FALSE),\"\")","v":""},"No"]
["8101","JAN MANN OPPORTUNITY SCHOOL   ",{"$f":"IFERROR(VLOOKUP(VALUE($A466),'2013-14 BL Civics'!$A$14:$C$500,3,FALSE),\"\")","v":9},{"$f":"IFERROR(VLOOKUP(VALUE($A466),'2013-14 BL USH'!$A$14:$C$500,3,FALSE),\"\")","v":6},"Yes"]
["8121","COPE CENTER NORTH             ",{"$f":"IFERROR(VLOOKUP(VALUE($A467),'2013-14 BL Civics'!$A$14:$C$500,3,FALSE),\"\")","v":2},{"$f":"IFERROR(VLOOKUP(VALUE($A467),'2013-14 BL USH'!$A$14:$C$500,3,FALSE),\"\")","v":24},"Yes"]
["8131","DOROTHY M WALLACE COPE CENTER ",{"$f":"IFERROR(VLOOKUP(VALUE($A468),'2013-14 BL Civics'!$A$14:$C$500,3,FALSE),\"\")","v":2},{"$f":"IFERROR(VLOOKUP(VALUE($A468),'2013-14 BL USH'!$A$14:$C$500,3,FALSE),\"\")","v":23},"Yes"]
["8141","JUVENILE JUSTICE CENTER       ",{"$f":"IFERROR(VLOOKUP(VALUE($A469),'2013-14 BL Civics'!$A$14:$C$500,3,FALSE),\"\")","v":""},{"$f":"IFERROR(VLOOKUP(VALUE($A469),'2013-14 BL USH'!$A$14:$C$500,3,FALSE),\"\")","v":15},"Yes"]
["8151","ROBERT RENICK EDUCATION CTR   ",{"$f":"IFERROR(VLOOKUP(VALUE($A470),'2013-14 BL Civics'!$A$14:$C$500,3,FALSE),\"\")","v":6},{"$f":"IFERROR(VLOOKUP(VALUE($A470),'2013-14 BL USH'!$A$14:$C$500,3,FALSE),\"\")","v":4},"Yes"]
["8181","RUTH OWENS KRUSE' EDUC CENTER ",{"$f":"IFERROR(VLOOKUP(VALUE($A471),'2013-14 BL Civics'!$A$14:$C$500,3,FALSE),\"\")","v":10},{"$f":"IFERROR(VLOOKUP(VALUE($A471),'2013-14 BL USH'!$A$14:$C$500,3,FALSE),\"\")","v":""},"Yes"]
["8301","TITLE I MIGRANT EDUC PROGRAM  ",{"$f":"IFERROR(VLOOKUP(VALUE($A472),'2013-14 BL Civics'!$A$14:$C$500,3,FALSE),\"\")","v":""},{"$f":"IFERROR(VLOOKUP(VALUE($A472),'2013-14 BL USH'!$A$14:$C$500,3,FALSE),\"\")","v":""},"No"]
["9013","PRE K - INTERVENTION          ",{"$f":"IFERROR(VLOOKUP(VALUE($A473),'2013-14 BL Civics'!$A$14:$C$500,3,FALSE),\"\")","v":""},{"$f":"IFERROR(VLOOKUP(VALUE($A473),'2013-14 BL USH'!$A$14:$C$500,3,FALSE),\"\")","v":""},"No"]
["9731","INSTRUCTIONAL SYSTEMWIDE      ",{"$f":"IFERROR(VLOOKUP(VALUE($A474),'2013-14 BL Civics'!$A$14:$C$500,3,FALSE),\"\")","v":""},{"$f":"IFERROR(VLOOKUP(VALUE($A474),'2013-14 BL USH'!$A$14:$C$500,3,FALSE),\"\")","v":""},"No"]
["9732","MERRICK EDUCATIONAL CENTER    ",{"$f":"IFERROR(VLOOKUP(VALUE($A475),'2013-14 BL Civics'!$A$14:$C$500,3,FALSE),\"\")","v":10},{"$f":"IFERROR(VLOOKUP(VALUE($A475),'2013-14 BL USH'!$A$14:$C$500,3,FALSE),\"\")","v":9},"Yes"]
["9999","District",{"$f":"IFERROR(VLOOKUP(VALUE($A476),'2013-14 BL Civics'!$A$14:$C$500,3,FALSE),\"\")","v":24839},{"$f":"IFERROR(VLOOKUP(VALUE($A476),'2013-14 BL USH'!$A$14:$C$500,3,FALSE),\"\")","v":19511},"Yes"]